{"text_format":"1","workbook":"xlsx","n_sheets":30,"sheets":["Start","Certificate","Extended Certificate","Points","Points Contingency","Foundation Diploma 510","Foundation Diploma 540","ADMP Foundation Diploma 540","Diploma","Extended Diploma","ADMP Extended Diploma","F Diploma 510 Dropdown","F Diploma 510 Data Sheet","Extended Cert Dropdown","Extended Certificate Data Sheet","Cert Dropdown","Certificate Data Sheet","Diploma Dropdown","Diploma Data Sheet","F Diploma 540 Data Sheet","Extended Diploma Dropdown","ED Aero Eng Unit List","ED Manu Eng Unit List","ED Comp Eng Unit List","ED Mech Eng Unit List","Extended Diploma Data Sheet","F Diploma 540 Dropdown","Sectors","Lookup","Sheet1"],"not_rendered":{"charts":0,"images":1,"macros":1,"external_links":0,"defined_names":436,"comments":0,"pivot_tables":0},"unopened":[],"bounds":{"document_bytes":16777216,"sheet_cells":100000,"rows_first":2000,"rows_last":500,"rows_between":2000,"halvings":0,"cell_chars":16384,"cell_head_chars":4096},"cells_cut":0,"cells_raw":0,"read":"whole","date_system":"1900"}

{"sheet":"Start","index":0,"n_rows":22,"n_cols":16,"rows_kept":22,"cut":false,"hidden":false,"merged":[[1,1,3,19],[5,15,7,19],[10,15,12,19],[21,2,24,13],[15,2,17,6],[15,9,17,13],[5,2,7,6],[5,9,7,13],[10,2,12,6],[10,9,12,13]]}
[]
[null,"Select the size of qualification"]
[]
[]
[]
[null,null,"Extended Diploma",null,null,null,null,null,null,"Diploma",null,null,null,null,null,"Art & Design Practice and Creative Media Practice Extended Diploma"]
[]
[]
[]
[]
[null,null,"Foundation Diploma 540 GLH",null,null,null,null,null,null,"Foundation Diploma 510 GLH",null,null,null,null,null,"Art & Design Practice and Creative Media Practice 540 Diploma"]
[]
[]
[]
[]
[null,null,"Extended Certificate",null,null,null,null,null,null,"Certificate"]
[]
[]
[]
[]
[null,null,"Disclaimer: Please read carefully."]
[null,null,"Please remember that this tool is useful for calculating a learner's overall BTEC grade or helping to estimate a learner's achievement. It is NOT in any way a guarantee of any grade or outcome. "]

{"sheet":"Certificate","index":1,"n_rows":85,"n_cols":35,"rows_kept":85,"cut":false,"hidden":false,"merged":[[2,4,2,7],[6,4,6,7],[1,27,1,29],[1,31,1,34],[66,9,68,11]]}
[null,null,null,null,null,null,null,null,null,null,null,null,null,null,null,{"$f":"IF(E3=\"\",\"\",VLOOKUP(E3,Sectors!$F$1:$G$9,2,FALSE))","v":""}]
[null,null,null,null,null,null,null,null,null,null,null,null,null,null,null,null,null,null,null,null,null,null,null,null,null,null,null,"Grade boundaries for External Units",null,null,null,"Points for Internal Units"]
[null,null,"Select Sector","Start →",null,null,null,null,null,null,null,null,null,null,null,null,{"$f":"IF(L10=\"No\",REPLACE(\"No\",1,2,\"U\"),\"\")","v":""},null,null,null,null,null,null,null,null,null,null,null,"90 GLH","120 GLH",null,null,"60 GLH","90 GLH","120 GLH"]
[null,null,null,null,"1. Select your sector from the dropdown list in the cell above",null,null,null,null,null,null,null,null,null,null,null,null,null,null,null,null,null,null,null,null,null,null,"U","0","0",null,"U","0","0","0"]
[null,null,null,null,null,null,null,null,null,null,null,null,null,null,null,null,null,null,null,null,null,null,null,null,null,null,null,"N",6,8,null,"P",6,9,12]
[null,null,null,null,null,null,null,null,null,null,null,null,null,null,null,null,null,null,null,null,null,null,null,null,null,null,null,"P",9,12,null,"M",10,15,20]
[null,null,"Assessment Type","Unit Number","Unit Name",null,null,null,"GLH","Unit Points/Grade","Points","Unit Grade","Internal 120 GLH Grade",null,"Internal 90 GLH Grade",null,"Internal 60 GLH Grade",null,"External 120 GLH Grade",null,"External 90 GLH Grade",null,null,null,null,null,null,"M",15,20,null,"D",16,24,32]
[null,null,null,null,null,null,null,null,null,"3. Enter the points or grade for the units below",null,null,null,null,null,null,null,null,null,null,null,null,null,null,null,null,null,"D",24,32]
[null,"Mandatory",{"$f":"IFERROR(INDEX('Certificate Data Sheet'!$A$3:$E$238,SMALL(IF('Certificate Data Sheet'!$A$3:$A$238=$E$3,ROW('Certificate Data Sheet'!$A$3:$A$238)),ROW(1:1))-2,5),\"\")","v":0},{"$f":"IFERROR(INDEX('Certificate Data Sheet'!$A$3:$E$238,SMALL(IF('Certificate Data Sheet'!$A$3:$A$238=$E$3,ROW('Certificate Data Sheet'!$A$3:$A$238)),ROW(1:1))-2,2),\"\")","v":0},{"$f":"IFERROR(INDEX('Certificate Data Sheet'!$A$3:$E$238,SMALL(IF('Certificate Data Sheet'!$A$3:$A$238=$E$3,ROW('Certificate Data Sheet'!$A$3:$A$238)),ROW(1:1))-2,3),\"\")","v":0},null,null,null,{"$f":"IFERROR(INDEX('Certificate Data Sheet'!$A$3:$E$238,SMALL(IF('Certificate Data Sheet'!$A$3:$A$238=$E$3,ROW('Certificate Data Sheet'!$A$3:$A$238)),ROW(1:1))-2,4),\"\")","v":0},null,{"$f":"IFERROR(IF(C9=\"External\",VLOOKUP(J9,Points!$I$2:$M$36,MATCH(C9&\" \"&I9&\" GLH\",Points!$I$2:$M$2,0),FALSE),VLOOKUP(J9,Points!$A$2:$G$6,MATCH(C9&\" \"&I9&\" GLH\",Points!$A$2:$G$2,0),FALSE)),\"\")","v":""},{"$f":"IF(E9=\"\",\"\",VLOOKUP(SUM(N9,P9,R9,T9,V9),Lookup!$M$1:$N$6,2,FALSE))","v":"U"},{"$f":"IFERROR(IF(AND(C9=\"Internal\",I9=120),VLOOKUP(K9,Points!$D$2:$G$6,MATCH(\"Internal Grade\",Points!$D$2:$G$2,0),FALSE),\"\"),\"\")","v":""},{"$f":"IF(M9=\"\",\"\",VLOOKUP(M9,Lookup!$L$2:$M$6,2,FALSE))","v":""},{"$f":"IFERROR(IF(AND(C9=\"Internal\",I9=90),VLOOKUP(K9,Points!$C$2:$G$6,MATCH(\"Internal Grade\",Points!$C$2:$G$2,0),FALSE),\"\"),\"\")","v":""},{"$f":"IF(O9=\"\",\"\",VLOOKUP(O9,Lookup!$L$2:$M$6,2,FALSE))","v":""},{"$f":"IFERROR(IF(AND(C9=\"Internal\",I9=60),VLOOKUP(K9,Points!$B$2:$G$6,MATCH(\"Internal Grade\",Points!$B$2:$G$2,0),FALSE),\"\"),\"\")","v":""},{"$f":"IF(Q9=\"\",\"\",VLOOKUP(Q9,Lookup!$L$2:$M$6,2,FALSE))","v":""},{"$f":"IF(AND(C9=\"External\",I9=120),VLOOKUP(K9,Points!$M$2:$N$35,MATCH(\"120 GLH Grade\",Points!$M$2:$N$2,0),FALSE),\"No\")","v":"No"},{"$f":"IF(S9=\"\",\"\",VLOOKUP(S9,Lookup!$L$1:$M$6,2,FALSE))","v":0},{"$f":"IF(AND(C9=\"External\",I9=90),VLOOKUP(K9,Points!$J$2:$K$27,MATCH(\"90 GLH Grade\",Points!$J$2:$K$2,0),FALSE),\"No\")","v":"No"},{"$f":"IF(U9=\"\",\"\",VLOOKUP(U9,Lookup!$L$1:$M$6,2,FALSE))","v":0}]
[null,"Mandatory",{"$f":"IFERROR(INDEX('Certificate Data Sheet'!$A$3:$E$238,SMALL(IF('Certificate Data Sheet'!$A$3:$A$238=$E$3,ROW('Certificate Data Sheet'!$A$3:$A$238)),ROW(2:2))-2,5),\"\")","v":0},{"$f":"IFERROR(INDEX('Certificate Data Sheet'!$A$3:$E$238,SMALL(IF('Certificate Data Sheet'!$A$3:$A$238=$E$3,ROW('Certificate Data Sheet'!$A$3:$A$238)),ROW(2:2))-2,2),\"\")","v":0},{"$f":"IFERROR(INDEX('Certificate Data Sheet'!$A$3:$E$238,SMALL(IF('Certificate Data Sheet'!$A$3:$A$238=$E$3,ROW('Certificate Data Sheet'!$A$3:$A$238)),ROW(2:2))-2,3),\"\")","v":0},null,null,null,{"$f":"IFERROR(INDEX('Certificate Data Sheet'!$A$3:$E$238,SMALL(IF('Certificate Data Sheet'!$A$3:$A$238=$E$3,ROW('Certificate Data Sheet'!$A$3:$A$238)),ROW(2:2))-2,4),\"\")","v":0},null,{"$f":"IFERROR(IF(C10=\"External\",VLOOKUP(J10,Points!$I$2:$M$36,MATCH(C10&\" \"&I10&\" GLH\",Points!$I$2:$M$2,0),FALSE),VLOOKUP(J10,Points!$A$2:$G$6,MATCH(C10&\" \"&I10&\" GLH\",Points!$A$2:$G$2,0),FALSE)),\"\")","v":""},{"$f":"IF(E10=\"\",\"\",VLOOKUP(SUM(N10,P10,R10,T10,V10),Lookup!$M$1:$N$6,2,FALSE))","v":"U"},{"$f":"IFERROR(IF(AND(C10=\"Internal\",I10=120),VLOOKUP(K10,Points!$D$2:$G$6,MATCH(\"Internal Grade\",Points!$D$2:$G$2,0),FALSE),\"\"),\"\")","v":""},{"$f":"IF(M10=\"\",\"\",VLOOKUP(M10,Lookup!$L$2:$M$6,2,FALSE))","v":""},{"$f":"IFERROR(IF(AND(C10=\"Internal\",I10=90),VLOOKUP(K10,Points!$C$2:$G$6,MATCH(\"Internal Grade\",Points!$C$2:$G$2,0),FALSE),\"\"),\"\")","v":""},{"$f":"IF(O10=\"\",\"\",VLOOKUP(O10,Lookup!$L$2:$M$6,2,FALSE))","v":""},{"$f":"IFERROR(IF(AND(C10=\"Internal\",I10=60),VLOOKUP(K10,Points!$B$2:$G$6,MATCH(\"Internal Grade\",Points!$B$2:$G$2,0),FALSE),\"\"),\"\")","v":""},{"$f":"IF(Q10=\"\",\"\",VLOOKUP(Q10,Lookup!$L$2:$M$6,2,FALSE))","v":""},{"$f":"IF(AND(C10=\"External\",I10=120),VLOOKUP(K10,Points!$M$2:$N$35,MATCH(\"120 GLH Grade\",Points!$M$2:$N$2,0),FALSE),\"No\")","v":"No"},{"$f":"IF(S10=\"\",\"\",VLOOKUP(S10,Lookup!$L$1:$M$6,2,FALSE))","v":0},{"$f":"IF(AND(C10=\"External\",I10=90),VLOOKUP(K10,Points!$J$2:$K$27,MATCH(\"90 GLH Grade\",Points!$J$2:$K$2,0),FALSE),\"No\")","v":"No"},{"$f":"IF(U10=\"\",\"\",VLOOKUP(U10,Lookup!$L$1:$M$6,2,FALSE))","v":0}]
[null,"Mandatory",{"$f":"IFERROR(INDEX('Certificate Data Sheet'!$A$3:$E$238,SMALL(IF('Certificate Data Sheet'!$A$3:$A$238=$E$3,ROW('Certificate Data Sheet'!$A$3:$A$238)),ROW(3:3))-2,5),\"\")","v":0},{"$f":"IFERROR(INDEX('Certificate Data Sheet'!$A$3:$E$238,SMALL(IF('Certificate Data Sheet'!$A$3:$A$238=$E$3,ROW('Certificate Data Sheet'!$A$3:$A$238)),ROW(3:3))-2,2),\"\")","v":0},{"$f":"IFERROR(INDEX('Certificate Data Sheet'!$A$3:$E$238,SMALL(IF('Certificate Data Sheet'!$A$3:$A$238=$E$3,ROW('Certificate Data Sheet'!$A$3:$A$238)),ROW(3:3))-2,3),\"\")","v":0},null,null,null,{"$f":"IFERROR(INDEX('Certificate Data Sheet'!$A$3:$E$238,SMALL(IF('Certificate Data Sheet'!$A$3:$A$238=$E$3,ROW('Certificate Data Sheet'!$A$3:$A$238)),ROW(3:3))-2,4),\"\")","v":0},null,{"$f":"IFERROR(IF(C11=\"External\",VLOOKUP(J11,Points!$I$2:$M$36,MATCH(C11&\" \"&I11&\" GLH\",Points!$I$2:$M$2,0),FALSE),VLOOKUP(J11,Points!$A$2:$G$6,MATCH(C11&\" \"&I11&\" GLH\",Points!$A$2:$G$2,0),FALSE)),\"\")","v":""},{"$f":"IF(E11=\"\",\"\",VLOOKUP(SUM(N11,P11,R11,T11,V11),Lookup!$M$1:$N$6,2,FALSE))","v":"U"},{"$f":"IFERROR(IF(AND(C11=\"Internal\",I11=120),VLOOKUP(K11,Points!$D$2:$G$6,MATCH(\"Internal Grade\",Points!$D$2:$G$2,0),FALSE),\"\"),\"\")","v":""},{"$f":"IF(M11=\"\",\"\",VLOOKUP(M11,Lookup!$L$2:$M$6,2,FALSE))","v":""},{"$f":"IFERROR(IF(AND(C11=\"Internal\",I11=90),VLOOKUP(K11,Points!$C$2:$G$6,MATCH(\"Internal Grade\",Points!$C$2:$G$2,0),FALSE),\"\"),\"\")","v":""},{"$f":"IF(O11=\"\",\"\",VLOOKUP(O11,Lookup!$L$2:$M$6,2,FALSE))","v":""},{"$f":"IFERROR(IF(AND(C11=\"Internal\",I11=60),VLOOKUP(K11,Points!$B$2:$G$6,MATCH(\"Internal Grade\",Points!$B$2:$G$2,0),FALSE),\"\"),\"\")","v":""},{"$f":"IF(Q11=\"\",\"\",VLOOKUP(Q11,Lookup!$L$2:$M$6,2,FALSE))","v":""},{"$f":"IF(AND(C11=\"External\",I11=120),VLOOKUP(K11,Points!$M$2:$N$35,MATCH(\"120 GLH Grade\",Points!$M$2:$N$2,0),FALSE),\"No\")","v":"No"},{"$f":"IF(S11=\"\",\"\",VLOOKUP(S11,Lookup!$L$1:$M$6,2,FALSE))","v":0},{"$f":"IF(AND(C11=\"External\",I11=90),VLOOKUP(K11,Points!$J$2:$K$27,MATCH(\"90 GLH Grade\",Points!$J$2:$K$2,0),FALSE),\"No\")","v":"No"},{"$f":"IF(U11=\"\",\"\",VLOOKUP(U11,Lookup!$L$1:$M$6,2,FALSE))","v":0}]
[null,"Mandatory",{"$f":"IFERROR(INDEX('Certificate Data Sheet'!$A$3:$E$238,SMALL(IF('Certificate Data Sheet'!$A$3:$A$238=$E$3,ROW('Certificate Data Sheet'!$A$3:$A$238)),ROW(4:4))-2,5),\"\")","v":0},{"$f":"IFERROR(INDEX('Certificate Data Sheet'!$A$3:$E$238,SMALL(IF('Certificate Data Sheet'!$A$3:$A$238=$E$3,ROW('Certificate Data Sheet'!$A$3:$A$238)),ROW(4:4))-2,2),\"\")","v":0},{"$f":"IFERROR(INDEX('Certificate Data Sheet'!$A$3:$E$238,SMALL(IF('Certificate Data Sheet'!$A$3:$A$238=$E$3,ROW('Certificate Data Sheet'!$A$3:$A$238)),ROW(4:4))-2,3),\"\")","v":0},null,null,null,{"$f":"IFERROR(INDEX('Certificate Data Sheet'!$A$3:$E$238,SMALL(IF('Certificate Data Sheet'!$A$3:$A$238=$E$3,ROW('Certificate Data Sheet'!$A$3:$A$238)),ROW(4:4))-2,4),\"\")","v":0},null,{"$f":"IFERROR(IF(C12=\"External\",VLOOKUP(J12,Points!$I$2:$M$36,MATCH(C12&\" \"&I12&\" GLH\",Points!$I$2:$M$2,0),FALSE),VLOOKUP(J12,Points!$A$2:$G$6,MATCH(C12&\" \"&I12&\" GLH\",Points!$A$2:$G$2,0),FALSE)),\"\")","v":""},{"$f":"IF(E12=\"\",\"\",VLOOKUP(SUM(N12,P12,R12,T12,V12),Lookup!$M$1:$N$6,2,FALSE))","v":"U"},{"$f":"IFERROR(IF(AND(C12=\"Internal\",I12=120),VLOOKUP(K12,Points!$D$2:$G$6,MATCH(\"Internal Grade\",Points!$D$2:$G$2,0),FALSE),\"\"),\"\")","v":""},{"$f":"IF(M12=\"\",\"\",VLOOKUP(M12,Lookup!$L$2:$M$6,2,FALSE))","v":""},{"$f":"IFERROR(IF(AND(C12=\"Internal\",I12=90),VLOOKUP(K12,Points!$C$2:$G$6,MATCH(\"Internal Grade\",Points!$C$2:$G$2,0),FALSE),\"\"),\"\")","v":""},{"$f":"IF(O12=\"\",\"\",VLOOKUP(O12,Lookup!$L$2:$M$6,2,FALSE))","v":""},{"$f":"IFERROR(IF(AND(C12=\"Internal\",I12=60),VLOOKUP(K12,Points!$B$2:$G$6,MATCH(\"Internal Grade\",Points!$B$2:$G$2,0),FALSE),\"\"),\"\")","v":""},{"$f":"IF(Q12=\"\",\"\",VLOOKUP(Q12,Lookup!$L$2:$M$6,2,FALSE))","v":""},{"$f":"IF(AND(C12=\"External\",I12=120),VLOOKUP(K12,Points!$M$2:$N$35,MATCH(\"120 GLH Grade\",Points!$M$2:$N$2,0),FALSE),\"No\")","v":"No"},{"$f":"IF(S12=\"\",\"\",VLOOKUP(S12,Lookup!$L$1:$M$6,2,FALSE))","v":0},{"$f":"IF(AND(C12=\"External\",I12=90),VLOOKUP(K12,Points!$J$2:$K$27,MATCH(\"90 GLH Grade\",Points!$J$2:$K$2,0),FALSE),\"No\")","v":"No"},{"$f":"IF(U12=\"\",\"\",VLOOKUP(U12,Lookup!$L$1:$M$6,2,FALSE))","v":0}]
[null,"Mandatory",{"$f":"IFERROR(INDEX('Certificate Data Sheet'!$A$3:$E$238,SMALL(IF('Certificate Data Sheet'!$A$3:$A$238=$E$3,ROW('Certificate Data Sheet'!$A$3:$A$238)),ROW(5:5))-2,5),\"\")","v":0},{"$f":"IFERROR(INDEX('Certificate Data Sheet'!$A$3:$E$238,SMALL(IF('Certificate Data Sheet'!$A$3:$A$238=$E$3,ROW('Certificate Data Sheet'!$A$3:$A$238)),ROW(5:5))-2,2),\"\")","v":0},{"$f":"IFERROR(INDEX('Certificate Data Sheet'!$A$3:$E$238,SMALL(IF('Certificate Data Sheet'!$A$3:$A$238=$E$3,ROW('Certificate Data Sheet'!$A$3:$A$238)),ROW(5:5))-2,3),\"\")","v":0},null,null,null,{"$f":"IFERROR(INDEX('Certificate Data Sheet'!$A$3:$E$238,SMALL(IF('Certificate Data Sheet'!$A$3:$A$238=$E$3,ROW('Certificate Data Sheet'!$A$3:$A$238)),ROW(5:5))-2,4),\"\")","v":0},null,{"$f":"IFERROR(IF(C13=\"External\",VLOOKUP(J13,Points!$I$2:$M$36,MATCH(C13&\" \"&I13&\" GLH\",Points!$I$2:$M$2,0),FALSE),VLOOKUP(J13,Points!$A$2:$G$6,MATCH(C13&\" \"&I13&\" GLH\",Points!$A$2:$G$2,0),FALSE)),\"\")","v":""},{"$f":"IF(E13=\"\",\"\",VLOOKUP(SUM(N13,P13,R13,T13,V13),Lookup!$M$1:$N$6,2,FALSE))","v":"U"},{"$f":"IFERROR(IF(AND(C13=\"Internal\",I13=120),VLOOKUP(K13,Points!$D$2:$G$6,MATCH(\"Internal Grade\",Points!$D$2:$G$2,0),FALSE),\"\"),\"\")","v":""},{"$f":"IF(M13=\"\",\"\",VLOOKUP(M13,Lookup!$L$2:$M$6,2,FALSE))","v":""},{"$f":"IFERROR(IF(AND(C13=\"Internal\",I13=90),VLOOKUP(K13,Points!$C$2:$G$6,MATCH(\"Internal Grade\",Points!$C$2:$G$2,0),FALSE),\"\"),\"\")","v":""},{"$f":"IF(O13=\"\",\"\",VLOOKUP(O13,Lookup!$L$2:$M$6,2,FALSE))","v":""},{"$f":"IFERROR(IF(AND(C13=\"Internal\",I13=60),VLOOKUP(K13,Points!$B$2:$G$6,MATCH(\"Internal Grade\",Points!$B$2:$G$2,0),FALSE),\"\"),\"\")","v":""},{"$f":"IF(Q13=\"\",\"\",VLOOKUP(Q13,Lookup!$L$2:$M$6,2,FALSE))","v":""},{"$f":"IF(AND(C13=\"External\",I13=120),VLOOKUP(K13,Points!$M$2:$N$35,MATCH(\"120 GLH Grade\",Points!$M$2:$N$2,0),FALSE),\"No\")","v":"No"},{"$f":"IF(S13=\"\",\"\",VLOOKUP(S13,Lookup!$L$1:$M$6,2,FALSE))","v":0},{"$f":"IF(AND(C13=\"External\",I13=90),VLOOKUP(K13,Points!$J$2:$K$27,MATCH(\"90 GLH Grade\",Points!$J$2:$K$2,0),FALSE),\"No\")","v":"No"},{"$f":"IF(U13=\"\",\"\",VLOOKUP(U13,Lookup!$L$1:$M$6,2,FALSE))","v":0}]
[null,"Mandatory",{"$f":"IFERROR(INDEX('Certificate Data Sheet'!$A$3:$E$238,SMALL(IF('Certificate Data Sheet'!$A$3:$A$238=$E$3,ROW('Certificate Data Sheet'!$A$3:$A$238)),ROW(6:6))-2,5),\"\")","v":0},{"$f":"IFERROR(INDEX('Certificate Data Sheet'!$A$3:$E$238,SMALL(IF('Certificate Data Sheet'!$A$3:$A$238=$E$3,ROW('Certificate Data Sheet'!$A$3:$A$238)),ROW(6:6))-2,2),\"\")","v":0},{"$f":"IFERROR(INDEX('Certificate Data Sheet'!$A$3:$E$238,SMALL(IF('Certificate Data Sheet'!$A$3:$A$238=$E$3,ROW('Certificate Data Sheet'!$A$3:$A$238)),ROW(6:6))-2,3),\"\")","v":0},null,null,null,{"$f":"IFERROR(INDEX('Certificate Data Sheet'!$A$3:$E$238,SMALL(IF('Certificate Data Sheet'!$A$3:$A$238=$E$3,ROW('Certificate Data Sheet'!$A$3:$A$238)),ROW(6:6))-2,4),\"\")","v":0},null,{"$f":"IFERROR(IF(C14=\"External\",VLOOKUP(J14,Points!$I$2:$M$36,MATCH(C14&\" \"&I14&\" GLH\",Points!$I$2:$M$2,0),FALSE),VLOOKUP(J14,Points!$A$2:$C$6,MATCH(C14&\" \"&I14&\" GLH\",Points!$A$2:$C$2,0),FALSE)),\"\")","v":""},{"$f":"IF(E14=\"\",\"\",VLOOKUP(SUM(N14,P14,R14,T14,V14),Lookup!$M$1:$N$6,2,FALSE))","v":"U"},{"$f":"IFERROR(IF(AND(C14=\"Internal\",I14=120),VLOOKUP(K14,Points!$C$2:$G$6,MATCH(\"Internal Grade\",Points!$C$2:$G$2,0),FALSE),\"\"),\"\")","v":""},null,{"$f":"IFERROR(IF(AND(C14=\"Internal\",I14=90),VLOOKUP(K14,Points!$C$2:$G$6,MATCH(\"Internal Grade\",Points!$C$2:$G$2,0),FALSE),\"\"),\"\")","v":""},{"$f":"IF(O14=\"\",\"\",VLOOKUP(O14,Lookup!$L$2:$M$6,2,FALSE))","v":""},{"$f":"IFERROR(IF(AND(C14=\"Internal\",I14=60),VLOOKUP(K14,Points!$B$2:$G$6,MATCH(\"Internal Grade\",Points!$B$2:$G$2,0),FALSE),\"\"),\"\")","v":""},{"$f":"IF(Q14=\"\",\"\",VLOOKUP(Q14,Lookup!$L$2:$M$6,2,FALSE))","v":""},{"$f":"IF(AND(C14=\"External\",I14=120),VLOOKUP(K14,Points!$M$2:$N$35,MATCH(\"120 GLH Grade\",Points!$M$2:$N$2,0),FALSE),\"No\")","v":"No"},{"$f":"IF(S14=\"\",\"\",VLOOKUP(S14,Lookup!$L$1:$M$6,2,FALSE))","v":0},{"$f":"IF(AND(C14=\"External\",I14=90),VLOOKUP(K14,Points!$J$2:$K$27,MATCH(\"90 GLH Grade\",Points!$J$2:$K$2,0),FALSE),\"No\")","v":"No"},{"$f":"IF(U14=\"\",\"\",VLOOKUP(U14,Lookup!$L$1:$M$6,2,FALSE))","v":0}]
[null,"Mandatory",{"$f":"IFERROR(INDEX('Certificate Data Sheet'!$A$3:$E$238,SMALL(IF('Certificate Data Sheet'!$A$3:$A$238=$E$3,ROW('Certificate Data Sheet'!$A$3:$A$238)),ROW(7:7))-2,5),\"\")","v":0},{"$f":"IFERROR(INDEX('Certificate Data Sheet'!$A$3:$E$238,SMALL(IF('Certificate Data Sheet'!$A$3:$A$238=$E$3,ROW('Certificate Data Sheet'!$A$3:$A$238)),ROW(7:7))-2,2),\"\")","v":0},{"$f":"IFERROR(INDEX('Certificate Data Sheet'!$A$3:$E$238,SMALL(IF('Certificate Data Sheet'!$A$3:$A$238=$E$3,ROW('Certificate Data Sheet'!$A$3:$A$238)),ROW(7:7))-2,3),\"\")","v":0},null,null,null,{"$f":"IFERROR(INDEX('Certificate Data Sheet'!$A$3:$E$238,SMALL(IF('Certificate Data Sheet'!$A$3:$A$238=$E$3,ROW('Certificate Data Sheet'!$A$3:$A$238)),ROW(7:7))-2,4),\"\")","v":0},null,{"$f":"IFERROR(IF(C15=\"External\",VLOOKUP(J15,Points!$I$2:$M$36,MATCH(C15&\" \"&I15&\" GLH\",Points!$I$2:$M$2,0),FALSE),VLOOKUP(J15,Points!$A$2:$C$6,MATCH(C15&\" \"&I15&\" GLH\",Points!$A$2:$C$2,0),FALSE)),\"\")","v":""},{"$f":"IF(E15=\"\",\"\",VLOOKUP(SUM(N15,P15,R15,T15,V15),Lookup!$M$1:$N$6,2,FALSE))","v":"U"},{"$f":"IFERROR(IF(AND(C15=\"Internal\",I15=120),VLOOKUP(K15,Points!$C$2:$G$6,MATCH(\"Internal Grade\",Points!$C$2:$G$2,0),FALSE),\"\"),\"\")","v":""},null,{"$f":"IFERROR(IF(AND(C15=\"Internal\",I15=90),VLOOKUP(K15,Points!$C$2:$G$6,MATCH(\"Internal Grade\",Points!$C$2:$G$2,0),FALSE),\"\"),\"\")","v":""},{"$f":"IF(O15=\"\",\"\",VLOOKUP(O15,Lookup!$L$2:$M$6,2,FALSE))","v":""},{"$f":"IFERROR(IF(AND(C15=\"Internal\",I15=60),VLOOKUP(K15,Points!$B$2:$G$6,MATCH(\"Internal Grade\",Points!$B$2:$G$2,0),FALSE),\"\"),\"\")","v":""},{"$f":"IF(Q15=\"\",\"\",VLOOKUP(Q15,Lookup!$L$2:$M$6,2,FALSE))","v":""},{"$f":"IF(AND(C15=\"External\",I15=120),VLOOKUP(K15,Points!$M$2:$N$35,MATCH(\"120 GLH Grade\",Points!$M$2:$N$2,0),FALSE),\"No\")","v":"No"},{"$f":"IF(S15=\"\",\"\",VLOOKUP(S15,Lookup!$L$1:$M$6,2,FALSE))","v":0},{"$f":"IF(AND(C15=\"External\",I15=90),VLOOKUP(K15,Points!$J$2:$K$27,MATCH(\"90 GLH Grade\",Points!$J$2:$K$2,0),FALSE),\"No\")","v":"No"},{"$f":"IF(U15=\"\",\"\",VLOOKUP(U15,Lookup!$L$1:$M$6,2,FALSE))","v":0}]
[null,"Mandatory",{"$f":"IFERROR(INDEX('Certificate Data Sheet'!$A$3:$E$238,SMALL(IF('Certificate Data Sheet'!$A$3:$A$238=$E$3,ROW('Certificate Data Sheet'!$A$3:$A$238)),ROW(8:8))-2,5),\"\")","v":0},{"$f":"IFERROR(INDEX('Certificate Data Sheet'!$A$3:$E$238,SMALL(IF('Certificate Data Sheet'!$A$3:$A$238=$E$3,ROW('Certificate Data Sheet'!$A$3:$A$238)),ROW(8:8))-2,2),\"\")","v":0},{"$f":"IFERROR(INDEX('Certificate Data Sheet'!$A$3:$E$238,SMALL(IF('Certificate Data Sheet'!$A$3:$A$238=$E$3,ROW('Certificate Data Sheet'!$A$3:$A$238)),ROW(8:8))-2,3),\"\")","v":0},null,null,null,{"$f":"IFERROR(INDEX('Certificate Data Sheet'!$A$3:$E$238,SMALL(IF('Certificate Data Sheet'!$A$3:$A$238=$E$3,ROW('Certificate Data Sheet'!$A$3:$A$238)),ROW(8:8))-2,4),\"\")","v":0},null,{"$f":"IFERROR(IF(C16=\"External\",VLOOKUP(J16,Points!$I$2:$M$36,MATCH(C16&\" \"&I16&\" GLH\",Points!$I$2:$M$2,0),FALSE),VLOOKUP(J16,Points!$A$2:$C$6,MATCH(C16&\" \"&I16&\" GLH\",Points!$A$2:$C$2,0),FALSE)),\"\")","v":""},{"$f":"IF(E16=\"\",\"\",VLOOKUP(SUM(N16,P16,R16,T16,V16),Lookup!$M$1:$N$6,2,FALSE))","v":"U"},{"$f":"IFERROR(IF(AND(C16=\"Internal\",I16=120),VLOOKUP(K16,Points!$C$2:$G$6,MATCH(\"Internal Grade\",Points!$C$2:$G$2,0),FALSE),\"\"),\"\")","v":""},null,{"$f":"IFERROR(IF(AND(C16=\"Internal\",I16=90),VLOOKUP(K16,Points!$C$2:$G$6,MATCH(\"Internal Grade\",Points!$C$2:$G$2,0),FALSE),\"\"),\"\")","v":""},{"$f":"IF(O16=\"\",\"\",VLOOKUP(O16,Lookup!$L$2:$M$6,2,FALSE))","v":""},{"$f":"IFERROR(IF(AND(C16=\"Internal\",I16=60),VLOOKUP(K16,Points!$B$2:$G$6,MATCH(\"Internal Grade\",Points!$B$2:$G$2,0),FALSE),\"\"),\"\")","v":""},{"$f":"IF(Q16=\"\",\"\",VLOOKUP(Q16,Lookup!$L$2:$M$6,2,FALSE))","v":""},{"$f":"IF(AND(C16=\"External\",I16=120),VLOOKUP(K16,Points!$M$2:$N$35,MATCH(\"120 GLH Grade\",Points!$M$2:$N$2,0),FALSE),\"No\")","v":"No"},{"$f":"IF(S16=\"\",\"\",VLOOKUP(S16,Lookup!$L$1:$M$6,2,FALSE))","v":0},{"$f":"IF(AND(C16=\"External\",I16=90),VLOOKUP(K16,Points!$J$2:$K$27,MATCH(\"90 GLH Grade\",Points!$J$2:$K$2,0),FALSE),\"No\")","v":"No"},{"$f":"IF(U16=\"\",\"\",VLOOKUP(U16,Lookup!$L$1:$M$6,2,FALSE))","v":0}]
[null,"Mandatory",{"$f":"IFERROR(INDEX('Certificate Data Sheet'!$A$3:$E$238,SMALL(IF('Certificate Data Sheet'!$A$3:$A$238=$E$3,ROW('Certificate Data Sheet'!$A$3:$A$238)),ROW(9:9))-2,5),\"\")","v":0},{"$f":"IFERROR(INDEX('Certificate Data Sheet'!$A$3:$E$238,SMALL(IF('Certificate Data Sheet'!$A$3:$A$238=$E$3,ROW('Certificate Data Sheet'!$A$3:$A$238)),ROW(9:9))-2,2),\"\")","v":0},{"$f":"IFERROR(INDEX('Certificate Data Sheet'!$A$3:$E$238,SMALL(IF('Certificate Data Sheet'!$A$3:$A$238=$E$3,ROW('Certificate Data Sheet'!$A$3:$A$238)),ROW(9:9))-2,3),\"\")","v":0},null,null,null,{"$f":"IFERROR(INDEX('Certificate Data Sheet'!$A$3:$E$238,SMALL(IF('Certificate Data Sheet'!$A$3:$A$238=$E$3,ROW('Certificate Data Sheet'!$A$3:$A$238)),ROW(9:9))-2,4),\"\")","v":0},null,{"$f":"IFERROR(IF(C17=\"External\",VLOOKUP(J17,Points!$I$2:$M$36,MATCH(C17&\" \"&I17&\" GLH\",Points!$I$2:$M$2,0),FALSE),VLOOKUP(J17,Points!$A$2:$C$6,MATCH(C17&\" \"&I17&\" GLH\",Points!$A$2:$C$2,0),FALSE)),\"\")","v":""},{"$f":"IF(E17=\"\",\"\",VLOOKUP(SUM(N17,P17,R17,T17,V17),Lookup!$M$1:$N$6,2,FALSE))","v":"U"},{"$f":"IFERROR(IF(AND(C17=\"Internal\",I17=120),VLOOKUP(K17,Points!$C$2:$G$6,MATCH(\"Internal Grade\",Points!$C$2:$G$2,0),FALSE),\"\"),\"\")","v":""},null,{"$f":"IFERROR(IF(AND(C17=\"Internal\",I17=90),VLOOKUP(K17,Points!$C$2:$G$6,MATCH(\"Internal Grade\",Points!$C$2:$G$2,0),FALSE),\"\"),\"\")","v":""},{"$f":"IF(O17=\"\",\"\",VLOOKUP(O17,Lookup!$L$2:$M$6,2,FALSE))","v":""},{"$f":"IFERROR(IF(AND(C17=\"Internal\",I17=60),VLOOKUP(K17,Points!$B$2:$G$6,MATCH(\"Internal Grade\",Points!$B$2:$G$2,0),FALSE),\"\"),\"\")","v":""},{"$f":"IF(Q17=\"\",\"\",VLOOKUP(Q17,Lookup!$L$2:$M$6,2,FALSE))","v":""},{"$f":"IF(AND(C17=\"External\",I17=120),VLOOKUP(K17,Points!$M$2:$N$35,MATCH(\"120 GLH Grade\",Points!$M$2:$N$2,0),FALSE),\"No\")","v":"No"},{"$f":"IF(S17=\"\",\"\",VLOOKUP(S17,Lookup!$L$1:$M$6,2,FALSE))","v":0},{"$f":"IF(AND(C17=\"External\",I17=90),VLOOKUP(K17,Points!$J$2:$K$27,MATCH(\"90 GLH Grade\",Points!$J$2:$K$2,0),FALSE),\"No\")","v":"No"},{"$f":"IF(U17=\"\",\"\",VLOOKUP(U17,Lookup!$L$1:$M$6,2,FALSE))","v":0}]
[null,"Mandatory",{"$f":"IFERROR(INDEX('Certificate Data Sheet'!$A$3:$E$238,SMALL(IF('Certificate Data Sheet'!$A$3:$A$238=$E$3,ROW('Certificate Data Sheet'!$A$3:$A$238)),ROW(10:10))-2,5),\"\")","v":0},{"$f":"IFERROR(INDEX('Certificate Data Sheet'!$A$3:$E$238,SMALL(IF('Certificate Data Sheet'!$A$3:$A$238=$E$3,ROW('Certificate Data Sheet'!$A$3:$A$238)),ROW(10:10))-2,2),\"\")","v":0},{"$f":"IFERROR(INDEX('Certificate Data Sheet'!$A$3:$E$238,SMALL(IF('Certificate Data Sheet'!$A$3:$A$238=$E$3,ROW('Certificate Data Sheet'!$A$3:$A$238)),ROW(10:10))-2,3),\"\")","v":0},null,null,null,{"$f":"IFERROR(INDEX('Certificate Data Sheet'!$A$3:$E$238,SMALL(IF('Certificate Data Sheet'!$A$3:$A$238=$E$3,ROW('Certificate Data Sheet'!$A$3:$A$238)),ROW(10:10))-2,4),\"\")","v":0},null,{"$f":"IFERROR(IF(C18=\"External\",VLOOKUP(J18,Points!$I$2:$M$36,MATCH(C18&\" \"&I18&\" GLH\",Points!$I$2:$M$2,0),FALSE),VLOOKUP(J18,Points!$A$2:$C$6,MATCH(C18&\" \"&I18&\" GLH\",Points!$A$2:$C$2,0),FALSE)),\"\")","v":""},{"$f":"IF(E18=\"\",\"\",VLOOKUP(SUM(N18,P18,R18,T18,V18),Lookup!$M$1:$N$6,2,FALSE))","v":"U"},{"$f":"IFERROR(IF(AND(C18=\"Internal\",I18=120),VLOOKUP(K18,Points!$C$2:$G$6,MATCH(\"Internal Grade\",Points!$C$2:$G$2,0),FALSE),\"\"),\"\")","v":""},null,{"$f":"IFERROR(IF(AND(C18=\"Internal\",I18=90),VLOOKUP(K18,Points!$C$2:$G$6,MATCH(\"Internal Grade\",Points!$C$2:$G$2,0),FALSE),\"\"),\"\")","v":""},{"$f":"IF(O18=\"\",\"\",VLOOKUP(O18,Lookup!$L$2:$M$6,2,FALSE))","v":""},{"$f":"IFERROR(IF(AND(C18=\"Internal\",I18=60),VLOOKUP(K18,Points!$B$2:$G$6,MATCH(\"Internal Grade\",Points!$B$2:$G$2,0),FALSE),\"\"),\"\")","v":""},{"$f":"IF(Q18=\"\",\"\",VLOOKUP(Q18,Lookup!$L$2:$M$6,2,FALSE))","v":""},{"$f":"IF(AND(C18=\"External\",I18=120),VLOOKUP(K18,Points!$M$2:$N$35,MATCH(\"120 GLH Grade\",Points!$M$2:$N$2,0),FALSE),\"No\")","v":"No"},{"$f":"IF(S18=\"\",\"\",VLOOKUP(S18,Lookup!$L$1:$M$6,2,FALSE))","v":0},{"$f":"IF(AND(C18=\"External\",I18=90),VLOOKUP(K18,Points!$J$2:$K$27,MATCH(\"90 GLH Grade\",Points!$J$2:$K$2,0),FALSE),\"No\")","v":"No"},{"$f":"IF(U18=\"\",\"\",VLOOKUP(U18,Lookup!$L$1:$M$6,2,FALSE))","v":0}]
[null,null,{"$f":"IFERROR(INDEX('Certificate Data Sheet'!$A$3:$E$59,SMALL(IF('Certificate Data Sheet'!$A$3:$A$59=$E$3,ROW('Certificate Data Sheet'!$A$3:$A$59)),ROW(11:11))-2,5),\"\")","v":0}]
[null,null,{"$f":"IFERROR(INDEX('Certificate Data Sheet'!$A$3:$E$59,SMALL(IF('Certificate Data Sheet'!$A$3:$A$59=$E$3,ROW('Certificate Data Sheet'!$A$3:$A$59)),ROW(12:12))-2,5),\"\")","v":0}]
[null,"Mandatory",{"$f":"IFERROR(INDEX('Certificate Data Sheet'!$G$3:$K$47,SMALL(IF('Certificate Data Sheet'!$G$3:$G$47=$E$3,ROW('Certificate Data Sheet'!$G$3:$G$47)),ROW(1:1))-2,5),\"\")","v":0},{"$f":"IFERROR(INDEX('Certificate Data Sheet'!$G$3:$K$47,SMALL(IF('Certificate Data Sheet'!$G$3:$G$47=$E$3,ROW('Certificate Data Sheet'!$G$3:$G$47)),ROW(1:1))-2,2),\"\")","v":0},{"$f":"IFERROR(INDEX('Certificate Data Sheet'!$G$3:$K$47,SMALL(IF('Certificate Data Sheet'!$G$3:$G$47=$E$3,ROW('Certificate Data Sheet'!$G$3:$G$47)),ROW(1:1))-2,3),\"\")","v":0},null,null,null,{"$f":"IFERROR(INDEX('Certificate Data Sheet'!$G$3:$K$47,SMALL(IF('Certificate Data Sheet'!$G$3:$G$47=$E$3,ROW('Certificate Data Sheet'!$G$3:$G$47)),ROW(1:1))-2,4),\"\")","v":0},null,{"$f":"IFERROR(IF(C21=\"External\",VLOOKUP(J21,Points!$I$2:$M$36,MATCH(C21&\" \"&I21&\" GLH\",Points!$I$2:$M$2,0),FALSE),VLOOKUP(J21,Points!$A$2:$G$6,MATCH(C21&\" \"&I21&\" GLH\",Points!$A$2:$G$2,0),FALSE)),\"\")","v":""},{"$f":"IF(E21=\"\",\"\",VLOOKUP(SUM(N21,P21,R21,T21,V21),Lookup!$M$1:$N$6,2,FALSE))","v":"U"},{"$f":"IFERROR(IF(AND(C21=\"Internal\",I21=120),VLOOKUP(K21,Points!$D$2:$G$6,MATCH(\"Internal Grade\",Points!$D$2:$G$2,0),FALSE),\"\"),\"\")","v":""},null,{"$f":"IFERROR(IF(AND(C21=\"Internal\",I21=90),VLOOKUP(K21,Points!$C$2:$G$6,MATCH(\"Internal Grade\",Points!$C$2:$G$2,0),FALSE),\"\"),\"\")","v":""},{"$f":"IF(O21=\"\",\"\",VLOOKUP(O21,Lookup!$L$2:$M$6,2,FALSE))","v":""},{"$f":"IFERROR(IF(AND(C21=\"Internal\",I21=60),VLOOKUP(K21,Points!$B$2:$G$6,MATCH(\"Internal Grade\",Points!$B$2:$G$2,0),FALSE),\"\"),\"\")","v":""},{"$f":"IF(Q21=\"\",\"\",VLOOKUP(Q21,Lookup!$L$2:$M$6,2,FALSE))","v":""},{"$f":"IF(AND(C21=\"External\",I21=120),VLOOKUP(K21,Points!$M$2:$N$35,MATCH(\"120 GLH Grade\",Points!$M$2:$N$2,0),FALSE),\"No\")","v":"No"},{"$f":"IF(S21=\"\",\"\",VLOOKUP(S21,Lookup!$L$1:$M$6,2,FALSE))","v":0},{"$f":"IF(AND(C21=\"External\",I21=90),VLOOKUP(K21,Points!$J$2:$K$27,MATCH(\"90 GLH Grade\",Points!$J$2:$K$2,0),FALSE),\"No\")","v":"No"},{"$f":"IF(U21=\"\",\"\",VLOOKUP(U21,Lookup!$L$1:$M$6,2,FALSE))","v":0}]
[null,"Mandatory",{"$f":"IFERROR(INDEX('Certificate Data Sheet'!$G$3:$K$47,SMALL(IF('Certificate Data Sheet'!$G$3:$G$47=$E$3,ROW('Certificate Data Sheet'!$G$3:$G$47)),ROW(2:2))-2,5),\"\")","v":0},{"$f":"IFERROR(INDEX('Certificate Data Sheet'!$G$3:$K$47,SMALL(IF('Certificate Data Sheet'!$G$3:$G$47=$E$3,ROW('Certificate Data Sheet'!$G$3:$G$47)),ROW(2:2))-2,2),\"\")","v":0},{"$f":"IFERROR(INDEX('Certificate Data Sheet'!$G$3:$K$47,SMALL(IF('Certificate Data Sheet'!$G$3:$G$47=$E$3,ROW('Certificate Data Sheet'!$G$3:$G$47)),ROW(2:2))-2,3),\"\")","v":0},null,null,null,{"$f":"IFERROR(INDEX('Certificate Data Sheet'!$G$3:$K$47,SMALL(IF('Certificate Data Sheet'!$G$3:$G$47=$E$3,ROW('Certificate Data Sheet'!$G$3:$G$47)),ROW(2:2))-2,4),\"\")","v":0},null,{"$f":"IFERROR(IF(C22=\"External\",VLOOKUP(J22,Points!$I$2:$M$36,MATCH(C22&\" \"&I22&\" GLH\",Points!$I$2:$M$2,0),FALSE),VLOOKUP(J22,Points!$A$2:$G$6,MATCH(C22&\" \"&I22&\" GLH\",Points!$A$2:$G$2,0),FALSE)),\"\")","v":""},{"$f":"IF(E22=\"\",\"\",VLOOKUP(SUM(N22,P22,R22,T22,V22),Lookup!$M$1:$N$6,2,FALSE))","v":"U"},{"$f":"IFERROR(IF(AND(C22=\"Internal\",I22=120),VLOOKUP(K22,Points!$D$2:$G$6,MATCH(\"Internal Grade\",Points!$D$2:$G$2,0),FALSE),\"\"),\"\")","v":""},null,{"$f":"IFERROR(IF(AND(C22=\"Internal\",I22=90),VLOOKUP(K22,Points!$C$2:$G$6,MATCH(\"Internal Grade\",Points!$C$2:$G$2,0),FALSE),\"\"),\"\")","v":""},{"$f":"IF(O22=\"\",\"\",VLOOKUP(O22,Lookup!$L$2:$M$6,2,FALSE))","v":""},{"$f":"IFERROR(IF(AND(C22=\"Internal\",I22=60),VLOOKUP(K22,Points!$B$2:$G$6,MATCH(\"Internal Grade\",Points!$B$2:$G$2,0),FALSE),\"\"),\"\")","v":""},{"$f":"IF(Q22=\"\",\"\",VLOOKUP(Q22,Lookup!$L$2:$M$6,2,FALSE))","v":""},{"$f":"IF(AND(C22=\"External\",I22=120),VLOOKUP(K22,Points!$M$2:$N$35,MATCH(\"120 GLH Grade\",Points!$M$2:$N$2,0),FALSE),\"No\")","v":"No"},{"$f":"IF(S22=\"\",\"\",VLOOKUP(S22,Lookup!$L$1:$M$6,2,FALSE))","v":0},{"$f":"IF(AND(C22=\"External\",I22=90),VLOOKUP(K22,Points!$J$2:$K$27,MATCH(\"90 GLH Grade\",Points!$J$2:$K$2,0),FALSE),\"No\")","v":"No"},{"$f":"IF(U22=\"\",\"\",VLOOKUP(U22,Lookup!$L$1:$M$6,2,FALSE))","v":0}]
[null,"Mandatory",{"$f":"IFERROR(INDEX('Certificate Data Sheet'!$G$3:$K$47,SMALL(IF('Certificate Data Sheet'!$G$3:$G$47=$E$3,ROW('Certificate Data Sheet'!$G$3:$G$47)),ROW(3:3))-2,5),\"\")","v":0},{"$f":"IFERROR(INDEX('Certificate Data Sheet'!$G$3:$K$47,SMALL(IF('Certificate Data Sheet'!$G$3:$G$47=$E$3,ROW('Certificate Data Sheet'!$G$3:$G$47)),ROW(3:3))-2,2),\"\")","v":0},{"$f":"IFERROR(INDEX('Certificate Data Sheet'!$G$3:$K$47,SMALL(IF('Certificate Data Sheet'!$G$3:$G$47=$E$3,ROW('Certificate Data Sheet'!$G$3:$G$47)),ROW(3:3))-2,3),\"\")","v":0},null,null,null,{"$f":"IFERROR(INDEX('Certificate Data Sheet'!$G$3:$K$47,SMALL(IF('Certificate Data Sheet'!$G$3:$G$47=$E$3,ROW('Certificate Data Sheet'!$G$3:$G$47)),ROW(3:3))-2,4),\"\")","v":0},null,{"$f":"IFERROR(IF(C23=\"External\",VLOOKUP(J23,Points!$I$2:$M$36,MATCH(C23&\" \"&I23&\" GLH\",Points!$I$2:$M$2,0),FALSE),VLOOKUP(J23,Points!$A$2:$G$6,MATCH(C23&\" \"&I23&\" GLH\",Points!$A$2:$G$2,0),FALSE)),\"\")","v":""},{"$f":"IF(E23=\"\",\"\",VLOOKUP(SUM(N23,P23,R23,T23,V23),Lookup!$M$1:$N$6,2,FALSE))","v":"U"},{"$f":"IFERROR(IF(AND(C23=\"Internal\",I23=120),VLOOKUP(K23,Points!$D$2:$G$6,MATCH(\"Internal Grade\",Points!$D$2:$G$2,0),FALSE),\"\"),\"\")","v":""},null,{"$f":"IFERROR(IF(AND(C23=\"Internal\",I23=90),VLOOKUP(K23,Points!$C$2:$G$6,MATCH(\"Internal Grade\",Points!$C$2:$G$2,0),FALSE),\"\"),\"\")","v":""},{"$f":"IF(O23=\"\",\"\",VLOOKUP(O23,Lookup!$L$2:$M$6,2,FALSE))","v":""},{"$f":"IFERROR(IF(AND(C23=\"Internal\",I23=60),VLOOKUP(K23,Points!$B$2:$G$6,MATCH(\"Internal Grade\",Points!$B$2:$G$2,0),FALSE),\"\"),\"\")","v":""},{"$f":"IF(Q23=\"\",\"\",VLOOKUP(Q23,Lookup!$L$2:$M$6,2,FALSE))","v":""},{"$f":"IF(AND(C23=\"External\",I23=120),VLOOKUP(K23,Points!$M$2:$N$35,MATCH(\"120 GLH Grade\",Points!$M$2:$N$2,0),FALSE),\"No\")","v":"No"},{"$f":"IF(S23=\"\",\"\",VLOOKUP(S23,Lookup!$L$1:$M$6,2,FALSE))","v":0},{"$f":"IF(AND(C23=\"External\",I23=90),VLOOKUP(K23,Points!$J$2:$K$27,MATCH(\"90 GLH Grade\",Points!$J$2:$K$2,0),FALSE),\"No\")","v":"No"},{"$f":"IF(U23=\"\",\"\",VLOOKUP(U23,Lookup!$L$1:$M$6,2,FALSE))","v":0}]
[null,"Mandatory",{"$f":"IFERROR(INDEX('Certificate Data Sheet'!$G$3:$K$47,SMALL(IF('Certificate Data Sheet'!$G$3:$G$47=$E$3,ROW('Certificate Data Sheet'!$G$3:$G$47)),ROW(4:4))-2,5),\"\")","v":0},{"$f":"IFERROR(INDEX('Certificate Data Sheet'!$G$3:$K$47,SMALL(IF('Certificate Data Sheet'!$G$3:$G$47=$E$3,ROW('Certificate Data Sheet'!$G$3:$G$47)),ROW(4:4))-2,2),\"\")","v":0},{"$f":"IFERROR(INDEX('Certificate Data Sheet'!$G$3:$K$47,SMALL(IF('Certificate Data Sheet'!$G$3:$G$47=$E$3,ROW('Certificate Data Sheet'!$G$3:$G$47)),ROW(4:4))-2,3),\"\")","v":0},null,null,null,{"$f":"IFERROR(INDEX('Certificate Data Sheet'!$G$3:$K$47,SMALL(IF('Certificate Data Sheet'!$G$3:$G$47=$E$3,ROW('Certificate Data Sheet'!$G$3:$G$47)),ROW(4:4))-2,4),\"\")","v":0},null,{"$f":"IFERROR(IF(C24=\"External\",VLOOKUP(J24,Points!$I$2:$M$36,MATCH(C24&\" \"&I24&\" GLH\",Points!$I$2:$M$2,0),FALSE),VLOOKUP(J24,Points!$A$2:$G$6,MATCH(C24&\" \"&I24&\" GLH\",Points!$A$2:$G$2,0),FALSE)),\"\")","v":""},{"$f":"IF(E24=\"\",\"\",VLOOKUP(SUM(N24,P24,R24,T24,V24),Lookup!$M$1:$N$6,2,FALSE))","v":"U"},{"$f":"IFERROR(IF(AND(C24=\"Internal\",I24=120),VLOOKUP(K24,Points!$D$2:$G$6,MATCH(\"Internal Grade\",Points!$D$2:$G$2,0),FALSE),\"\"),\"\")","v":""},null,{"$f":"IFERROR(IF(AND(C24=\"Internal\",I24=90),VLOOKUP(K24,Points!$C$2:$G$6,MATCH(\"Internal Grade\",Points!$C$2:$G$2,0),FALSE),\"\"),\"\")","v":""},{"$f":"IF(O24=\"\",\"\",VLOOKUP(O24,Lookup!$L$2:$M$6,2,FALSE))","v":""},{"$f":"IFERROR(IF(AND(C24=\"Internal\",I24=60),VLOOKUP(K24,Points!$B$2:$G$6,MATCH(\"Internal Grade\",Points!$B$2:$G$2,0),FALSE),\"\"),\"\")","v":""},{"$f":"IF(Q24=\"\",\"\",VLOOKUP(Q24,Lookup!$L$2:$M$6,2,FALSE))","v":""},{"$f":"IF(AND(C24=\"External\",I24=120),VLOOKUP(K24,Points!$M$2:$N$35,MATCH(\"120 GLH Grade\",Points!$M$2:$N$2,0),FALSE),\"No\")","v":"No"},{"$f":"IF(S24=\"\",\"\",VLOOKUP(S24,Lookup!$L$1:$M$6,2,FALSE))","v":0},{"$f":"IF(AND(C24=\"External\",I24=90),VLOOKUP(K24,Points!$J$2:$K$27,MATCH(\"90 GLH Grade\",Points!$J$2:$K$2,0),FALSE),\"No\")","v":"No"},{"$f":"IF(U24=\"\",\"\",VLOOKUP(U24,Lookup!$L$1:$M$6,2,FALSE))","v":0}]
[null,"Mandatory",{"$f":"IFERROR(INDEX('Certificate Data Sheet'!$G$3:$K$47,SMALL(IF('Certificate Data Sheet'!$G$3:$G$47=$E$3,ROW('Certificate Data Sheet'!$G$3:$G$47)),ROW(5:5))-2,5),\"\")","v":0},{"$f":"IFERROR(INDEX('Certificate Data Sheet'!$G$3:$K$47,SMALL(IF('Certificate Data Sheet'!$G$3:$G$47=$E$3,ROW('Certificate Data Sheet'!$G$3:$G$47)),ROW(5:5))-2,2),\"\")","v":0},{"$f":"IFERROR(INDEX('Certificate Data Sheet'!$G$3:$K$47,SMALL(IF('Certificate Data Sheet'!$G$3:$G$47=$E$3,ROW('Certificate Data Sheet'!$G$3:$G$47)),ROW(5:5))-2,3),\"\")","v":0},null,null,null,{"$f":"IFERROR(INDEX('Certificate Data Sheet'!$G$3:$K$47,SMALL(IF('Certificate Data Sheet'!$G$3:$G$47=$E$3,ROW('Certificate Data Sheet'!$G$3:$G$47)),ROW(5:5))-2,4),\"\")","v":0},null,{"$f":"IFERROR(IF(C25=\"External\",VLOOKUP(J25,Points!$I$2:$M$36,MATCH(C25&\" \"&I25&\" GLH\",Points!$I$2:$M$2,0),FALSE),VLOOKUP(J25,Points!$A$2:$G$6,MATCH(C25&\" \"&I25&\" GLH\",Points!$A$2:$G$2,0),FALSE)),\"\")","v":""},{"$f":"IF(E25=\"\",\"\",VLOOKUP(SUM(N25,P25,R25,T25,V25),Lookup!$M$1:$N$6,2,FALSE))","v":"U"},{"$f":"IFERROR(IF(AND(C25=\"Internal\",I25=120),VLOOKUP(K25,Points!$D$2:$G$6,MATCH(\"Internal Grade\",Points!$D$2:$G$2,0),FALSE),\"\"),\"\")","v":""},null,{"$f":"IFERROR(IF(AND(C25=\"Internal\",I25=90),VLOOKUP(K25,Points!$C$2:$G$6,MATCH(\"Internal Grade\",Points!$C$2:$G$2,0),FALSE),\"\"),\"\")","v":""},{"$f":"IF(O25=\"\",\"\",VLOOKUP(O25,Lookup!$L$2:$M$6,2,FALSE))","v":""},{"$f":"IFERROR(IF(AND(C25=\"Internal\",I25=60),VLOOKUP(K25,Points!$B$2:$G$6,MATCH(\"Internal Grade\",Points!$B$2:$G$2,0),FALSE),\"\"),\"\")","v":""},{"$f":"IF(Q25=\"\",\"\",VLOOKUP(Q25,Lookup!$L$2:$M$6,2,FALSE))","v":""},{"$f":"IF(AND(C25=\"External\",I25=120),VLOOKUP(K25,Points!$M$2:$N$35,MATCH(\"120 GLH Grade\",Points!$M$2:$N$2,0),FALSE),\"No\")","v":"No"},{"$f":"IF(S25=\"\",\"\",VLOOKUP(S25,Lookup!$L$1:$M$6,2,FALSE))","v":0},{"$f":"IF(AND(C25=\"External\",I25=90),VLOOKUP(K25,Points!$J$2:$K$27,MATCH(\"90 GLH Grade\",Points!$J$2:$K$2,0),FALSE),\"No\")","v":"No"},{"$f":"IF(U25=\"\",\"\",VLOOKUP(U25,Lookup!$L$1:$M$6,2,FALSE))","v":0}]
[null,"Mandatory",{"$f":"IFERROR(INDEX('Certificate Data Sheet'!$G$3:$K$47,SMALL(IF('Certificate Data Sheet'!$G$3:$G$47=$E$3,ROW('Certificate Data Sheet'!$G$3:$G$47)),ROW(6:6))-2,5),\"\")","v":0},{"$f":"IFERROR(INDEX('Certificate Data Sheet'!$G$3:$K$47,SMALL(IF('Certificate Data Sheet'!$G$3:$G$47=$E$3,ROW('Certificate Data Sheet'!$G$3:$G$47)),ROW(6:6))-2,2),\"\")","v":0},{"$f":"IFERROR(INDEX('Certificate Data Sheet'!$G$3:$K$47,SMALL(IF('Certificate Data Sheet'!$G$3:$G$47=$E$3,ROW('Certificate Data Sheet'!$G$3:$G$47)),ROW(6:6))-2,3),\"\")","v":0},null,null,null,{"$f":"IFERROR(INDEX('Certificate Data Sheet'!$G$3:$K$47,SMALL(IF('Certificate Data Sheet'!$G$3:$G$47=$E$3,ROW('Certificate Data Sheet'!$G$3:$G$47)),ROW(6:6))-2,4),\"\")","v":0},null,{"$f":"IFERROR(IF(C26=\"External\",VLOOKUP(J26,Points!$I$2:$M$36,MATCH(C26&\" \"&I26&\" GLH\",Points!$I$2:$M$2,0),FALSE),VLOOKUP(J26,Points!$A$2:$G$6,MATCH(C26&\" \"&I26&\" GLH\",Points!$A$2:$G$2,0),FALSE)),\"\")","v":""},{"$f":"IF(E26=\"\",\"\",VLOOKUP(SUM(N26,P26,R26,T26,V26),Lookup!$M$1:$N$6,2,FALSE))","v":"U"},{"$f":"IFERROR(IF(AND(C26=\"Internal\",I26=120),VLOOKUP(K26,Points!$D$2:$G$6,MATCH(\"Internal Grade\",Points!$D$2:$G$2,0),FALSE),\"\"),\"\")","v":""},null,{"$f":"IFERROR(IF(AND(C26=\"Internal\",I26=90),VLOOKUP(K26,Points!$C$2:$G$6,MATCH(\"Internal Grade\",Points!$C$2:$G$2,0),FALSE),\"\"),\"\")","v":""},{"$f":"IF(O26=\"\",\"\",VLOOKUP(O26,Lookup!$L$2:$M$6,2,FALSE))","v":""},{"$f":"IFERROR(IF(AND(C26=\"Internal\",I26=60),VLOOKUP(K26,Points!$B$2:$G$6,MATCH(\"Internal Grade\",Points!$B$2:$G$2,0),FALSE),\"\"),\"\")","v":""},{"$f":"IF(Q26=\"\",\"\",VLOOKUP(Q26,Lookup!$L$2:$M$6,2,FALSE))","v":""},{"$f":"IF(AND(C26=\"External\",I26=120),VLOOKUP(K26,Points!$M$2:$N$35,MATCH(\"120 GLH Grade\",Points!$M$2:$N$2,0),FALSE),\"No\")","v":"No"},{"$f":"IF(S26=\"\",\"\",VLOOKUP(S26,Lookup!$L$1:$M$6,2,FALSE))","v":0},{"$f":"IF(AND(C26=\"External\",I26=90),VLOOKUP(K26,Points!$J$2:$K$27,MATCH(\"90 GLH Grade\",Points!$J$2:$K$2,0),FALSE),\"No\")","v":"No"},{"$f":"IF(U26=\"\",\"\",VLOOKUP(U26,Lookup!$L$1:$M$6,2,FALSE))","v":0}]
[null,null,{"$f":"IFERROR(INDEX('Certificate Data Sheet'!$A$3:$E$59,SMALL(IF('Certificate Data Sheet'!$A$3:$A$59=$E$3,ROW('Certificate Data Sheet'!$A$3:$A$59)),ROW(19:19))-2,5),\"\")","v":0}]
[null,null,null,null,"2. Select optional units from the dropdown lists below"]
[null,"Optional",{"$f":"IFERROR(INDEX('Certificate Data Sheet'!$R$3:$R$1000,MATCH(E29&$E$3,'Certificate Data Sheet'!$M$3:$M$1000&'Certificate Data Sheet'!$N$3:$N$1000,0)),\"\")","v":0},{"$f":"IFERROR(INDEX('Certificate Data Sheet'!$O$3:$O$1000,MATCH(E29&$E$3,'Certificate Data Sheet'!$M$3:$M$1000&'Certificate Data Sheet'!$N$3:$N$1000,0)),\"\")","v":0},null,null,null,null,{"$f":"IFERROR(INDEX('Certificate Data Sheet'!$Q$3:$Q$1000,MATCH(E29&$E$3,'Certificate Data Sheet'!$M$3:$M$1000&'Certificate Data Sheet'!$N$3:$N$1000,0)),\"\")","v":0},null,{"$f":"IFERROR(IF(C29=\"Internal\",VLOOKUP(J29,Points!$A$2:$C$6,MATCH(C29&\" \"&I29&\" GLH\",Points!$A$2:$C$2,0),FALSE),\"\"),\"\")","v":""},{"$f":"IF(E29=\"\",\"\",VLOOKUP(SUM(N29,P29,R29,T29,V29),Lookup!$M$1:$N$6,2,FALSE))","v":""},{"$f":"IFERROR(IF(AND(C29=\"Internal\",I29=120),VLOOKUP(K29,Points!$C$2:$G$6,MATCH(\"Internal Grade\",Points!$C$2:$G$2,0),FALSE),\"\"),\"\")","v":""},{"$f":"IF(M29=\"\",\"\",VLOOKUP(M29,Lookup!$L$2:$M$6,2,FALSE))","v":""},{"$f":"IFERROR(IF(AND(C29=\"Internal\",I29=90),VLOOKUP(K29,Points!$C$2:$G$6,MATCH(\"Internal Grade\",Points!$C$2:$G$2,0),FALSE),\"\"),\"\")","v":""},{"$f":"IF(O29=\"\",\"\",VLOOKUP(O29,Lookup!$L$2:$M$6,2,FALSE))","v":""},{"$f":"IFERROR(IF(AND(C29=\"Internal\",I29=60),VLOOKUP(K29,Points!$B$2:$G$6,MATCH(\"Internal Grade\",Points!$B$2:$G$2,0),FALSE),\"\"),\"\")","v":""},{"$f":"IF(Q29=\"\",\"\",VLOOKUP(Q29,Lookup!$L$2:$M$6,2,FALSE))","v":""},{"$f":"IF(AND(C29=\"External\",I29=120),VLOOKUP(K29,Points!$M$2:$N$35,MATCH(\"120 GLH Grade\",Points!$M$2:$N$2,0),FALSE),\"No\")","v":"No"},{"$f":"IF(S29=\"\",\"\",VLOOKUP(S29,Lookup!$L$1:$M$6,2,FALSE))","v":0},{"$f":"IF(AND(C29=\"External\",I29=90),VLOOKUP(K29,Points!$J$2:$K$27,MATCH(\"90 GLH Grade\",Points!$J$2:$K$2,0),FALSE),\"No\")","v":"No"},{"$f":"IF(U29=\"\",\"\",VLOOKUP(U29,Lookup!$L$1:$M$6,2,FALSE))","v":0}]
[null,"Optional",{"$f":"IFERROR(INDEX('Certificate Data Sheet'!$R$3:$R$1000,MATCH(E30&$E$3,'Certificate Data Sheet'!$M$3:$M$1000&'Certificate Data Sheet'!$N$3:$N$1000,0)),\"\")","v":0},{"$f":"IFERROR(INDEX('Certificate Data Sheet'!$O$3:$O$1000,MATCH(E30&$E$3,'Certificate Data Sheet'!$M$3:$M$1000&'Certificate Data Sheet'!$N$3:$N$1000,0)),\"\")","v":0},null,null,null,null,{"$f":"IFERROR(INDEX('Certificate Data Sheet'!$Q$3:$Q$1000,MATCH(E30&$E$3,'Certificate Data Sheet'!$M$3:$M$1000&'Certificate Data Sheet'!$N$3:$N$1000,0)),\"\")","v":0},null,{"$f":"IFERROR(IF(C30=\"Internal\",VLOOKUP(J30,Points!$A$2:$C$6,MATCH(C30&\" \"&I30&\" GLH\",Points!$A$2:$C$2,0),FALSE),\"\"),\"\")","v":""},{"$f":"IF(E30=\"\",\"\",VLOOKUP(SUM(N30,P30,R30,T30,V30),Lookup!$M$1:$N$6,2,FALSE))","v":""},{"$f":"IFERROR(IF(AND(C30=\"Internal\",I30=120),VLOOKUP(K30,Points!$C$2:$G$6,MATCH(\"Internal Grade\",Points!$C$2:$G$2,0),FALSE),\"\"),\"\")","v":""},{"$f":"IF(M30=\"\",\"\",VLOOKUP(M30,Lookup!$L$2:$M$6,2,FALSE))","v":""},{"$f":"IFERROR(IF(AND(C30=\"Internal\",I30=90),VLOOKUP(K30,Points!$C$2:$G$6,MATCH(\"Internal Grade\",Points!$C$2:$G$2,0),FALSE),\"\"),\"\")","v":""},{"$f":"IF(O30=\"\",\"\",VLOOKUP(O30,Lookup!$L$2:$M$6,2,FALSE))","v":""},{"$f":"IFERROR(IF(AND(C30=\"Internal\",I30=60),VLOOKUP(K30,Points!$B$2:$G$6,MATCH(\"Internal Grade\",Points!$B$2:$G$2,0),FALSE),\"\"),\"\")","v":""},{"$f":"IF(Q30=\"\",\"\",VLOOKUP(Q30,Lookup!$L$2:$M$6,2,FALSE))","v":""},{"$f":"IF(AND(C30=\"External\",I30=120),VLOOKUP(K30,Points!$M$2:$N$35,MATCH(\"120 GLH Grade\",Points!$M$2:$N$2,0),FALSE),\"No\")","v":"No"},{"$f":"IF(S30=\"\",\"\",VLOOKUP(S30,Lookup!$L$1:$M$6,2,FALSE))","v":0},{"$f":"IF(AND(C30=\"External\",I30=90),VLOOKUP(K30,Points!$J$2:$K$27,MATCH(\"90 GLH Grade\",Points!$J$2:$K$2,0),FALSE),\"No\")","v":"No"},{"$f":"IF(U30=\"\",\"\",VLOOKUP(U30,Lookup!$L$1:$M$6,2,FALSE))","v":0}]
[null,"Optional",{"$f":"IFERROR(INDEX('Certificate Data Sheet'!$R$3:$R$1000,MATCH(E31&$E$3,'Certificate Data Sheet'!$M$3:$M$1000&'Certificate Data Sheet'!$N$3:$N$1000,0)),\"\")","v":0},{"$f":"IFERROR(INDEX('Certificate Data Sheet'!$O$3:$O$1000,MATCH(E31&$E$3,'Certificate Data Sheet'!$M$3:$M$1000&'Certificate Data Sheet'!$N$3:$N$1000,0)),\"\")","v":0},null,null,null,null,{"$f":"IFERROR(INDEX('Certificate Data Sheet'!$Q$3:$Q$1000,MATCH(E31&$E$3,'Certificate Data Sheet'!$M$3:$M$1000&'Certificate Data Sheet'!$N$3:$N$1000,0)),\"\")","v":0},null,{"$f":"IFERROR(IF(C31=\"Internal\",VLOOKUP(J31,Points!$A$2:$C$6,MATCH(C31&\" \"&I31&\" GLH\",Points!$A$2:$C$2,0),FALSE),\"\"),\"\")","v":""},{"$f":"IF(E31=\"\",\"\",VLOOKUP(SUM(N31,P31,R31,T31,V31),Lookup!$M$1:$N$6,2,FALSE))","v":""},{"$f":"IFERROR(IF(AND(C31=\"Internal\",I31=120),VLOOKUP(K31,Points!$C$2:$G$6,MATCH(\"Internal Grade\",Points!$C$2:$G$2,0),FALSE),\"\"),\"\")","v":""},{"$f":"IF(M31=\"\",\"\",VLOOKUP(M31,Lookup!$L$2:$M$6,2,FALSE))","v":""},{"$f":"IFERROR(IF(AND(C31=\"Internal\",I31=90),VLOOKUP(K31,Points!$C$2:$G$6,MATCH(\"Internal Grade\",Points!$C$2:$G$2,0),FALSE),\"\"),\"\")","v":""},{"$f":"IF(O31=\"\",\"\",VLOOKUP(O31,Lookup!$L$2:$M$6,2,FALSE))","v":""},{"$f":"IFERROR(IF(AND(C31=\"Internal\",I31=60),VLOOKUP(K31,Points!$B$2:$G$6,MATCH(\"Internal Grade\",Points!$B$2:$G$2,0),FALSE),\"\"),\"\")","v":""},{"$f":"IF(Q31=\"\",\"\",VLOOKUP(Q31,Lookup!$L$2:$M$6,2,FALSE))","v":""},{"$f":"IF(AND(C31=\"External\",I31=120),VLOOKUP(K31,Points!$M$2:$N$35,MATCH(\"120 GLH Grade\",Points!$M$2:$N$2,0),FALSE),\"No\")","v":"No"},{"$f":"IF(S31=\"\",\"\",VLOOKUP(S31,Lookup!$L$1:$M$6,2,FALSE))","v":0},{"$f":"IF(AND(C31=\"External\",I31=90),VLOOKUP(K31,Points!$J$2:$K$27,MATCH(\"90 GLH Grade\",Points!$J$2:$K$2,0),FALSE),\"No\")","v":"No"},{"$f":"IF(U31=\"\",\"\",VLOOKUP(U31,Lookup!$L$1:$M$6,2,FALSE))","v":0}]
[null,"Optional",{"$f":"IFERROR(INDEX('Certificate Data Sheet'!$R$3:$R$1000,MATCH(E32&$E$3,'Certificate Data Sheet'!$M$3:$M$1000&'Certificate Data Sheet'!$N$3:$N$1000,0)),\"\")","v":0},{"$f":"IFERROR(INDEX('Certificate Data Sheet'!$O$3:$O$1000,MATCH(E32&$E$3,'Certificate Data Sheet'!$M$3:$M$1000&'Certificate Data Sheet'!$N$3:$N$1000,0)),\"\")","v":0},null,null,null,null,{"$f":"IFERROR(INDEX('Certificate Data Sheet'!$Q$3:$Q$1000,MATCH(E32&$E$3,'Certificate Data Sheet'!$M$3:$M$1000&'Certificate Data Sheet'!$N$3:$N$1000,0)),\"\")","v":0},null,{"$f":"IFERROR(IF(C32=\"Internal\",VLOOKUP(J32,Points!$A$2:$C$6,MATCH(C32&\" \"&I32&\" GLH\",Points!$A$2:$C$2,0),FALSE),\"\"),\"\")","v":""},{"$f":"IF(E32=\"\",\"\",VLOOKUP(SUM(N32,P32,R32,T32,V32),Lookup!$M$1:$N$6,2,FALSE))","v":""},{"$f":"IFERROR(IF(AND(C32=\"Internal\",I32=120),VLOOKUP(K32,Points!$C$2:$G$6,MATCH(\"Internal Grade\",Points!$C$2:$G$2,0),FALSE),\"\"),\"\")","v":""},{"$f":"IF(M32=\"\",\"\",VLOOKUP(M32,Lookup!$L$2:$M$6,2,FALSE))","v":""},{"$f":"IFERROR(IF(AND(C32=\"Internal\",I32=90),VLOOKUP(K32,Points!$C$2:$G$6,MATCH(\"Internal Grade\",Points!$C$2:$G$2,0),FALSE),\"\"),\"\")","v":""},{"$f":"IF(O32=\"\",\"\",VLOOKUP(O32,Lookup!$L$2:$M$6,2,FALSE))","v":""},{"$f":"IFERROR(IF(AND(C32=\"Internal\",I32=60),VLOOKUP(K32,Points!$B$2:$G$6,MATCH(\"Internal Grade\",Points!$B$2:$G$2,0),FALSE),\"\"),\"\")","v":""},{"$f":"IF(Q32=\"\",\"\",VLOOKUP(Q32,Lookup!$L$2:$M$6,2,FALSE))","v":""},{"$f":"IF(AND(C32=\"External\",I32=120),VLOOKUP(K32,Points!$M$2:$N$35,MATCH(\"120 GLH Grade\",Points!$M$2:$N$2,0),FALSE),\"No\")","v":"No"},{"$f":"IF(S32=\"\",\"\",VLOOKUP(S32,Lookup!$L$1:$M$6,2,FALSE))","v":0},{"$f":"IF(AND(C32=\"External\",I32=90),VLOOKUP(K32,Points!$J$2:$K$27,MATCH(\"90 GLH Grade\",Points!$J$2:$K$2,0),FALSE),\"No\")","v":"No"},{"$f":"IF(U32=\"\",\"\",VLOOKUP(U32,Lookup!$L$1:$M$6,2,FALSE))","v":0}]
[null,"Optional",{"$f":"IFERROR(INDEX('Certificate Data Sheet'!$R$3:$R$1000,MATCH(E33&$E$3,'Certificate Data Sheet'!$M$3:$M$1000&'Certificate Data Sheet'!$N$3:$N$1000,0)),\"\")","v":0},{"$f":"IFERROR(INDEX('Certificate Data Sheet'!$O$3:$O$1000,MATCH(E33&$E$3,'Certificate Data Sheet'!$M$3:$M$1000&'Certificate Data Sheet'!$N$3:$N$1000,0)),\"\")","v":0},null,null,null,null,{"$f":"IFERROR(INDEX('Certificate Data Sheet'!$Q$3:$Q$1000,MATCH(E33&$E$3,'Certificate Data Sheet'!$M$3:$M$1000&'Certificate Data Sheet'!$N$3:$N$1000,0)),\"\")","v":0},null,{"$f":"IFERROR(IF(C33=\"Internal\",VLOOKUP(J33,Points!$A$2:$C$6,MATCH(C33&\" \"&I33&\" GLH\",Points!$A$2:$C$2,0),FALSE),\"\"),\"\")","v":""},{"$f":"IF(E33=\"\",\"\",VLOOKUP(SUM(N33,P33,R33,T33,V33),Lookup!$M$1:$N$6,2,FALSE))","v":""},{"$f":"IFERROR(IF(AND(C33=\"Internal\",I33=120),VLOOKUP(K33,Points!$C$2:$G$6,MATCH(\"Internal Grade\",Points!$C$2:$G$2,0),FALSE),\"\"),\"\")","v":""},{"$f":"IF(M33=\"\",\"\",VLOOKUP(M33,Lookup!$L$2:$M$6,2,FALSE))","v":""},{"$f":"IFERROR(IF(AND(C33=\"Internal\",I33=90),VLOOKUP(K33,Points!$C$2:$G$6,MATCH(\"Internal Grade\",Points!$C$2:$G$2,0),FALSE),\"\"),\"\")","v":""},{"$f":"IF(O33=\"\",\"\",VLOOKUP(O33,Lookup!$L$2:$M$6,2,FALSE))","v":""},{"$f":"IFERROR(IF(AND(C33=\"Internal\",I33=60),VLOOKUP(K33,Points!$B$2:$G$6,MATCH(\"Internal Grade\",Points!$B$2:$G$2,0),FALSE),\"\"),\"\")","v":""},{"$f":"IF(Q33=\"\",\"\",VLOOKUP(Q33,Lookup!$L$2:$M$6,2,FALSE))","v":""},{"$f":"IF(AND(C33=\"External\",I33=120),VLOOKUP(K33,Points!$M$2:$N$35,MATCH(\"120 GLH Grade\",Points!$M$2:$N$2,0),FALSE),\"No\")","v":"No"},{"$f":"IF(S33=\"\",\"\",VLOOKUP(S33,Lookup!$L$1:$M$6,2,FALSE))","v":0},{"$f":"IF(AND(C33=\"External\",I33=90),VLOOKUP(K33,Points!$J$2:$K$27,MATCH(\"90 GLH Grade\",Points!$J$2:$K$2,0),FALSE),\"No\")","v":"No"},{"$f":"IF(U33=\"\",\"\",VLOOKUP(U33,Lookup!$L$1:$M$6,2,FALSE))","v":0}]
[null,"Optional",{"$f":"IFERROR(INDEX('Certificate Data Sheet'!$R$3:$R$1000,MATCH(E34&$E$3,'Certificate Data Sheet'!$M$3:$M$1000&'Certificate Data Sheet'!$N$3:$N$1000,0)),\"\")","v":0},{"$f":"IFERROR(INDEX('Certificate Data Sheet'!$O$3:$O$1000,MATCH(E34&$E$3,'Certificate Data Sheet'!$M$3:$M$1000&'Certificate Data Sheet'!$N$3:$N$1000,0)),\"\")","v":0},null,null,null,null,{"$f":"IFERROR(INDEX('Certificate Data Sheet'!$Q$3:$Q$1000,MATCH(E34&$E$3,'Certificate Data Sheet'!$M$3:$M$1000&'Certificate Data Sheet'!$N$3:$N$1000,0)),\"\")","v":0},null,{"$f":"IFERROR(IF(C34=\"Internal\",VLOOKUP(J34,Points!$A$2:$C$6,MATCH(C34&\" \"&I34&\" GLH\",Points!$A$2:$C$2,0),FALSE),\"\"),\"\")","v":""},{"$f":"IF(E34=\"\",\"\",VLOOKUP(SUM(N34,P34,R34,T34,V34),Lookup!$M$1:$N$6,2,FALSE))","v":""},{"$f":"IFERROR(IF(AND(C34=\"Internal\",I34=120),VLOOKUP(K34,Points!$C$2:$G$6,MATCH(\"Internal Grade\",Points!$C$2:$G$2,0),FALSE),\"\"),\"\")","v":""},{"$f":"IF(M34=\"\",\"\",VLOOKUP(M34,Lookup!$L$2:$M$6,2,FALSE))","v":""},{"$f":"IFERROR(IF(AND(C34=\"Internal\",I34=90),VLOOKUP(K34,Points!$C$2:$G$6,MATCH(\"Internal Grade\",Points!$C$2:$G$2,0),FALSE),\"\"),\"\")","v":""},{"$f":"IF(O34=\"\",\"\",VLOOKUP(O34,Lookup!$L$2:$M$6,2,FALSE))","v":""},{"$f":"IFERROR(IF(AND(C34=\"Internal\",I34=60),VLOOKUP(K34,Points!$B$2:$G$6,MATCH(\"Internal Grade\",Points!$B$2:$G$2,0),FALSE),\"\"),\"\")","v":""},{"$f":"IF(Q34=\"\",\"\",VLOOKUP(Q34,Lookup!$L$2:$M$6,2,FALSE))","v":""},{"$f":"IF(AND(C34=\"External\",I34=120),VLOOKUP(K34,Points!$M$2:$N$35,MATCH(\"120 GLH Grade\",Points!$M$2:$N$2,0),FALSE),\"No\")","v":"No"},{"$f":"IF(S34=\"\",\"\",VLOOKUP(S34,Lookup!$L$1:$M$6,2,FALSE))","v":0},{"$f":"IF(AND(C34=\"External\",I34=90),VLOOKUP(K34,Points!$J$2:$K$27,MATCH(\"90 GLH Grade\",Points!$J$2:$K$2,0),FALSE),\"No\")","v":"No"},{"$f":"IF(U34=\"\",\"\",VLOOKUP(U34,Lookup!$L$1:$M$6,2,FALSE))","v":0}]
[null,null,null,null,null,null,null,null,{"$f":"SUM(I29:I34)","v":0}]
[]
[null,"Optional",{"$f":"IFERROR(INDEX('Certificate Data Sheet'!$Y$3:$Y$1000,MATCH(E37&$E$3,'Certificate Data Sheet'!$T$3:$T$1000&'Certificate Data Sheet'!$U$3:$U$1000,0)),\"\")","v":0},{"$f":"IFERROR(INDEX('Certificate Data Sheet'!$V$3:$V$1000,MATCH(E37&$E$3,'Certificate Data Sheet'!$T$3:$T$1000&'Certificate Data Sheet'!$U$3:$U$1000,0)),\"\")","v":0},null,null,null,null,{"$f":"IFERROR(INDEX('Certificate Data Sheet'!$X$3:$X$1000,MATCH(E37&$E$3,'Certificate Data Sheet'!$T$3:$T$1000&'Certificate Data Sheet'!$U$3:$U$1000,0)),\"\")","v":0},null,{"$f":"IFERROR(IF(C37=\"Internal\",VLOOKUP(J37,Points!$A$2:$C$6,MATCH(C37&\" \"&I37&\" GLH\",Points!$A$2:$C$2,0),FALSE),\"\"),\"\")","v":""},{"$f":"IF(E37=\"\",\"\",VLOOKUP(SUM(N37,P37,R37,T37,V37),Lookup!$M$1:$N$6,2,FALSE))","v":""},null,{"$f":"IF(M37=\"\",\"\",VLOOKUP(M37,Lookup!$L$2:$M$6,2,FALSE))","v":""},{"$f":"IFERROR(IF(AND(C37=\"Internal\",I37=90),VLOOKUP(K37,Points!$C$2:$G$6,MATCH(\"Internal Grade\",Points!$C$2:$G$2,0),FALSE),\"\"),\"\")","v":""},{"$f":"IF(O37=\"\",\"\",VLOOKUP(O37,Lookup!$L$2:$M$6,2,FALSE))","v":""},{"$f":"IFERROR(IF(AND(C37=\"Internal\",I37=60),VLOOKUP(K37,Points!$B$2:$G$6,MATCH(\"Internal Grade\",Points!$B$2:$G$2,0),FALSE),\"\"),\"\")","v":""},{"$f":"IF(Q37=\"\",\"\",VLOOKUP(Q37,Lookup!$L$2:$M$6,2,FALSE))","v":""},{"$f":"IF(AND(C37=\"External\",I37=120),VLOOKUP(K37,Points!$M$2:$N$35,MATCH(\"120 GLH Grade\",Points!$M$2:$N$2,0),FALSE),\"No\")","v":"No"},{"$f":"IF(S37=\"\",\"\",VLOOKUP(S37,Lookup!$L$1:$M$6,2,FALSE))","v":0},{"$f":"IF(AND(C37=\"External\",I37=90),VLOOKUP(K37,Points!$J$2:$K$27,MATCH(\"90 GLH Grade\",Points!$J$2:$K$2,0),FALSE),\"No\")","v":"No"},{"$f":"IF(U37=\"\",\"\",VLOOKUP(U37,Lookup!$L$1:$M$6,2,FALSE))","v":0}]
[null,"Optional",{"$f":"IFERROR(INDEX('Certificate Data Sheet'!$Y$3:$Y$1000,MATCH(E38&$E$3,'Certificate Data Sheet'!$T$3:$T$1000&'Certificate Data Sheet'!$U$3:$U$1000,0)),\"\")","v":0},{"$f":"IFERROR(INDEX('Certificate Data Sheet'!$V$3:$V$1000,MATCH(E38&$E$3,'Certificate Data Sheet'!$T$3:$T$1000&'Certificate Data Sheet'!$U$3:$U$1000,0)),\"\")","v":0},null,null,null,null,{"$f":"IFERROR(INDEX('Certificate Data Sheet'!$X$3:$X$1000,MATCH(E38&$E$3,'Certificate Data Sheet'!$T$3:$T$1000&'Certificate Data Sheet'!$U$3:$U$1000,0)),\"\")","v":0},null,{"$f":"IFERROR(IF(C38=\"Internal\",VLOOKUP(J38,Points!$A$2:$C$6,MATCH(C38&\" \"&I38&\" GLH\",Points!$A$2:$C$2,0),FALSE),\"\"),\"\")","v":""},{"$f":"IF(E38=\"\",\"\",VLOOKUP(SUM(N38,P38,R38,T38,V38),Lookup!$M$1:$N$6,2,FALSE))","v":""},null,{"$f":"IF(M38=\"\",\"\",VLOOKUP(M38,Lookup!$L$2:$M$6,2,FALSE))","v":""},{"$f":"IFERROR(IF(AND(C38=\"Internal\",I38=90),VLOOKUP(K38,Points!$C$2:$G$6,MATCH(\"Internal Grade\",Points!$C$2:$G$2,0),FALSE),\"\"),\"\")","v":""},{"$f":"IF(O38=\"\",\"\",VLOOKUP(O38,Lookup!$L$2:$M$6,2,FALSE))","v":""},{"$f":"IFERROR(IF(AND(C38=\"Internal\",I38=60),VLOOKUP(K38,Points!$B$2:$G$6,MATCH(\"Internal Grade\",Points!$B$2:$G$2,0),FALSE),\"\"),\"\")","v":""},{"$f":"IF(Q38=\"\",\"\",VLOOKUP(Q38,Lookup!$L$2:$M$6,2,FALSE))","v":""},{"$f":"IF(AND(C38=\"External\",I38=120),VLOOKUP(K38,Points!$M$2:$N$35,MATCH(\"120 GLH Grade\",Points!$M$2:$N$2,0),FALSE),\"No\")","v":"No"},{"$f":"IF(S38=\"\",\"\",VLOOKUP(S38,Lookup!$L$1:$M$6,2,FALSE))","v":0},{"$f":"IF(AND(C38=\"External\",I38=90),VLOOKUP(K38,Points!$J$2:$K$27,MATCH(\"90 GLH Grade\",Points!$J$2:$K$2,0),FALSE),\"No\")","v":"No"},{"$f":"IF(U38=\"\",\"\",VLOOKUP(U38,Lookup!$L$1:$M$6,2,FALSE))","v":0}]
[null,"Optional",{"$f":"IFERROR(INDEX('Certificate Data Sheet'!$Y$3:$Y$1000,MATCH(E39&$E$3,'Certificate Data Sheet'!$T$3:$T$1000&'Certificate Data Sheet'!$U$3:$U$1000,0)),\"\")","v":0},{"$f":"IFERROR(INDEX('Certificate Data Sheet'!$V$3:$V$1000,MATCH(E39&$E$3,'Certificate Data Sheet'!$T$3:$T$1000&'Certificate Data Sheet'!$U$3:$U$1000,0)),\"\")","v":0},null,null,null,null,{"$f":"IFERROR(INDEX('Certificate Data Sheet'!$X$3:$X$1000,MATCH(E39&$E$3,'Certificate Data Sheet'!$T$3:$T$1000&'Certificate Data Sheet'!$U$3:$U$1000,0)),\"\")","v":0},null,{"$f":"IFERROR(IF(C39=\"Internal\",VLOOKUP(J39,Points!$A$2:$C$6,MATCH(C39&\" \"&I39&\" GLH\",Points!$A$2:$C$2,0),FALSE),\"\"),\"\")","v":""},{"$f":"IF(E39=\"\",\"\",VLOOKUP(SUM(N39,P39,R39,T39,V39),Lookup!$M$1:$N$6,2,FALSE))","v":""},null,{"$f":"IF(M39=\"\",\"\",VLOOKUP(M39,Lookup!$L$2:$M$6,2,FALSE))","v":""},{"$f":"IFERROR(IF(AND(C39=\"Internal\",I39=90),VLOOKUP(K39,Points!$C$2:$G$6,MATCH(\"Internal Grade\",Points!$C$2:$G$2,0),FALSE),\"\"),\"\")","v":""},{"$f":"IF(O39=\"\",\"\",VLOOKUP(O39,Lookup!$L$2:$M$6,2,FALSE))","v":""},{"$f":"IFERROR(IF(AND(C39=\"Internal\",I39=60),VLOOKUP(K39,Points!$B$2:$G$6,MATCH(\"Internal Grade\",Points!$B$2:$G$2,0),FALSE),\"\"),\"\")","v":""},{"$f":"IF(Q39=\"\",\"\",VLOOKUP(Q39,Lookup!$L$2:$M$6,2,FALSE))","v":""},{"$f":"IF(AND(C39=\"External\",I39=120),VLOOKUP(K39,Points!$M$2:$N$35,MATCH(\"120 GLH Grade\",Points!$M$2:$N$2,0),FALSE),\"No\")","v":"No"},{"$f":"IF(S39=\"\",\"\",VLOOKUP(S39,Lookup!$L$1:$M$6,2,FALSE))","v":0},{"$f":"IF(AND(C39=\"External\",I39=90),VLOOKUP(K39,Points!$J$2:$K$27,MATCH(\"90 GLH Grade\",Points!$J$2:$K$2,0),FALSE),\"No\")","v":"No"},{"$f":"IF(U39=\"\",\"\",VLOOKUP(U39,Lookup!$L$1:$M$6,2,FALSE))","v":0}]
[null,"Optional",{"$f":"IFERROR(INDEX('Certificate Data Sheet'!$Y$3:$Y$1000,MATCH(E40&$E$3,'Certificate Data Sheet'!$T$3:$T$1000&'Certificate Data Sheet'!$U$3:$U$1000,0)),\"\")","v":0},{"$f":"IFERROR(INDEX('Certificate Data Sheet'!$V$3:$V$1000,MATCH(E40&$E$3,'Certificate Data Sheet'!$T$3:$T$1000&'Certificate Data Sheet'!$U$3:$U$1000,0)),\"\")","v":0},null,null,null,null,{"$f":"IFERROR(INDEX('Certificate Data Sheet'!$X$3:$X$1000,MATCH(E40&$E$3,'Certificate Data Sheet'!$T$3:$T$1000&'Certificate Data Sheet'!$U$3:$U$1000,0)),\"\")","v":0},null,{"$f":"IFERROR(IF(C40=\"Internal\",VLOOKUP(J40,Points!$A$2:$C$6,MATCH(C40&\" \"&I40&\" GLH\",Points!$A$2:$C$2,0),FALSE),\"\"),\"\")","v":""},{"$f":"IF(E40=\"\",\"\",VLOOKUP(SUM(N40,P40,R40,T40,V40),Lookup!$M$1:$N$6,2,FALSE))","v":""},null,{"$f":"IF(M40=\"\",\"\",VLOOKUP(M40,Lookup!$L$2:$M$6,2,FALSE))","v":""},{"$f":"IFERROR(IF(AND(C40=\"Internal\",I40=90),VLOOKUP(K40,Points!$C$2:$G$6,MATCH(\"Internal Grade\",Points!$C$2:$G$2,0),FALSE),\"\"),\"\")","v":""},{"$f":"IF(O40=\"\",\"\",VLOOKUP(O40,Lookup!$L$2:$M$6,2,FALSE))","v":""},{"$f":"IFERROR(IF(AND(C40=\"Internal\",I40=60),VLOOKUP(K40,Points!$B$2:$G$6,MATCH(\"Internal Grade\",Points!$B$2:$G$2,0),FALSE),\"\"),\"\")","v":""},{"$f":"IF(Q40=\"\",\"\",VLOOKUP(Q40,Lookup!$L$2:$M$6,2,FALSE))","v":""},{"$f":"IF(AND(C40=\"External\",I40=120),VLOOKUP(K40,Points!$M$2:$N$35,MATCH(\"120 GLH Grade\",Points!$M$2:$N$2,0),FALSE),\"No\")","v":"No"},{"$f":"IF(S40=\"\",\"\",VLOOKUP(S40,Lookup!$L$1:$M$6,2,FALSE))","v":0},{"$f":"IF(AND(C40=\"External\",I40=90),VLOOKUP(K40,Points!$J$2:$K$27,MATCH(\"90 GLH Grade\",Points!$J$2:$K$2,0),FALSE),\"No\")","v":"No"},{"$f":"IF(U40=\"\",\"\",VLOOKUP(U40,Lookup!$L$1:$M$6,2,FALSE))","v":0}]
[null,"Optional",{"$f":"IFERROR(INDEX('Certificate Data Sheet'!$Y$3:$Y$1000,MATCH(E41&$E$3,'Certificate Data Sheet'!$T$3:$T$1000&'Certificate Data Sheet'!$U$3:$U$1000,0)),\"\")","v":0},{"$f":"IFERROR(INDEX('Certificate Data Sheet'!$V$3:$V$1000,MATCH(E41&$E$3,'Certificate Data Sheet'!$T$3:$T$1000&'Certificate Data Sheet'!$U$3:$U$1000,0)),\"\")","v":0},null,null,null,null,{"$f":"IFERROR(INDEX('Certificate Data Sheet'!$X$3:$X$1000,MATCH(E41&$E$3,'Certificate Data Sheet'!$T$3:$T$1000&'Certificate Data Sheet'!$U$3:$U$1000,0)),\"\")","v":0},null,{"$f":"IFERROR(IF(C41=\"Internal\",VLOOKUP(J41,Points!$A$2:$C$6,MATCH(C41&\" \"&I41&\" GLH\",Points!$A$2:$C$2,0),FALSE),\"\"),\"\")","v":""},{"$f":"IF(E41=\"\",\"\",VLOOKUP(SUM(N41,P41,R41,T41,V41),Lookup!$M$1:$N$6,2,FALSE))","v":""},null,{"$f":"IF(M41=\"\",\"\",VLOOKUP(M41,Lookup!$L$2:$M$6,2,FALSE))","v":""},{"$f":"IFERROR(IF(AND(C41=\"Internal\",I41=90),VLOOKUP(K41,Points!$C$2:$G$6,MATCH(\"Internal Grade\",Points!$C$2:$G$2,0),FALSE),\"\"),\"\")","v":""},{"$f":"IF(O41=\"\",\"\",VLOOKUP(O41,Lookup!$L$2:$M$6,2,FALSE))","v":""},{"$f":"IFERROR(IF(AND(C41=\"Internal\",I41=60),VLOOKUP(K41,Points!$B$2:$G$6,MATCH(\"Internal Grade\",Points!$B$2:$G$2,0),FALSE),\"\"),\"\")","v":""},{"$f":"IF(Q41=\"\",\"\",VLOOKUP(Q41,Lookup!$L$2:$M$6,2,FALSE))","v":""},{"$f":"IF(AND(C41=\"External\",I41=120),VLOOKUP(K41,Points!$M$2:$N$35,MATCH(\"120 GLH Grade\",Points!$M$2:$N$2,0),FALSE),\"No\")","v":"No"},{"$f":"IF(S41=\"\",\"\",VLOOKUP(S41,Lookup!$L$1:$M$6,2,FALSE))","v":0},{"$f":"IF(AND(C41=\"External\",I41=90),VLOOKUP(K41,Points!$J$2:$K$27,MATCH(\"90 GLH Grade\",Points!$J$2:$K$2,0),FALSE),\"No\")","v":"No"},{"$f":"IF(U41=\"\",\"\",VLOOKUP(U41,Lookup!$L$1:$M$6,2,FALSE))","v":0}]
[null,"Optional",{"$f":"IFERROR(INDEX('Certificate Data Sheet'!$Y$3:$Y$1000,MATCH(E42&$E$3,'Certificate Data Sheet'!$T$3:$T$1000&'Certificate Data Sheet'!$U$3:$U$1000,0)),\"\")","v":0},{"$f":"IFERROR(INDEX('Certificate Data Sheet'!$V$3:$V$1000,MATCH(E42&$E$3,'Certificate Data Sheet'!$T$3:$T$1000&'Certificate Data Sheet'!$U$3:$U$1000,0)),\"\")","v":0},null,null,null,null,{"$f":"IFERROR(INDEX('Certificate Data Sheet'!$X$3:$X$1000,MATCH(E42&$E$3,'Certificate Data Sheet'!$T$3:$T$1000&'Certificate Data Sheet'!$U$3:$U$1000,0)),\"\")","v":0},null,{"$f":"IFERROR(IF(C42=\"Internal\",VLOOKUP(J42,Points!$A$2:$C$6,MATCH(C42&\" \"&I42&\" GLH\",Points!$A$2:$C$2,0),FALSE),\"\"),\"\")","v":""},{"$f":"IF(E42=\"\",\"\",VLOOKUP(SUM(N42,P42,R42,T42,V42),Lookup!$M$1:$N$6,2,FALSE))","v":""},null,{"$f":"IF(M42=\"\",\"\",VLOOKUP(M42,Lookup!$L$2:$M$6,2,FALSE))","v":""},{"$f":"IFERROR(IF(AND(C42=\"Internal\",I42=90),VLOOKUP(K42,Points!$C$2:$G$6,MATCH(\"Internal Grade\",Points!$C$2:$G$2,0),FALSE),\"\"),\"\")","v":""},{"$f":"IF(O42=\"\",\"\",VLOOKUP(O42,Lookup!$L$2:$M$6,2,FALSE))","v":""},{"$f":"IFERROR(IF(AND(C42=\"Internal\",I42=60),VLOOKUP(K42,Points!$B$2:$G$6,MATCH(\"Internal Grade\",Points!$B$2:$G$2,0),FALSE),\"\"),\"\")","v":""},{"$f":"IF(Q42=\"\",\"\",VLOOKUP(Q42,Lookup!$L$2:$M$6,2,FALSE))","v":""},{"$f":"IF(AND(C42=\"External\",I42=120),VLOOKUP(K42,Points!$M$2:$N$35,MATCH(\"120 GLH Grade\",Points!$M$2:$N$2,0),FALSE),\"No\")","v":"No"},{"$f":"IF(S42=\"\",\"\",VLOOKUP(S42,Lookup!$L$1:$M$6,2,FALSE))","v":0},{"$f":"IF(AND(C42=\"External\",I42=90),VLOOKUP(K42,Points!$J$2:$K$27,MATCH(\"90 GLH Grade\",Points!$J$2:$K$2,0),FALSE),\"No\")","v":"No"},{"$f":"IF(U42=\"\",\"\",VLOOKUP(U42,Lookup!$L$1:$M$6,2,FALSE))","v":0}]
[null,"Optional",{"$f":"IFERROR(INDEX('Certificate Data Sheet'!$Y$3:$Y$1000,MATCH(E43&$E$3,'Certificate Data Sheet'!$T$3:$T$1000&'Certificate Data Sheet'!$U$3:$U$1000,0)),\"\")","v":0},{"$f":"IFERROR(INDEX('Certificate Data Sheet'!$V$3:$V$1000,MATCH(E43&$E$3,'Certificate Data Sheet'!$T$3:$T$1000&'Certificate Data Sheet'!$U$3:$U$1000,0)),\"\")","v":0},null,null,null,null,{"$f":"IFERROR(INDEX('Certificate Data Sheet'!$X$3:$X$1000,MATCH(E43&$E$3,'Certificate Data Sheet'!$T$3:$T$1000&'Certificate Data Sheet'!$U$3:$U$1000,0)),\"\")","v":0},null,{"$f":"IFERROR(IF(C43=\"Internal\",VLOOKUP(J43,Points!$A$2:$C$6,MATCH(C43&\" \"&I43&\" GLH\",Points!$A$2:$C$2,0),FALSE),\"\"),\"\")","v":""},{"$f":"IF(E43=\"\",\"\",VLOOKUP(SUM(N43,P43,R43,T43,V43),Lookup!$M$1:$N$6,2,FALSE))","v":""},null,{"$f":"IF(M43=\"\",\"\",VLOOKUP(M43,Lookup!$L$2:$M$6,2,FALSE))","v":""},{"$f":"IFERROR(IF(AND(C43=\"Internal\",I43=90),VLOOKUP(K43,Points!$C$2:$G$6,MATCH(\"Internal Grade\",Points!$C$2:$G$2,0),FALSE),\"\"),\"\")","v":""},{"$f":"IF(O43=\"\",\"\",VLOOKUP(O43,Lookup!$L$2:$M$6,2,FALSE))","v":""},{"$f":"IFERROR(IF(AND(C43=\"Internal\",I43=60),VLOOKUP(K43,Points!$B$2:$G$6,MATCH(\"Internal Grade\",Points!$B$2:$G$2,0),FALSE),\"\"),\"\")","v":""},{"$f":"IF(Q43=\"\",\"\",VLOOKUP(Q43,Lookup!$L$2:$M$6,2,FALSE))","v":""},{"$f":"IF(AND(C43=\"External\",I43=120),VLOOKUP(K43,Points!$M$2:$N$35,MATCH(\"120 GLH Grade\",Points!$M$2:$N$2,0),FALSE),\"No\")","v":"No"},{"$f":"IF(S43=\"\",\"\",VLOOKUP(S43,Lookup!$L$1:$M$6,2,FALSE))","v":0},{"$f":"IF(AND(C43=\"External\",I43=90),VLOOKUP(K43,Points!$J$2:$K$27,MATCH(\"90 GLH Grade\",Points!$J$2:$K$2,0),FALSE),\"No\")","v":"No"},{"$f":"IF(U43=\"\",\"\",VLOOKUP(U43,Lookup!$L$1:$M$6,2,FALSE))","v":0}]
[null,"Optional",{"$f":"IFERROR(INDEX('Certificate Data Sheet'!$Y$3:$Y$1000,MATCH(E44&$E$3,'Certificate Data Sheet'!$T$3:$T$1000&'Certificate Data Sheet'!$U$3:$U$1000,0)),\"\")","v":0},{"$f":"IFERROR(INDEX('Certificate Data Sheet'!$V$3:$V$1000,MATCH(E44&$E$3,'Certificate Data Sheet'!$T$3:$T$1000&'Certificate Data Sheet'!$U$3:$U$1000,0)),\"\")","v":0},null,null,null,null,{"$f":"IFERROR(INDEX('Certificate Data Sheet'!$X$3:$X$1000,MATCH(E44&$E$3,'Certificate Data Sheet'!$T$3:$T$1000&'Certificate Data Sheet'!$U$3:$U$1000,0)),\"\")","v":0},null,{"$f":"IFERROR(IF(C44=\"Internal\",VLOOKUP(J44,Points!$A$2:$C$6,MATCH(C44&\" \"&I44&\" GLH\",Points!$A$2:$C$2,0),FALSE),\"\"),\"\")","v":""},{"$f":"IF(E44=\"\",\"\",VLOOKUP(SUM(N44,P44,R44,T44,V44),Lookup!$M$1:$N$6,2,FALSE))","v":""},null,{"$f":"IF(M44=\"\",\"\",VLOOKUP(M44,Lookup!$L$2:$M$6,2,FALSE))","v":""},{"$f":"IFERROR(IF(AND(C44=\"Internal\",I44=90),VLOOKUP(K44,Points!$C$2:$G$6,MATCH(\"Internal Grade\",Points!$C$2:$G$2,0),FALSE),\"\"),\"\")","v":""},{"$f":"IF(O44=\"\",\"\",VLOOKUP(O44,Lookup!$L$2:$M$6,2,FALSE))","v":""},{"$f":"IFERROR(IF(AND(C44=\"Internal\",I44=60),VLOOKUP(K44,Points!$B$2:$G$6,MATCH(\"Internal Grade\",Points!$B$2:$G$2,0),FALSE),\"\"),\"\")","v":""},{"$f":"IF(Q44=\"\",\"\",VLOOKUP(Q44,Lookup!$L$2:$M$6,2,FALSE))","v":""},{"$f":"IF(AND(C44=\"External\",I44=120),VLOOKUP(K44,Points!$M$2:$N$35,MATCH(\"120 GLH Grade\",Points!$M$2:$N$2,0),FALSE),\"No\")","v":"No"},{"$f":"IF(S44=\"\",\"\",VLOOKUP(S44,Lookup!$L$1:$M$6,2,FALSE))","v":0},{"$f":"IF(AND(C44=\"External\",I44=90),VLOOKUP(K44,Points!$J$2:$K$27,MATCH(\"90 GLH Grade\",Points!$J$2:$K$2,0),FALSE),\"No\")","v":"No"},{"$f":"IF(U44=\"\",\"\",VLOOKUP(U44,Lookup!$L$1:$M$6,2,FALSE))","v":0}]
[null,"Optional",{"$f":"IFERROR(INDEX('Certificate Data Sheet'!$Y$3:$Y$1000,MATCH(E45&$E$3,'Certificate Data Sheet'!$T$3:$T$1000&'Certificate Data Sheet'!$U$3:$U$1000,0)),\"\")","v":0},{"$f":"IFERROR(INDEX('Certificate Data Sheet'!$V$3:$V$1000,MATCH(E45&$E$3,'Certificate Data Sheet'!$T$3:$T$1000&'Certificate Data Sheet'!$U$3:$U$1000,0)),\"\")","v":0},null,null,null,null,{"$f":"IFERROR(INDEX('Certificate Data Sheet'!$X$3:$X$1000,MATCH(E45&$E$3,'Certificate Data Sheet'!$T$3:$T$1000&'Certificate Data Sheet'!$U$3:$U$1000,0)),\"\")","v":0},null,{"$f":"IFERROR(IF(C45=\"Internal\",VLOOKUP(J45,Points!$A$2:$C$6,MATCH(C45&\" \"&I45&\" GLH\",Points!$A$2:$C$2,0),FALSE),\"\"),\"\")","v":""},{"$f":"IF(E45=\"\",\"\",VLOOKUP(SUM(N45,P45,R45,T45,V45),Lookup!$M$1:$N$6,2,FALSE))","v":""},null,{"$f":"IF(M45=\"\",\"\",VLOOKUP(M45,Lookup!$L$2:$M$6,2,FALSE))","v":""},{"$f":"IFERROR(IF(AND(C45=\"Internal\",I45=90),VLOOKUP(K45,Points!$C$2:$G$6,MATCH(\"Internal Grade\",Points!$C$2:$G$2,0),FALSE),\"\"),\"\")","v":""},{"$f":"IF(O45=\"\",\"\",VLOOKUP(O45,Lookup!$L$2:$M$6,2,FALSE))","v":""},{"$f":"IFERROR(IF(AND(C45=\"Internal\",I45=60),VLOOKUP(K45,Points!$B$2:$G$6,MATCH(\"Internal Grade\",Points!$B$2:$G$2,0),FALSE),\"\"),\"\")","v":""},{"$f":"IF(Q45=\"\",\"\",VLOOKUP(Q45,Lookup!$L$2:$M$6,2,FALSE))","v":""},{"$f":"IF(AND(C45=\"External\",I45=120),VLOOKUP(K45,Points!$M$2:$N$35,MATCH(\"120 GLH Grade\",Points!$M$2:$N$2,0),FALSE),\"No\")","v":"No"},{"$f":"IF(S45=\"\",\"\",VLOOKUP(S45,Lookup!$L$1:$M$6,2,FALSE))","v":0},{"$f":"IF(AND(C45=\"External\",I45=90),VLOOKUP(K45,Points!$J$2:$K$27,MATCH(\"90 GLH Grade\",Points!$J$2:$K$2,0),FALSE),\"No\")","v":"No"},{"$f":"IF(U45=\"\",\"\",VLOOKUP(U45,Lookup!$L$1:$M$6,2,FALSE))","v":0}]
[null,"Optional",{"$f":"IFERROR(INDEX('Certificate Data Sheet'!$Y$3:$Y$1000,MATCH(E46&$E$3,'Certificate Data Sheet'!$T$3:$T$1000&'Certificate Data Sheet'!$U$3:$U$1000,0)),\"\")","v":0},{"$f":"IFERROR(INDEX('Certificate Data Sheet'!$V$3:$V$1000,MATCH(E46&$E$3,'Certificate Data Sheet'!$T$3:$T$1000&'Certificate Data Sheet'!$U$3:$U$1000,0)),\"\")","v":0},null,null,null,null,{"$f":"IFERROR(INDEX('Certificate Data Sheet'!$X$3:$X$1000,MATCH(E46&$E$3,'Certificate Data Sheet'!$T$3:$T$1000&'Certificate Data Sheet'!$U$3:$U$1000,0)),\"\")","v":0},null,{"$f":"IFERROR(IF(C46=\"Internal\",VLOOKUP(J46,Points!$A$2:$C$6,MATCH(C46&\" \"&I46&\" GLH\",Points!$A$2:$C$2,0),FALSE),\"\"),\"\")","v":""},{"$f":"IF(E46=\"\",\"\",VLOOKUP(SUM(N46,P46,R46,T46,V46),Lookup!$M$1:$N$6,2,FALSE))","v":""},null,{"$f":"IF(M46=\"\",\"\",VLOOKUP(M46,Lookup!$L$2:$M$6,2,FALSE))","v":""},{"$f":"IFERROR(IF(AND(C46=\"Internal\",I46=90),VLOOKUP(K46,Points!$C$2:$G$6,MATCH(\"Internal Grade\",Points!$C$2:$G$2,0),FALSE),\"\"),\"\")","v":""},{"$f":"IF(O46=\"\",\"\",VLOOKUP(O46,Lookup!$L$2:$M$6,2,FALSE))","v":""},{"$f":"IFERROR(IF(AND(C46=\"Internal\",I46=60),VLOOKUP(K46,Points!$B$2:$G$6,MATCH(\"Internal Grade\",Points!$B$2:$G$2,0),FALSE),\"\"),\"\")","v":""},{"$f":"IF(Q46=\"\",\"\",VLOOKUP(Q46,Lookup!$L$2:$M$6,2,FALSE))","v":""},{"$f":"IF(AND(C46=\"External\",I46=120),VLOOKUP(K46,Points!$M$2:$N$35,MATCH(\"120 GLH Grade\",Points!$M$2:$N$2,0),FALSE),\"No\")","v":"No"},{"$f":"IF(S46=\"\",\"\",VLOOKUP(S46,Lookup!$L$1:$M$6,2,FALSE))","v":0},{"$f":"IF(AND(C46=\"External\",I46=90),VLOOKUP(K46,Points!$J$2:$K$27,MATCH(\"90 GLH Grade\",Points!$J$2:$K$2,0),FALSE),\"No\")","v":"No"},{"$f":"IF(U46=\"\",\"\",VLOOKUP(U46,Lookup!$L$1:$M$6,2,FALSE))","v":0}]
[null,null,null,null,null,null,null,null,{"$f":"SUM(I37:I46)","v":0}]
[]
[null,"Optional",{"$f":"IFERROR(INDEX('Certificate Data Sheet'!$AF$3:$AF$1000,MATCH(E49&$E$3,'Certificate Data Sheet'!$AA$3:$AA$1000&'Certificate Data Sheet'!$AB$3:$AB$1000,0)),\"\")","v":0},{"$f":"IFERROR(INDEX('Certificate Data Sheet'!$AC$3:$AC$1000,MATCH(E49&$E$3,'Certificate Data Sheet'!$AA$3:$AA$1000&'Certificate Data Sheet'!$AB$3:$AB$1000,0)),\"\")","v":0},null,null,null,null,{"$f":"IFERROR(INDEX('Certificate Data Sheet'!$AE$3:$AE$1000,MATCH(E49&$E$3,'Certificate Data Sheet'!$AA$3:$AA$1000&'Certificate Data Sheet'!$AB$3:$AB$1000,0)),\"\")","v":0},null,{"$f":"IFERROR(IF(C49=\"Internal\",VLOOKUP(J49,Points!$A$2:$C$6,MATCH(C49&\" \"&I49&\" GLH\",Points!$A$2:$C$2,0),FALSE),\"\"),\"\")","v":""},{"$f":"IF(E49=\"\",\"\",VLOOKUP(SUM(N49,P49,R49,T49,V49),Lookup!$M$1:$N$6,2,FALSE))","v":""},null,null,{"$f":"IFERROR(IF(AND(C49=\"Internal\",I49=90),VLOOKUP(K49,Points!$C$2:$G$6,MATCH(\"Internal Grade\",Points!$C$2:$G$2,0),FALSE),\"\"),\"\")","v":""},{"$f":"IF(O49=\"\",\"\",VLOOKUP(O49,Lookup!$L$2:$M$6,2,FALSE))","v":""},{"$f":"IFERROR(IF(AND(C49=\"Internal\",I49=60),VLOOKUP(K49,Points!$B$2:$G$6,MATCH(\"Internal Grade\",Points!$B$2:$G$2,0),FALSE),\"\"),\"\")","v":""},{"$f":"IF(Q49=\"\",\"\",VLOOKUP(Q49,Lookup!$L$2:$M$6,2,FALSE))","v":""},{"$f":"IF(AND(C49=\"External\",I49=120),VLOOKUP(K49,Points!$M$2:$N$35,MATCH(\"120 GLH Grade\",Points!$M$2:$N$2,0),FALSE),\"No\")","v":"No"},{"$f":"IF(S49=\"\",\"\",VLOOKUP(S49,Lookup!$L$1:$M$6,2,FALSE))","v":0},{"$f":"IF(AND(C49=\"External\",I49=90),VLOOKUP(K49,Points!$J$2:$K$27,MATCH(\"90 GLH Grade\",Points!$J$2:$K$2,0),FALSE),\"No\")","v":"No"},{"$f":"IF(U49=\"\",\"\",VLOOKUP(U49,Lookup!$L$1:$M$6,2,FALSE))","v":0}]
[null,"Optional",{"$f":"IFERROR(INDEX('Certificate Data Sheet'!$AF$3:$AF$1000,MATCH(E50&$E$3,'Certificate Data Sheet'!$AA$3:$AA$1000&'Certificate Data Sheet'!$AB$3:$AB$1000,0)),\"\")","v":0},{"$f":"IFERROR(INDEX('Certificate Data Sheet'!$AC$3:$AC$1000,MATCH(E50&$E$3,'Certificate Data Sheet'!$AA$3:$AA$1000&'Certificate Data Sheet'!$AB$3:$AB$1000,0)),\"\")","v":0},null,null,null,null,{"$f":"IFERROR(INDEX('Certificate Data Sheet'!$AE$3:$AE$1000,MATCH(E50&$E$3,'Certificate Data Sheet'!$AA$3:$AA$1000&'Certificate Data Sheet'!$AB$3:$AB$1000,0)),\"\")","v":0},null,{"$f":"IFERROR(IF(C50=\"Internal\",VLOOKUP(J50,Points!$A$2:$C$6,MATCH(C50&\" \"&I50&\" GLH\",Points!$A$2:$C$2,0),FALSE),\"\"),\"\")","v":""},{"$f":"IF(E50=\"\",\"\",VLOOKUP(SUM(N50,P50,R50,T50,V50),Lookup!$M$1:$N$6,2,FALSE))","v":""},null,null,{"$f":"IFERROR(IF(AND(C50=\"Internal\",I50=90),VLOOKUP(K50,Points!$C$2:$G$6,MATCH(\"Internal Grade\",Points!$C$2:$G$2,0),FALSE),\"\"),\"\")","v":""},{"$f":"IF(O50=\"\",\"\",VLOOKUP(O50,Lookup!$L$2:$M$6,2,FALSE))","v":""},{"$f":"IFERROR(IF(AND(C50=\"Internal\",I50=60),VLOOKUP(K50,Points!$B$2:$G$6,MATCH(\"Internal Grade\",Points!$B$2:$G$2,0),FALSE),\"\"),\"\")","v":""},{"$f":"IF(Q50=\"\",\"\",VLOOKUP(Q50,Lookup!$L$2:$M$6,2,FALSE))","v":""},{"$f":"IF(AND(C50=\"External\",I50=120),VLOOKUP(K50,Points!$M$2:$N$35,MATCH(\"120 GLH Grade\",Points!$M$2:$N$2,0),FALSE),\"No\")","v":"No"},{"$f":"IF(S50=\"\",\"\",VLOOKUP(S50,Lookup!$L$1:$M$6,2,FALSE))","v":0},{"$f":"IF(AND(C50=\"External\",I50=90),VLOOKUP(K50,Points!$J$2:$K$27,MATCH(\"90 GLH Grade\",Points!$J$2:$K$2,0),FALSE),\"No\")","v":"No"},{"$f":"IF(U50=\"\",\"\",VLOOKUP(U50,Lookup!$L$1:$M$6,2,FALSE))","v":0}]
[null,"Optional",{"$f":"IFERROR(INDEX('Certificate Data Sheet'!$AF$3:$AF$1000,MATCH(E51&$E$3,'Certificate Data Sheet'!$AA$3:$AA$1000&'Certificate Data Sheet'!$AB$3:$AB$1000,0)),\"\")","v":0},{"$f":"IFERROR(INDEX('Certificate Data Sheet'!$AC$3:$AC$1000,MATCH(E51&$E$3,'Certificate Data Sheet'!$AA$3:$AA$1000&'Certificate Data Sheet'!$AB$3:$AB$1000,0)),\"\")","v":0},null,null,null,null,{"$f":"IFERROR(INDEX('Certificate Data Sheet'!$AE$3:$AE$1000,MATCH(E51&$E$3,'Certificate Data Sheet'!$AA$3:$AA$1000&'Certificate Data Sheet'!$AB$3:$AB$1000,0)),\"\")","v":0},null,{"$f":"IFERROR(IF(C51=\"Internal\",VLOOKUP(J51,Points!$A$2:$C$6,MATCH(C51&\" \"&I51&\" GLH\",Points!$A$2:$C$2,0),FALSE),\"\"),\"\")","v":""},{"$f":"IF(E51=\"\",\"\",VLOOKUP(SUM(N51,P51,R51,T51,V51),Lookup!$M$1:$N$6,2,FALSE))","v":""},null,null,{"$f":"IFERROR(IF(AND(C51=\"Internal\",I51=90),VLOOKUP(K51,Points!$C$2:$G$6,MATCH(\"Internal Grade\",Points!$C$2:$G$2,0),FALSE),\"\"),\"\")","v":""},{"$f":"IF(O51=\"\",\"\",VLOOKUP(O51,Lookup!$L$2:$M$6,2,FALSE))","v":""},{"$f":"IFERROR(IF(AND(C51=\"Internal\",I51=60),VLOOKUP(K51,Points!$B$2:$G$6,MATCH(\"Internal Grade\",Points!$B$2:$G$2,0),FALSE),\"\"),\"\")","v":""},{"$f":"IF(Q51=\"\",\"\",VLOOKUP(Q51,Lookup!$L$2:$M$6,2,FALSE))","v":""},{"$f":"IF(AND(C51=\"External\",I51=120),VLOOKUP(K51,Points!$M$2:$N$35,MATCH(\"120 GLH Grade\",Points!$M$2:$N$2,0),FALSE),\"No\")","v":"No"},{"$f":"IF(S51=\"\",\"\",VLOOKUP(S51,Lookup!$L$1:$M$6,2,FALSE))","v":0},{"$f":"IF(AND(C51=\"External\",I51=90),VLOOKUP(K51,Points!$J$2:$K$27,MATCH(\"90 GLH Grade\",Points!$J$2:$K$2,0),FALSE),\"No\")","v":"No"},{"$f":"IF(U51=\"\",\"\",VLOOKUP(U51,Lookup!$L$1:$M$6,2,FALSE))","v":0}]
[null,"Optional",{"$f":"IFERROR(INDEX('Certificate Data Sheet'!$AF$3:$AF$1000,MATCH(E52&$E$3,'Certificate Data Sheet'!$AA$3:$AA$1000&'Certificate Data Sheet'!$AB$3:$AB$1000,0)),\"\")","v":0},{"$f":"IFERROR(INDEX('Certificate Data Sheet'!$AC$3:$AC$1000,MATCH(E52&$E$3,'Certificate Data Sheet'!$AA$3:$AA$1000&'Certificate Data Sheet'!$AB$3:$AB$1000,0)),\"\")","v":0},null,null,null,null,{"$f":"IFERROR(INDEX('Certificate Data Sheet'!$AE$3:$AE$1000,MATCH(E52&$E$3,'Certificate Data Sheet'!$AA$3:$AA$1000&'Certificate Data Sheet'!$AB$3:$AB$1000,0)),\"\")","v":0},null,{"$f":"IFERROR(IF(C52=\"Internal\",VLOOKUP(J52,Points!$A$2:$C$6,MATCH(C52&\" \"&I52&\" GLH\",Points!$A$2:$C$2,0),FALSE),\"\"),\"\")","v":""},{"$f":"IF(E52=\"\",\"\",VLOOKUP(SUM(N52,P52,R52,T52,V52),Lookup!$M$1:$N$6,2,FALSE))","v":""},null,null,{"$f":"IFERROR(IF(AND(C52=\"Internal\",I52=90),VLOOKUP(K52,Points!$C$2:$G$6,MATCH(\"Internal Grade\",Points!$C$2:$G$2,0),FALSE),\"\"),\"\")","v":""},{"$f":"IF(O52=\"\",\"\",VLOOKUP(O52,Lookup!$L$2:$M$6,2,FALSE))","v":""},{"$f":"IFERROR(IF(AND(C52=\"Internal\",I52=60),VLOOKUP(K52,Points!$B$2:$G$6,MATCH(\"Internal Grade\",Points!$B$2:$G$2,0),FALSE),\"\"),\"\")","v":""},{"$f":"IF(Q52=\"\",\"\",VLOOKUP(Q52,Lookup!$L$2:$M$6,2,FALSE))","v":""},{"$f":"IF(AND(C52=\"External\",I52=120),VLOOKUP(K52,Points!$M$2:$N$35,MATCH(\"120 GLH Grade\",Points!$M$2:$N$2,0),FALSE),\"No\")","v":"No"},{"$f":"IF(S52=\"\",\"\",VLOOKUP(S52,Lookup!$L$1:$M$6,2,FALSE))","v":0},{"$f":"IF(AND(C52=\"External\",I52=90),VLOOKUP(K52,Points!$J$2:$K$27,MATCH(\"90 GLH Grade\",Points!$J$2:$K$2,0),FALSE),\"No\")","v":"No"},{"$f":"IF(U52=\"\",\"\",VLOOKUP(U52,Lookup!$L$1:$M$6,2,FALSE))","v":0}]
[null,null,null,null,null,null,null,null,{"$f":"SUM(I49:I51)","v":0},null,null,{"$f":"IF(E53=\"\",\"\",VLOOKUP(SUM(P53,R53,T53,V53),Lookup!$M$1:$N$6,2,FALSE))","v":""},null,null,{"$f":"IFERROR(IF(AND(C53=\"Internal\",I53=90),VLOOKUP(K53,Points!$C$2:$G$6,MATCH(\"Internal Grade\",Points!$C$2:$G$2,0),FALSE),\"\"),\"\")","v":""},{"$f":"IF(O53=\"\",\"\",VLOOKUP(O53,Lookup!$L$2:$M$6,2,FALSE))","v":""},{"$f":"IFERROR(IF(AND(C53=\"Internal\",I53=60),VLOOKUP(K53,Points!$B$2:$G$6,MATCH(\"Internal Grade\",Points!$B$2:$G$2,0),FALSE),\"\"),\"\")","v":""},{"$f":"IF(Q53=\"\",\"\",VLOOKUP(Q53,Lookup!$L$2:$M$6,2,FALSE))","v":""},{"$f":"IF(AND(C53=\"External\",I53=120),VLOOKUP(K53,Points!$M$2:$N$35,MATCH(\"120 GLH Grade\",Points!$M$2:$N$2,0),FALSE),\"No\")","v":"No"},{"$f":"IF(S53=\"\",\"\",VLOOKUP(S53,Lookup!$L$1:$M$6,2,FALSE))","v":0},{"$f":"IF(AND(C53=\"External\",I53=90),VLOOKUP(K53,Points!$J$2:$K$27,MATCH(\"90 GLH Grade\",Points!$J$2:$K$2,0),FALSE),\"No\")","v":"No"},{"$f":"IF(U53=\"\",\"\",VLOOKUP(U53,Lookup!$L$1:$M$6,2,FALSE))","v":0}]
[null,null,null,null,null,null,null,null,null,null,null,{"$f":"IF(E54=\"\",\"\",VLOOKUP(SUM(P54,R54,T54,V54),Lookup!$M$1:$N$6,2,FALSE))","v":""},null,null,{"$f":"IFERROR(IF(AND(C54=\"Internal\",I54=90),VLOOKUP(K54,Points!$C$2:$G$6,MATCH(\"Internal Grade\",Points!$C$2:$G$2,0),FALSE),\"\"),\"\")","v":""},{"$f":"IF(O54=\"\",\"\",VLOOKUP(O54,Lookup!$L$2:$M$6,2,FALSE))","v":""},{"$f":"IFERROR(IF(AND(C54=\"Internal\",I54=60),VLOOKUP(K54,Points!$B$2:$G$6,MATCH(\"Internal Grade\",Points!$B$2:$G$2,0),FALSE),\"\"),\"\")","v":""},{"$f":"IF(Q54=\"\",\"\",VLOOKUP(Q54,Lookup!$L$2:$M$6,2,FALSE))","v":""},{"$f":"IF(AND(C54=\"External\",I54=120),VLOOKUP(K54,Points!$M$2:$N$35,MATCH(\"120 GLH Grade\",Points!$M$2:$N$2,0),FALSE),\"No\")","v":"No"},{"$f":"IF(S54=\"\",\"\",VLOOKUP(S54,Lookup!$L$1:$M$6,2,FALSE))","v":0},{"$f":"IF(AND(C54=\"External\",I54=90),VLOOKUP(K54,Points!$J$2:$K$27,MATCH(\"90 GLH Grade\",Points!$J$2:$K$2,0),FALSE),\"No\")","v":"No"},{"$f":"IF(U54=\"\",\"\",VLOOKUP(U54,Lookup!$L$1:$M$6,2,FALSE))","v":0}]
[null,"Optional",{"$f":"IFERROR(INDEX('Certificate Data Sheet'!$AM$3:$AM$1000,MATCH(E55&$E$3,'Certificate Data Sheet'!$AH$3:$AH$1000&'Certificate Data Sheet'!$AI$3:$AI$1000,0)),\"\")","v":0},{"$f":"IFERROR(INDEX('Certificate Data Sheet'!$AJ$3:$AJ$1000,MATCH(E55&$E$3,'Certificate Data Sheet'!$AH$3:$AH$1000&'Certificate Data Sheet'!$AI$3:$AI$1000,0)),\"\")","v":0},null,null,null,null,{"$f":"IFERROR(INDEX('Certificate Data Sheet'!$AL$3:$AL$1000,MATCH(E55&$E$3,'Certificate Data Sheet'!$AH$3:$AH$1000&'Certificate Data Sheet'!$AI$3:$AI$1000,0)),\"\")","v":0},null,{"$f":"IFERROR(IF(C55=\"Internal\",VLOOKUP(J55,Points!$A$2:$C$6,MATCH(C55&\" \"&I55&\" GLH\",Points!$A$2:$C$2,0),FALSE),\"\"),\"\")","v":""},{"$f":"IF(E55=\"\",\"\",VLOOKUP(SUM(N55,P55,R55,T55,V55),Lookup!$M$1:$N$6,2,FALSE))","v":""},null,null,{"$f":"IFERROR(IF(AND(C55=\"Internal\",I55=90),VLOOKUP(K55,Points!$C$2:$G$6,MATCH(\"Internal Grade\",Points!$C$2:$G$2,0),FALSE),\"\"),\"\")","v":""},{"$f":"IF(O55=\"\",\"\",VLOOKUP(O55,Lookup!$L$2:$M$6,2,FALSE))","v":""},{"$f":"IFERROR(IF(AND(C55=\"Internal\",I55=60),VLOOKUP(K55,Points!$B$2:$G$6,MATCH(\"Internal Grade\",Points!$B$2:$G$2,0),FALSE),\"\"),\"\")","v":""},{"$f":"IF(Q55=\"\",\"\",VLOOKUP(Q55,Lookup!$L$2:$M$6,2,FALSE))","v":""},{"$f":"IF(AND(C55=\"External\",I55=120),VLOOKUP(K55,Points!$M$2:$N$35,MATCH(\"120 GLH Grade\",Points!$M$2:$N$2,0),FALSE),\"No\")","v":"No"},{"$f":"IF(S55=\"\",\"\",VLOOKUP(S55,Lookup!$L$1:$M$6,2,FALSE))","v":0},{"$f":"IF(AND(C55=\"External\",I55=90),VLOOKUP(K55,Points!$J$2:$K$27,MATCH(\"90 GLH Grade\",Points!$J$2:$K$2,0),FALSE),\"No\")","v":"No"},{"$f":"IF(U55=\"\",\"\",VLOOKUP(U55,Lookup!$L$1:$M$6,2,FALSE))","v":0}]
[null,"Optional",{"$f":"IFERROR(INDEX('Certificate Data Sheet'!$AM$3:$AM$1000,MATCH(E56&$E$3,'Certificate Data Sheet'!$AH$3:$AH$1000&'Certificate Data Sheet'!$AI$3:$AI$1000,0)),\"\")","v":0},{"$f":"IFERROR(INDEX('Certificate Data Sheet'!$AJ$3:$AJ$1000,MATCH(E56&$E$3,'Certificate Data Sheet'!$AH$3:$AH$1000&'Certificate Data Sheet'!$AI$3:$AI$1000,0)),\"\")","v":0},null,null,null,null,{"$f":"IFERROR(INDEX('Certificate Data Sheet'!$AL$3:$AL$1000,MATCH(E56&$E$3,'Certificate Data Sheet'!$AH$3:$AH$1000&'Certificate Data Sheet'!$AI$3:$AI$1000,0)),\"\")","v":0},null,{"$f":"IFERROR(IF(C56=\"Internal\",VLOOKUP(J56,Points!$A$2:$C$6,MATCH(C56&\" \"&I56&\" GLH\",Points!$A$2:$C$2,0),FALSE),\"\"),\"\")","v":""},{"$f":"IF(E56=\"\",\"\",VLOOKUP(SUM(N56,P56,R56,T56,V56),Lookup!$M$1:$N$6,2,FALSE))","v":""},null,null,{"$f":"IFERROR(IF(AND(C56=\"Internal\",I56=90),VLOOKUP(K56,Points!$C$2:$G$6,MATCH(\"Internal Grade\",Points!$C$2:$G$2,0),FALSE),\"\"),\"\")","v":""},{"$f":"IF(O56=\"\",\"\",VLOOKUP(O56,Lookup!$L$2:$M$6,2,FALSE))","v":""},{"$f":"IFERROR(IF(AND(C56=\"Internal\",I56=60),VLOOKUP(K56,Points!$B$2:$G$6,MATCH(\"Internal Grade\",Points!$B$2:$G$2,0),FALSE),\"\"),\"\")","v":""},{"$f":"IF(Q56=\"\",\"\",VLOOKUP(Q56,Lookup!$L$2:$M$6,2,FALSE))","v":""},{"$f":"IF(AND(C56=\"External\",I56=120),VLOOKUP(K56,Points!$M$2:$N$35,MATCH(\"120 GLH Grade\",Points!$M$2:$N$2,0),FALSE),\"No\")","v":"No"},{"$f":"IF(S56=\"\",\"\",VLOOKUP(S56,Lookup!$L$1:$M$6,2,FALSE))","v":0},{"$f":"IF(AND(C56=\"External\",I56=90),VLOOKUP(K56,Points!$J$2:$K$27,MATCH(\"90 GLH Grade\",Points!$J$2:$K$2,0),FALSE),\"No\")","v":"No"},{"$f":"IF(U56=\"\",\"\",VLOOKUP(U56,Lookup!$L$1:$M$6,2,FALSE))","v":0}]
[null,"Optional",{"$f":"IFERROR(INDEX('Certificate Data Sheet'!$AM$3:$AM$1000,MATCH(E57&$E$3,'Certificate Data Sheet'!$AH$3:$AH$1000&'Certificate Data Sheet'!$AI$3:$AI$1000,0)),\"\")","v":0},{"$f":"IFERROR(INDEX('Certificate Data Sheet'!$AJ$3:$AJ$1000,MATCH(E57&$E$3,'Certificate Data Sheet'!$AH$3:$AH$1000&'Certificate Data Sheet'!$AI$3:$AI$1000,0)),\"\")","v":0},null,null,null,null,{"$f":"IFERROR(INDEX('Certificate Data Sheet'!$AL$3:$AL$1000,MATCH(E57&$E$3,'Certificate Data Sheet'!$AH$3:$AH$1000&'Certificate Data Sheet'!$AI$3:$AI$1000,0)),\"\")","v":0},null,{"$f":"IFERROR(IF(C57=\"Internal\",VLOOKUP(J57,Points!$A$2:$C$6,MATCH(C57&\" \"&I57&\" GLH\",Points!$A$2:$C$2,0),FALSE),\"\"),\"\")","v":""},{"$f":"IF(E57=\"\",\"\",VLOOKUP(SUM(N57,P57,R57,T57,V57),Lookup!$M$1:$N$6,2,FALSE))","v":""},null,null,{"$f":"IFERROR(IF(AND(C57=\"Internal\",I57=90),VLOOKUP(K57,Points!$C$2:$G$6,MATCH(\"Internal Grade\",Points!$C$2:$G$2,0),FALSE),\"\"),\"\")","v":""},{"$f":"IF(O57=\"\",\"\",VLOOKUP(O57,Lookup!$L$2:$M$6,2,FALSE))","v":""},{"$f":"IFERROR(IF(AND(C57=\"Internal\",I57=60),VLOOKUP(K57,Points!$B$2:$G$6,MATCH(\"Internal Grade\",Points!$B$2:$G$2,0),FALSE),\"\"),\"\")","v":""},{"$f":"IF(Q57=\"\",\"\",VLOOKUP(Q57,Lookup!$L$2:$M$6,2,FALSE))","v":""},{"$f":"IF(AND(C57=\"External\",I57=120),VLOOKUP(K57,Points!$M$2:$N$35,MATCH(\"120 GLH Grade\",Points!$M$2:$N$2,0),FALSE),\"No\")","v":"No"},{"$f":"IF(S57=\"\",\"\",VLOOKUP(S57,Lookup!$L$1:$M$6,2,FALSE))","v":0},{"$f":"IF(AND(C57=\"External\",I57=90),VLOOKUP(K57,Points!$J$2:$K$27,MATCH(\"90 GLH Grade\",Points!$J$2:$K$2,0),FALSE),\"No\")","v":"No"},{"$f":"IF(U57=\"\",\"\",VLOOKUP(U57,Lookup!$L$1:$M$6,2,FALSE))","v":0}]
[null,"Optional",{"$f":"IFERROR(INDEX('Certificate Data Sheet'!$AM$3:$AM$1000,MATCH(E58&$E$3,'Certificate Data Sheet'!$AH$3:$AH$1000&'Certificate Data Sheet'!$AI$3:$AI$1000,0)),\"\")","v":0},{"$f":"IFERROR(INDEX('Certificate Data Sheet'!$AJ$3:$AJ$1000,MATCH(E58&$E$3,'Certificate Data Sheet'!$AH$3:$AH$1000&'Certificate Data Sheet'!$AI$3:$AI$1000,0)),\"\")","v":0},null,null,null,null,{"$f":"IFERROR(INDEX('Certificate Data Sheet'!$AL$3:$AL$1000,MATCH(E58&$E$3,'Certificate Data Sheet'!$AH$3:$AH$1000&'Certificate Data Sheet'!$AI$3:$AI$1000,0)),\"\")","v":0},null,{"$f":"IFERROR(IF(C58=\"Internal\",VLOOKUP(J58,Points!$A$2:$C$6,MATCH(C58&\" \"&I58&\" GLH\",Points!$A$2:$C$2,0),FALSE),\"\"),\"\")","v":""},{"$f":"IF(E58=\"\",\"\",VLOOKUP(SUM(N58,P58,R58,T58,V58),Lookup!$M$1:$N$6,2,FALSE))","v":""},null,null,{"$f":"IFERROR(IF(AND(C58=\"Internal\",I58=90),VLOOKUP(K58,Points!$C$2:$G$6,MATCH(\"Internal Grade\",Points!$C$2:$G$2,0),FALSE),\"\"),\"\")","v":""},{"$f":"IF(O58=\"\",\"\",VLOOKUP(O58,Lookup!$L$2:$M$6,2,FALSE))","v":""},{"$f":"IFERROR(IF(AND(C58=\"Internal\",I58=60),VLOOKUP(K58,Points!$B$2:$G$6,MATCH(\"Internal Grade\",Points!$B$2:$G$2,0),FALSE),\"\"),\"\")","v":""},{"$f":"IF(Q58=\"\",\"\",VLOOKUP(Q58,Lookup!$L$2:$M$6,2,FALSE))","v":""},{"$f":"IF(AND(C58=\"External\",I58=120),VLOOKUP(K58,Points!$M$2:$N$35,MATCH(\"120 GLH Grade\",Points!$M$2:$N$2,0),FALSE),\"No\")","v":"No"},{"$f":"IF(S58=\"\",\"\",VLOOKUP(S58,Lookup!$L$1:$M$6,2,FALSE))","v":0},{"$f":"IF(AND(C58=\"External\",I58=90),VLOOKUP(K58,Points!$J$2:$K$27,MATCH(\"90 GLH Grade\",Points!$J$2:$K$2,0),FALSE),\"No\")","v":"No"},{"$f":"IF(U58=\"\",\"\",VLOOKUP(U58,Lookup!$L$1:$M$6,2,FALSE))","v":0}]
[null,"Optional",{"$f":"IFERROR(INDEX('Certificate Data Sheet'!$AM$3:$AM$1000,MATCH(E59&$E$3,'Certificate Data Sheet'!$AH$3:$AH$1000&'Certificate Data Sheet'!$AI$3:$AI$1000,0)),\"\")","v":0},{"$f":"IFERROR(INDEX('Certificate Data Sheet'!$AJ$3:$AJ$1000,MATCH(E59&$E$3,'Certificate Data Sheet'!$AH$3:$AH$1000&'Certificate Data Sheet'!$AI$3:$AI$1000,0)),\"\")","v":0},null,null,null,null,{"$f":"IFERROR(INDEX('Certificate Data Sheet'!$AL$3:$AL$1000,MATCH(E59&$E$3,'Certificate Data Sheet'!$AH$3:$AH$1000&'Certificate Data Sheet'!$AI$3:$AI$1000,0)),\"\")","v":0},null,{"$f":"IFERROR(IF(C59=\"Internal\",VLOOKUP(J59,Points!$A$2:$C$6,MATCH(C59&\" \"&I59&\" GLH\",Points!$A$2:$C$2,0),FALSE),\"\"),\"\")","v":""},{"$f":"IF(E59=\"\",\"\",VLOOKUP(SUM(N59,P59,R59,T59,V59),Lookup!$M$1:$N$6,2,FALSE))","v":""},null,null,{"$f":"IFERROR(IF(AND(C59=\"Internal\",I59=90),VLOOKUP(K59,Points!$C$2:$G$6,MATCH(\"Internal Grade\",Points!$C$2:$G$2,0),FALSE),\"\"),\"\")","v":""},{"$f":"IF(O59=\"\",\"\",VLOOKUP(O59,Lookup!$L$2:$M$6,2,FALSE))","v":""},{"$f":"IFERROR(IF(AND(C59=\"Internal\",I59=60),VLOOKUP(K59,Points!$B$2:$G$6,MATCH(\"Internal Grade\",Points!$B$2:$G$2,0),FALSE),\"\"),\"\")","v":""},{"$f":"IF(Q59=\"\",\"\",VLOOKUP(Q59,Lookup!$L$2:$M$6,2,FALSE))","v":""},{"$f":"IF(AND(C59=\"External\",I59=120),VLOOKUP(K59,Points!$M$2:$N$35,MATCH(\"120 GLH Grade\",Points!$M$2:$N$2,0),FALSE),\"No\")","v":"No"},{"$f":"IF(S59=\"\",\"\",VLOOKUP(S59,Lookup!$L$1:$M$6,2,FALSE))","v":0},{"$f":"IF(AND(C59=\"External\",I59=90),VLOOKUP(K59,Points!$J$2:$K$27,MATCH(\"90 GLH Grade\",Points!$J$2:$K$2,0),FALSE),\"No\")","v":"No"},{"$f":"IF(U59=\"\",\"\",VLOOKUP(U59,Lookup!$L$1:$M$6,2,FALSE))","v":0}]
[null,"Optional",{"$f":"IFERROR(INDEX('Certificate Data Sheet'!$AM$3:$AM$1000,MATCH(E60&$E$3,'Certificate Data Sheet'!$AH$3:$AH$1000&'Certificate Data Sheet'!$AI$3:$AI$1000,0)),\"\")","v":0},{"$f":"IFERROR(INDEX('Certificate Data Sheet'!$AJ$3:$AJ$1000,MATCH(E60&$E$3,'Certificate Data Sheet'!$AH$3:$AH$1000&'Certificate Data Sheet'!$AI$3:$AI$1000,0)),\"\")","v":0},null,null,null,null,{"$f":"IFERROR(INDEX('Certificate Data Sheet'!$AL$3:$AL$1000,MATCH(E60&$E$3,'Certificate Data Sheet'!$AH$3:$AH$1000&'Certificate Data Sheet'!$AI$3:$AI$1000,0)),\"\")","v":0},null,{"$f":"IFERROR(IF(C60=\"Internal\",VLOOKUP(J60,Points!$A$2:$C$6,MATCH(C60&\" \"&I60&\" GLH\",Points!$A$2:$C$2,0),FALSE),\"\"),\"\")","v":""},{"$f":"IF(E60=\"\",\"\",VLOOKUP(SUM(N60,P60,R60,T60,V60),Lookup!$M$1:$N$6,2,FALSE))","v":""},null,null,{"$f":"IFERROR(IF(AND(C60=\"Internal\",I60=90),VLOOKUP(K60,Points!$C$2:$G$6,MATCH(\"Internal Grade\",Points!$C$2:$G$2,0),FALSE),\"\"),\"\")","v":""},{"$f":"IF(O60=\"\",\"\",VLOOKUP(O60,Lookup!$L$2:$M$6,2,FALSE))","v":""},{"$f":"IFERROR(IF(AND(C60=\"Internal\",I60=60),VLOOKUP(K60,Points!$B$2:$G$6,MATCH(\"Internal Grade\",Points!$B$2:$G$2,0),FALSE),\"\"),\"\")","v":""},{"$f":"IF(Q60=\"\",\"\",VLOOKUP(Q60,Lookup!$L$2:$M$6,2,FALSE))","v":""},{"$f":"IF(AND(C60=\"External\",I60=120),VLOOKUP(K60,Points!$M$2:$N$35,MATCH(\"120 GLH Grade\",Points!$M$2:$N$2,0),FALSE),\"No\")","v":"No"},{"$f":"IF(S60=\"\",\"\",VLOOKUP(S60,Lookup!$L$1:$M$6,2,FALSE))","v":0},{"$f":"IF(AND(C60=\"External\",I60=90),VLOOKUP(K60,Points!$J$2:$K$27,MATCH(\"90 GLH Grade\",Points!$J$2:$K$2,0),FALSE),\"No\")","v":"No"},{"$f":"IF(U60=\"\",\"\",VLOOKUP(U60,Lookup!$L$1:$M$6,2,FALSE))","v":0}]
[null,null,null,null,null,null,null,null,{"$f":"SUM(I55:I60)","v":0}]
[null,null,null,null,null,null,null,null,{"$f":"SUM(I9:I60)-(I35+I47+I53)","v":0}]
[null,null,null,null,null,null,null,null,{"$f":"SUMIFS(I21:I60,L21:L60,\"U\")","v":0},"Overall Grade",{"$f":"SUM(K9:K60)","v":0},{"$f":"O66","v":"U"},null,null,{"$f":"COUNTIF(L9:L60,\"U\")","v":16}]
[null,null,null,null,null,null,null,null,{"$f":"SUMIFS(I9:I18,L9:L18,\"U\")","v":0},"Points",null,{"$f":"K63","v":0}]
[null,null,null,null,null,null,null,null,{"$f":"I62-I63-I64","v":0},null,null,null,null,null,"AG"]
[null,null,null,null,null,null,null,null,{"$f":"SUMIFS(I21:I26,L21:L26,\"U\")","v":0},null,null,null,null,null,{"$f":"IFERROR(IF(I64>0,\"U\",VLOOKUP($K$63,Points!$O$2:$P$13,MATCH(\"Cert Grade\",Points!$O$2:$P$2,0),TRUE)),\"\")","v":"U"}]
[null,null,null,null,null,null,null,null,null,"Calculate an estimate of the externally assessed unit grades needed to reach a qualification grade based on the internally assessed unit grades. You must enter all internally assessed grades and may enter any externally assessed grades already known, then select an overall qualification grade below."]
[]
[]
[null,null,null,null,null,null,null,null,null,"Qualification Grade",null,null,null,null,null,null,null,null,null,null,null,null,null,null,null,null,null,null,null,{"$f":"COUNTIF(L9:L26,\"#N/A\")","v":0}]
[null,null,null,null,null,null,null,null,null,"Bottom Grade point total",null,{"$f":"IF($L$70=\"\",0,VLOOKUP($L$70,'Points Contingency'!$A$2:$C$6,2,FALSE))","v":0}]
[null,null,null,null,null,null,null,null,null,"Top Grade point total",null,{"$f":"IF($L$70=\"\",0,VLOOKUP($L$70,'Points Contingency'!$A$2:$C$6,3,FALSE))","v":0}]
[null,null,null,null,null,null,null,null,null,"Points for externals",null,{"$f":"IF(L71-L64<0,L72-L64,L71-L64)","v":0}]
[null,null,null,null,null,null,null,null,null,"No. of 90 GLH externals",null,{"$f":"COUNTIFS($C$9:$C$60,\"External\",$I$9:I$60,90,$L$9:$L$60,\"U\")","v":0}]
[null,null,null,null,null,null,null,null,null,"No. of 120 GLH externals",null,{"$f":"COUNTIFS($C$9:$C$60,\"External\",$I$9:I$60,120,$L$9:$L$60,\"U\")","v":0}]
[null,null,null,null,null,null,null,null,null,"Total GLH external",null,{"$f":"(L74*90)+(L75*120)","v":0}]
[null,null,null,null,null,null,null,null,null,"Scale for 90 GLH",null,{"$f":"IFERROR(L74*90/L76,\"\")","v":""}]
[null,null,null,null,null,null,null,null,null,"Scale for 120 GLH",null,{"$f":"IFERROR(L75*120/L76,\"\")","v":""}]
[null,null,null,null,null,null,null,null,null,"Total points for externals",null,{"$f":"MAX(L73,L84)","v":0},null,null,null,null,null,null,null,null,null,null,null,null,null,null,null,null,null,11]
[null,null,null,null,null,null,null,null,null,"Points per 90 GLH external",null,{"$f":"IFERROR((L79*L77)/L74,\"\")","v":""},null,null,null,null,null,null,null,null,null,null,null,null,null,null,null,null,null,11]
[null,null,null,null,null,null,null,null,null,"Points per 120 GLH external",null,20]
[null,null,null,null,null,null,null,null,null,"90GLH points",null,{"$f":"IFERROR(ROUND(L80,0),\"\")","v":""}]
[null,null,null,null,null,null,null,null,null,"120GLH points",null,{"$f":"ROUND(L81,0)","v":20}]
[null,null,null,null,null,null,null,null,null,"Points to N",null,{"$f":"(L74*AC5)+(L75*AD5)","v":0}]
[null,null,null,null,null,null,null,null,null,"Total points external min",null,{"$f":"MIN(L73,L84)","v":0}]

{"sheet":"Extended Certificate","index":2,"n_rows":85,"n_cols":38,"rows_kept":85,"cut":false,"hidden":false,"merged":[[2,4,2,7],[6,4,6,7],[1,29,1,31],[1,33,1,36],[66,9,68,11]]}
[null,null,null,null,null,null,null,null,null,null,null,null,null,null,null,null,null,{"$f":"IF(E3=\"\",\"\",VLOOKUP(E3,Sectors!$F$1:$G$9,2,FALSE))","v":""}]
[null,null,null,null,null,null,null,null,null,null,null,null,null,null,null,null,null,null,null,null,null,null,null,null,null,null,null,null,null,"Grade boundaries for External Units",null,null,null,"Points for Internal Units"]
[null,null,"Select Sector","Start →",null,null,null,null,null,null,null,null,null,null,null,null,null,null,{"$f":"IF(L10=\"No\",REPLACE(\"No\",1,2,\"U\"),\"\")","v":""},null,null,null,null,null,null,null,null,null,null,null,"90 GLH","120 GLH",null,null,"60 GLH","90 GLH","120 GLH","180 GLH"]
[null,null,null,null,"1. Select your sector from the dropdown list in the cell above",null,null,null,null,null,null,null,null,null,null,null,null,null,null,null,null,null,null,null,null,null,null,null,null,"U","0","0",null,"U","0","0","0","0"]
[null,null,null,null,null,null,null,null,null,null,null,null,null,null,null,null,null,null,null,null,null,null,null,null,null,null,null,null,null,"N",6,8,null,"P",6,9,12,18]
[null,null,null,null,null,null,null,null,null,null,null,null,null,null,null,null,null,null,null,null,null,null,null,null,null,null,null,null,null,"P",9,12,null,"M",10,15,20,30]
[null,null,"Assessment Type","Unit Number","Unit Name",null,null,null,"GLH","Unit Points/Grade","Points","Unit Grade","Internal 180 GLH",null,"Internal 120 GLH Grade",null,"Internal 90 GLH Grade",null,"Internal 60 GLH Grade",null,"External 120 GLH Grade",null,"External 90 GLH Grade",null,null,null,null,null,null,"M",15,20,null,"D",16,24,32,48]
[null,"Group A mandatory units must be passed",null,null,null,null,null,null,null,"3. Enter the points or grade for the units below",null,null,null,null,null,null,null,null,null,null,null,null,null,null,null,null,null,null,null,"D",24,32]
[null,"Mandatory",{"$f":"IFERROR(INDEX('Extended Certificate Data Sheet'!$A$3:$E$238,SMALL(IF('Extended Certificate Data Sheet'!$A$3:$A$238=$E$3,ROW('Extended Certificate Data Sheet'!$A$3:$A$238)),ROW(1:1))-2,5),\"\")","v":0},{"$f":"IFERROR(INDEX('Extended Certificate Data Sheet'!$A$3:$E$238,SMALL(IF('Extended Certificate Data Sheet'!$A$3:$A$238=$E$3,ROW('Extended Certificate Data Sheet'!$A$3:$A$238)),ROW(1:1))-2,2),\"\")","v":0},{"$f":"IFERROR(INDEX('Extended Certificate Data Sheet'!$A$3:$E$238,SMALL(IF('Extended Certificate Data Sheet'!$A$3:$A$238=$E$3,ROW('Extended Certificate Data Sheet'!$A$3:$A$238)),ROW(1:1))-2,3),\"\")","v":0},null,null,null,{"$f":"IFERROR(INDEX('Extended Certificate Data Sheet'!$A$3:$E$238,SMALL(IF('Extended Certificate Data Sheet'!$A$3:$A$238=$E$3,ROW('Extended Certificate Data Sheet'!$A$3:$A$238)),ROW(1:1))-2,4),\"\")","v":0},null,{"$f":"IFERROR(IF(C9=\"External\",VLOOKUP(J9,Points!$I$2:$M$36,MATCH(C9&\" \"&I9&\" GLH\",Points!$I$2:$M$2,0),FALSE),VLOOKUP(J9,Points!$A$2:$G$6,MATCH(C9&\" \"&I9&\" GLH\",Points!$A$2:$G$2,0),FALSE)),\"\")","v":""},{"$f":"IF(E9=\"\",\"\",VLOOKUP(SUM(N9,P9,R9,T9,V9,X9),Lookup!$M$1:$N$6,2,FALSE))","v":"U"},{"$f":"IFERROR(IF(AND(C9=\"Internal\",I9=180),VLOOKUP(K9,Points!$F$2:$G$6,MATCH(\"Internal Grade\",Points!$F$2:$G$2,0),FALSE),\"\"),\"\")","v":""},{"$f":"IF(M9=\"\",\"\",VLOOKUP(M9,Lookup!$L$2:$M$6,2,FALSE))","v":""},{"$f":"IFERROR(IF(AND(C9=\"Internal\",I9=120),VLOOKUP(K9,Points!$D$2:$G$6,MATCH(\"Internal Grade\",Points!$D$2:$G$2,0),FALSE),\"\"),\"\")","v":""},{"$f":"IF(O9=\"\",\"\",VLOOKUP(O9,Lookup!$L$2:$M$6,2,FALSE))","v":""},{"$f":"IFERROR(IF(AND(C9=\"Internal\",I9=90),VLOOKUP(K9,Points!$C$2:$G$6,MATCH(\"Internal Grade\",Points!$C$2:$G$2,0),FALSE),\"\"),\"\")","v":""},{"$f":"IF(Q9=\"\",\"\",VLOOKUP(Q9,Lookup!$L$2:$M$6,2,FALSE))","v":""},{"$f":"IFERROR(IF(AND(C9=\"Internal\",I9=60),VLOOKUP(K9,Points!$B$2:$G$6,MATCH(\"Internal Grade\",Points!$B$2:$G$2,0),FALSE),\"\"),\"\")","v":""},{"$f":"IF(S9=\"\",\"\",VLOOKUP(S9,Lookup!$L$2:$M$6,2,FALSE))","v":""},{"$f":"IF(AND(C9=\"External\",I9=120),VLOOKUP(K9,Points!$M$2:$N$35,MATCH(\"120 GLH Grade\",Points!$M$2:$N$2,0),FALSE),\"No\")","v":"No"},{"$f":"IF(U9=\"\",\"\",VLOOKUP(U9,Lookup!$L$1:$M$6,2,FALSE))","v":0},{"$f":"IF(AND(C9=\"External\",I9=90),VLOOKUP(K9,Points!$J$2:$K$27,MATCH(\"90 GLH Grade\",Points!$J$2:$K$2,0),FALSE),\"No\")","v":"No"},{"$f":"IF(W9=\"\",\"\",VLOOKUP(W9,Lookup!$L$1:$M$6,2,FALSE))","v":0}]
[null,"Mandatory",{"$f":"IFERROR(INDEX('Extended Certificate Data Sheet'!$A$3:$E$238,SMALL(IF('Extended Certificate Data Sheet'!$A$3:$A$238=$E$3,ROW('Extended Certificate Data Sheet'!$A$3:$A$238)),ROW(2:2))-2,5),\"\")","v":0},{"$f":"IFERROR(INDEX('Extended Certificate Data Sheet'!$A$3:$E$238,SMALL(IF('Extended Certificate Data Sheet'!$A$3:$A$238=$E$3,ROW('Extended Certificate Data Sheet'!$A$3:$A$238)),ROW(2:2))-2,2),\"\")","v":0},{"$f":"IFERROR(INDEX('Extended Certificate Data Sheet'!$A$3:$E$238,SMALL(IF('Extended Certificate Data Sheet'!$A$3:$A$238=$E$3,ROW('Extended Certificate Data Sheet'!$A$3:$A$238)),ROW(2:2))-2,3),\"\")","v":0},null,null,null,{"$f":"IFERROR(INDEX('Extended Certificate Data Sheet'!$A$3:$E$238,SMALL(IF('Extended Certificate Data Sheet'!$A$3:$A$238=$E$3,ROW('Extended Certificate Data Sheet'!$A$3:$A$238)),ROW(2:2))-2,4),\"\")","v":0},null,{"$f":"IFERROR(IF(C10=\"External\",VLOOKUP(J10,Points!$I$2:$M$36,MATCH(C10&\" \"&I10&\" GLH\",Points!$I$2:$M$2,0),FALSE),VLOOKUP(J10,Points!$A$2:$G$6,MATCH(C10&\" \"&I10&\" GLH\",Points!$A$2:$G$2,0),FALSE)),\"\")","v":""},{"$f":"IF(E10=\"\",\"\",VLOOKUP(SUM(N10,P10,R10,T10,V10,X10),Lookup!$M$1:$N$6,2,FALSE))","v":"U"},{"$f":"IFERROR(IF(AND(C10=\"Internal\",I10=180),VLOOKUP(K10,Points!$F$2:$G$6,MATCH(\"Internal Grade\",Points!$F$2:$G$2,0),FALSE),\"\"),\"\")","v":""},{"$f":"IF(M10=\"\",\"\",VLOOKUP(M10,Lookup!$L$2:$M$6,2,FALSE))","v":""},{"$f":"IFERROR(IF(AND(C10=\"Internal\",I10=120),VLOOKUP(K10,Points!$D$2:$G$6,MATCH(\"Internal Grade\",Points!$D$2:$G$2,0),FALSE),\"\"),\"\")","v":""},{"$f":"IF(O10=\"\",\"\",VLOOKUP(O10,Lookup!$L$2:$M$6,2,FALSE))","v":""},{"$f":"IFERROR(IF(AND(C10=\"Internal\",I10=90),VLOOKUP(K10,Points!$C$2:$G$6,MATCH(\"Internal Grade\",Points!$C$2:$G$2,0),FALSE),\"\"),\"\")","v":""},{"$f":"IF(Q10=\"\",\"\",VLOOKUP(Q10,Lookup!$L$2:$M$6,2,FALSE))","v":""},{"$f":"IFERROR(IF(AND(C10=\"Internal\",I10=60),VLOOKUP(K10,Points!$B$2:$G$6,MATCH(\"Internal Grade\",Points!$B$2:$G$2,0),FALSE),\"\"),\"\")","v":""},{"$f":"IF(S10=\"\",\"\",VLOOKUP(S10,Lookup!$L$2:$M$6,2,FALSE))","v":""},{"$f":"IF(AND(C10=\"External\",I10=120),VLOOKUP(K10,Points!$M$2:$N$35,MATCH(\"120 GLH Grade\",Points!$M$2:$N$2,0),FALSE),\"No\")","v":"No"},{"$f":"IF(U10=\"\",\"\",VLOOKUP(U10,Lookup!$L$1:$M$6,2,FALSE))","v":0},{"$f":"IF(AND(C10=\"External\",I10=90),VLOOKUP(K10,Points!$J$2:$K$27,MATCH(\"90 GLH Grade\",Points!$J$2:$K$2,0),FALSE),\"No\")","v":"No"},{"$f":"IF(W10=\"\",\"\",VLOOKUP(W10,Lookup!$L$1:$M$6,2,FALSE))","v":0}]
[null,"Mandatory",{"$f":"IFERROR(INDEX('Extended Certificate Data Sheet'!$A$3:$E$238,SMALL(IF('Extended Certificate Data Sheet'!$A$3:$A$238=$E$3,ROW('Extended Certificate Data Sheet'!$A$3:$A$238)),ROW(3:3))-2,5),\"\")","v":0},{"$f":"IFERROR(INDEX('Extended Certificate Data Sheet'!$A$3:$E$238,SMALL(IF('Extended Certificate Data Sheet'!$A$3:$A$238=$E$3,ROW('Extended Certificate Data Sheet'!$A$3:$A$238)),ROW(3:3))-2,2),\"\")","v":0},{"$f":"IFERROR(INDEX('Extended Certificate Data Sheet'!$A$3:$E$238,SMALL(IF('Extended Certificate Data Sheet'!$A$3:$A$238=$E$3,ROW('Extended Certificate Data Sheet'!$A$3:$A$238)),ROW(3:3))-2,3),\"\")","v":0},null,null,null,{"$f":"IFERROR(INDEX('Extended Certificate Data Sheet'!$A$3:$E$238,SMALL(IF('Extended Certificate Data Sheet'!$A$3:$A$238=$E$3,ROW('Extended Certificate Data Sheet'!$A$3:$A$238)),ROW(3:3))-2,4),\"\")","v":0},null,{"$f":"IFERROR(IF(C11=\"External\",VLOOKUP(J11,Points!$I$2:$M$36,MATCH(C11&\" \"&I11&\" GLH\",Points!$I$2:$M$2,0),FALSE),VLOOKUP(J11,Points!$A$2:$G$6,MATCH(C11&\" \"&I11&\" GLH\",Points!$A$2:$G$2,0),FALSE)),\"\")","v":""},{"$f":"IF(E11=\"\",\"\",VLOOKUP(SUM(N11,P11,R11,T11,V11,X11),Lookup!$M$1:$N$6,2,FALSE))","v":"U"},{"$f":"IFERROR(IF(AND(C11=\"Internal\",I11=180),VLOOKUP(K11,Points!$F$2:$G$6,MATCH(\"Internal Grade\",Points!$F$2:$G$2,0),FALSE),\"\"),\"\")","v":""},{"$f":"IF(M11=\"\",\"\",VLOOKUP(M11,Lookup!$L$2:$M$6,2,FALSE))","v":""},{"$f":"IFERROR(IF(AND(C11=\"Internal\",I11=120),VLOOKUP(K11,Points!$D$2:$G$6,MATCH(\"Internal Grade\",Points!$D$2:$G$2,0),FALSE),\"\"),\"\")","v":""},{"$f":"IF(O11=\"\",\"\",VLOOKUP(O11,Lookup!$L$2:$M$6,2,FALSE))","v":""},{"$f":"IFERROR(IF(AND(C11=\"Internal\",I11=90),VLOOKUP(K11,Points!$C$2:$G$6,MATCH(\"Internal Grade\",Points!$C$2:$G$2,0),FALSE),\"\"),\"\")","v":""},{"$f":"IF(Q11=\"\",\"\",VLOOKUP(Q11,Lookup!$L$2:$M$6,2,FALSE))","v":""},{"$f":"IFERROR(IF(AND(C11=\"Internal\",I11=60),VLOOKUP(K11,Points!$B$2:$G$6,MATCH(\"Internal Grade\",Points!$B$2:$G$2,0),FALSE),\"\"),\"\")","v":""},{"$f":"IF(S11=\"\",\"\",VLOOKUP(S11,Lookup!$L$2:$M$6,2,FALSE))","v":""},{"$f":"IF(AND(C11=\"External\",I11=120),VLOOKUP(K11,Points!$M$2:$N$35,MATCH(\"120 GLH Grade\",Points!$M$2:$N$2,0),FALSE),\"No\")","v":"No"},{"$f":"IF(U11=\"\",\"\",VLOOKUP(U11,Lookup!$L$1:$M$6,2,FALSE))","v":0},{"$f":"IF(AND(C11=\"External\",I11=90),VLOOKUP(K11,Points!$J$2:$K$27,MATCH(\"90 GLH Grade\",Points!$J$2:$K$2,0),FALSE),\"No\")","v":"No"},{"$f":"IF(W11=\"\",\"\",VLOOKUP(W11,Lookup!$L$1:$M$6,2,FALSE))","v":0}]
[null,"Mandatory",{"$f":"IFERROR(INDEX('Extended Certificate Data Sheet'!$A$3:$E$238,SMALL(IF('Extended Certificate Data Sheet'!$A$3:$A$238=$E$3,ROW('Extended Certificate Data Sheet'!$A$3:$A$238)),ROW(4:4))-2,5),\"\")","v":0},{"$f":"IFERROR(INDEX('Extended Certificate Data Sheet'!$A$3:$E$238,SMALL(IF('Extended Certificate Data Sheet'!$A$3:$A$238=$E$3,ROW('Extended Certificate Data Sheet'!$A$3:$A$238)),ROW(4:4))-2,2),\"\")","v":0},{"$f":"IFERROR(INDEX('Extended Certificate Data Sheet'!$A$3:$E$238,SMALL(IF('Extended Certificate Data Sheet'!$A$3:$A$238=$E$3,ROW('Extended Certificate Data Sheet'!$A$3:$A$238)),ROW(4:4))-2,3),\"\")","v":0},null,null,null,{"$f":"IFERROR(INDEX('Extended Certificate Data Sheet'!$A$3:$E$238,SMALL(IF('Extended Certificate Data Sheet'!$A$3:$A$238=$E$3,ROW('Extended Certificate Data Sheet'!$A$3:$A$238)),ROW(4:4))-2,4),\"\")","v":0},null,{"$f":"IFERROR(IF(C12=\"External\",VLOOKUP(J12,Points!$I$2:$M$36,MATCH(C12&\" \"&I12&\" GLH\",Points!$I$2:$M$2,0),FALSE),VLOOKUP(J12,Points!$A$2:$G$6,MATCH(C12&\" \"&I12&\" GLH\",Points!$A$2:$G$2,0),FALSE)),\"\")","v":""},{"$f":"IF(E12=\"\",\"\",VLOOKUP(SUM(N12,P12,R12,T12,V12,X12),Lookup!$M$1:$N$6,2,FALSE))","v":"U"},{"$f":"IFERROR(IF(AND(C12=\"Internal\",I12=180),VLOOKUP(K12,Points!$F$2:$G$6,MATCH(\"Internal Grade\",Points!$F$2:$G$2,0),FALSE),\"\"),\"\")","v":""},{"$f":"IF(M12=\"\",\"\",VLOOKUP(M12,Lookup!$L$2:$M$6,2,FALSE))","v":""},{"$f":"IFERROR(IF(AND(C12=\"Internal\",I12=120),VLOOKUP(K12,Points!$D$2:$G$6,MATCH(\"Internal Grade\",Points!$D$2:$G$2,0),FALSE),\"\"),\"\")","v":""},{"$f":"IF(O12=\"\",\"\",VLOOKUP(O12,Lookup!$L$2:$M$6,2,FALSE))","v":""},{"$f":"IFERROR(IF(AND(C12=\"Internal\",I12=90),VLOOKUP(K12,Points!$C$2:$G$6,MATCH(\"Internal Grade\",Points!$C$2:$G$2,0),FALSE),\"\"),\"\")","v":""},{"$f":"IF(Q12=\"\",\"\",VLOOKUP(Q12,Lookup!$L$2:$M$6,2,FALSE))","v":""},{"$f":"IFERROR(IF(AND(C12=\"Internal\",I12=60),VLOOKUP(K12,Points!$B$2:$G$6,MATCH(\"Internal Grade\",Points!$B$2:$G$2,0),FALSE),\"\"),\"\")","v":""},{"$f":"IF(S12=\"\",\"\",VLOOKUP(S12,Lookup!$L$2:$M$6,2,FALSE))","v":""},{"$f":"IF(AND(C12=\"External\",I12=120),VLOOKUP(K12,Points!$M$2:$N$35,MATCH(\"120 GLH Grade\",Points!$M$2:$N$2,0),FALSE),\"No\")","v":"No"},{"$f":"IF(U12=\"\",\"\",VLOOKUP(U12,Lookup!$L$1:$M$6,2,FALSE))","v":0},{"$f":"IF(AND(C12=\"External\",I12=90),VLOOKUP(K12,Points!$J$2:$K$27,MATCH(\"90 GLH Grade\",Points!$J$2:$K$2,0),FALSE),\"No\")","v":"No"},{"$f":"IF(W12=\"\",\"\",VLOOKUP(W12,Lookup!$L$1:$M$6,2,FALSE))","v":0}]
[null,"Mandatory",{"$f":"IFERROR(INDEX('Extended Certificate Data Sheet'!$A$3:$E$238,SMALL(IF('Extended Certificate Data Sheet'!$A$3:$A$238=$E$3,ROW('Extended Certificate Data Sheet'!$A$3:$A$238)),ROW(5:5))-2,5),\"\")","v":0},{"$f":"IFERROR(INDEX('Extended Certificate Data Sheet'!$A$3:$E$238,SMALL(IF('Extended Certificate Data Sheet'!$A$3:$A$238=$E$3,ROW('Extended Certificate Data Sheet'!$A$3:$A$238)),ROW(5:5))-2,2),\"\")","v":0},{"$f":"IFERROR(INDEX('Extended Certificate Data Sheet'!$A$3:$E$238,SMALL(IF('Extended Certificate Data Sheet'!$A$3:$A$238=$E$3,ROW('Extended Certificate Data Sheet'!$A$3:$A$238)),ROW(5:5))-2,3),\"\")","v":0},null,null,null,{"$f":"IFERROR(INDEX('Extended Certificate Data Sheet'!$A$3:$E$238,SMALL(IF('Extended Certificate Data Sheet'!$A$3:$A$238=$E$3,ROW('Extended Certificate Data Sheet'!$A$3:$A$238)),ROW(5:5))-2,4),\"\")","v":0},null,{"$f":"IFERROR(IF(C13=\"External\",VLOOKUP(J13,Points!$I$2:$M$36,MATCH(C13&\" \"&I13&\" GLH\",Points!$I$2:$M$2,0),FALSE),VLOOKUP(J13,Points!$A$2:$G$6,MATCH(C13&\" \"&I13&\" GLH\",Points!$A$2:$G$2,0),FALSE)),\"\")","v":""},{"$f":"IF(E13=\"\",\"\",VLOOKUP(SUM(N13,P13,R13,T13,V13,X13),Lookup!$M$1:$N$6,2,FALSE))","v":"U"},{"$f":"IFERROR(IF(AND(C13=\"Internal\",I13=180),VLOOKUP(K13,Points!$F$2:$G$6,MATCH(\"Internal Grade\",Points!$F$2:$G$2,0),FALSE),\"\"),\"\")","v":""},{"$f":"IF(M13=\"\",\"\",VLOOKUP(M13,Lookup!$L$2:$M$6,2,FALSE))","v":""},{"$f":"IFERROR(IF(AND(C13=\"Internal\",I13=120),VLOOKUP(K13,Points!$D$2:$G$6,MATCH(\"Internal Grade\",Points!$D$2:$G$2,0),FALSE),\"\"),\"\")","v":""},{"$f":"IF(O13=\"\",\"\",VLOOKUP(O13,Lookup!$L$2:$M$6,2,FALSE))","v":""},{"$f":"IFERROR(IF(AND(C13=\"Internal\",I13=90),VLOOKUP(K13,Points!$C$2:$G$6,MATCH(\"Internal Grade\",Points!$C$2:$G$2,0),FALSE),\"\"),\"\")","v":""},{"$f":"IF(Q13=\"\",\"\",VLOOKUP(Q13,Lookup!$L$2:$M$6,2,FALSE))","v":""},{"$f":"IFERROR(IF(AND(C13=\"Internal\",I13=60),VLOOKUP(K13,Points!$B$2:$G$6,MATCH(\"Internal Grade\",Points!$B$2:$G$2,0),FALSE),\"\"),\"\")","v":""},{"$f":"IF(S13=\"\",\"\",VLOOKUP(S13,Lookup!$L$2:$M$6,2,FALSE))","v":""},{"$f":"IF(AND(C13=\"External\",I13=120),VLOOKUP(K13,Points!$M$2:$N$35,MATCH(\"120 GLH Grade\",Points!$M$2:$N$2,0),FALSE),\"No\")","v":"No"},{"$f":"IF(U13=\"\",\"\",VLOOKUP(U13,Lookup!$L$1:$M$6,2,FALSE))","v":0},{"$f":"IF(AND(C13=\"External\",I13=90),VLOOKUP(K13,Points!$J$2:$K$27,MATCH(\"90 GLH Grade\",Points!$J$2:$K$2,0),FALSE),\"No\")","v":"No"},{"$f":"IF(W13=\"\",\"\",VLOOKUP(W13,Lookup!$L$1:$M$6,2,FALSE))","v":0}]
[null,"Mandatory",{"$f":"IFERROR(INDEX('Extended Certificate Data Sheet'!$A$3:$E$238,SMALL(IF('Extended Certificate Data Sheet'!$A$3:$A$238=$E$3,ROW('Extended Certificate Data Sheet'!$A$3:$A$238)),ROW(6:6))-2,5),\"\")","v":0},{"$f":"IFERROR(INDEX('Extended Certificate Data Sheet'!$A$3:$E$238,SMALL(IF('Extended Certificate Data Sheet'!$A$3:$A$238=$E$3,ROW('Extended Certificate Data Sheet'!$A$3:$A$238)),ROW(6:6))-2,2),\"\")","v":0},{"$f":"IFERROR(INDEX('Extended Certificate Data Sheet'!$A$3:$E$238,SMALL(IF('Extended Certificate Data Sheet'!$A$3:$A$238=$E$3,ROW('Extended Certificate Data Sheet'!$A$3:$A$238)),ROW(6:6))-2,3),\"\")","v":0},null,null,null,{"$f":"IFERROR(INDEX('Extended Certificate Data Sheet'!$A$3:$E$238,SMALL(IF('Extended Certificate Data Sheet'!$A$3:$A$238=$E$3,ROW('Extended Certificate Data Sheet'!$A$3:$A$238)),ROW(6:6))-2,4),\"\")","v":0},null,{"$f":"IFERROR(IF(C14=\"External\",VLOOKUP(J14,Points!$I$2:$M$36,MATCH(C14&\" \"&I14&\" GLH\",Points!$I$2:$M$2,0),FALSE),VLOOKUP(J14,Points!$A$2:$C$6,MATCH(C14&\" \"&I14&\" GLH\",Points!$A$2:$C$2,0),FALSE)),\"\")","v":""},{"$f":"IF(E14=\"\",\"\",VLOOKUP(SUM(N14,P14,R14,T14,V14,X14),Lookup!$M$1:$N$6,2,FALSE))","v":"U"},{"$f":"IFERROR(IF(AND(C14=\"Internal\",I14=180),VLOOKUP(K14,Points!$F$2:$G$6,MATCH(\"Internal Grade\",Points!$F$2:$G$2,0),FALSE),\"\"),\"\")","v":""},{"$f":"IF(M14=\"\",\"\",VLOOKUP(M14,Lookup!$L$2:$M$6,2,FALSE))","v":""},{"$f":"IFERROR(IF(AND(C14=\"Internal\",I14=120),VLOOKUP(K14,Points!$C$2:$G$6,MATCH(\"Internal Grade\",Points!$C$2:$G$2,0),FALSE),\"\"),\"\")","v":""},null,{"$f":"IFERROR(IF(AND(C14=\"Internal\",I14=90),VLOOKUP(K14,Points!$C$2:$G$6,MATCH(\"Internal Grade\",Points!$C$2:$G$2,0),FALSE),\"\"),\"\")","v":""},{"$f":"IF(Q14=\"\",\"\",VLOOKUP(Q14,Lookup!$L$2:$M$6,2,FALSE))","v":""},{"$f":"IFERROR(IF(AND(C14=\"Internal\",I14=60),VLOOKUP(K14,Points!$B$2:$G$6,MATCH(\"Internal Grade\",Points!$B$2:$G$2,0),FALSE),\"\"),\"\")","v":""},{"$f":"IF(S14=\"\",\"\",VLOOKUP(S14,Lookup!$L$2:$M$6,2,FALSE))","v":""},{"$f":"IF(AND(C14=\"External\",I14=120),VLOOKUP(K14,Points!$M$2:$N$35,MATCH(\"120 GLH Grade\",Points!$M$2:$N$2,0),FALSE),\"No\")","v":"No"},{"$f":"IF(U14=\"\",\"\",VLOOKUP(U14,Lookup!$L$1:$M$6,2,FALSE))","v":0},{"$f":"IF(AND(C14=\"External\",I14=90),VLOOKUP(K14,Points!$J$2:$K$27,MATCH(\"90 GLH Grade\",Points!$J$2:$K$2,0),FALSE),\"No\")","v":"No"},{"$f":"IF(W14=\"\",\"\",VLOOKUP(W14,Lookup!$L$1:$M$6,2,FALSE))","v":0}]
[null,"Mandatory",{"$f":"IFERROR(INDEX('Extended Certificate Data Sheet'!$A$3:$E$238,SMALL(IF('Extended Certificate Data Sheet'!$A$3:$A$238=$E$3,ROW('Extended Certificate Data Sheet'!$A$3:$A$238)),ROW(7:7))-2,5),\"\")","v":0},{"$f":"IFERROR(INDEX('Extended Certificate Data Sheet'!$A$3:$E$238,SMALL(IF('Extended Certificate Data Sheet'!$A$3:$A$238=$E$3,ROW('Extended Certificate Data Sheet'!$A$3:$A$238)),ROW(7:7))-2,2),\"\")","v":0},{"$f":"IFERROR(INDEX('Extended Certificate Data Sheet'!$A$3:$E$238,SMALL(IF('Extended Certificate Data Sheet'!$A$3:$A$238=$E$3,ROW('Extended Certificate Data Sheet'!$A$3:$A$238)),ROW(7:7))-2,3),\"\")","v":0},null,null,null,{"$f":"IFERROR(INDEX('Extended Certificate Data Sheet'!$A$3:$E$238,SMALL(IF('Extended Certificate Data Sheet'!$A$3:$A$238=$E$3,ROW('Extended Certificate Data Sheet'!$A$3:$A$238)),ROW(7:7))-2,4),\"\")","v":0},null,{"$f":"IFERROR(IF(C15=\"External\",VLOOKUP(J15,Points!$I$2:$M$36,MATCH(C15&\" \"&I15&\" GLH\",Points!$I$2:$M$2,0),FALSE),VLOOKUP(J15,Points!$A$2:$C$6,MATCH(C15&\" \"&I15&\" GLH\",Points!$A$2:$C$2,0),FALSE)),\"\")","v":""},{"$f":"IF(E15=\"\",\"\",VLOOKUP(SUM(N15,P15,R15,T15,V15,X15),Lookup!$M$1:$N$6,2,FALSE))","v":"U"},{"$f":"IFERROR(IF(AND(C15=\"Internal\",I15=180),VLOOKUP(K15,Points!$F$2:$G$6,MATCH(\"Internal Grade\",Points!$F$2:$G$2,0),FALSE),\"\"),\"\")","v":""},{"$f":"IF(M15=\"\",\"\",VLOOKUP(M15,Lookup!$L$2:$M$6,2,FALSE))","v":""},{"$f":"IFERROR(IF(AND(C15=\"Internal\",I15=120),VLOOKUP(K15,Points!$C$2:$G$6,MATCH(\"Internal Grade\",Points!$C$2:$G$2,0),FALSE),\"\"),\"\")","v":""},null,{"$f":"IFERROR(IF(AND(C15=\"Internal\",I15=90),VLOOKUP(K15,Points!$C$2:$G$6,MATCH(\"Internal Grade\",Points!$C$2:$G$2,0),FALSE),\"\"),\"\")","v":""},{"$f":"IF(Q15=\"\",\"\",VLOOKUP(Q15,Lookup!$L$2:$M$6,2,FALSE))","v":""},{"$f":"IFERROR(IF(AND(C15=\"Internal\",I15=60),VLOOKUP(K15,Points!$B$2:$G$6,MATCH(\"Internal Grade\",Points!$B$2:$G$2,0),FALSE),\"\"),\"\")","v":""},{"$f":"IF(S15=\"\",\"\",VLOOKUP(S15,Lookup!$L$2:$M$6,2,FALSE))","v":""},{"$f":"IF(AND(C15=\"External\",I15=120),VLOOKUP(K15,Points!$M$2:$N$35,MATCH(\"120 GLH Grade\",Points!$M$2:$N$2,0),FALSE),\"No\")","v":"No"},{"$f":"IF(U15=\"\",\"\",VLOOKUP(U15,Lookup!$L$1:$M$6,2,FALSE))","v":0},{"$f":"IF(AND(C15=\"External\",I15=90),VLOOKUP(K15,Points!$J$2:$K$27,MATCH(\"90 GLH Grade\",Points!$J$2:$K$2,0),FALSE),\"No\")","v":"No"},{"$f":"IF(W15=\"\",\"\",VLOOKUP(W15,Lookup!$L$1:$M$6,2,FALSE))","v":0}]
[null,"Mandatory",{"$f":"IFERROR(INDEX('Extended Certificate Data Sheet'!$A$3:$E$238,SMALL(IF('Extended Certificate Data Sheet'!$A$3:$A$238=$E$3,ROW('Extended Certificate Data Sheet'!$A$3:$A$238)),ROW(8:8))-2,5),\"\")","v":0},{"$f":"IFERROR(INDEX('Extended Certificate Data Sheet'!$A$3:$E$238,SMALL(IF('Extended Certificate Data Sheet'!$A$3:$A$238=$E$3,ROW('Extended Certificate Data Sheet'!$A$3:$A$238)),ROW(8:8))-2,2),\"\")","v":0},{"$f":"IFERROR(INDEX('Extended Certificate Data Sheet'!$A$3:$E$238,SMALL(IF('Extended Certificate Data Sheet'!$A$3:$A$238=$E$3,ROW('Extended Certificate Data Sheet'!$A$3:$A$238)),ROW(8:8))-2,3),\"\")","v":0},null,null,null,{"$f":"IFERROR(INDEX('Extended Certificate Data Sheet'!$A$3:$E$238,SMALL(IF('Extended Certificate Data Sheet'!$A$3:$A$238=$E$3,ROW('Extended Certificate Data Sheet'!$A$3:$A$238)),ROW(8:8))-2,4),\"\")","v":0},null,{"$f":"IFERROR(IF(C16=\"External\",VLOOKUP(J16,Points!$I$2:$M$36,MATCH(C16&\" \"&I16&\" GLH\",Points!$I$2:$M$2,0),FALSE),VLOOKUP(J16,Points!$A$2:$C$6,MATCH(C16&\" \"&I16&\" GLH\",Points!$A$2:$C$2,0),FALSE)),\"\")","v":""},{"$f":"IF(E16=\"\",\"\",VLOOKUP(SUM(N16,P16,R16,T16,V16,X16),Lookup!$M$1:$N$6,2,FALSE))","v":"U"},{"$f":"IFERROR(IF(AND(C16=\"Internal\",I16=180),VLOOKUP(K16,Points!$F$2:$G$6,MATCH(\"Internal Grade\",Points!$F$2:$G$2,0),FALSE),\"\"),\"\")","v":""},{"$f":"IF(M16=\"\",\"\",VLOOKUP(M16,Lookup!$L$2:$M$6,2,FALSE))","v":""},{"$f":"IFERROR(IF(AND(C16=\"Internal\",I16=120),VLOOKUP(K16,Points!$C$2:$G$6,MATCH(\"Internal Grade\",Points!$C$2:$G$2,0),FALSE),\"\"),\"\")","v":""},null,{"$f":"IFERROR(IF(AND(C16=\"Internal\",I16=90),VLOOKUP(K16,Points!$C$2:$G$6,MATCH(\"Internal Grade\",Points!$C$2:$G$2,0),FALSE),\"\"),\"\")","v":""},{"$f":"IF(Q16=\"\",\"\",VLOOKUP(Q16,Lookup!$L$2:$M$6,2,FALSE))","v":""},{"$f":"IFERROR(IF(AND(C16=\"Internal\",I16=60),VLOOKUP(K16,Points!$B$2:$G$6,MATCH(\"Internal Grade\",Points!$B$2:$G$2,0),FALSE),\"\"),\"\")","v":""},{"$f":"IF(S16=\"\",\"\",VLOOKUP(S16,Lookup!$L$2:$M$6,2,FALSE))","v":""},{"$f":"IF(AND(C16=\"External\",I16=120),VLOOKUP(K16,Points!$M$2:$N$35,MATCH(\"120 GLH Grade\",Points!$M$2:$N$2,0),FALSE),\"No\")","v":"No"},{"$f":"IF(U16=\"\",\"\",VLOOKUP(U16,Lookup!$L$1:$M$6,2,FALSE))","v":0},{"$f":"IF(AND(C16=\"External\",I16=90),VLOOKUP(K16,Points!$J$2:$K$27,MATCH(\"90 GLH Grade\",Points!$J$2:$K$2,0),FALSE),\"No\")","v":"No"},{"$f":"IF(W16=\"\",\"\",VLOOKUP(W16,Lookup!$L$1:$M$6,2,FALSE))","v":0}]
[null,"Mandatory",{"$f":"IFERROR(INDEX('Extended Certificate Data Sheet'!$A$3:$E$238,SMALL(IF('Extended Certificate Data Sheet'!$A$3:$A$238=$E$3,ROW('Extended Certificate Data Sheet'!$A$3:$A$238)),ROW(9:9))-2,5),\"\")","v":0},{"$f":"IFERROR(INDEX('Extended Certificate Data Sheet'!$A$3:$E$238,SMALL(IF('Extended Certificate Data Sheet'!$A$3:$A$238=$E$3,ROW('Extended Certificate Data Sheet'!$A$3:$A$238)),ROW(9:9))-2,2),\"\")","v":0},{"$f":"IFERROR(INDEX('Extended Certificate Data Sheet'!$A$3:$E$238,SMALL(IF('Extended Certificate Data Sheet'!$A$3:$A$238=$E$3,ROW('Extended Certificate Data Sheet'!$A$3:$A$238)),ROW(9:9))-2,3),\"\")","v":0},null,null,null,{"$f":"IFERROR(INDEX('Extended Certificate Data Sheet'!$A$3:$E$238,SMALL(IF('Extended Certificate Data Sheet'!$A$3:$A$238=$E$3,ROW('Extended Certificate Data Sheet'!$A$3:$A$238)),ROW(9:9))-2,4),\"\")","v":0},null,{"$f":"IFERROR(IF(C17=\"External\",VLOOKUP(J17,Points!$I$2:$M$36,MATCH(C17&\" \"&I17&\" GLH\",Points!$I$2:$M$2,0),FALSE),VLOOKUP(J17,Points!$A$2:$C$6,MATCH(C17&\" \"&I17&\" GLH\",Points!$A$2:$C$2,0),FALSE)),\"\")","v":""},{"$f":"IF(E17=\"\",\"\",VLOOKUP(SUM(N17,P17,R17,T17,V17,X17),Lookup!$M$1:$N$6,2,FALSE))","v":"U"},{"$f":"IFERROR(IF(AND(C17=\"Internal\",I17=180),VLOOKUP(K17,Points!$F$2:$G$6,MATCH(\"Internal Grade\",Points!$F$2:$G$2,0),FALSE),\"\"),\"\")","v":""},{"$f":"IF(M17=\"\",\"\",VLOOKUP(M17,Lookup!$L$2:$M$6,2,FALSE))","v":""},{"$f":"IFERROR(IF(AND(C17=\"Internal\",I17=120),VLOOKUP(K17,Points!$C$2:$G$6,MATCH(\"Internal Grade\",Points!$C$2:$G$2,0),FALSE),\"\"),\"\")","v":""},null,{"$f":"IFERROR(IF(AND(C17=\"Internal\",I17=90),VLOOKUP(K17,Points!$C$2:$G$6,MATCH(\"Internal Grade\",Points!$C$2:$G$2,0),FALSE),\"\"),\"\")","v":""},{"$f":"IF(Q17=\"\",\"\",VLOOKUP(Q17,Lookup!$L$2:$M$6,2,FALSE))","v":""},{"$f":"IFERROR(IF(AND(C17=\"Internal\",I17=60),VLOOKUP(K17,Points!$B$2:$G$6,MATCH(\"Internal Grade\",Points!$B$2:$G$2,0),FALSE),\"\"),\"\")","v":""},{"$f":"IF(S17=\"\",\"\",VLOOKUP(S17,Lookup!$L$2:$M$6,2,FALSE))","v":""},{"$f":"IF(AND(C17=\"External\",I17=120),VLOOKUP(K17,Points!$M$2:$N$35,MATCH(\"120 GLH Grade\",Points!$M$2:$N$2,0),FALSE),\"No\")","v":"No"},{"$f":"IF(U17=\"\",\"\",VLOOKUP(U17,Lookup!$L$1:$M$6,2,FALSE))","v":0},{"$f":"IF(AND(C17=\"External\",I17=90),VLOOKUP(K17,Points!$J$2:$K$27,MATCH(\"90 GLH Grade\",Points!$J$2:$K$2,0),FALSE),\"No\")","v":"No"},{"$f":"IF(W17=\"\",\"\",VLOOKUP(W17,Lookup!$L$1:$M$6,2,FALSE))","v":0}]
[null,"Mandatory",{"$f":"IFERROR(INDEX('Extended Certificate Data Sheet'!$A$3:$E$238,SMALL(IF('Extended Certificate Data Sheet'!$A$3:$A$238=$E$3,ROW('Extended Certificate Data Sheet'!$A$3:$A$238)),ROW(10:10))-2,5),\"\")","v":0},{"$f":"IFERROR(INDEX('Extended Certificate Data Sheet'!$A$3:$E$238,SMALL(IF('Extended Certificate Data Sheet'!$A$3:$A$238=$E$3,ROW('Extended Certificate Data Sheet'!$A$3:$A$238)),ROW(10:10))-2,2),\"\")","v":0},{"$f":"IFERROR(INDEX('Extended Certificate Data Sheet'!$A$3:$E$238,SMALL(IF('Extended Certificate Data Sheet'!$A$3:$A$238=$E$3,ROW('Extended Certificate Data Sheet'!$A$3:$A$238)),ROW(10:10))-2,3),\"\")","v":0},null,null,null,{"$f":"IFERROR(INDEX('Extended Certificate Data Sheet'!$A$3:$E$238,SMALL(IF('Extended Certificate Data Sheet'!$A$3:$A$238=$E$3,ROW('Extended Certificate Data Sheet'!$A$3:$A$238)),ROW(10:10))-2,4),\"\")","v":0},null,{"$f":"IFERROR(IF(C18=\"External\",VLOOKUP(J18,Points!$I$2:$M$36,MATCH(C18&\" \"&I18&\" GLH\",Points!$I$2:$M$2,0),FALSE),VLOOKUP(J18,Points!$A$2:$C$6,MATCH(C18&\" \"&I18&\" GLH\",Points!$A$2:$C$2,0),FALSE)),\"\")","v":""},{"$f":"IF(E18=\"\",\"\",VLOOKUP(SUM(N18,P18,R18,T18,V18,X18),Lookup!$M$1:$N$6,2,FALSE))","v":"U"},{"$f":"IFERROR(IF(AND(C18=\"Internal\",I18=180),VLOOKUP(K18,Points!$F$2:$G$6,MATCH(\"Internal Grade\",Points!$F$2:$G$2,0),FALSE),\"\"),\"\")","v":""},{"$f":"IF(M18=\"\",\"\",VLOOKUP(M18,Lookup!$L$2:$M$6,2,FALSE))","v":""},{"$f":"IFERROR(IF(AND(C18=\"Internal\",I18=120),VLOOKUP(K18,Points!$C$2:$G$6,MATCH(\"Internal Grade\",Points!$C$2:$G$2,0),FALSE),\"\"),\"\")","v":""},null,{"$f":"IFERROR(IF(AND(C18=\"Internal\",I18=90),VLOOKUP(K18,Points!$C$2:$G$6,MATCH(\"Internal Grade\",Points!$C$2:$G$2,0),FALSE),\"\"),\"\")","v":""},{"$f":"IF(Q18=\"\",\"\",VLOOKUP(Q18,Lookup!$L$2:$M$6,2,FALSE))","v":""},{"$f":"IFERROR(IF(AND(C18=\"Internal\",I18=60),VLOOKUP(K18,Points!$B$2:$G$6,MATCH(\"Internal Grade\",Points!$B$2:$G$2,0),FALSE),\"\"),\"\")","v":""},{"$f":"IF(S18=\"\",\"\",VLOOKUP(S18,Lookup!$L$2:$M$6,2,FALSE))","v":""},{"$f":"IF(AND(C18=\"External\",I18=120),VLOOKUP(K18,Points!$M$2:$N$35,MATCH(\"120 GLH Grade\",Points!$M$2:$N$2,0),FALSE),\"No\")","v":"No"},{"$f":"IF(U18=\"\",\"\",VLOOKUP(U18,Lookup!$L$1:$M$6,2,FALSE))","v":0},{"$f":"IF(AND(C18=\"External\",I18=90),VLOOKUP(K18,Points!$J$2:$K$27,MATCH(\"90 GLH Grade\",Points!$J$2:$K$2,0),FALSE),\"No\")","v":"No"},{"$f":"IF(W18=\"\",\"\",VLOOKUP(W18,Lookup!$L$1:$M$6,2,FALSE))","v":0}]
[null,null,{"$f":"IFERROR(INDEX('Extended Certificate Data Sheet'!$A$3:$E$59,SMALL(IF('Extended Certificate Data Sheet'!$A$3:$A$59=$E$3,ROW('Extended Certificate Data Sheet'!$A$3:$A$59)),ROW(11:11))-2,5),\"\")","v":""}]
[null,"Group B mandatory units must be completed and a grade recorded"]
[null,"Mandatory",{"$f":"IFERROR(INDEX('Extended Certificate Data Sheet'!$G$3:$K$47,SMALL(IF('Extended Certificate Data Sheet'!$G$3:$G$47=$E$3,ROW('Extended Certificate Data Sheet'!$G$3:$G$47)),ROW(1:1))-2,5),\"\")","v":0},{"$f":"IFERROR(INDEX('Extended Certificate Data Sheet'!$G$3:$K$47,SMALL(IF('Extended Certificate Data Sheet'!$G$3:$G$47=$E$3,ROW('Extended Certificate Data Sheet'!$G$3:$G$47)),ROW(1:1))-2,2),\"\")","v":0},{"$f":"IFERROR(INDEX('Extended Certificate Data Sheet'!$G$3:$K$47,SMALL(IF('Extended Certificate Data Sheet'!$G$3:$G$47=$E$3,ROW('Extended Certificate Data Sheet'!$G$3:$G$47)),ROW(1:1))-2,3),\"\")","v":0},null,null,null,{"$f":"IFERROR(INDEX('Extended Certificate Data Sheet'!$G$3:$K$47,SMALL(IF('Extended Certificate Data Sheet'!$G$3:$G$47=$E$3,ROW('Extended Certificate Data Sheet'!$G$3:$G$47)),ROW(1:1))-2,4),\"\")","v":0},null,{"$f":"IFERROR(IF(C21=\"External\",VLOOKUP(J21,Points!$I$2:$M$36,MATCH(C21&\" \"&I21&\" GLH\",Points!$I$2:$M$2,0),FALSE),VLOOKUP(J21,Points!$A$2:$G$6,MATCH(C21&\" \"&I21&\" GLH\",Points!$A$2:$G$2,0),FALSE)),\"\")","v":""},{"$f":"IF(E21=\"\",\"\",VLOOKUP(SUM(P21,R21,T21,V21,X21),Lookup!$M$1:$N$6,2,FALSE))","v":"U"},null,null,{"$f":"IFERROR(IF(AND(C21=\"Internal\",I21=120),VLOOKUP(K21,Points!$D$2:$G$6,MATCH(\"Internal Grade\",Points!$D$2:$G$2,0),FALSE),\"\"),\"\")","v":""},null,{"$f":"IFERROR(IF(AND(C21=\"Internal\",I21=90),VLOOKUP(K21,Points!$C$2:$G$6,MATCH(\"Internal Grade\",Points!$C$2:$G$2,0),FALSE),\"\"),\"\")","v":""},{"$f":"IF(Q21=\"\",\"\",VLOOKUP(Q21,Lookup!$L$2:$M$6,2,FALSE))","v":""},{"$f":"IFERROR(IF(AND(C21=\"Internal\",I21=60),VLOOKUP(K21,Points!$B$2:$G$6,MATCH(\"Internal Grade\",Points!$B$2:$G$2,0),FALSE),\"\"),\"\")","v":""},{"$f":"IF(S21=\"\",\"\",VLOOKUP(S21,Lookup!$L$2:$M$6,2,FALSE))","v":""},{"$f":"IF(AND(C21=\"External\",I21=120),VLOOKUP(K21,Points!$M$2:$N$35,MATCH(\"120 GLH Grade\",Points!$M$2:$N$2,0),FALSE),\"No\")","v":"No"},{"$f":"IF(U21=\"\",\"\",VLOOKUP(U21,Lookup!$L$1:$M$6,2,FALSE))","v":0},{"$f":"IF(AND(C21=\"External\",I21=90),VLOOKUP(K21,Points!$J$2:$K$27,MATCH(\"90 GLH Grade\",Points!$J$2:$K$2,0),FALSE),\"No\")","v":"No"},{"$f":"IF(W21=\"\",\"\",VLOOKUP(W21,Lookup!$L$1:$M$6,2,FALSE))","v":0}]
[null,"Mandatory",{"$f":"IFERROR(INDEX('Extended Certificate Data Sheet'!$G$3:$K$47,SMALL(IF('Extended Certificate Data Sheet'!$G$3:$G$47=$E$3,ROW('Extended Certificate Data Sheet'!$G$3:$G$47)),ROW(2:2))-2,5),\"\")","v":0},{"$f":"IFERROR(INDEX('Extended Certificate Data Sheet'!$G$3:$K$47,SMALL(IF('Extended Certificate Data Sheet'!$G$3:$G$47=$E$3,ROW('Extended Certificate Data Sheet'!$G$3:$G$47)),ROW(2:2))-2,2),\"\")","v":0},{"$f":"IFERROR(INDEX('Extended Certificate Data Sheet'!$G$3:$K$47,SMALL(IF('Extended Certificate Data Sheet'!$G$3:$G$47=$E$3,ROW('Extended Certificate Data Sheet'!$G$3:$G$47)),ROW(2:2))-2,3),\"\")","v":0},null,null,null,{"$f":"IFERROR(INDEX('Extended Certificate Data Sheet'!$G$3:$K$47,SMALL(IF('Extended Certificate Data Sheet'!$G$3:$G$47=$E$3,ROW('Extended Certificate Data Sheet'!$G$3:$G$47)),ROW(2:2))-2,4),\"\")","v":0},null,{"$f":"IFERROR(IF(C22=\"External\",VLOOKUP(J22,Points!$I$2:$M$36,MATCH(C22&\" \"&I22&\" GLH\",Points!$I$2:$M$2,0),FALSE),VLOOKUP(J22,Points!$A$2:$G$6,MATCH(C22&\" \"&I22&\" GLH\",Points!$A$2:$G$2,0),FALSE)),\"\")","v":""},{"$f":"IF(E22=\"\",\"\",VLOOKUP(SUM(P22,R22,T22,V22,X22),Lookup!$M$1:$N$6,2,FALSE))","v":"U"},null,null,{"$f":"IFERROR(IF(AND(C22=\"Internal\",I22=120),VLOOKUP(K22,Points!$D$2:$G$6,MATCH(\"Internal Grade\",Points!$D$2:$G$2,0),FALSE),\"\"),\"\")","v":""},null,{"$f":"IFERROR(IF(AND(C22=\"Internal\",I22=90),VLOOKUP(K22,Points!$C$2:$G$6,MATCH(\"Internal Grade\",Points!$C$2:$G$2,0),FALSE),\"\"),\"\")","v":""},{"$f":"IF(Q22=\"\",\"\",VLOOKUP(Q22,Lookup!$L$2:$M$6,2,FALSE))","v":""},{"$f":"IFERROR(IF(AND(C22=\"Internal\",I22=60),VLOOKUP(K22,Points!$B$2:$G$6,MATCH(\"Internal Grade\",Points!$B$2:$G$2,0),FALSE),\"\"),\"\")","v":""},{"$f":"IF(S22=\"\",\"\",VLOOKUP(S22,Lookup!$L$2:$M$6,2,FALSE))","v":""},{"$f":"IF(AND(C22=\"External\",I22=120),VLOOKUP(K22,Points!$M$2:$N$35,MATCH(\"120 GLH Grade\",Points!$M$2:$N$2,0),FALSE),\"No\")","v":"No"},{"$f":"IF(U22=\"\",\"\",VLOOKUP(U22,Lookup!$L$1:$M$6,2,FALSE))","v":0},{"$f":"IF(AND(C22=\"External\",I22=90),VLOOKUP(K22,Points!$J$2:$K$27,MATCH(\"90 GLH Grade\",Points!$J$2:$K$2,0),FALSE),\"No\")","v":"No"},{"$f":"IF(W22=\"\",\"\",VLOOKUP(W22,Lookup!$L$1:$M$6,2,FALSE))","v":0}]
[null,"Mandatory",{"$f":"IFERROR(INDEX('Extended Certificate Data Sheet'!$G$3:$K$47,SMALL(IF('Extended Certificate Data Sheet'!$G$3:$G$47=$E$3,ROW('Extended Certificate Data Sheet'!$G$3:$G$47)),ROW(3:3))-2,5),\"\")","v":0},{"$f":"IFERROR(INDEX('Extended Certificate Data Sheet'!$G$3:$K$47,SMALL(IF('Extended Certificate Data Sheet'!$G$3:$G$47=$E$3,ROW('Extended Certificate Data Sheet'!$G$3:$G$47)),ROW(3:3))-2,2),\"\")","v":0},{"$f":"IFERROR(INDEX('Extended Certificate Data Sheet'!$G$3:$K$47,SMALL(IF('Extended Certificate Data Sheet'!$G$3:$G$47=$E$3,ROW('Extended Certificate Data Sheet'!$G$3:$G$47)),ROW(3:3))-2,3),\"\")","v":0},null,null,null,{"$f":"IFERROR(INDEX('Extended Certificate Data Sheet'!$G$3:$K$47,SMALL(IF('Extended Certificate Data Sheet'!$G$3:$G$47=$E$3,ROW('Extended Certificate Data Sheet'!$G$3:$G$47)),ROW(3:3))-2,4),\"\")","v":0},null,{"$f":"IFERROR(IF(C23=\"External\",VLOOKUP(J23,Points!$I$2:$M$36,MATCH(C23&\" \"&I23&\" GLH\",Points!$I$2:$M$2,0),FALSE),VLOOKUP(J23,Points!$A$2:$G$6,MATCH(C23&\" \"&I23&\" GLH\",Points!$A$2:$G$2,0),FALSE)),\"\")","v":""},{"$f":"IF(E23=\"\",\"\",VLOOKUP(SUM(P23,R23,T23,V23,X23),Lookup!$M$1:$N$6,2,FALSE))","v":"U"},null,null,{"$f":"IFERROR(IF(AND(C23=\"Internal\",I23=120),VLOOKUP(K23,Points!$D$2:$G$6,MATCH(\"Internal Grade\",Points!$D$2:$G$2,0),FALSE),\"\"),\"\")","v":""},null,{"$f":"IFERROR(IF(AND(C23=\"Internal\",I23=90),VLOOKUP(K23,Points!$C$2:$G$6,MATCH(\"Internal Grade\",Points!$C$2:$G$2,0),FALSE),\"\"),\"\")","v":""},{"$f":"IF(Q23=\"\",\"\",VLOOKUP(Q23,Lookup!$L$2:$M$6,2,FALSE))","v":""},{"$f":"IFERROR(IF(AND(C23=\"Internal\",I23=60),VLOOKUP(K23,Points!$B$2:$G$6,MATCH(\"Internal Grade\",Points!$B$2:$G$2,0),FALSE),\"\"),\"\")","v":""},{"$f":"IF(S23=\"\",\"\",VLOOKUP(S23,Lookup!$L$2:$M$6,2,FALSE))","v":""},{"$f":"IF(AND(C23=\"External\",I23=120),VLOOKUP(K23,Points!$M$2:$N$35,MATCH(\"120 GLH Grade\",Points!$M$2:$N$2,0),FALSE),\"No\")","v":"No"},{"$f":"IF(U23=\"\",\"\",VLOOKUP(U23,Lookup!$L$1:$M$6,2,FALSE))","v":0},{"$f":"IF(AND(C23=\"External\",I23=90),VLOOKUP(K23,Points!$J$2:$K$27,MATCH(\"90 GLH Grade\",Points!$J$2:$K$2,0),FALSE),\"No\")","v":"No"},{"$f":"IF(W23=\"\",\"\",VLOOKUP(W23,Lookup!$L$1:$M$6,2,FALSE))","v":0}]
[null,"Mandatory",{"$f":"IFERROR(INDEX('Extended Certificate Data Sheet'!$G$3:$K$47,SMALL(IF('Extended Certificate Data Sheet'!$G$3:$G$47=$E$3,ROW('Extended Certificate Data Sheet'!$G$3:$G$47)),ROW(4:4))-2,5),\"\")","v":0},{"$f":"IFERROR(INDEX('Extended Certificate Data Sheet'!$G$3:$K$47,SMALL(IF('Extended Certificate Data Sheet'!$G$3:$G$47=$E$3,ROW('Extended Certificate Data Sheet'!$G$3:$G$47)),ROW(4:4))-2,2),\"\")","v":0},{"$f":"IFERROR(INDEX('Extended Certificate Data Sheet'!$G$3:$K$47,SMALL(IF('Extended Certificate Data Sheet'!$G$3:$G$47=$E$3,ROW('Extended Certificate Data Sheet'!$G$3:$G$47)),ROW(4:4))-2,3),\"\")","v":0},null,null,null,{"$f":"IFERROR(INDEX('Extended Certificate Data Sheet'!$G$3:$K$47,SMALL(IF('Extended Certificate Data Sheet'!$G$3:$G$47=$E$3,ROW('Extended Certificate Data Sheet'!$G$3:$G$47)),ROW(4:4))-2,4),\"\")","v":0},null,{"$f":"IFERROR(IF(C24=\"External\",VLOOKUP(J24,Points!$I$2:$M$36,MATCH(C24&\" \"&I24&\" GLH\",Points!$I$2:$M$2,0),FALSE),VLOOKUP(J24,Points!$A$2:$G$6,MATCH(C24&\" \"&I24&\" GLH\",Points!$A$2:$G$2,0),FALSE)),\"\")","v":""},{"$f":"IF(E24=\"\",\"\",VLOOKUP(SUM(P24,R24,T24,V24,X24),Lookup!$M$1:$N$6,2,FALSE))","v":"U"},null,null,{"$f":"IFERROR(IF(AND(C24=\"Internal\",I24=120),VLOOKUP(K24,Points!$D$2:$G$6,MATCH(\"Internal Grade\",Points!$D$2:$G$2,0),FALSE),\"\"),\"\")","v":""},null,{"$f":"IFERROR(IF(AND(C24=\"Internal\",I24=90),VLOOKUP(K24,Points!$C$2:$G$6,MATCH(\"Internal Grade\",Points!$C$2:$G$2,0),FALSE),\"\"),\"\")","v":""},{"$f":"IF(Q24=\"\",\"\",VLOOKUP(Q24,Lookup!$L$2:$M$6,2,FALSE))","v":""},{"$f":"IFERROR(IF(AND(C24=\"Internal\",I24=60),VLOOKUP(K24,Points!$B$2:$G$6,MATCH(\"Internal Grade\",Points!$B$2:$G$2,0),FALSE),\"\"),\"\")","v":""},{"$f":"IF(S24=\"\",\"\",VLOOKUP(S24,Lookup!$L$2:$M$6,2,FALSE))","v":""},{"$f":"IF(AND(C24=\"External\",I24=120),VLOOKUP(K24,Points!$M$2:$N$35,MATCH(\"120 GLH Grade\",Points!$M$2:$N$2,0),FALSE),\"No\")","v":"No"},{"$f":"IF(U24=\"\",\"\",VLOOKUP(U24,Lookup!$L$1:$M$6,2,FALSE))","v":0},{"$f":"IF(AND(C24=\"External\",I24=90),VLOOKUP(K24,Points!$J$2:$K$27,MATCH(\"90 GLH Grade\",Points!$J$2:$K$2,0),FALSE),\"No\")","v":"No"},{"$f":"IF(W24=\"\",\"\",VLOOKUP(W24,Lookup!$L$1:$M$6,2,FALSE))","v":0}]
[null,"Mandatory",{"$f":"IFERROR(INDEX('Extended Certificate Data Sheet'!$G$3:$K$47,SMALL(IF('Extended Certificate Data Sheet'!$G$3:$G$47=$E$3,ROW('Extended Certificate Data Sheet'!$G$3:$G$47)),ROW(5:5))-2,5),\"\")","v":0},{"$f":"IFERROR(INDEX('Extended Certificate Data Sheet'!$G$3:$K$47,SMALL(IF('Extended Certificate Data Sheet'!$G$3:$G$47=$E$3,ROW('Extended Certificate Data Sheet'!$G$3:$G$47)),ROW(5:5))-2,2),\"\")","v":0},{"$f":"IFERROR(INDEX('Extended Certificate Data Sheet'!$G$3:$K$47,SMALL(IF('Extended Certificate Data Sheet'!$G$3:$G$47=$E$3,ROW('Extended Certificate Data Sheet'!$G$3:$G$47)),ROW(5:5))-2,3),\"\")","v":0},null,null,null,{"$f":"IFERROR(INDEX('Extended Certificate Data Sheet'!$G$3:$K$47,SMALL(IF('Extended Certificate Data Sheet'!$G$3:$G$47=$E$3,ROW('Extended Certificate Data Sheet'!$G$3:$G$47)),ROW(5:5))-2,4),\"\")","v":0},null,{"$f":"IFERROR(IF(C25=\"External\",VLOOKUP(J25,Points!$I$2:$M$36,MATCH(C25&\" \"&I25&\" GLH\",Points!$I$2:$M$2,0),FALSE),VLOOKUP(J25,Points!$A$2:$G$6,MATCH(C25&\" \"&I25&\" GLH\",Points!$A$2:$G$2,0),FALSE)),\"\")","v":""},{"$f":"IF(E25=\"\",\"\",VLOOKUP(SUM(P25,R25,T25,V25,X25),Lookup!$M$1:$N$6,2,FALSE))","v":"U"},null,null,{"$f":"IFERROR(IF(AND(C25=\"Internal\",I25=120),VLOOKUP(K25,Points!$D$2:$G$6,MATCH(\"Internal Grade\",Points!$D$2:$G$2,0),FALSE),\"\"),\"\")","v":""},null,{"$f":"IFERROR(IF(AND(C25=\"Internal\",I25=90),VLOOKUP(K25,Points!$C$2:$G$6,MATCH(\"Internal Grade\",Points!$C$2:$G$2,0),FALSE),\"\"),\"\")","v":""},{"$f":"IF(Q25=\"\",\"\",VLOOKUP(Q25,Lookup!$L$2:$M$6,2,FALSE))","v":""},{"$f":"IFERROR(IF(AND(C25=\"Internal\",I25=60),VLOOKUP(K25,Points!$B$2:$G$6,MATCH(\"Internal Grade\",Points!$B$2:$G$2,0),FALSE),\"\"),\"\")","v":""},{"$f":"IF(S25=\"\",\"\",VLOOKUP(S25,Lookup!$L$2:$M$6,2,FALSE))","v":""},{"$f":"IF(AND(C25=\"External\",I25=120),VLOOKUP(K25,Points!$M$2:$N$35,MATCH(\"120 GLH Grade\",Points!$M$2:$N$2,0),FALSE),\"No\")","v":"No"},{"$f":"IF(U25=\"\",\"\",VLOOKUP(U25,Lookup!$L$1:$M$6,2,FALSE))","v":0},{"$f":"IF(AND(C25=\"External\",I25=90),VLOOKUP(K25,Points!$J$2:$K$27,MATCH(\"90 GLH Grade\",Points!$J$2:$K$2,0),FALSE),\"No\")","v":"No"},{"$f":"IF(W25=\"\",\"\",VLOOKUP(W25,Lookup!$L$1:$M$6,2,FALSE))","v":0}]
[null,"Mandatory",{"$f":"IFERROR(INDEX('Extended Certificate Data Sheet'!$G$3:$K$47,SMALL(IF('Extended Certificate Data Sheet'!$G$3:$G$47=$E$3,ROW('Extended Certificate Data Sheet'!$G$3:$G$47)),ROW(6:6))-2,5),\"\")","v":0},{"$f":"IFERROR(INDEX('Extended Certificate Data Sheet'!$G$3:$K$47,SMALL(IF('Extended Certificate Data Sheet'!$G$3:$G$47=$E$3,ROW('Extended Certificate Data Sheet'!$G$3:$G$47)),ROW(6:6))-2,2),\"\")","v":0},{"$f":"IFERROR(INDEX('Extended Certificate Data Sheet'!$G$3:$K$47,SMALL(IF('Extended Certificate Data Sheet'!$G$3:$G$47=$E$3,ROW('Extended Certificate Data Sheet'!$G$3:$G$47)),ROW(6:6))-2,3),\"\")","v":0},null,null,null,{"$f":"IFERROR(INDEX('Extended Certificate Data Sheet'!$G$3:$K$47,SMALL(IF('Extended Certificate Data Sheet'!$G$3:$G$47=$E$3,ROW('Extended Certificate Data Sheet'!$G$3:$G$47)),ROW(6:6))-2,4),\"\")","v":0},null,{"$f":"IFERROR(IF(C26=\"External\",VLOOKUP(J26,Points!$I$2:$M$36,MATCH(C26&\" \"&I26&\" GLH\",Points!$I$2:$M$2,0),FALSE),VLOOKUP(J26,Points!$A$2:$G$6,MATCH(C26&\" \"&I26&\" GLH\",Points!$A$2:$G$2,0),FALSE)),\"\")","v":""},{"$f":"IF(E26=\"\",\"\",VLOOKUP(SUM(P26,R26,T26,V26,X26),Lookup!$M$1:$N$6,2,FALSE))","v":"U"},null,null,{"$f":"IFERROR(IF(AND(C26=\"Internal\",I26=120),VLOOKUP(K26,Points!$D$2:$G$6,MATCH(\"Internal Grade\",Points!$D$2:$G$2,0),FALSE),\"\"),\"\")","v":""},null,{"$f":"IFERROR(IF(AND(C26=\"Internal\",I26=90),VLOOKUP(K26,Points!$C$2:$G$6,MATCH(\"Internal Grade\",Points!$C$2:$G$2,0),FALSE),\"\"),\"\")","v":""},{"$f":"IF(Q26=\"\",\"\",VLOOKUP(Q26,Lookup!$L$2:$M$6,2,FALSE))","v":""},{"$f":"IFERROR(IF(AND(C26=\"Internal\",I26=60),VLOOKUP(K26,Points!$B$2:$G$6,MATCH(\"Internal Grade\",Points!$B$2:$G$2,0),FALSE),\"\"),\"\")","v":""},{"$f":"IF(S26=\"\",\"\",VLOOKUP(S26,Lookup!$L$2:$M$6,2,FALSE))","v":""},{"$f":"IF(AND(C26=\"External\",I26=120),VLOOKUP(K26,Points!$M$2:$N$35,MATCH(\"120 GLH Grade\",Points!$M$2:$N$2,0),FALSE),\"No\")","v":"No"},{"$f":"IF(U26=\"\",\"\",VLOOKUP(U26,Lookup!$L$1:$M$6,2,FALSE))","v":0},{"$f":"IF(AND(C26=\"External\",I26=90),VLOOKUP(K26,Points!$J$2:$K$27,MATCH(\"90 GLH Grade\",Points!$J$2:$K$2,0),FALSE),\"No\")","v":"No"},{"$f":"IF(W26=\"\",\"\",VLOOKUP(W26,Lookup!$L$1:$M$6,2,FALSE))","v":0}]
[null,null,{"$f":"IFERROR(INDEX('Extended Certificate Data Sheet'!$A$3:$E$59,SMALL(IF('Extended Certificate Data Sheet'!$A$3:$A$59=$E$3,ROW('Extended Certificate Data Sheet'!$A$3:$A$59)),ROW(19:19))-2,5),\"\")","v":""}]
[null,null,null,null,"2. Select optional units from the dropdown lists below"]
[null,"Optional",{"$f":"IFERROR(INDEX('Extended Certificate Data Sheet'!$R$3:$R$1000,MATCH(E29&$E$3,'Extended Certificate Data Sheet'!$M$3:$M$1000&'Extended Certificate Data Sheet'!$N$3:$N$1000,0)),\"\")","v":0},{"$f":"IFERROR(INDEX('Extended Certificate Data Sheet'!$O$3:$O$1000,MATCH(E29&$E$3,'Extended Certificate Data Sheet'!$M$3:$M$1000&'Extended Certificate Data Sheet'!$N$3:$N$1000,0)),\"\")","v":0},null,null,null,null,{"$f":"IFERROR(INDEX('Extended Certificate Data Sheet'!$Q$3:$Q$1000,MATCH(E29&$E$3,'Extended Certificate Data Sheet'!$M$3:$M$1000&'Extended Certificate Data Sheet'!$N$3:$N$1000,0)),\"\")","v":0},null,{"$f":"IFERROR(IF(C29=\"Internal\",VLOOKUP(J29,Points!$A$2:$C$6,MATCH(C29&\" \"&I29&\" GLH\",Points!$A$2:$C$2,0),FALSE),\"\"),\"\")","v":""},{"$f":"IF(E29=\"\",\"\",VLOOKUP(SUM(P29,R29,T29,V29,X29),Lookup!$M$1:$N$6,2,FALSE))","v":""},null,null,{"$f":"IFERROR(IF(AND(C29=\"Internal\",I29=120),VLOOKUP(K29,Points!$C$2:$G$6,MATCH(\"Internal Grade\",Points!$C$2:$G$2,0),FALSE),\"\"),\"\")","v":""},{"$f":"IF(O29=\"\",\"\",VLOOKUP(O29,Lookup!$L$2:$M$6,2,FALSE))","v":""},{"$f":"IFERROR(IF(AND(C29=\"Internal\",I29=90),VLOOKUP(K29,Points!$C$2:$G$6,MATCH(\"Internal Grade\",Points!$C$2:$G$2,0),FALSE),\"\"),\"\")","v":""},{"$f":"IF(Q29=\"\",\"\",VLOOKUP(Q29,Lookup!$L$2:$M$6,2,FALSE))","v":""},{"$f":"IFERROR(IF(AND(C29=\"Internal\",I29=60),VLOOKUP(K29,Points!$B$2:$G$6,MATCH(\"Internal Grade\",Points!$B$2:$G$2,0),FALSE),\"\"),\"\")","v":""},{"$f":"IF(S29=\"\",\"\",VLOOKUP(S29,Lookup!$L$2:$M$6,2,FALSE))","v":""},{"$f":"IF(AND(C29=\"External\",I29=120),VLOOKUP(K29,Points!$M$2:$N$35,MATCH(\"120 GLH Grade\",Points!$M$2:$N$2,0),FALSE),\"No\")","v":"No"},{"$f":"IF(U29=\"\",\"\",VLOOKUP(U29,Lookup!$L$1:$M$6,2,FALSE))","v":0},{"$f":"IF(AND(C29=\"External\",I29=90),VLOOKUP(K29,Points!$J$2:$K$27,MATCH(\"90 GLH Grade\",Points!$J$2:$K$2,0),FALSE),\"No\")","v":"No"},{"$f":"IF(W29=\"\",\"\",VLOOKUP(W29,Lookup!$L$1:$M$6,2,FALSE))","v":0}]
[null,"Optional",{"$f":"IFERROR(INDEX('Extended Certificate Data Sheet'!$R$3:$R$1000,MATCH(E30&$E$3,'Extended Certificate Data Sheet'!$M$3:$M$1000&'Extended Certificate Data Sheet'!$N$3:$N$1000,0)),\"\")","v":0},{"$f":"IFERROR(INDEX('Extended Certificate Data Sheet'!$O$3:$O$1000,MATCH(E30&$E$3,'Extended Certificate Data Sheet'!$M$3:$M$1000&'Extended Certificate Data Sheet'!$N$3:$N$1000,0)),\"\")","v":0},null,null,null,null,{"$f":"IFERROR(INDEX('Extended Certificate Data Sheet'!$Q$3:$Q$1000,MATCH(E30&$E$3,'Extended Certificate Data Sheet'!$M$3:$M$1000&'Extended Certificate Data Sheet'!$N$3:$N$1000,0)),\"\")","v":0},null,{"$f":"IFERROR(IF(C30=\"Internal\",VLOOKUP(J30,Points!$A$2:$C$6,MATCH(C30&\" \"&I30&\" GLH\",Points!$A$2:$C$2,0),FALSE),\"\"),\"\")","v":""},{"$f":"IF(E30=\"\",\"\",VLOOKUP(SUM(P30,R30,T30,V30,X30),Lookup!$M$1:$N$6,2,FALSE))","v":""},null,null,{"$f":"IFERROR(IF(AND(C30=\"Internal\",I30=120),VLOOKUP(K30,Points!$C$2:$G$6,MATCH(\"Internal Grade\",Points!$C$2:$G$2,0),FALSE),\"\"),\"\")","v":""},{"$f":"IF(O30=\"\",\"\",VLOOKUP(O30,Lookup!$L$2:$M$6,2,FALSE))","v":""},{"$f":"IFERROR(IF(AND(C30=\"Internal\",I30=90),VLOOKUP(K30,Points!$C$2:$G$6,MATCH(\"Internal Grade\",Points!$C$2:$G$2,0),FALSE),\"\"),\"\")","v":""},{"$f":"IF(Q30=\"\",\"\",VLOOKUP(Q30,Lookup!$L$2:$M$6,2,FALSE))","v":""},{"$f":"IFERROR(IF(AND(C30=\"Internal\",I30=60),VLOOKUP(K30,Points!$B$2:$G$6,MATCH(\"Internal Grade\",Points!$B$2:$G$2,0),FALSE),\"\"),\"\")","v":""},{"$f":"IF(S30=\"\",\"\",VLOOKUP(S30,Lookup!$L$2:$M$6,2,FALSE))","v":""},{"$f":"IF(AND(C30=\"External\",I30=120),VLOOKUP(K30,Points!$M$2:$N$35,MATCH(\"120 GLH Grade\",Points!$M$2:$N$2,0),FALSE),\"No\")","v":"No"},{"$f":"IF(U30=\"\",\"\",VLOOKUP(U30,Lookup!$L$1:$M$6,2,FALSE))","v":0},{"$f":"IF(AND(C30=\"External\",I30=90),VLOOKUP(K30,Points!$J$2:$K$27,MATCH(\"90 GLH Grade\",Points!$J$2:$K$2,0),FALSE),\"No\")","v":"No"},{"$f":"IF(W30=\"\",\"\",VLOOKUP(W30,Lookup!$L$1:$M$6,2,FALSE))","v":0}]
[null,"Optional",{"$f":"IFERROR(INDEX('Extended Certificate Data Sheet'!$R$3:$R$1000,MATCH(E31&$E$3,'Extended Certificate Data Sheet'!$M$3:$M$1000&'Extended Certificate Data Sheet'!$N$3:$N$1000,0)),\"\")","v":0},{"$f":"IFERROR(INDEX('Extended Certificate Data Sheet'!$O$3:$O$1000,MATCH(E31&$E$3,'Extended Certificate Data Sheet'!$M$3:$M$1000&'Extended Certificate Data Sheet'!$N$3:$N$1000,0)),\"\")","v":0},null,null,null,null,{"$f":"IFERROR(INDEX('Extended Certificate Data Sheet'!$Q$3:$Q$1000,MATCH(E31&$E$3,'Extended Certificate Data Sheet'!$M$3:$M$1000&'Extended Certificate Data Sheet'!$N$3:$N$1000,0)),\"\")","v":0},null,{"$f":"IFERROR(IF(C31=\"Internal\",VLOOKUP(J31,Points!$A$2:$C$6,MATCH(C31&\" \"&I31&\" GLH\",Points!$A$2:$C$2,0),FALSE),\"\"),\"\")","v":""},{"$f":"IF(E31=\"\",\"\",VLOOKUP(SUM(P31,R31,T31,V31,X31),Lookup!$M$1:$N$6,2,FALSE))","v":""},null,null,{"$f":"IFERROR(IF(AND(C31=\"Internal\",I31=120),VLOOKUP(K31,Points!$C$2:$G$6,MATCH(\"Internal Grade\",Points!$C$2:$G$2,0),FALSE),\"\"),\"\")","v":""},{"$f":"IF(O31=\"\",\"\",VLOOKUP(O31,Lookup!$L$2:$M$6,2,FALSE))","v":""},{"$f":"IFERROR(IF(AND(C31=\"Internal\",I31=90),VLOOKUP(K31,Points!$C$2:$G$6,MATCH(\"Internal Grade\",Points!$C$2:$G$2,0),FALSE),\"\"),\"\")","v":""},{"$f":"IF(Q31=\"\",\"\",VLOOKUP(Q31,Lookup!$L$2:$M$6,2,FALSE))","v":""},{"$f":"IFERROR(IF(AND(C31=\"Internal\",I31=60),VLOOKUP(K31,Points!$B$2:$G$6,MATCH(\"Internal Grade\",Points!$B$2:$G$2,0),FALSE),\"\"),\"\")","v":""},{"$f":"IF(S31=\"\",\"\",VLOOKUP(S31,Lookup!$L$2:$M$6,2,FALSE))","v":""},{"$f":"IF(AND(C31=\"External\",I31=120),VLOOKUP(K31,Points!$M$2:$N$35,MATCH(\"120 GLH Grade\",Points!$M$2:$N$2,0),FALSE),\"No\")","v":"No"},{"$f":"IF(U31=\"\",\"\",VLOOKUP(U31,Lookup!$L$1:$M$6,2,FALSE))","v":0},{"$f":"IF(AND(C31=\"External\",I31=90),VLOOKUP(K31,Points!$J$2:$K$27,MATCH(\"90 GLH Grade\",Points!$J$2:$K$2,0),FALSE),\"No\")","v":"No"},{"$f":"IF(W31=\"\",\"\",VLOOKUP(W31,Lookup!$L$1:$M$6,2,FALSE))","v":0}]
[null,"Optional",{"$f":"IFERROR(INDEX('Extended Certificate Data Sheet'!$R$3:$R$1000,MATCH(E32&$E$3,'Extended Certificate Data Sheet'!$M$3:$M$1000&'Extended Certificate Data Sheet'!$N$3:$N$1000,0)),\"\")","v":0},{"$f":"IFERROR(INDEX('Extended Certificate Data Sheet'!$O$3:$O$1000,MATCH(E32&$E$3,'Extended Certificate Data Sheet'!$M$3:$M$1000&'Extended Certificate Data Sheet'!$N$3:$N$1000,0)),\"\")","v":0},null,null,null,null,{"$f":"IFERROR(INDEX('Extended Certificate Data Sheet'!$Q$3:$Q$1000,MATCH(E32&$E$3,'Extended Certificate Data Sheet'!$M$3:$M$1000&'Extended Certificate Data Sheet'!$N$3:$N$1000,0)),\"\")","v":0},null,{"$f":"IFERROR(IF(C32=\"Internal\",VLOOKUP(J32,Points!$A$2:$C$6,MATCH(C32&\" \"&I32&\" GLH\",Points!$A$2:$C$2,0),FALSE),\"\"),\"\")","v":""},{"$f":"IF(E32=\"\",\"\",VLOOKUP(SUM(P32,R32,T32,V32,X32),Lookup!$M$1:$N$6,2,FALSE))","v":""},null,null,{"$f":"IFERROR(IF(AND(C32=\"Internal\",I32=120),VLOOKUP(K32,Points!$C$2:$G$6,MATCH(\"Internal Grade\",Points!$C$2:$G$2,0),FALSE),\"\"),\"\")","v":""},{"$f":"IF(O32=\"\",\"\",VLOOKUP(O32,Lookup!$L$2:$M$6,2,FALSE))","v":""},{"$f":"IFERROR(IF(AND(C32=\"Internal\",I32=90),VLOOKUP(K32,Points!$C$2:$G$6,MATCH(\"Internal Grade\",Points!$C$2:$G$2,0),FALSE),\"\"),\"\")","v":""},{"$f":"IF(Q32=\"\",\"\",VLOOKUP(Q32,Lookup!$L$2:$M$6,2,FALSE))","v":""},{"$f":"IFERROR(IF(AND(C32=\"Internal\",I32=60),VLOOKUP(K32,Points!$B$2:$G$6,MATCH(\"Internal Grade\",Points!$B$2:$G$2,0),FALSE),\"\"),\"\")","v":""},{"$f":"IF(S32=\"\",\"\",VLOOKUP(S32,Lookup!$L$2:$M$6,2,FALSE))","v":""},{"$f":"IF(AND(C32=\"External\",I32=120),VLOOKUP(K32,Points!$M$2:$N$35,MATCH(\"120 GLH Grade\",Points!$M$2:$N$2,0),FALSE),\"No\")","v":"No"},{"$f":"IF(U32=\"\",\"\",VLOOKUP(U32,Lookup!$L$1:$M$6,2,FALSE))","v":0},{"$f":"IF(AND(C32=\"External\",I32=90),VLOOKUP(K32,Points!$J$2:$K$27,MATCH(\"90 GLH Grade\",Points!$J$2:$K$2,0),FALSE),\"No\")","v":"No"},{"$f":"IF(W32=\"\",\"\",VLOOKUP(W32,Lookup!$L$1:$M$6,2,FALSE))","v":0}]
[null,"Optional",{"$f":"IFERROR(INDEX('Extended Certificate Data Sheet'!$R$3:$R$1000,MATCH(E33&$E$3,'Extended Certificate Data Sheet'!$M$3:$M$1000&'Extended Certificate Data Sheet'!$N$3:$N$1000,0)),\"\")","v":0},{"$f":"IFERROR(INDEX('Extended Certificate Data Sheet'!$O$3:$O$1000,MATCH(E33&$E$3,'Extended Certificate Data Sheet'!$M$3:$M$1000&'Extended Certificate Data Sheet'!$N$3:$N$1000,0)),\"\")","v":0},null,null,null,null,{"$f":"IFERROR(INDEX('Extended Certificate Data Sheet'!$Q$3:$Q$1000,MATCH(E33&$E$3,'Extended Certificate Data Sheet'!$M$3:$M$1000&'Extended Certificate Data Sheet'!$N$3:$N$1000,0)),\"\")","v":0},null,{"$f":"IFERROR(IF(C33=\"Internal\",VLOOKUP(J33,Points!$A$2:$C$6,MATCH(C33&\" \"&I33&\" GLH\",Points!$A$2:$C$2,0),FALSE),\"\"),\"\")","v":""},{"$f":"IF(E33=\"\",\"\",VLOOKUP(SUM(P33,R33,T33,V33,X33),Lookup!$M$1:$N$6,2,FALSE))","v":""},null,null,{"$f":"IFERROR(IF(AND(C33=\"Internal\",I33=120),VLOOKUP(K33,Points!$C$2:$G$6,MATCH(\"Internal Grade\",Points!$C$2:$G$2,0),FALSE),\"\"),\"\")","v":""},{"$f":"IF(O33=\"\",\"\",VLOOKUP(O33,Lookup!$L$2:$M$6,2,FALSE))","v":""},{"$f":"IFERROR(IF(AND(C33=\"Internal\",I33=90),VLOOKUP(K33,Points!$C$2:$G$6,MATCH(\"Internal Grade\",Points!$C$2:$G$2,0),FALSE),\"\"),\"\")","v":""},{"$f":"IF(Q33=\"\",\"\",VLOOKUP(Q33,Lookup!$L$2:$M$6,2,FALSE))","v":""},{"$f":"IFERROR(IF(AND(C33=\"Internal\",I33=60),VLOOKUP(K33,Points!$B$2:$G$6,MATCH(\"Internal Grade\",Points!$B$2:$G$2,0),FALSE),\"\"),\"\")","v":""},{"$f":"IF(S33=\"\",\"\",VLOOKUP(S33,Lookup!$L$2:$M$6,2,FALSE))","v":""},{"$f":"IF(AND(C33=\"External\",I33=120),VLOOKUP(K33,Points!$M$2:$N$35,MATCH(\"120 GLH Grade\",Points!$M$2:$N$2,0),FALSE),\"No\")","v":"No"},{"$f":"IF(U33=\"\",\"\",VLOOKUP(U33,Lookup!$L$1:$M$6,2,FALSE))","v":0},{"$f":"IF(AND(C33=\"External\",I33=90),VLOOKUP(K33,Points!$J$2:$K$27,MATCH(\"90 GLH Grade\",Points!$J$2:$K$2,0),FALSE),\"No\")","v":"No"},{"$f":"IF(W33=\"\",\"\",VLOOKUP(W33,Lookup!$L$1:$M$6,2,FALSE))","v":0}]
[null,"Optional",{"$f":"IFERROR(INDEX('Extended Certificate Data Sheet'!$R$3:$R$1000,MATCH(E34&$E$3,'Extended Certificate Data Sheet'!$M$3:$M$1000&'Extended Certificate Data Sheet'!$N$3:$N$1000,0)),\"\")","v":0},{"$f":"IFERROR(INDEX('Extended Certificate Data Sheet'!$O$3:$O$1000,MATCH(E34&$E$3,'Extended Certificate Data Sheet'!$M$3:$M$1000&'Extended Certificate Data Sheet'!$N$3:$N$1000,0)),\"\")","v":0},null,null,null,null,{"$f":"IFERROR(INDEX('Extended Certificate Data Sheet'!$Q$3:$Q$1000,MATCH(E34&$E$3,'Extended Certificate Data Sheet'!$M$3:$M$1000&'Extended Certificate Data Sheet'!$N$3:$N$1000,0)),\"\")","v":0},null,{"$f":"IFERROR(IF(C34=\"Internal\",VLOOKUP(J34,Points!$A$2:$C$6,MATCH(C34&\" \"&I34&\" GLH\",Points!$A$2:$C$2,0),FALSE),\"\"),\"\")","v":""},{"$f":"IF(E34=\"\",\"\",VLOOKUP(SUM(P34,R34,T34,V34,X34),Lookup!$M$1:$N$6,2,FALSE))","v":""},null,null,{"$f":"IFERROR(IF(AND(C34=\"Internal\",I34=120),VLOOKUP(K34,Points!$C$2:$G$6,MATCH(\"Internal Grade\",Points!$C$2:$G$2,0),FALSE),\"\"),\"\")","v":""},{"$f":"IF(O34=\"\",\"\",VLOOKUP(O34,Lookup!$L$2:$M$6,2,FALSE))","v":""},{"$f":"IFERROR(IF(AND(C34=\"Internal\",I34=90),VLOOKUP(K34,Points!$C$2:$G$6,MATCH(\"Internal Grade\",Points!$C$2:$G$2,0),FALSE),\"\"),\"\")","v":""},{"$f":"IF(Q34=\"\",\"\",VLOOKUP(Q34,Lookup!$L$2:$M$6,2,FALSE))","v":""},{"$f":"IFERROR(IF(AND(C34=\"Internal\",I34=60),VLOOKUP(K34,Points!$B$2:$G$6,MATCH(\"Internal Grade\",Points!$B$2:$G$2,0),FALSE),\"\"),\"\")","v":""},{"$f":"IF(S34=\"\",\"\",VLOOKUP(S34,Lookup!$L$2:$M$6,2,FALSE))","v":""},{"$f":"IF(AND(C34=\"External\",I34=120),VLOOKUP(K34,Points!$M$2:$N$35,MATCH(\"120 GLH Grade\",Points!$M$2:$N$2,0),FALSE),\"No\")","v":"No"},{"$f":"IF(U34=\"\",\"\",VLOOKUP(U34,Lookup!$L$1:$M$6,2,FALSE))","v":0},{"$f":"IF(AND(C34=\"External\",I34=90),VLOOKUP(K34,Points!$J$2:$K$27,MATCH(\"90 GLH Grade\",Points!$J$2:$K$2,0),FALSE),\"No\")","v":"No"},{"$f":"IF(W34=\"\",\"\",VLOOKUP(W34,Lookup!$L$1:$M$6,2,FALSE))","v":0}]
[null,null,null,null,null,null,null,null,{"$f":"SUM(I29:I34)","v":0}]
[]
[null,"Optional",{"$f":"IFERROR(INDEX('Extended Certificate Data Sheet'!$Y$3:$Y$1000,MATCH(E37&$E$3,'Extended Certificate Data Sheet'!$T$3:$T$1000&'Extended Certificate Data Sheet'!$U$3:$U$1000,0)),\"\")","v":0},{"$f":"IFERROR(INDEX('Extended Certificate Data Sheet'!$V$3:$V$1000,MATCH(E37&$E$3,'Extended Certificate Data Sheet'!$T$3:$T$1000&'Extended Certificate Data Sheet'!$U$3:$U$1000,0)),\"\")","v":0},null,null,null,null,{"$f":"IFERROR(INDEX('Extended Certificate Data Sheet'!$X$3:$X$1000,MATCH(E37&$E$3,'Extended Certificate Data Sheet'!$T$3:$T$1000&'Extended Certificate Data Sheet'!$U$3:$U$1000,0)),\"\")","v":0},null,{"$f":"IFERROR(IF(C37=\"Internal\",VLOOKUP(J37,Points!$A$2:$C$6,MATCH(C37&\" \"&I37&\" GLH\",Points!$A$2:$C$2,0),FALSE),\"\"),\"\")","v":""},{"$f":"IF(E37=\"\",\"\",VLOOKUP(SUM(P37,R37,T37,V37,X37),Lookup!$M$1:$N$6,2,FALSE))","v":""},null,null,null,{"$f":"IF(O37=\"\",\"\",VLOOKUP(O37,Lookup!$L$2:$M$6,2,FALSE))","v":""},{"$f":"IFERROR(IF(AND(C37=\"Internal\",I37=90),VLOOKUP(K37,Points!$C$2:$G$6,MATCH(\"Internal Grade\",Points!$C$2:$G$2,0),FALSE),\"\"),\"\")","v":""},{"$f":"IF(Q37=\"\",\"\",VLOOKUP(Q37,Lookup!$L$2:$M$6,2,FALSE))","v":""},{"$f":"IFERROR(IF(AND(C37=\"Internal\",I37=60),VLOOKUP(K37,Points!$B$2:$G$6,MATCH(\"Internal Grade\",Points!$B$2:$G$2,0),FALSE),\"\"),\"\")","v":""},{"$f":"IF(S37=\"\",\"\",VLOOKUP(S37,Lookup!$L$2:$M$6,2,FALSE))","v":""},{"$f":"IF(AND(C37=\"External\",I37=120),VLOOKUP(K37,Points!$M$2:$N$35,MATCH(\"120 GLH Grade\",Points!$M$2:$N$2,0),FALSE),\"No\")","v":"No"},{"$f":"IF(U37=\"\",\"\",VLOOKUP(U37,Lookup!$L$1:$M$6,2,FALSE))","v":0},{"$f":"IF(AND(C37=\"External\",I37=90),VLOOKUP(K37,Points!$J$2:$K$27,MATCH(\"90 GLH Grade\",Points!$J$2:$K$2,0),FALSE),\"No\")","v":"No"},{"$f":"IF(W37=\"\",\"\",VLOOKUP(W37,Lookup!$L$1:$M$6,2,FALSE))","v":0}]
[null,"Optional",{"$f":"IFERROR(INDEX('Extended Certificate Data Sheet'!$Y$3:$Y$1000,MATCH(E38&$E$3,'Extended Certificate Data Sheet'!$T$3:$T$1000&'Extended Certificate Data Sheet'!$U$3:$U$1000,0)),\"\")","v":0},{"$f":"IFERROR(INDEX('Extended Certificate Data Sheet'!$V$3:$V$1000,MATCH(E38&$E$3,'Extended Certificate Data Sheet'!$T$3:$T$1000&'Extended Certificate Data Sheet'!$U$3:$U$1000,0)),\"\")","v":0},null,null,null,null,{"$f":"IFERROR(INDEX('Extended Certificate Data Sheet'!$X$3:$X$1000,MATCH(E38&$E$3,'Extended Certificate Data Sheet'!$T$3:$T$1000&'Extended Certificate Data Sheet'!$U$3:$U$1000,0)),\"\")","v":0},null,{"$f":"IFERROR(IF(C38=\"Internal\",VLOOKUP(J38,Points!$A$2:$C$6,MATCH(C38&\" \"&I38&\" GLH\",Points!$A$2:$C$2,0),FALSE),\"\"),\"\")","v":""},{"$f":"IF(E38=\"\",\"\",VLOOKUP(SUM(P38,R38,T38,V38,X38),Lookup!$M$1:$N$6,2,FALSE))","v":""},null,null,null,{"$f":"IF(O38=\"\",\"\",VLOOKUP(O38,Lookup!$L$2:$M$6,2,FALSE))","v":""},{"$f":"IFERROR(IF(AND(C38=\"Internal\",I38=90),VLOOKUP(K38,Points!$C$2:$G$6,MATCH(\"Internal Grade\",Points!$C$2:$G$2,0),FALSE),\"\"),\"\")","v":""},{"$f":"IF(Q38=\"\",\"\",VLOOKUP(Q38,Lookup!$L$2:$M$6,2,FALSE))","v":""},{"$f":"IFERROR(IF(AND(C38=\"Internal\",I38=60),VLOOKUP(K38,Points!$B$2:$G$6,MATCH(\"Internal Grade\",Points!$B$2:$G$2,0),FALSE),\"\"),\"\")","v":""},{"$f":"IF(S38=\"\",\"\",VLOOKUP(S38,Lookup!$L$2:$M$6,2,FALSE))","v":""},{"$f":"IF(AND(C38=\"External\",I38=120),VLOOKUP(K38,Points!$M$2:$N$35,MATCH(\"120 GLH Grade\",Points!$M$2:$N$2,0),FALSE),\"No\")","v":"No"},{"$f":"IF(U38=\"\",\"\",VLOOKUP(U38,Lookup!$L$1:$M$6,2,FALSE))","v":0},{"$f":"IF(AND(C38=\"External\",I38=90),VLOOKUP(K38,Points!$J$2:$K$27,MATCH(\"90 GLH Grade\",Points!$J$2:$K$2,0),FALSE),\"No\")","v":"No"},{"$f":"IF(W38=\"\",\"\",VLOOKUP(W38,Lookup!$L$1:$M$6,2,FALSE))","v":0}]
[null,"Optional",{"$f":"IFERROR(INDEX('Extended Certificate Data Sheet'!$Y$3:$Y$1000,MATCH(E39&$E$3,'Extended Certificate Data Sheet'!$T$3:$T$1000&'Extended Certificate Data Sheet'!$U$3:$U$1000,0)),\"\")","v":0},{"$f":"IFERROR(INDEX('Extended Certificate Data Sheet'!$V$3:$V$1000,MATCH(E39&$E$3,'Extended Certificate Data Sheet'!$T$3:$T$1000&'Extended Certificate Data Sheet'!$U$3:$U$1000,0)),\"\")","v":0},null,null,null,null,{"$f":"IFERROR(INDEX('Extended Certificate Data Sheet'!$X$3:$X$1000,MATCH(E39&$E$3,'Extended Certificate Data Sheet'!$T$3:$T$1000&'Extended Certificate Data Sheet'!$U$3:$U$1000,0)),\"\")","v":0},null,{"$f":"IFERROR(IF(C39=\"Internal\",VLOOKUP(J39,Points!$A$2:$C$6,MATCH(C39&\" \"&I39&\" GLH\",Points!$A$2:$C$2,0),FALSE),\"\"),\"\")","v":""},{"$f":"IF(E39=\"\",\"\",VLOOKUP(SUM(P39,R39,T39,V39,X39),Lookup!$M$1:$N$6,2,FALSE))","v":""},null,null,null,{"$f":"IF(O39=\"\",\"\",VLOOKUP(O39,Lookup!$L$2:$M$6,2,FALSE))","v":""},{"$f":"IFERROR(IF(AND(C39=\"Internal\",I39=90),VLOOKUP(K39,Points!$C$2:$G$6,MATCH(\"Internal Grade\",Points!$C$2:$G$2,0),FALSE),\"\"),\"\")","v":""},{"$f":"IF(Q39=\"\",\"\",VLOOKUP(Q39,Lookup!$L$2:$M$6,2,FALSE))","v":""},{"$f":"IFERROR(IF(AND(C39=\"Internal\",I39=60),VLOOKUP(K39,Points!$B$2:$G$6,MATCH(\"Internal Grade\",Points!$B$2:$G$2,0),FALSE),\"\"),\"\")","v":""},{"$f":"IF(S39=\"\",\"\",VLOOKUP(S39,Lookup!$L$2:$M$6,2,FALSE))","v":""},{"$f":"IF(AND(C39=\"External\",I39=120),VLOOKUP(K39,Points!$M$2:$N$35,MATCH(\"120 GLH Grade\",Points!$M$2:$N$2,0),FALSE),\"No\")","v":"No"},{"$f":"IF(U39=\"\",\"\",VLOOKUP(U39,Lookup!$L$1:$M$6,2,FALSE))","v":0},{"$f":"IF(AND(C39=\"External\",I39=90),VLOOKUP(K39,Points!$J$2:$K$27,MATCH(\"90 GLH Grade\",Points!$J$2:$K$2,0),FALSE),\"No\")","v":"No"},{"$f":"IF(W39=\"\",\"\",VLOOKUP(W39,Lookup!$L$1:$M$6,2,FALSE))","v":0}]
[null,"Optional",{"$f":"IFERROR(INDEX('Extended Certificate Data Sheet'!$Y$3:$Y$1000,MATCH(E40&$E$3,'Extended Certificate Data Sheet'!$T$3:$T$1000&'Extended Certificate Data Sheet'!$U$3:$U$1000,0)),\"\")","v":0},{"$f":"IFERROR(INDEX('Extended Certificate Data Sheet'!$V$3:$V$1000,MATCH(E40&$E$3,'Extended Certificate Data Sheet'!$T$3:$T$1000&'Extended Certificate Data Sheet'!$U$3:$U$1000,0)),\"\")","v":0},null,null,null,null,{"$f":"IFERROR(INDEX('Extended Certificate Data Sheet'!$X$3:$X$1000,MATCH(E40&$E$3,'Extended Certificate Data Sheet'!$T$3:$T$1000&'Extended Certificate Data Sheet'!$U$3:$U$1000,0)),\"\")","v":0},null,{"$f":"IFERROR(IF(C40=\"Internal\",VLOOKUP(J40,Points!$A$2:$C$6,MATCH(C40&\" \"&I40&\" GLH\",Points!$A$2:$C$2,0),FALSE),\"\"),\"\")","v":""},{"$f":"IF(E40=\"\",\"\",VLOOKUP(SUM(P40,R40,T40,V40,X40),Lookup!$M$1:$N$6,2,FALSE))","v":""},null,null,null,{"$f":"IF(O40=\"\",\"\",VLOOKUP(O40,Lookup!$L$2:$M$6,2,FALSE))","v":""},{"$f":"IFERROR(IF(AND(C40=\"Internal\",I40=90),VLOOKUP(K40,Points!$C$2:$G$6,MATCH(\"Internal Grade\",Points!$C$2:$G$2,0),FALSE),\"\"),\"\")","v":""},{"$f":"IF(Q40=\"\",\"\",VLOOKUP(Q40,Lookup!$L$2:$M$6,2,FALSE))","v":""},{"$f":"IFERROR(IF(AND(C40=\"Internal\",I40=60),VLOOKUP(K40,Points!$B$2:$G$6,MATCH(\"Internal Grade\",Points!$B$2:$G$2,0),FALSE),\"\"),\"\")","v":""},{"$f":"IF(S40=\"\",\"\",VLOOKUP(S40,Lookup!$L$2:$M$6,2,FALSE))","v":""},{"$f":"IF(AND(C40=\"External\",I40=120),VLOOKUP(K40,Points!$M$2:$N$35,MATCH(\"120 GLH Grade\",Points!$M$2:$N$2,0),FALSE),\"No\")","v":"No"},{"$f":"IF(U40=\"\",\"\",VLOOKUP(U40,Lookup!$L$1:$M$6,2,FALSE))","v":0},{"$f":"IF(AND(C40=\"External\",I40=90),VLOOKUP(K40,Points!$J$2:$K$27,MATCH(\"90 GLH Grade\",Points!$J$2:$K$2,0),FALSE),\"No\")","v":"No"},{"$f":"IF(W40=\"\",\"\",VLOOKUP(W40,Lookup!$L$1:$M$6,2,FALSE))","v":0}]
[null,"Optional",{"$f":"IFERROR(INDEX('Extended Certificate Data Sheet'!$Y$3:$Y$1000,MATCH(E41&$E$3,'Extended Certificate Data Sheet'!$T$3:$T$1000&'Extended Certificate Data Sheet'!$U$3:$U$1000,0)),\"\")","v":0},{"$f":"IFERROR(INDEX('Extended Certificate Data Sheet'!$V$3:$V$1000,MATCH(E41&$E$3,'Extended Certificate Data Sheet'!$T$3:$T$1000&'Extended Certificate Data Sheet'!$U$3:$U$1000,0)),\"\")","v":0},null,null,null,null,{"$f":"IFERROR(INDEX('Extended Certificate Data Sheet'!$X$3:$X$1000,MATCH(E41&$E$3,'Extended Certificate Data Sheet'!$T$3:$T$1000&'Extended Certificate Data Sheet'!$U$3:$U$1000,0)),\"\")","v":0},null,{"$f":"IFERROR(IF(C41=\"Internal\",VLOOKUP(J41,Points!$A$2:$C$6,MATCH(C41&\" \"&I41&\" GLH\",Points!$A$2:$C$2,0),FALSE),\"\"),\"\")","v":""},{"$f":"IF(E41=\"\",\"\",VLOOKUP(SUM(P41,R41,T41,V41,X41),Lookup!$M$1:$N$6,2,FALSE))","v":""},null,null,null,{"$f":"IF(O41=\"\",\"\",VLOOKUP(O41,Lookup!$L$2:$M$6,2,FALSE))","v":""},{"$f":"IFERROR(IF(AND(C41=\"Internal\",I41=90),VLOOKUP(K41,Points!$C$2:$G$6,MATCH(\"Internal Grade\",Points!$C$2:$G$2,0),FALSE),\"\"),\"\")","v":""},{"$f":"IF(Q41=\"\",\"\",VLOOKUP(Q41,Lookup!$L$2:$M$6,2,FALSE))","v":""},{"$f":"IFERROR(IF(AND(C41=\"Internal\",I41=60),VLOOKUP(K41,Points!$B$2:$G$6,MATCH(\"Internal Grade\",Points!$B$2:$G$2,0),FALSE),\"\"),\"\")","v":""},{"$f":"IF(S41=\"\",\"\",VLOOKUP(S41,Lookup!$L$2:$M$6,2,FALSE))","v":""},{"$f":"IF(AND(C41=\"External\",I41=120),VLOOKUP(K41,Points!$M$2:$N$35,MATCH(\"120 GLH Grade\",Points!$M$2:$N$2,0),FALSE),\"No\")","v":"No"},{"$f":"IF(U41=\"\",\"\",VLOOKUP(U41,Lookup!$L$1:$M$6,2,FALSE))","v":0},{"$f":"IF(AND(C41=\"External\",I41=90),VLOOKUP(K41,Points!$J$2:$K$27,MATCH(\"90 GLH Grade\",Points!$J$2:$K$2,0),FALSE),\"No\")","v":"No"},{"$f":"IF(W41=\"\",\"\",VLOOKUP(W41,Lookup!$L$1:$M$6,2,FALSE))","v":0}]
[null,"Optional",{"$f":"IFERROR(INDEX('Extended Certificate Data Sheet'!$Y$3:$Y$1000,MATCH(E42&$E$3,'Extended Certificate Data Sheet'!$T$3:$T$1000&'Extended Certificate Data Sheet'!$U$3:$U$1000,0)),\"\")","v":0},{"$f":"IFERROR(INDEX('Extended Certificate Data Sheet'!$V$3:$V$1000,MATCH(E42&$E$3,'Extended Certificate Data Sheet'!$T$3:$T$1000&'Extended Certificate Data Sheet'!$U$3:$U$1000,0)),\"\")","v":0},null,null,null,null,{"$f":"IFERROR(INDEX('Extended Certificate Data Sheet'!$X$3:$X$1000,MATCH(E42&$E$3,'Extended Certificate Data Sheet'!$T$3:$T$1000&'Extended Certificate Data Sheet'!$U$3:$U$1000,0)),\"\")","v":0},null,{"$f":"IFERROR(IF(C42=\"Internal\",VLOOKUP(J42,Points!$A$2:$C$6,MATCH(C42&\" \"&I42&\" GLH\",Points!$A$2:$C$2,0),FALSE),\"\"),\"\")","v":""},{"$f":"IF(E42=\"\",\"\",VLOOKUP(SUM(P42,R42,T42,V42,X42),Lookup!$M$1:$N$6,2,FALSE))","v":""},null,null,null,{"$f":"IF(O42=\"\",\"\",VLOOKUP(O42,Lookup!$L$2:$M$6,2,FALSE))","v":""},{"$f":"IFERROR(IF(AND(C42=\"Internal\",I42=90),VLOOKUP(K42,Points!$C$2:$G$6,MATCH(\"Internal Grade\",Points!$C$2:$G$2,0),FALSE),\"\"),\"\")","v":""},{"$f":"IF(Q42=\"\",\"\",VLOOKUP(Q42,Lookup!$L$2:$M$6,2,FALSE))","v":""},{"$f":"IFERROR(IF(AND(C42=\"Internal\",I42=60),VLOOKUP(K42,Points!$B$2:$G$6,MATCH(\"Internal Grade\",Points!$B$2:$G$2,0),FALSE),\"\"),\"\")","v":""},{"$f":"IF(S42=\"\",\"\",VLOOKUP(S42,Lookup!$L$2:$M$6,2,FALSE))","v":""},{"$f":"IF(AND(C42=\"External\",I42=120),VLOOKUP(K42,Points!$M$2:$N$35,MATCH(\"120 GLH Grade\",Points!$M$2:$N$2,0),FALSE),\"No\")","v":"No"},{"$f":"IF(U42=\"\",\"\",VLOOKUP(U42,Lookup!$L$1:$M$6,2,FALSE))","v":0},{"$f":"IF(AND(C42=\"External\",I42=90),VLOOKUP(K42,Points!$J$2:$K$27,MATCH(\"90 GLH Grade\",Points!$J$2:$K$2,0),FALSE),\"No\")","v":"No"},{"$f":"IF(W42=\"\",\"\",VLOOKUP(W42,Lookup!$L$1:$M$6,2,FALSE))","v":0}]
[null,"Optional",{"$f":"IFERROR(INDEX('Extended Certificate Data Sheet'!$Y$3:$Y$1000,MATCH(E43&$E$3,'Extended Certificate Data Sheet'!$T$3:$T$1000&'Extended Certificate Data Sheet'!$U$3:$U$1000,0)),\"\")","v":0},{"$f":"IFERROR(INDEX('Extended Certificate Data Sheet'!$V$3:$V$1000,MATCH(E43&$E$3,'Extended Certificate Data Sheet'!$T$3:$T$1000&'Extended Certificate Data Sheet'!$U$3:$U$1000,0)),\"\")","v":0},null,null,null,null,{"$f":"IFERROR(INDEX('Extended Certificate Data Sheet'!$X$3:$X$1000,MATCH(E43&$E$3,'Extended Certificate Data Sheet'!$T$3:$T$1000&'Extended Certificate Data Sheet'!$U$3:$U$1000,0)),\"\")","v":0},null,{"$f":"IFERROR(IF(C43=\"Internal\",VLOOKUP(J43,Points!$A$2:$C$6,MATCH(C43&\" \"&I43&\" GLH\",Points!$A$2:$C$2,0),FALSE),\"\"),\"\")","v":""},{"$f":"IF(E43=\"\",\"\",VLOOKUP(SUM(P43,R43,T43,V43,X43),Lookup!$M$1:$N$6,2,FALSE))","v":""},null,null,null,{"$f":"IF(O43=\"\",\"\",VLOOKUP(O43,Lookup!$L$2:$M$6,2,FALSE))","v":""},{"$f":"IFERROR(IF(AND(C43=\"Internal\",I43=90),VLOOKUP(K43,Points!$C$2:$G$6,MATCH(\"Internal Grade\",Points!$C$2:$G$2,0),FALSE),\"\"),\"\")","v":""},{"$f":"IF(Q43=\"\",\"\",VLOOKUP(Q43,Lookup!$L$2:$M$6,2,FALSE))","v":""},{"$f":"IFERROR(IF(AND(C43=\"Internal\",I43=60),VLOOKUP(K43,Points!$B$2:$G$6,MATCH(\"Internal Grade\",Points!$B$2:$G$2,0),FALSE),\"\"),\"\")","v":""},{"$f":"IF(S43=\"\",\"\",VLOOKUP(S43,Lookup!$L$2:$M$6,2,FALSE))","v":""},{"$f":"IF(AND(C43=\"External\",I43=120),VLOOKUP(K43,Points!$M$2:$N$35,MATCH(\"120 GLH Grade\",Points!$M$2:$N$2,0),FALSE),\"No\")","v":"No"},{"$f":"IF(U43=\"\",\"\",VLOOKUP(U43,Lookup!$L$1:$M$6,2,FALSE))","v":0},{"$f":"IF(AND(C43=\"External\",I43=90),VLOOKUP(K43,Points!$J$2:$K$27,MATCH(\"90 GLH Grade\",Points!$J$2:$K$2,0),FALSE),\"No\")","v":"No"},{"$f":"IF(W43=\"\",\"\",VLOOKUP(W43,Lookup!$L$1:$M$6,2,FALSE))","v":0}]
[null,"Optional",{"$f":"IFERROR(INDEX('Extended Certificate Data Sheet'!$Y$3:$Y$1000,MATCH(E44&$E$3,'Extended Certificate Data Sheet'!$T$3:$T$1000&'Extended Certificate Data Sheet'!$U$3:$U$1000,0)),\"\")","v":0},{"$f":"IFERROR(INDEX('Extended Certificate Data Sheet'!$V$3:$V$1000,MATCH(E44&$E$3,'Extended Certificate Data Sheet'!$T$3:$T$1000&'Extended Certificate Data Sheet'!$U$3:$U$1000,0)),\"\")","v":0},null,null,null,null,{"$f":"IFERROR(INDEX('Extended Certificate Data Sheet'!$X$3:$X$1000,MATCH(E44&$E$3,'Extended Certificate Data Sheet'!$T$3:$T$1000&'Extended Certificate Data Sheet'!$U$3:$U$1000,0)),\"\")","v":0},null,{"$f":"IFERROR(IF(C44=\"Internal\",VLOOKUP(J44,Points!$A$2:$C$6,MATCH(C44&\" \"&I44&\" GLH\",Points!$A$2:$C$2,0),FALSE),\"\"),\"\")","v":""},{"$f":"IF(E44=\"\",\"\",VLOOKUP(SUM(P44,R44,T44,V44,X44),Lookup!$M$1:$N$6,2,FALSE))","v":""},null,null,null,{"$f":"IF(O44=\"\",\"\",VLOOKUP(O44,Lookup!$L$2:$M$6,2,FALSE))","v":""},{"$f":"IFERROR(IF(AND(C44=\"Internal\",I44=90),VLOOKUP(K44,Points!$C$2:$G$6,MATCH(\"Internal Grade\",Points!$C$2:$G$2,0),FALSE),\"\"),\"\")","v":""},{"$f":"IF(Q44=\"\",\"\",VLOOKUP(Q44,Lookup!$L$2:$M$6,2,FALSE))","v":""},{"$f":"IFERROR(IF(AND(C44=\"Internal\",I44=60),VLOOKUP(K44,Points!$B$2:$G$6,MATCH(\"Internal Grade\",Points!$B$2:$G$2,0),FALSE),\"\"),\"\")","v":""},{"$f":"IF(S44=\"\",\"\",VLOOKUP(S44,Lookup!$L$2:$M$6,2,FALSE))","v":""},{"$f":"IF(AND(C44=\"External\",I44=120),VLOOKUP(K44,Points!$M$2:$N$35,MATCH(\"120 GLH Grade\",Points!$M$2:$N$2,0),FALSE),\"No\")","v":"No"},{"$f":"IF(U44=\"\",\"\",VLOOKUP(U44,Lookup!$L$1:$M$6,2,FALSE))","v":0},{"$f":"IF(AND(C44=\"External\",I44=90),VLOOKUP(K44,Points!$J$2:$K$27,MATCH(\"90 GLH Grade\",Points!$J$2:$K$2,0),FALSE),\"No\")","v":"No"},{"$f":"IF(W44=\"\",\"\",VLOOKUP(W44,Lookup!$L$1:$M$6,2,FALSE))","v":0}]
[null,"Optional",{"$f":"IFERROR(INDEX('Extended Certificate Data Sheet'!$Y$3:$Y$1000,MATCH(E45&$E$3,'Extended Certificate Data Sheet'!$T$3:$T$1000&'Extended Certificate Data Sheet'!$U$3:$U$1000,0)),\"\")","v":0},{"$f":"IFERROR(INDEX('Extended Certificate Data Sheet'!$V$3:$V$1000,MATCH(E45&$E$3,'Extended Certificate Data Sheet'!$T$3:$T$1000&'Extended Certificate Data Sheet'!$U$3:$U$1000,0)),\"\")","v":0},null,null,null,null,{"$f":"IFERROR(INDEX('Extended Certificate Data Sheet'!$X$3:$X$1000,MATCH(E45&$E$3,'Extended Certificate Data Sheet'!$T$3:$T$1000&'Extended Certificate Data Sheet'!$U$3:$U$1000,0)),\"\")","v":0},null,{"$f":"IFERROR(IF(C45=\"Internal\",VLOOKUP(J45,Points!$A$2:$C$6,MATCH(C45&\" \"&I45&\" GLH\",Points!$A$2:$C$2,0),FALSE),\"\"),\"\")","v":""},{"$f":"IF(E45=\"\",\"\",VLOOKUP(SUM(P45,R45,T45,V45,X45),Lookup!$M$1:$N$6,2,FALSE))","v":""},null,null,null,{"$f":"IF(O45=\"\",\"\",VLOOKUP(O45,Lookup!$L$2:$M$6,2,FALSE))","v":""},{"$f":"IFERROR(IF(AND(C45=\"Internal\",I45=90),VLOOKUP(K45,Points!$C$2:$G$6,MATCH(\"Internal Grade\",Points!$C$2:$G$2,0),FALSE),\"\"),\"\")","v":""},{"$f":"IF(Q45=\"\",\"\",VLOOKUP(Q45,Lookup!$L$2:$M$6,2,FALSE))","v":""},{"$f":"IFERROR(IF(AND(C45=\"Internal\",I45=60),VLOOKUP(K45,Points!$B$2:$G$6,MATCH(\"Internal Grade\",Points!$B$2:$G$2,0),FALSE),\"\"),\"\")","v":""},{"$f":"IF(S45=\"\",\"\",VLOOKUP(S45,Lookup!$L$2:$M$6,2,FALSE))","v":""},{"$f":"IF(AND(C45=\"External\",I45=120),VLOOKUP(K45,Points!$M$2:$N$35,MATCH(\"120 GLH Grade\",Points!$M$2:$N$2,0),FALSE),\"No\")","v":"No"},{"$f":"IF(U45=\"\",\"\",VLOOKUP(U45,Lookup!$L$1:$M$6,2,FALSE))","v":0},{"$f":"IF(AND(C45=\"External\",I45=90),VLOOKUP(K45,Points!$J$2:$K$27,MATCH(\"90 GLH Grade\",Points!$J$2:$K$2,0),FALSE),\"No\")","v":"No"},{"$f":"IF(W45=\"\",\"\",VLOOKUP(W45,Lookup!$L$1:$M$6,2,FALSE))","v":0}]
[null,"Optional",{"$f":"IFERROR(INDEX('Extended Certificate Data Sheet'!$Y$3:$Y$1000,MATCH(E46&$E$3,'Extended Certificate Data Sheet'!$T$3:$T$1000&'Extended Certificate Data Sheet'!$U$3:$U$1000,0)),\"\")","v":0},{"$f":"IFERROR(INDEX('Extended Certificate Data Sheet'!$V$3:$V$1000,MATCH(E46&$E$3,'Extended Certificate Data Sheet'!$T$3:$T$1000&'Extended Certificate Data Sheet'!$U$3:$U$1000,0)),\"\")","v":0},null,null,null,null,{"$f":"IFERROR(INDEX('Extended Certificate Data Sheet'!$X$3:$X$1000,MATCH(E46&$E$3,'Extended Certificate Data Sheet'!$T$3:$T$1000&'Extended Certificate Data Sheet'!$U$3:$U$1000,0)),\"\")","v":0},null,{"$f":"IFERROR(IF(C46=\"Internal\",VLOOKUP(J46,Points!$A$2:$C$6,MATCH(C46&\" \"&I46&\" GLH\",Points!$A$2:$C$2,0),FALSE),\"\"),\"\")","v":""},{"$f":"IF(E46=\"\",\"\",VLOOKUP(SUM(P46,R46,T46,V46,X46),Lookup!$M$1:$N$6,2,FALSE))","v":""},null,null,null,{"$f":"IF(O46=\"\",\"\",VLOOKUP(O46,Lookup!$L$2:$M$6,2,FALSE))","v":""},{"$f":"IFERROR(IF(AND(C46=\"Internal\",I46=90),VLOOKUP(K46,Points!$C$2:$G$6,MATCH(\"Internal Grade\",Points!$C$2:$G$2,0),FALSE),\"\"),\"\")","v":""},{"$f":"IF(Q46=\"\",\"\",VLOOKUP(Q46,Lookup!$L$2:$M$6,2,FALSE))","v":""},{"$f":"IFERROR(IF(AND(C46=\"Internal\",I46=60),VLOOKUP(K46,Points!$B$2:$G$6,MATCH(\"Internal Grade\",Points!$B$2:$G$2,0),FALSE),\"\"),\"\")","v":""},{"$f":"IF(S46=\"\",\"\",VLOOKUP(S46,Lookup!$L$2:$M$6,2,FALSE))","v":""},{"$f":"IF(AND(C46=\"External\",I46=120),VLOOKUP(K46,Points!$M$2:$N$35,MATCH(\"120 GLH Grade\",Points!$M$2:$N$2,0),FALSE),\"No\")","v":"No"},{"$f":"IF(U46=\"\",\"\",VLOOKUP(U46,Lookup!$L$1:$M$6,2,FALSE))","v":0},{"$f":"IF(AND(C46=\"External\",I46=90),VLOOKUP(K46,Points!$J$2:$K$27,MATCH(\"90 GLH Grade\",Points!$J$2:$K$2,0),FALSE),\"No\")","v":"No"},{"$f":"IF(W46=\"\",\"\",VLOOKUP(W46,Lookup!$L$1:$M$6,2,FALSE))","v":0}]
[null,null,null,null,null,null,null,null,{"$f":"SUM(I37:I46)","v":0}]
[]
[null,"Optional",{"$f":"IFERROR(INDEX('Extended Certificate Data Sheet'!$AF$3:$AF$1000,MATCH(E49&$E$3,'Extended Certificate Data Sheet'!$AA$3:$AA$1000&'Extended Certificate Data Sheet'!$AB$3:$AB$1000,0)),\"\")","v":0},{"$f":"IFERROR(INDEX('Extended Certificate Data Sheet'!$AC$3:$AC$1000,MATCH(E49&$E$3,'Extended Certificate Data Sheet'!$AA$3:$AA$1000&'Extended Certificate Data Sheet'!$AB$3:$AB$1000,0)),\"\")","v":0},null,null,null,null,{"$f":"IFERROR(INDEX('Extended Certificate Data Sheet'!$AE$3:$AE$1000,MATCH(E49&$E$3,'Extended Certificate Data Sheet'!$AA$3:$AA$1000&'Extended Certificate Data Sheet'!$AB$3:$AB$1000,0)),\"\")","v":0},null,{"$f":"IFERROR(IF(C49=\"Internal\",VLOOKUP(J49,Points!$A$2:$C$6,MATCH(C49&\" \"&I49&\" GLH\",Points!$A$2:$C$2,0),FALSE),\"\"),\"\")","v":""},{"$f":"IF(E49=\"\",\"\",VLOOKUP(SUM(P49,R49,T49,V49,X49),Lookup!$M$1:$N$6,2,FALSE))","v":""},null,null,null,null,{"$f":"IFERROR(IF(AND(C49=\"Internal\",I49=90),VLOOKUP(K49,Points!$C$2:$G$6,MATCH(\"Internal Grade\",Points!$C$2:$G$2,0),FALSE),\"\"),\"\")","v":""},{"$f":"IF(Q49=\"\",\"\",VLOOKUP(Q49,Lookup!$L$2:$M$6,2,FALSE))","v":""},{"$f":"IFERROR(IF(AND(C49=\"Internal\",I49=60),VLOOKUP(K49,Points!$B$2:$G$6,MATCH(\"Internal Grade\",Points!$B$2:$G$2,0),FALSE),\"\"),\"\")","v":""},{"$f":"IF(S49=\"\",\"\",VLOOKUP(S49,Lookup!$L$2:$M$6,2,FALSE))","v":""},{"$f":"IF(AND(C49=\"External\",I49=120),VLOOKUP(K49,Points!$M$2:$N$35,MATCH(\"120 GLH Grade\",Points!$M$2:$N$2,0),FALSE),\"No\")","v":"No"},{"$f":"IF(U49=\"\",\"\",VLOOKUP(U49,Lookup!$L$1:$M$6,2,FALSE))","v":0},{"$f":"IF(AND(C49=\"External\",I49=90),VLOOKUP(K49,Points!$J$2:$K$27,MATCH(\"90 GLH Grade\",Points!$J$2:$K$2,0),FALSE),\"No\")","v":"No"},{"$f":"IF(W49=\"\",\"\",VLOOKUP(W49,Lookup!$L$1:$M$6,2,FALSE))","v":0}]
[null,"Optional",{"$f":"IFERROR(INDEX('Extended Certificate Data Sheet'!$AF$3:$AF$1000,MATCH(E50&$E$3,'Extended Certificate Data Sheet'!$AA$3:$AA$1000&'Extended Certificate Data Sheet'!$AB$3:$AB$1000,0)),\"\")","v":0},{"$f":"IFERROR(INDEX('Extended Certificate Data Sheet'!$AC$3:$AC$1000,MATCH(E50&$E$3,'Extended Certificate Data Sheet'!$AA$3:$AA$1000&'Extended Certificate Data Sheet'!$AB$3:$AB$1000,0)),\"\")","v":0},null,null,null,null,{"$f":"IFERROR(INDEX('Extended Certificate Data Sheet'!$AE$3:$AE$1000,MATCH(E50&$E$3,'Extended Certificate Data Sheet'!$AA$3:$AA$1000&'Extended Certificate Data Sheet'!$AB$3:$AB$1000,0)),\"\")","v":0},null,{"$f":"IFERROR(IF(C50=\"Internal\",VLOOKUP(J50,Points!$A$2:$C$6,MATCH(C50&\" \"&I50&\" GLH\",Points!$A$2:$C$2,0),FALSE),\"\"),\"\")","v":""},{"$f":"IF(E50=\"\",\"\",VLOOKUP(SUM(P50,R50,T50,V50,X50),Lookup!$M$1:$N$6,2,FALSE))","v":""},null,null,null,null,{"$f":"IFERROR(IF(AND(C50=\"Internal\",I50=90),VLOOKUP(K50,Points!$C$2:$G$6,MATCH(\"Internal Grade\",Points!$C$2:$G$2,0),FALSE),\"\"),\"\")","v":""},{"$f":"IF(Q50=\"\",\"\",VLOOKUP(Q50,Lookup!$L$2:$M$6,2,FALSE))","v":""},{"$f":"IFERROR(IF(AND(C50=\"Internal\",I50=60),VLOOKUP(K50,Points!$B$2:$G$6,MATCH(\"Internal Grade\",Points!$B$2:$G$2,0),FALSE),\"\"),\"\")","v":""},{"$f":"IF(S50=\"\",\"\",VLOOKUP(S50,Lookup!$L$2:$M$6,2,FALSE))","v":""},{"$f":"IF(AND(C50=\"External\",I50=120),VLOOKUP(K50,Points!$M$2:$N$35,MATCH(\"120 GLH Grade\",Points!$M$2:$N$2,0),FALSE),\"No\")","v":"No"},{"$f":"IF(U50=\"\",\"\",VLOOKUP(U50,Lookup!$L$1:$M$6,2,FALSE))","v":0},{"$f":"IF(AND(C50=\"External\",I50=90),VLOOKUP(K50,Points!$J$2:$K$27,MATCH(\"90 GLH Grade\",Points!$J$2:$K$2,0),FALSE),\"No\")","v":"No"},{"$f":"IF(W50=\"\",\"\",VLOOKUP(W50,Lookup!$L$1:$M$6,2,FALSE))","v":0}]
[null,"Optional",{"$f":"IFERROR(INDEX('Extended Certificate Data Sheet'!$AF$3:$AF$1000,MATCH(E51&$E$3,'Extended Certificate Data Sheet'!$AA$3:$AA$1000&'Extended Certificate Data Sheet'!$AB$3:$AB$1000,0)),\"\")","v":0},{"$f":"IFERROR(INDEX('Extended Certificate Data Sheet'!$AC$3:$AC$1000,MATCH(E51&$E$3,'Extended Certificate Data Sheet'!$AA$3:$AA$1000&'Extended Certificate Data Sheet'!$AB$3:$AB$1000,0)),\"\")","v":0},null,null,null,null,{"$f":"IFERROR(INDEX('Extended Certificate Data Sheet'!$AE$3:$AE$1000,MATCH(E51&$E$3,'Extended Certificate Data Sheet'!$AA$3:$AA$1000&'Extended Certificate Data Sheet'!$AB$3:$AB$1000,0)),\"\")","v":0},null,{"$f":"IFERROR(IF(C51=\"Internal\",VLOOKUP(J51,Points!$A$2:$C$6,MATCH(C51&\" \"&I51&\" GLH\",Points!$A$2:$C$2,0),FALSE),\"\"),\"\")","v":""},{"$f":"IF(E51=\"\",\"\",VLOOKUP(SUM(P51,R51,T51,V51,X51),Lookup!$M$1:$N$6,2,FALSE))","v":""},null,null,null,null,{"$f":"IFERROR(IF(AND(C51=\"Internal\",I51=90),VLOOKUP(K51,Points!$C$2:$G$6,MATCH(\"Internal Grade\",Points!$C$2:$G$2,0),FALSE),\"\"),\"\")","v":""},{"$f":"IF(Q51=\"\",\"\",VLOOKUP(Q51,Lookup!$L$2:$M$6,2,FALSE))","v":""},{"$f":"IFERROR(IF(AND(C51=\"Internal\",I51=60),VLOOKUP(K51,Points!$B$2:$G$6,MATCH(\"Internal Grade\",Points!$B$2:$G$2,0),FALSE),\"\"),\"\")","v":""},{"$f":"IF(S51=\"\",\"\",VLOOKUP(S51,Lookup!$L$2:$M$6,2,FALSE))","v":""},{"$f":"IF(AND(C51=\"External\",I51=120),VLOOKUP(K51,Points!$M$2:$N$35,MATCH(\"120 GLH Grade\",Points!$M$2:$N$2,0),FALSE),\"No\")","v":"No"},{"$f":"IF(U51=\"\",\"\",VLOOKUP(U51,Lookup!$L$1:$M$6,2,FALSE))","v":0},{"$f":"IF(AND(C51=\"External\",I51=90),VLOOKUP(K51,Points!$J$2:$K$27,MATCH(\"90 GLH Grade\",Points!$J$2:$K$2,0),FALSE),\"No\")","v":"No"},{"$f":"IF(W51=\"\",\"\",VLOOKUP(W51,Lookup!$L$1:$M$6,2,FALSE))","v":0}]
[null,"Optional",{"$f":"IFERROR(INDEX('Extended Certificate Data Sheet'!$AF$3:$AF$1000,MATCH(E52&$E$3,'Extended Certificate Data Sheet'!$AA$3:$AA$1000&'Extended Certificate Data Sheet'!$AB$3:$AB$1000,0)),\"\")","v":0},{"$f":"IFERROR(INDEX('Extended Certificate Data Sheet'!$AC$3:$AC$1000,MATCH(E52&$E$3,'Extended Certificate Data Sheet'!$AA$3:$AA$1000&'Extended Certificate Data Sheet'!$AB$3:$AB$1000,0)),\"\")","v":0},null,null,null,null,{"$f":"IFERROR(INDEX('Extended Certificate Data Sheet'!$AE$3:$AE$1000,MATCH(E52&$E$3,'Extended Certificate Data Sheet'!$AA$3:$AA$1000&'Extended Certificate Data Sheet'!$AB$3:$AB$1000,0)),\"\")","v":0},null,{"$f":"IFERROR(IF(C52=\"Internal\",VLOOKUP(J52,Points!$A$2:$C$6,MATCH(C52&\" \"&I52&\" GLH\",Points!$A$2:$C$2,0),FALSE),\"\"),\"\")","v":""},{"$f":"IF(E52=\"\",\"\",VLOOKUP(SUM(P52,R52,T52,V52,X52),Lookup!$M$1:$N$6,2,FALSE))","v":""},null,null,null,null,{"$f":"IFERROR(IF(AND(C52=\"Internal\",I52=90),VLOOKUP(K52,Points!$C$2:$G$6,MATCH(\"Internal Grade\",Points!$C$2:$G$2,0),FALSE),\"\"),\"\")","v":""},{"$f":"IF(Q52=\"\",\"\",VLOOKUP(Q52,Lookup!$L$2:$M$6,2,FALSE))","v":""},{"$f":"IFERROR(IF(AND(C52=\"Internal\",I52=60),VLOOKUP(K52,Points!$B$2:$G$6,MATCH(\"Internal Grade\",Points!$B$2:$G$2,0),FALSE),\"\"),\"\")","v":""},{"$f":"IF(S52=\"\",\"\",VLOOKUP(S52,Lookup!$L$2:$M$6,2,FALSE))","v":""},{"$f":"IF(AND(C52=\"External\",I52=120),VLOOKUP(K52,Points!$M$2:$N$35,MATCH(\"120 GLH Grade\",Points!$M$2:$N$2,0),FALSE),\"No\")","v":"No"},{"$f":"IF(U52=\"\",\"\",VLOOKUP(U52,Lookup!$L$1:$M$6,2,FALSE))","v":0},{"$f":"IF(AND(C52=\"External\",I52=90),VLOOKUP(K52,Points!$J$2:$K$27,MATCH(\"90 GLH Grade\",Points!$J$2:$K$2,0),FALSE),\"No\")","v":"No"},{"$f":"IF(W52=\"\",\"\",VLOOKUP(W52,Lookup!$L$1:$M$6,2,FALSE))","v":0}]
[null,null,null,null,null,null,null,null,{"$f":"SUM(I49:I51)","v":0},null,null,{"$f":"IF(E53=\"\",\"\",VLOOKUP(SUM(R53,T53,V53,X53),Lookup!$M$1:$N$6,2,FALSE))","v":""},null,null,null,null,{"$f":"IFERROR(IF(AND(C53=\"Internal\",I53=90),VLOOKUP(K53,Points!$C$2:$G$6,MATCH(\"Internal Grade\",Points!$C$2:$G$2,0),FALSE),\"\"),\"\")","v":""},{"$f":"IF(Q53=\"\",\"\",VLOOKUP(Q53,Lookup!$L$2:$M$6,2,FALSE))","v":""},{"$f":"IFERROR(IF(AND(C53=\"Internal\",I53=60),VLOOKUP(K53,Points!$B$2:$G$6,MATCH(\"Internal Grade\",Points!$B$2:$G$2,0),FALSE),\"\"),\"\")","v":""},{"$f":"IF(S53=\"\",\"\",VLOOKUP(S53,Lookup!$L$2:$M$6,2,FALSE))","v":""},{"$f":"IF(AND(C53=\"External\",I53=120),VLOOKUP(K53,Points!$M$2:$N$35,MATCH(\"120 GLH Grade\",Points!$M$2:$N$2,0),FALSE),\"No\")","v":"No"},{"$f":"IF(U53=\"\",\"\",VLOOKUP(U53,Lookup!$L$1:$M$6,2,FALSE))","v":0},{"$f":"IF(AND(C53=\"External\",I53=90),VLOOKUP(K53,Points!$J$2:$K$27,MATCH(\"90 GLH Grade\",Points!$J$2:$K$2,0),FALSE),\"No\")","v":"No"},{"$f":"IF(W53=\"\",\"\",VLOOKUP(W53,Lookup!$L$1:$M$6,2,FALSE))","v":0}]
[null,null,null,null,null,null,null,null,null,null,null,{"$f":"IF(E54=\"\",\"\",VLOOKUP(SUM(R54,T54,V54,X54),Lookup!$M$1:$N$6,2,FALSE))","v":""},null,null,null,null,{"$f":"IFERROR(IF(AND(C54=\"Internal\",I54=90),VLOOKUP(K54,Points!$C$2:$G$6,MATCH(\"Internal Grade\",Points!$C$2:$G$2,0),FALSE),\"\"),\"\")","v":""},{"$f":"IF(Q54=\"\",\"\",VLOOKUP(Q54,Lookup!$L$2:$M$6,2,FALSE))","v":""},{"$f":"IFERROR(IF(AND(C54=\"Internal\",I54=60),VLOOKUP(K54,Points!$B$2:$G$6,MATCH(\"Internal Grade\",Points!$B$2:$G$2,0),FALSE),\"\"),\"\")","v":""},{"$f":"IF(S54=\"\",\"\",VLOOKUP(S54,Lookup!$L$2:$M$6,2,FALSE))","v":""},{"$f":"IF(AND(C54=\"External\",I54=120),VLOOKUP(K54,Points!$M$2:$N$35,MATCH(\"120 GLH Grade\",Points!$M$2:$N$2,0),FALSE),\"No\")","v":"No"},{"$f":"IF(U54=\"\",\"\",VLOOKUP(U54,Lookup!$L$1:$M$6,2,FALSE))","v":0},{"$f":"IF(AND(C54=\"External\",I54=90),VLOOKUP(K54,Points!$J$2:$K$27,MATCH(\"90 GLH Grade\",Points!$J$2:$K$2,0),FALSE),\"No\")","v":"No"},{"$f":"IF(W54=\"\",\"\",VLOOKUP(W54,Lookup!$L$1:$M$6,2,FALSE))","v":0}]
[null,"Optional",{"$f":"IFERROR(INDEX('Extended Certificate Data Sheet'!$AM$3:$AM$1000,MATCH(E55&$E$3,'Extended Certificate Data Sheet'!$AH$3:$AH$1000&'Extended Certificate Data Sheet'!$AI$3:$AI$1000,0)),\"\")","v":0},{"$f":"IFERROR(INDEX('Extended Certificate Data Sheet'!$AJ$3:$AJ$1000,MATCH(E55&$E$3,'Extended Certificate Data Sheet'!$AH$3:$AH$1000&'Extended Certificate Data Sheet'!$AI$3:$AI$1000,0)),\"\")","v":0},null,null,null,null,{"$f":"IFERROR(INDEX('Extended Certificate Data Sheet'!$AL$3:$AL$1000,MATCH(E55&$E$3,'Extended Certificate Data Sheet'!$AH$3:$AH$1000&'Extended Certificate Data Sheet'!$AI$3:$AI$1000,0)),\"\")","v":0},null,{"$f":"IFERROR(IF(C55=\"Internal\",VLOOKUP(J55,Points!$A$2:$C$6,MATCH(C55&\" \"&I55&\" GLH\",Points!$A$2:$C$2,0),FALSE),\"\"),\"\")","v":""},{"$f":"IF(E55=\"\",\"\",VLOOKUP(SUM(P55,R55,T55,V55,X55),Lookup!$M$1:$N$6,2,FALSE))","v":""},null,null,null,null,{"$f":"IFERROR(IF(AND(C55=\"Internal\",I55=90),VLOOKUP(K55,Points!$C$2:$G$6,MATCH(\"Internal Grade\",Points!$C$2:$G$2,0),FALSE),\"\"),\"\")","v":""},{"$f":"IF(Q55=\"\",\"\",VLOOKUP(Q55,Lookup!$L$2:$M$6,2,FALSE))","v":""},{"$f":"IFERROR(IF(AND(C55=\"Internal\",I55=60),VLOOKUP(K55,Points!$B$2:$G$6,MATCH(\"Internal Grade\",Points!$B$2:$G$2,0),FALSE),\"\"),\"\")","v":""},{"$f":"IF(S55=\"\",\"\",VLOOKUP(S55,Lookup!$L$2:$M$6,2,FALSE))","v":""},{"$f":"IF(AND(C55=\"External\",I55=120),VLOOKUP(K55,Points!$M$2:$N$35,MATCH(\"120 GLH Grade\",Points!$M$2:$N$2,0),FALSE),\"No\")","v":"No"},{"$f":"IF(U55=\"\",\"\",VLOOKUP(U55,Lookup!$L$1:$M$6,2,FALSE))","v":0},{"$f":"IF(AND(C55=\"External\",I55=90),VLOOKUP(K55,Points!$J$2:$K$27,MATCH(\"90 GLH Grade\",Points!$J$2:$K$2,0),FALSE),\"No\")","v":"No"},{"$f":"IF(W55=\"\",\"\",VLOOKUP(W55,Lookup!$L$1:$M$6,2,FALSE))","v":0}]
[null,"Optional",{"$f":"IFERROR(INDEX('Extended Certificate Data Sheet'!$AM$3:$AM$1000,MATCH(E56&$E$3,'Extended Certificate Data Sheet'!$AH$3:$AH$1000&'Extended Certificate Data Sheet'!$AI$3:$AI$1000,0)),\"\")","v":0},{"$f":"IFERROR(INDEX('Extended Certificate Data Sheet'!$AJ$3:$AJ$1000,MATCH(E56&$E$3,'Extended Certificate Data Sheet'!$AH$3:$AH$1000&'Extended Certificate Data Sheet'!$AI$3:$AI$1000,0)),\"\")","v":0},null,null,null,null,{"$f":"IFERROR(INDEX('Extended Certificate Data Sheet'!$AL$3:$AL$1000,MATCH(E56&$E$3,'Extended Certificate Data Sheet'!$AH$3:$AH$1000&'Extended Certificate Data Sheet'!$AI$3:$AI$1000,0)),\"\")","v":0},null,{"$f":"IFERROR(IF(C56=\"Internal\",VLOOKUP(J56,Points!$A$2:$C$6,MATCH(C56&\" \"&I56&\" GLH\",Points!$A$2:$C$2,0),FALSE),\"\"),\"\")","v":""},{"$f":"IF(E56=\"\",\"\",VLOOKUP(SUM(P56,R56,T56,V56,X56),Lookup!$M$1:$N$6,2,FALSE))","v":""},null,null,null,null,{"$f":"IFERROR(IF(AND(C56=\"Internal\",I56=90),VLOOKUP(K56,Points!$C$2:$G$6,MATCH(\"Internal Grade\",Points!$C$2:$G$2,0),FALSE),\"\"),\"\")","v":""},{"$f":"IF(Q56=\"\",\"\",VLOOKUP(Q56,Lookup!$L$2:$M$6,2,FALSE))","v":""},{"$f":"IFERROR(IF(AND(C56=\"Internal\",I56=60),VLOOKUP(K56,Points!$B$2:$G$6,MATCH(\"Internal Grade\",Points!$B$2:$G$2,0),FALSE),\"\"),\"\")","v":""},{"$f":"IF(S56=\"\",\"\",VLOOKUP(S56,Lookup!$L$2:$M$6,2,FALSE))","v":""},{"$f":"IF(AND(C56=\"External\",I56=120),VLOOKUP(K56,Points!$M$2:$N$35,MATCH(\"120 GLH Grade\",Points!$M$2:$N$2,0),FALSE),\"No\")","v":"No"},{"$f":"IF(U56=\"\",\"\",VLOOKUP(U56,Lookup!$L$1:$M$6,2,FALSE))","v":0},{"$f":"IF(AND(C56=\"External\",I56=90),VLOOKUP(K56,Points!$J$2:$K$27,MATCH(\"90 GLH Grade\",Points!$J$2:$K$2,0),FALSE),\"No\")","v":"No"},{"$f":"IF(W56=\"\",\"\",VLOOKUP(W56,Lookup!$L$1:$M$6,2,FALSE))","v":0}]
[null,"Optional",{"$f":"IFERROR(INDEX('Extended Certificate Data Sheet'!$AM$3:$AM$1000,MATCH(E57&$E$3,'Extended Certificate Data Sheet'!$AH$3:$AH$1000&'Extended Certificate Data Sheet'!$AI$3:$AI$1000,0)),\"\")","v":0},{"$f":"IFERROR(INDEX('Extended Certificate Data Sheet'!$AJ$3:$AJ$1000,MATCH(E57&$E$3,'Extended Certificate Data Sheet'!$AH$3:$AH$1000&'Extended Certificate Data Sheet'!$AI$3:$AI$1000,0)),\"\")","v":0},null,null,null,null,{"$f":"IFERROR(INDEX('Extended Certificate Data Sheet'!$AL$3:$AL$1000,MATCH(E57&$E$3,'Extended Certificate Data Sheet'!$AH$3:$AH$1000&'Extended Certificate Data Sheet'!$AI$3:$AI$1000,0)),\"\")","v":0},null,{"$f":"IFERROR(IF(C57=\"Internal\",VLOOKUP(J57,Points!$A$2:$C$6,MATCH(C57&\" \"&I57&\" GLH\",Points!$A$2:$C$2,0),FALSE),\"\"),\"\")","v":""},{"$f":"IF(E57=\"\",\"\",VLOOKUP(SUM(P57,R57,T57,V57,X57),Lookup!$M$1:$N$6,2,FALSE))","v":""},null,null,null,null,{"$f":"IFERROR(IF(AND(C57=\"Internal\",I57=90),VLOOKUP(K57,Points!$C$2:$G$6,MATCH(\"Internal Grade\",Points!$C$2:$G$2,0),FALSE),\"\"),\"\")","v":""},{"$f":"IF(Q57=\"\",\"\",VLOOKUP(Q57,Lookup!$L$2:$M$6,2,FALSE))","v":""},{"$f":"IFERROR(IF(AND(C57=\"Internal\",I57=60),VLOOKUP(K57,Points!$B$2:$G$6,MATCH(\"Internal Grade\",Points!$B$2:$G$2,0),FALSE),\"\"),\"\")","v":""},{"$f":"IF(S57=\"\",\"\",VLOOKUP(S57,Lookup!$L$2:$M$6,2,FALSE))","v":""},{"$f":"IF(AND(C57=\"External\",I57=120),VLOOKUP(K57,Points!$M$2:$N$35,MATCH(\"120 GLH Grade\",Points!$M$2:$N$2,0),FALSE),\"No\")","v":"No"},{"$f":"IF(U57=\"\",\"\",VLOOKUP(U57,Lookup!$L$1:$M$6,2,FALSE))","v":0},{"$f":"IF(AND(C57=\"External\",I57=90),VLOOKUP(K57,Points!$J$2:$K$27,MATCH(\"90 GLH Grade\",Points!$J$2:$K$2,0),FALSE),\"No\")","v":"No"},{"$f":"IF(W57=\"\",\"\",VLOOKUP(W57,Lookup!$L$1:$M$6,2,FALSE))","v":0}]
[null,"Optional",{"$f":"IFERROR(INDEX('Extended Certificate Data Sheet'!$AM$3:$AM$1000,MATCH(E58&$E$3,'Extended Certificate Data Sheet'!$AH$3:$AH$1000&'Extended Certificate Data Sheet'!$AI$3:$AI$1000,0)),\"\")","v":0},{"$f":"IFERROR(INDEX('Extended Certificate Data Sheet'!$AJ$3:$AJ$1000,MATCH(E58&$E$3,'Extended Certificate Data Sheet'!$AH$3:$AH$1000&'Extended Certificate Data Sheet'!$AI$3:$AI$1000,0)),\"\")","v":0},null,null,null,null,{"$f":"IFERROR(INDEX('Extended Certificate Data Sheet'!$AL$3:$AL$1000,MATCH(E58&$E$3,'Extended Certificate Data Sheet'!$AH$3:$AH$1000&'Extended Certificate Data Sheet'!$AI$3:$AI$1000,0)),\"\")","v":0},null,{"$f":"IFERROR(IF(C58=\"Internal\",VLOOKUP(J58,Points!$A$2:$C$6,MATCH(C58&\" \"&I58&\" GLH\",Points!$A$2:$C$2,0),FALSE),\"\"),\"\")","v":""},{"$f":"IF(E58=\"\",\"\",VLOOKUP(SUM(P58,R58,T58,V58,X58),Lookup!$M$1:$N$6,2,FALSE))","v":""},null,null,null,null,{"$f":"IFERROR(IF(AND(C58=\"Internal\",I58=90),VLOOKUP(K58,Points!$C$2:$G$6,MATCH(\"Internal Grade\",Points!$C$2:$G$2,0),FALSE),\"\"),\"\")","v":""},{"$f":"IF(Q58=\"\",\"\",VLOOKUP(Q58,Lookup!$L$2:$M$6,2,FALSE))","v":""},{"$f":"IFERROR(IF(AND(C58=\"Internal\",I58=60),VLOOKUP(K58,Points!$B$2:$G$6,MATCH(\"Internal Grade\",Points!$B$2:$G$2,0),FALSE),\"\"),\"\")","v":""},{"$f":"IF(S58=\"\",\"\",VLOOKUP(S58,Lookup!$L$2:$M$6,2,FALSE))","v":""},{"$f":"IF(AND(C58=\"External\",I58=120),VLOOKUP(K58,Points!$M$2:$N$35,MATCH(\"120 GLH Grade\",Points!$M$2:$N$2,0),FALSE),\"No\")","v":"No"},{"$f":"IF(U58=\"\",\"\",VLOOKUP(U58,Lookup!$L$1:$M$6,2,FALSE))","v":0},{"$f":"IF(AND(C58=\"External\",I58=90),VLOOKUP(K58,Points!$J$2:$K$27,MATCH(\"90 GLH Grade\",Points!$J$2:$K$2,0),FALSE),\"No\")","v":"No"},{"$f":"IF(W58=\"\",\"\",VLOOKUP(W58,Lookup!$L$1:$M$6,2,FALSE))","v":0}]
[null,"Optional",{"$f":"IFERROR(INDEX('Extended Certificate Data Sheet'!$AM$3:$AM$1000,MATCH(E59&$E$3,'Extended Certificate Data Sheet'!$AH$3:$AH$1000&'Extended Certificate Data Sheet'!$AI$3:$AI$1000,0)),\"\")","v":0},{"$f":"IFERROR(INDEX('Extended Certificate Data Sheet'!$AJ$3:$AJ$1000,MATCH(E59&$E$3,'Extended Certificate Data Sheet'!$AH$3:$AH$1000&'Extended Certificate Data Sheet'!$AI$3:$AI$1000,0)),\"\")","v":0},null,null,null,null,{"$f":"IFERROR(INDEX('Extended Certificate Data Sheet'!$AL$3:$AL$1000,MATCH(E59&$E$3,'Extended Certificate Data Sheet'!$AH$3:$AH$1000&'Extended Certificate Data Sheet'!$AI$3:$AI$1000,0)),\"\")","v":0},null,{"$f":"IFERROR(IF(C59=\"Internal\",VLOOKUP(J59,Points!$A$2:$C$6,MATCH(C59&\" \"&I59&\" GLH\",Points!$A$2:$C$2,0),FALSE),\"\"),\"\")","v":""},{"$f":"IF(E59=\"\",\"\",VLOOKUP(SUM(P59,R59,T59,V59,X59),Lookup!$M$1:$N$6,2,FALSE))","v":""},null,null,null,null,{"$f":"IFERROR(IF(AND(C59=\"Internal\",I59=90),VLOOKUP(K59,Points!$C$2:$G$6,MATCH(\"Internal Grade\",Points!$C$2:$G$2,0),FALSE),\"\"),\"\")","v":""},{"$f":"IF(Q59=\"\",\"\",VLOOKUP(Q59,Lookup!$L$2:$M$6,2,FALSE))","v":""},{"$f":"IFERROR(IF(AND(C59=\"Internal\",I59=60),VLOOKUP(K59,Points!$B$2:$G$6,MATCH(\"Internal Grade\",Points!$B$2:$G$2,0),FALSE),\"\"),\"\")","v":""},{"$f":"IF(S59=\"\",\"\",VLOOKUP(S59,Lookup!$L$2:$M$6,2,FALSE))","v":""},{"$f":"IF(AND(C59=\"External\",I59=120),VLOOKUP(K59,Points!$M$2:$N$35,MATCH(\"120 GLH Grade\",Points!$M$2:$N$2,0),FALSE),\"No\")","v":"No"},{"$f":"IF(U59=\"\",\"\",VLOOKUP(U59,Lookup!$L$1:$M$6,2,FALSE))","v":0},{"$f":"IF(AND(C59=\"External\",I59=90),VLOOKUP(K59,Points!$J$2:$K$27,MATCH(\"90 GLH Grade\",Points!$J$2:$K$2,0),FALSE),\"No\")","v":"No"},{"$f":"IF(W59=\"\",\"\",VLOOKUP(W59,Lookup!$L$1:$M$6,2,FALSE))","v":0}]
[null,"Optional",{"$f":"IFERROR(INDEX('Extended Certificate Data Sheet'!$AM$3:$AM$1000,MATCH(E60&$E$3,'Extended Certificate Data Sheet'!$AH$3:$AH$1000&'Extended Certificate Data Sheet'!$AI$3:$AI$1000,0)),\"\")","v":0},{"$f":"IFERROR(INDEX('Extended Certificate Data Sheet'!$AJ$3:$AJ$1000,MATCH(E60&$E$3,'Extended Certificate Data Sheet'!$AH$3:$AH$1000&'Extended Certificate Data Sheet'!$AI$3:$AI$1000,0)),\"\")","v":0},null,null,null,null,{"$f":"IFERROR(INDEX('Extended Certificate Data Sheet'!$AL$3:$AL$1000,MATCH(E60&$E$3,'Extended Certificate Data Sheet'!$AH$3:$AH$1000&'Extended Certificate Data Sheet'!$AI$3:$AI$1000,0)),\"\")","v":0},null,{"$f":"IFERROR(IF(C60=\"Internal\",VLOOKUP(J60,Points!$A$2:$C$6,MATCH(C60&\" \"&I60&\" GLH\",Points!$A$2:$C$2,0),FALSE),\"\"),\"\")","v":""},{"$f":"IF(E60=\"\",\"\",VLOOKUP(SUM(P60,R60,T60,V60,X60),Lookup!$M$1:$N$6,2,FALSE))","v":""},null,null,null,null,{"$f":"IFERROR(IF(AND(C60=\"Internal\",I60=90),VLOOKUP(K60,Points!$C$2:$G$6,MATCH(\"Internal Grade\",Points!$C$2:$G$2,0),FALSE),\"\"),\"\")","v":""},{"$f":"IF(Q60=\"\",\"\",VLOOKUP(Q60,Lookup!$L$2:$M$6,2,FALSE))","v":""},{"$f":"IFERROR(IF(AND(C60=\"Internal\",I60=60),VLOOKUP(K60,Points!$B$2:$G$6,MATCH(\"Internal Grade\",Points!$B$2:$G$2,0),FALSE),\"\"),\"\")","v":""},{"$f":"IF(S60=\"\",\"\",VLOOKUP(S60,Lookup!$L$2:$M$6,2,FALSE))","v":""},{"$f":"IF(AND(C60=\"External\",I60=120),VLOOKUP(K60,Points!$M$2:$N$35,MATCH(\"120 GLH Grade\",Points!$M$2:$N$2,0),FALSE),\"No\")","v":"No"},{"$f":"IF(U60=\"\",\"\",VLOOKUP(U60,Lookup!$L$1:$M$6,2,FALSE))","v":0},{"$f":"IF(AND(C60=\"External\",I60=90),VLOOKUP(K60,Points!$J$2:$K$27,MATCH(\"90 GLH Grade\",Points!$J$2:$K$2,0),FALSE),\"No\")","v":"No"},{"$f":"IF(W60=\"\",\"\",VLOOKUP(W60,Lookup!$L$1:$M$6,2,FALSE))","v":0}]
[null,null,null,null,null,null,null,null,{"$f":"SUM(I55:I60)","v":0}]
[null,null,null,null,null,null,null,null,{"$f":"SUM(I9:I60)-(I35+I47+I53)","v":0}]
[null,null,null,null,null,null,null,null,{"$f":"SUMIFS(I21:I60,L21:L60,\"U\")","v":0},"Overall Grade",{"$f":"SUM(K9:K60)","v":0},{"$f":"IF(OR(E3=\"Agriculture\",E3=\"Digital Film and Video Production\",E3=\"Digital Content Production\",E3=\"Digital Games Production\",E3=\"Performance Acting\",E3=\"Performance Dance\",E3=\"Performance Musical Theatre\"),HLOOKUP(E3,$Q$65:$X$66,2),Q66)","v":"U"},null,null,null,null,{"$f":"COUNTIF(L9:L60,\"U\")","v":16}]
[null,null,null,null,null,null,null,null,{"$f":"SUMIFS(I9:I18,L9:L18,\"U\")","v":0},"Points",null,{"$f":"K63","v":0}]
[null,null,null,null,null,null,null,null,{"$f":"I62-I63-I64","v":0},null,null,null,null,null,null,null,"AG","Agriculture","Digital Film and Video Production","Digital Content Production","Digital Games Production","Performance Acting","Performance Dance","Performance Musical Theatre"]
[null,null,null,null,null,null,null,null,{"$f":"SUMIFS(I21:I26,L21:L26,\"U\")","v":0},null,null,null,null,null,null,null,{"$f":"IFERROR(IF(I64>0,\"U\",VLOOKUP($K$63,Points!$Q$2:$R$13,MATCH(\"Ext Cert Grade\",Points!$Q$2:$R$2,0),TRUE)),\"\")","v":"U"},{"$f":"IF(COUNTIF(L21,\"U\")>=1,\"U\",VLOOKUP($K$63,Points!$Q$2:$R$13,MATCH(\"Ext Cert Grade\",Points!$Q$2:$R$2,0),TRUE))","v":"U"},{"$f":"IFERROR(IF(OR($I$64>0,$I$63>=120),\"U\",VLOOKUP($K$63,Points!$Q$2:$R$13,MATCH(\"Ext Cert Grade\",Points!$Q$2:$R$2,0),TRUE)),\"\")","v":"U"},{"$f":"IFERROR(IF(OR($I$64>0,$I$63>=120),\"U\",VLOOKUP($K$63,Points!$Q$2:$R$13,MATCH(\"Ext Cert Grade\",Points!$Q$2:$R$2,0),TRUE)),\"\")","v":"U"},{"$f":"IFERROR(IF(OR($I$64>0,$I$63>=120),\"U\",VLOOKUP($K$63,Points!$Q$2:$R$13,MATCH(\"Ext Cert Grade\",Points!$Q$2:$R$2,0),TRUE)),\"\")","v":"U"},{"$f":"IFERROR(IF(OR($I$64>0,$I$63>=120),\"U\",VLOOKUP($K$63,Points!$Q$2:$R$13,MATCH(\"Ext Cert Grade\",Points!$Q$2:$R$2,0),TRUE)),\"\")","v":"U"},{"$f":"IFERROR(IF(OR($I$64>0,$I$63>=120),\"U\",VLOOKUP($K$63,Points!$Q$2:$R$13,MATCH(\"Ext Cert Grade\",Points!$Q$2:$R$2,0),TRUE)),\"\")","v":"U"},{"$f":"IFERROR(IF(OR($I$64>0,$I$63>=120),\"U\",VLOOKUP($K$63,Points!$Q$2:$R$13,MATCH(\"Ext Cert Grade\",Points!$Q$2:$R$2,0),TRUE)),\"\")","v":"U"}]
[null,null,null,null,null,null,null,null,null,"Calculate an estimate of the externally assessed unit grades needed to reach a qualification grade based on the internally assessed unit grades. You must enter all internally assessed grades and may enter any externally assessed grades already known, then select an overall qualification grade below."]
[]
[]
[null,null,null,null,null,null,null,null,null,"Qualification Grade",null,null,null,null,null,null,null,null,null,null,null,null,null,null,null,null,null,null,null,{"$f":"COUNTIF(L9:L26,\"#N/A\")","v":0}]
[null,null,null,null,null,null,null,null,null,"Bottom Grade point total",null,{"$f":"IF($L$70=\"\",0,VLOOKUP($L$70,'Points Contingency'!$E$2:$G$6,2,FALSE))","v":0}]
[null,null,null,null,null,null,null,null,null,"Top Grade point total",null,{"$f":"IF($L$70=\"\",0,VLOOKUP($L$70,'Points Contingency'!$E$2:$G$6,3,FALSE))","v":0}]
[null,null,null,null,null,null,null,null,null,"Points for externals",null,{"$f":"IF(L71-L64<0,L72-L64,L71-L64)","v":0}]
[null,null,null,null,null,null,null,null,null,"No. of 90 GLH externals",null,{"$f":"COUNTIFS($C$9:$C$60,\"External\",$I$9:I$60,90,$L$9:$L$60,\"U\")","v":0}]
[null,null,null,null,null,null,null,null,null,"No. of 120 GLH externals",null,{"$f":"COUNTIFS($C$9:$C$60,\"External\",$I$9:I$60,120,$L$9:$L$60,\"U\")","v":0}]
[null,null,null,null,null,null,null,null,null,"Total GLH external",null,{"$f":"(L74*90)+(L75*120)","v":0}]
[null,null,null,null,null,null,null,null,null,"Scale for 90 GLH",null,{"$f":"IFERROR(L74*90/L76,\"\")","v":""}]
[null,null,null,null,null,null,null,null,null,"Scale for 120 GLH",null,{"$f":"IFERROR(L75*120/L76,\"\")","v":""}]
[null,null,null,null,null,null,null,null,null,"Total points for externals",null,{"$f":"MAX(L73,L84)","v":0},null,null,null,null,null,null,null,null,null,null,null,null,null,null,null,null,null,26]
[null,null,null,null,null,null,null,null,null,"Points per 90 GLH external",null,{"$f":"IFERROR((L79*L77)/L74,\"\")","v":""}]
[null,null,null,null,null,null,null,null,null,"Points per 120 GLH external",null,26]
[null,null,null,null,null,null,null,null,null,"90GLH points",null,{"$f":"IFERROR(ROUND(L80,0),\"\")","v":""}]
[null,null,null,null,null,null,null,null,null,"120GLH points",null,{"$f":"ROUND(L81,0)","v":26}]
[null,null,null,null,null,null,null,null,null,"Points to N",null,{"$f":"(L74*AE5)+(L75*AF5)","v":0}]
[null,null,null,null,null,null,null,null,null,"Total points external min",null,{"$f":"MIN(L73,L84)","v":0}]

{"sheet":"Points","index":3,"n_rows":35,"n_cols":26,"rows_kept":35,"cut":false,"hidden":true,"merged":[]}
["Extended Certificate Internal",null,null,null,null,null,null,null,"Extended Certificate External",null,null,null,null,null,"Certificate Overall Grade",null,"Extended Certificate Overall Grade",null,"Foundation Diploma 510 Overall Grade",null,"Foundation Diploma 540 Overall Grade",null,"Diploma Overall Grade",null,"Extended Diploma Overall Grade"]
[null,"Internal 60 GLH","Internal 90 GLH","Internal 120 GLH","Internal 150 GLH","Internal 180 GLH","Internal Grade",null,null,"External 90 GLH","90 GLH Grade",null,"External 120 GLH","120 GLH Grade","Cert Points","Cert Grade","Ext Cert Points","Ext Cert Grade","Foun Dip 510 Points","Foun Dip 510 Grade","Foun Dip 540 Points","Foun Dip 540 Grade","Dip Points","Dip Grade","Ext Dip Points","Ext Dip Grade"]
["U",0,0,0,0,0,"U",null,0,0,"U",0,0,"U",0,"U",0,"U",0,"U",0,"U",0,"U",0,"U"]
["Pass",6,9,12,15,18,"Pass",null,1,1,"U",1,1,"U",18,"P",36,"P",51,"P",54,"P",72,"PP",108,"PPP"]
["Merit",10,15,20,25,30,"Merit",null,2,2,"U",2,2,"U",26,"M",52,"M",73,"M",78,"M",88,"MP",124,"MPP"]
["Distinction",16,24,32,40,48,"Distinction",null,3,3,"U",3,3,"U",42,"D",74,"D",104,"D",108,"D",104,"MM",140,"MMP"]
[null,null,null,null,null,null,null,null,4,4,"U",4,4,"U",48,"D*",90,"D*",130,"D*",138,"D*",124,"DM",156,"MMM"]
["ADM","Internal 81 GLH","Internal 27 GLH","Internal Grade","ADM FD 540 Points","ADM FD 540 Grade","ADM Ext Dip Points","ADM Ext Dip Grade",5,5,"U",5,5,"U",null,null,null,null,null,null,null,null,144,"DD",176,"DMM"]
["U",0,0,"U",0,"U",0,"U",6,6,"N",6,6,"U",null,null,"U",0,35,null,null,null,162,"D*D",196,"DDM"]
["Pass",1,1,"Pass",10,"P",30,"PPP",7,7,"N",7,7,"U",null,null,"P",36,51,null,null,null,180,"D*D*",216,"DDD"]
["Merit",2,2,"Merit",16,"M",36,"MPP",8,8,"N",8,8,"N",null,null,"M",52,73,null,null,null,null,null,234,"D*DD"]
["Distinction",3,3,"Distinction",23,"D",42,"MMP",9,9,"Pass",9,9,"N",null,null,"D",74,89,null,null,null,null,null,252,"D*D*D"]
[null,null,null,null,29,"D*",50,"MMM",10,10,"Pass",10,10,"N",null,null,"Dist*",90,96,null,null,null,null,null,270,"D*D*D*"]
[null,null,null,null,null,null,58,"DMM",11,11,"Pass",11,11,"N"]
[null,null,null,null,null,null,64,"DDM",12,12,"Pass",12,12,"Pass"]
[null,null,null,null,null,null,70,"DDD",13,13,"Pass",13,13,"Pass"]
[null,null,null,null,null,null,74,"D*DD",14,14,"Pass",14,14,"Pass"]
[null,null,null,null,null,null,80,"D*D*D",15,15,"Merit",15,15,"Pass"]
[null,null,null,null,null,null,85,"D*D*D*",16,16,"Merit",16,16,"Pass"]
[null,null,null,null,null,null,null,null,17,17,"Merit",17,17,"Pass"]
[null,null,null,null,null,null,null,null,18,18,"Merit",18,18,"Pass"]
[null,null,null,null,null,null,null,null,19,19,"Merit",19,19,"Pass"]
[null,null,null,null,null,null,null,null,20,20,"Merit",20,20,"Merit"]
[null,null,null,null,null,null,null,null,21,21,"Merit",21,21,"Merit"]
[null,null,null,null,null,null,null,null,22,22,"Merit",22,22,"Merit"]
[null,null,null,null,null,null,null,null,23,23,"Merit",23,23,"Merit"]
[null,null,null,null,null,null,null,null,24,24,"Distinction",24,24,"Merit"]
[null,null,null,null,null,null,null,null,25,null,null,25,25,"Merit"]
[null,null,null,null,null,null,null,null,26,null,null,26,26,"Merit"]
[null,null,null,null,null,null,null,null,27,null,null,27,27,"Merit"]
[null,null,null,null,null,null,null,null,28,null,null,28,28,"Merit"]
[null,null,null,null,null,null,null,null,29,null,null,29,29,"Merit"]
[null,null,null,null,null,null,null,null,30,null,null,30,30,"Merit"]
[null,null,null,null,null,null,null,null,31,null,null,31,31,"Merit"]
[null,null,null,null,null,null,null,null,32,null,null,32,32,"Distinction"]

{"sheet":"Points Contingency","index":4,"n_rows":12,"n_cols":23,"rows_kept":12,"cut":false,"hidden":true,"merged":[[0,20,0,22],[0,0,0,2],[0,4,0,6],[0,8,0,10],[0,12,0,14],[0,16,0,18]]}
["Cert",null,null,null,"Ext Cert",null,null,null,510,null,null,null,540,null,null,null,"Diploma",null,null,null,"Ext Dip"]
["U",0,17,null,"U",0,35,null,"U",0,50,null,"U",0,53,null,"U",0,71,null,"U",0,107]
["P",18,25,null,"P",36,51,null,"P",51,72,null,"P",54,77,null,"PP",72,87,null,"PPP",108,123]
["M",26,41,null,"M",52,73,null,"M",73,103,null,"M",78,107,null,"MP",88,103,null,"MPP",124,139]
["D",42,47,null,"D",74,89,null,"D",104,129,null,"D",108,137,null,"MM",104,123,null,"MMP",140,155]
["Dist*",48,48,null,"Dist*",90,96,null,"Dist*",130,136,null,"Dist*",138,144,null,"DM",124,143,null,"MMM",156,175]
[null,null,null,null,null,null,null,null,null,null,null,null,null,null,null,null,"DD",144,161,null,"DMM",176,195]
[null,null,null,null,null,null,null,null,null,null,null,null,null,null,null,null,"D*D",162,179,null,"DDM",196,215]
[null,null,null,null,null,null,null,null,null,null,null,null,null,null,null,null,"D*D*",180,192,null,"DDD",216,233]
[null,null,null,null,null,null,null,null,null,null,null,null,null,null,null,null,null,null,null,null,"D*DD",234,251]
[null,null,null,null,null,null,null,null,null,null,null,null,null,null,null,null,null,null,null,null,"D*D*D",252,269]
[null,null,null,null,null,null,null,null,null,null,null,null,null,null,null,null,null,null,null,null,"D*D*D*",270,288]

{"sheet":"Foundation Diploma 510","index":5,"n_rows":85,"n_cols":35,"rows_kept":85,"cut":false,"hidden":false,"merged":[[2,4,2,7],[6,4,6,7],[1,27,1,29],[1,31,1,34],[66,9,68,11]]}
[null,null,null,null,null,null,null,null,null,null,null,null,null,null,null,{"$f":"IF(E3=\"\",\"\",VLOOKUP(E3,Sectors!$F$1:$G$9,2,FALSE))","v":""}]
[null,null,null,null,null,null,null,null,null,null,null,null,null,null,null,null,null,null,null,null,null,null,null,null,null,null,null,"Grade boundaries for External Units",null,null,null,"Points for Internal Units"]
[null,null,"Select Sector","Start →",null,null,null,null,null,null,null,null,null,null,null,null,{"$f":"IF(L10=\"No\",REPLACE(\"No\",1,2,\"U\"),\"\")","v":""},null,null,null,null,null,null,null,null,null,null,null,"90 GLH","120 GLH",null,null,"60 GLH","90 GLH","120 GLH"]
[null,null,null,null,"1. Select your sector from the dropdown list in the cell above",null,null,null,null,null,null,null,null,null,null,null,null,null,null,null,null,null,null,null,null,null,null,"U","0","0",null,"U","0","0","0"]
[null,null,null,null,null,null,null,null,null,null,null,null,null,null,null,null,null,null,null,null,null,null,null,null,null,null,null,"N",6,8,null,"P",6,9,12]
[null,null,null,null,null,null,null,null,null,null,null,null,null,null,null,null,null,null,null,null,null,null,null,null,null,null,null,"P",9,12,null,"M",10,15,20]
[null,null,"Assessment Type","Unit Number","Unit Name",null,null,null,"GLH","Unit Points/Grade","Points","Unit Grade","Internal 120 GLH Grade",null,"Internal 90 GLH Grade",null,"Internal 60 GLH Grade",null,"External 120 GLH Grade",null,"External 90 GLH Grade",null,null,null,null,null,null,"M",15,20,null,"D",16,24,32]
[null,null,null,null,null,null,null,null,null,"3. Enter the points or grade for the units below",null,null,null,null,null,null,null,null,null,null,null,null,null,null,null,null,null,"D",24,32]
[null,"Mandatory",{"$f":"IFERROR(INDEX('F Diploma 510 Data Sheet'!$A$3:$E$238,SMALL(IF('F Diploma 510 Data Sheet'!$A$3:$A$238=$E$3,ROW('F Diploma 510 Data Sheet'!$A$3:$A$238)),ROW(1:1))-2,5),\"\")","v":0},{"$f":"IFERROR(INDEX('F Diploma 510 Data Sheet'!$A$3:$E$238,SMALL(IF('F Diploma 510 Data Sheet'!$A$3:$A$238=$E$3,ROW('F Diploma 510 Data Sheet'!$A$3:$A$238)),ROW(1:1))-2,2),\"\")","v":0},{"$f":"IFERROR(INDEX('F Diploma 510 Data Sheet'!$A$3:$E$238,SMALL(IF('F Diploma 510 Data Sheet'!$A$3:$A$238=$E$3,ROW('F Diploma 510 Data Sheet'!$A$3:$A$238)),ROW(1:1))-2,3),\"\")","v":0},null,null,null,{"$f":"IFERROR(INDEX('F Diploma 510 Data Sheet'!$A$3:$E$238,SMALL(IF('F Diploma 510 Data Sheet'!$A$3:$A$238=$E$3,ROW('F Diploma 510 Data Sheet'!$A$3:$A$238)),ROW(1:1))-2,4),\"\")","v":0},null,{"$f":"IFERROR(IF(C9=\"External\",VLOOKUP(J9,Points!$I$2:$M$36,MATCH(C9&\" \"&I9&\" GLH\",Points!$I$2:$M$2,0),FALSE),VLOOKUP(J9,Points!$A$2:$G$6,MATCH(C9&\" \"&I9&\" GLH\",Points!$A$2:$G$2,0),FALSE)),\"\")","v":""},{"$f":"IF(E9=\"\",\"\",VLOOKUP(SUM(N9,P9,R9,T9,V9),Lookup!$M$1:$N$6,2,FALSE))","v":"U"},{"$f":"IFERROR(IF(AND(C9=\"Internal\",I9=120),VLOOKUP(K9,Points!$D$2:$G$6,MATCH(\"Internal Grade\",Points!$D$2:$G$2,0),FALSE),\"\"),\"\")","v":""},{"$f":"IF(M9=\"\",\"\",VLOOKUP(M9,Lookup!$L$2:$M$6,2,FALSE))","v":""},{"$f":"IFERROR(IF(AND(C9=\"Internal\",I9=90),VLOOKUP(K9,Points!$C$2:$G$6,MATCH(\"Internal Grade\",Points!$C$2:$G$2,0),FALSE),\"\"),\"\")","v":""},{"$f":"IF(O9=\"\",\"\",VLOOKUP(O9,Lookup!$L$2:$M$6,2,FALSE))","v":""},{"$f":"IFERROR(IF(AND(C9=\"Internal\",I9=60),VLOOKUP(K9,Points!$B$2:$G$6,MATCH(\"Internal Grade\",Points!$B$2:$G$2,0),FALSE),\"\"),\"\")","v":""},{"$f":"IF(Q9=\"\",\"\",VLOOKUP(Q9,Lookup!$L$2:$M$6,2,FALSE))","v":""},{"$f":"IF(AND(C9=\"External\",I9=120),VLOOKUP(K9,Points!$M$2:$N$35,MATCH(\"120 GLH Grade\",Points!$M$2:$N$2,0),FALSE),\"No\")","v":"No"},{"$f":"IF(S9=\"\",\"\",VLOOKUP(S9,Lookup!$L$1:$M$6,2,FALSE))","v":0},{"$f":"IF(AND(C9=\"External\",I9=90),VLOOKUP(K9,Points!$J$2:$K$27,MATCH(\"90 GLH Grade\",Points!$J$2:$K$2,0),FALSE),\"No\")","v":"No"},{"$f":"IF(U9=\"\",\"\",VLOOKUP(U9,Lookup!$L$1:$M$6,2,FALSE))","v":0}]
[null,"Mandatory",{"$f":"IFERROR(INDEX('F Diploma 510 Data Sheet'!$A$3:$E$238,SMALL(IF('F Diploma 510 Data Sheet'!$A$3:$A$238=$E$3,ROW('F Diploma 510 Data Sheet'!$A$3:$A$238)),ROW(2:2))-2,5),\"\")","v":0},{"$f":"IFERROR(INDEX('F Diploma 510 Data Sheet'!$A$3:$E$238,SMALL(IF('F Diploma 510 Data Sheet'!$A$3:$A$238=$E$3,ROW('F Diploma 510 Data Sheet'!$A$3:$A$238)),ROW(2:2))-2,2),\"\")","v":0},{"$f":"IFERROR(INDEX('F Diploma 510 Data Sheet'!$A$3:$E$238,SMALL(IF('F Diploma 510 Data Sheet'!$A$3:$A$238=$E$3,ROW('F Diploma 510 Data Sheet'!$A$3:$A$238)),ROW(2:2))-2,3),\"\")","v":0},null,null,null,{"$f":"IFERROR(INDEX('F Diploma 510 Data Sheet'!$A$3:$E$238,SMALL(IF('F Diploma 510 Data Sheet'!$A$3:$A$238=$E$3,ROW('F Diploma 510 Data Sheet'!$A$3:$A$238)),ROW(2:2))-2,4),\"\")","v":0},null,{"$f":"IFERROR(IF(C10=\"External\",VLOOKUP(J10,Points!$I$2:$M$36,MATCH(C10&\" \"&I10&\" GLH\",Points!$I$2:$M$2,0),FALSE),VLOOKUP(J10,Points!$A$2:$G$6,MATCH(C10&\" \"&I10&\" GLH\",Points!$A$2:$G$2,0),FALSE)),\"\")","v":""},{"$f":"IF(E10=\"\",\"\",VLOOKUP(SUM(N10,P10,R10,T10,V10),Lookup!$M$1:$N$6,2,FALSE))","v":"U"},{"$f":"IFERROR(IF(AND(C10=\"Internal\",I10=120),VLOOKUP(K10,Points!$D$2:$G$6,MATCH(\"Internal Grade\",Points!$D$2:$G$2,0),FALSE),\"\"),\"\")","v":""},{"$f":"IF(M10=\"\",\"\",VLOOKUP(M10,Lookup!$L$2:$M$6,2,FALSE))","v":""},{"$f":"IFERROR(IF(AND(C10=\"Internal\",I10=90),VLOOKUP(K10,Points!$C$2:$G$6,MATCH(\"Internal Grade\",Points!$C$2:$G$2,0),FALSE),\"\"),\"\")","v":""},{"$f":"IF(O10=\"\",\"\",VLOOKUP(O10,Lookup!$L$2:$M$6,2,FALSE))","v":""},{"$f":"IFERROR(IF(AND(C10=\"Internal\",I10=60),VLOOKUP(K10,Points!$B$2:$G$6,MATCH(\"Internal Grade\",Points!$B$2:$G$2,0),FALSE),\"\"),\"\")","v":""},{"$f":"IF(Q10=\"\",\"\",VLOOKUP(Q10,Lookup!$L$2:$M$6,2,FALSE))","v":""},{"$f":"IF(AND(C10=\"External\",I10=120),VLOOKUP(K10,Points!$M$2:$N$35,MATCH(\"120 GLH Grade\",Points!$M$2:$N$2,0),FALSE),\"No\")","v":"No"},{"$f":"IF(S10=\"\",\"\",VLOOKUP(S10,Lookup!$L$1:$M$6,2,FALSE))","v":0},{"$f":"IF(AND(C10=\"External\",I10=90),VLOOKUP(K10,Points!$J$2:$K$27,MATCH(\"90 GLH Grade\",Points!$J$2:$K$2,0),FALSE),\"No\")","v":"No"},{"$f":"IF(U10=\"\",\"\",VLOOKUP(U10,Lookup!$L$1:$M$6,2,FALSE))","v":0}]
[null,"Mandatory",{"$f":"IFERROR(INDEX('F Diploma 510 Data Sheet'!$A$3:$E$238,SMALL(IF('F Diploma 510 Data Sheet'!$A$3:$A$238=$E$3,ROW('F Diploma 510 Data Sheet'!$A$3:$A$238)),ROW(3:3))-2,5),\"\")","v":0},{"$f":"IFERROR(INDEX('F Diploma 510 Data Sheet'!$A$3:$E$238,SMALL(IF('F Diploma 510 Data Sheet'!$A$3:$A$238=$E$3,ROW('F Diploma 510 Data Sheet'!$A$3:$A$238)),ROW(3:3))-2,2),\"\")","v":0},{"$f":"IFERROR(INDEX('F Diploma 510 Data Sheet'!$A$3:$E$238,SMALL(IF('F Diploma 510 Data Sheet'!$A$3:$A$238=$E$3,ROW('F Diploma 510 Data Sheet'!$A$3:$A$238)),ROW(3:3))-2,3),\"\")","v":0},null,null,null,{"$f":"IFERROR(INDEX('F Diploma 510 Data Sheet'!$A$3:$E$238,SMALL(IF('F Diploma 510 Data Sheet'!$A$3:$A$238=$E$3,ROW('F Diploma 510 Data Sheet'!$A$3:$A$238)),ROW(3:3))-2,4),\"\")","v":0},null,{"$f":"IFERROR(IF(C11=\"External\",VLOOKUP(J11,Points!$I$2:$M$36,MATCH(C11&\" \"&I11&\" GLH\",Points!$I$2:$M$2,0),FALSE),VLOOKUP(J11,Points!$A$2:$G$6,MATCH(C11&\" \"&I11&\" GLH\",Points!$A$2:$G$2,0),FALSE)),\"\")","v":""},{"$f":"IF(E11=\"\",\"\",VLOOKUP(SUM(N11,P11,R11,T11,V11),Lookup!$M$1:$N$6,2,FALSE))","v":"U"},{"$f":"IFERROR(IF(AND(C11=\"Internal\",I11=120),VLOOKUP(K11,Points!$D$2:$G$6,MATCH(\"Internal Grade\",Points!$D$2:$G$2,0),FALSE),\"\"),\"\")","v":""},{"$f":"IF(M11=\"\",\"\",VLOOKUP(M11,Lookup!$L$2:$M$6,2,FALSE))","v":""},{"$f":"IFERROR(IF(AND(C11=\"Internal\",I11=90),VLOOKUP(K11,Points!$C$2:$G$6,MATCH(\"Internal Grade\",Points!$C$2:$G$2,0),FALSE),\"\"),\"\")","v":""},{"$f":"IF(O11=\"\",\"\",VLOOKUP(O11,Lookup!$L$2:$M$6,2,FALSE))","v":""},{"$f":"IFERROR(IF(AND(C11=\"Internal\",I11=60),VLOOKUP(K11,Points!$B$2:$G$6,MATCH(\"Internal Grade\",Points!$B$2:$G$2,0),FALSE),\"\"),\"\")","v":""},{"$f":"IF(Q11=\"\",\"\",VLOOKUP(Q11,Lookup!$L$2:$M$6,2,FALSE))","v":""},{"$f":"IF(AND(C11=\"External\",I11=120),VLOOKUP(K11,Points!$M$2:$N$35,MATCH(\"120 GLH Grade\",Points!$M$2:$N$2,0),FALSE),\"No\")","v":"No"},{"$f":"IF(S11=\"\",\"\",VLOOKUP(S11,Lookup!$L$1:$M$6,2,FALSE))","v":0},{"$f":"IF(AND(C11=\"External\",I11=90),VLOOKUP(K11,Points!$J$2:$K$27,MATCH(\"90 GLH Grade\",Points!$J$2:$K$2,0),FALSE),\"No\")","v":"No"},{"$f":"IF(U11=\"\",\"\",VLOOKUP(U11,Lookup!$L$1:$M$6,2,FALSE))","v":0}]
[null,"Mandatory",{"$f":"IFERROR(INDEX('F Diploma 510 Data Sheet'!$A$3:$E$238,SMALL(IF('F Diploma 510 Data Sheet'!$A$3:$A$238=$E$3,ROW('F Diploma 510 Data Sheet'!$A$3:$A$238)),ROW(4:4))-2,5),\"\")","v":0},{"$f":"IFERROR(INDEX('F Diploma 510 Data Sheet'!$A$3:$E$238,SMALL(IF('F Diploma 510 Data Sheet'!$A$3:$A$238=$E$3,ROW('F Diploma 510 Data Sheet'!$A$3:$A$238)),ROW(4:4))-2,2),\"\")","v":0},{"$f":"IFERROR(INDEX('F Diploma 510 Data Sheet'!$A$3:$E$238,SMALL(IF('F Diploma 510 Data Sheet'!$A$3:$A$238=$E$3,ROW('F Diploma 510 Data Sheet'!$A$3:$A$238)),ROW(4:4))-2,3),\"\")","v":0},null,null,null,{"$f":"IFERROR(INDEX('F Diploma 510 Data Sheet'!$A$3:$E$238,SMALL(IF('F Diploma 510 Data Sheet'!$A$3:$A$238=$E$3,ROW('F Diploma 510 Data Sheet'!$A$3:$A$238)),ROW(4:4))-2,4),\"\")","v":0},null,{"$f":"IFERROR(IF(C12=\"External\",VLOOKUP(J12,Points!$I$2:$M$36,MATCH(C12&\" \"&I12&\" GLH\",Points!$I$2:$M$2,0),FALSE),VLOOKUP(J12,Points!$A$2:$G$6,MATCH(C12&\" \"&I12&\" GLH\",Points!$A$2:$G$2,0),FALSE)),\"\")","v":""},{"$f":"IF(E12=\"\",\"\",VLOOKUP(SUM(N12,P12,R12,T12,V12),Lookup!$M$1:$N$6,2,FALSE))","v":"U"},{"$f":"IFERROR(IF(AND(C12=\"Internal\",I12=120),VLOOKUP(K12,Points!$D$2:$G$6,MATCH(\"Internal Grade\",Points!$D$2:$G$2,0),FALSE),\"\"),\"\")","v":""},{"$f":"IF(M12=\"\",\"\",VLOOKUP(M12,Lookup!$L$2:$M$6,2,FALSE))","v":""},{"$f":"IFERROR(IF(AND(C12=\"Internal\",I12=90),VLOOKUP(K12,Points!$C$2:$G$6,MATCH(\"Internal Grade\",Points!$C$2:$G$2,0),FALSE),\"\"),\"\")","v":""},{"$f":"IF(O12=\"\",\"\",VLOOKUP(O12,Lookup!$L$2:$M$6,2,FALSE))","v":""},{"$f":"IFERROR(IF(AND(C12=\"Internal\",I12=60),VLOOKUP(K12,Points!$B$2:$G$6,MATCH(\"Internal Grade\",Points!$B$2:$G$2,0),FALSE),\"\"),\"\")","v":""},{"$f":"IF(Q12=\"\",\"\",VLOOKUP(Q12,Lookup!$L$2:$M$6,2,FALSE))","v":""},{"$f":"IF(AND(C12=\"External\",I12=120),VLOOKUP(K12,Points!$M$2:$N$35,MATCH(\"120 GLH Grade\",Points!$M$2:$N$2,0),FALSE),\"No\")","v":"No"},{"$f":"IF(S12=\"\",\"\",VLOOKUP(S12,Lookup!$L$1:$M$6,2,FALSE))","v":0},{"$f":"IF(AND(C12=\"External\",I12=90),VLOOKUP(K12,Points!$J$2:$K$27,MATCH(\"90 GLH Grade\",Points!$J$2:$K$2,0),FALSE),\"No\")","v":"No"},{"$f":"IF(U12=\"\",\"\",VLOOKUP(U12,Lookup!$L$1:$M$6,2,FALSE))","v":0}]
[null,"Mandatory",{"$f":"IFERROR(INDEX('F Diploma 510 Data Sheet'!$A$3:$E$238,SMALL(IF('F Diploma 510 Data Sheet'!$A$3:$A$238=$E$3,ROW('F Diploma 510 Data Sheet'!$A$3:$A$238)),ROW(5:5))-2,5),\"\")","v":0},{"$f":"IFERROR(INDEX('F Diploma 510 Data Sheet'!$A$3:$E$238,SMALL(IF('F Diploma 510 Data Sheet'!$A$3:$A$238=$E$3,ROW('F Diploma 510 Data Sheet'!$A$3:$A$238)),ROW(5:5))-2,2),\"\")","v":0},{"$f":"IFERROR(INDEX('F Diploma 510 Data Sheet'!$A$3:$E$238,SMALL(IF('F Diploma 510 Data Sheet'!$A$3:$A$238=$E$3,ROW('F Diploma 510 Data Sheet'!$A$3:$A$238)),ROW(5:5))-2,3),\"\")","v":0},null,null,null,{"$f":"IFERROR(INDEX('F Diploma 510 Data Sheet'!$A$3:$E$238,SMALL(IF('F Diploma 510 Data Sheet'!$A$3:$A$238=$E$3,ROW('F Diploma 510 Data Sheet'!$A$3:$A$238)),ROW(5:5))-2,4),\"\")","v":0},null,{"$f":"IFERROR(IF(C13=\"External\",VLOOKUP(J13,Points!$I$2:$M$36,MATCH(C13&\" \"&I13&\" GLH\",Points!$I$2:$M$2,0),FALSE),VLOOKUP(J13,Points!$A$2:$G$6,MATCH(C13&\" \"&I13&\" GLH\",Points!$A$2:$G$2,0),FALSE)),\"\")","v":""},{"$f":"IF(E13=\"\",\"\",VLOOKUP(SUM(N13,P13,R13,T13,V13),Lookup!$M$1:$N$6,2,FALSE))","v":"U"},{"$f":"IFERROR(IF(AND(C13=\"Internal\",I13=120),VLOOKUP(K13,Points!$D$2:$G$6,MATCH(\"Internal Grade\",Points!$D$2:$G$2,0),FALSE),\"\"),\"\")","v":""},{"$f":"IF(M13=\"\",\"\",VLOOKUP(M13,Lookup!$L$2:$M$6,2,FALSE))","v":""},{"$f":"IFERROR(IF(AND(C13=\"Internal\",I13=90),VLOOKUP(K13,Points!$C$2:$G$6,MATCH(\"Internal Grade\",Points!$C$2:$G$2,0),FALSE),\"\"),\"\")","v":""},{"$f":"IF(O13=\"\",\"\",VLOOKUP(O13,Lookup!$L$2:$M$6,2,FALSE))","v":""},{"$f":"IFERROR(IF(AND(C13=\"Internal\",I13=60),VLOOKUP(K13,Points!$B$2:$G$6,MATCH(\"Internal Grade\",Points!$B$2:$G$2,0),FALSE),\"\"),\"\")","v":""},{"$f":"IF(Q13=\"\",\"\",VLOOKUP(Q13,Lookup!$L$2:$M$6,2,FALSE))","v":""},{"$f":"IF(AND(C13=\"External\",I13=120),VLOOKUP(K13,Points!$M$2:$N$35,MATCH(\"120 GLH Grade\",Points!$M$2:$N$2,0),FALSE),\"No\")","v":"No"},{"$f":"IF(S13=\"\",\"\",VLOOKUP(S13,Lookup!$L$1:$M$6,2,FALSE))","v":0},{"$f":"IF(AND(C13=\"External\",I13=90),VLOOKUP(K13,Points!$J$2:$K$27,MATCH(\"90 GLH Grade\",Points!$J$2:$K$2,0),FALSE),\"No\")","v":"No"},{"$f":"IF(U13=\"\",\"\",VLOOKUP(U13,Lookup!$L$1:$M$6,2,FALSE))","v":0}]
[null,"Mandatory",{"$f":"IFERROR(INDEX('F Diploma 510 Data Sheet'!$A$3:$E$238,SMALL(IF('F Diploma 510 Data Sheet'!$A$3:$A$238=$E$3,ROW('F Diploma 510 Data Sheet'!$A$3:$A$238)),ROW(6:6))-2,5),\"\")","v":0},{"$f":"IFERROR(INDEX('F Diploma 510 Data Sheet'!$A$3:$E$238,SMALL(IF('F Diploma 510 Data Sheet'!$A$3:$A$238=$E$3,ROW('F Diploma 510 Data Sheet'!$A$3:$A$238)),ROW(6:6))-2,2),\"\")","v":0},{"$f":"IFERROR(INDEX('F Diploma 510 Data Sheet'!$A$3:$E$238,SMALL(IF('F Diploma 510 Data Sheet'!$A$3:$A$238=$E$3,ROW('F Diploma 510 Data Sheet'!$A$3:$A$238)),ROW(6:6))-2,3),\"\")","v":0},null,null,null,{"$f":"IFERROR(INDEX('F Diploma 510 Data Sheet'!$A$3:$E$238,SMALL(IF('F Diploma 510 Data Sheet'!$A$3:$A$238=$E$3,ROW('F Diploma 510 Data Sheet'!$A$3:$A$238)),ROW(6:6))-2,4),\"\")","v":0},null,{"$f":"IFERROR(IF(C14=\"External\",VLOOKUP(J14,Points!$I$2:$M$36,MATCH(C14&\" \"&I14&\" GLH\",Points!$I$2:$M$2,0),FALSE),VLOOKUP(J14,Points!$A$2:$C$6,MATCH(C14&\" \"&I14&\" GLH\",Points!$A$2:$C$2,0),FALSE)),\"\")","v":""},{"$f":"IF(E14=\"\",\"\",VLOOKUP(SUM(N14,P14,R14,T14,V14),Lookup!$M$1:$N$6,2,FALSE))","v":"U"},{"$f":"IFERROR(IF(AND(C14=\"Internal\",I14=120),VLOOKUP(K14,Points!$C$2:$G$6,MATCH(\"Internal Grade\",Points!$C$2:$G$2,0),FALSE),\"\"),\"\")","v":""},null,{"$f":"IFERROR(IF(AND(C14=\"Internal\",I14=90),VLOOKUP(K14,Points!$C$2:$G$6,MATCH(\"Internal Grade\",Points!$C$2:$G$2,0),FALSE),\"\"),\"\")","v":""},{"$f":"IF(O14=\"\",\"\",VLOOKUP(O14,Lookup!$L$2:$M$6,2,FALSE))","v":""},{"$f":"IFERROR(IF(AND(C14=\"Internal\",I14=60),VLOOKUP(K14,Points!$B$2:$G$6,MATCH(\"Internal Grade\",Points!$B$2:$G$2,0),FALSE),\"\"),\"\")","v":""},{"$f":"IF(Q14=\"\",\"\",VLOOKUP(Q14,Lookup!$L$2:$M$6,2,FALSE))","v":""},{"$f":"IF(AND(C14=\"External\",I14=120),VLOOKUP(K14,Points!$M$2:$N$35,MATCH(\"120 GLH Grade\",Points!$M$2:$N$2,0),FALSE),\"No\")","v":"No"},{"$f":"IF(S14=\"\",\"\",VLOOKUP(S14,Lookup!$L$1:$M$6,2,FALSE))","v":0},{"$f":"IF(AND(C14=\"External\",I14=90),VLOOKUP(K14,Points!$J$2:$K$27,MATCH(\"90 GLH Grade\",Points!$J$2:$K$2,0),FALSE),\"No\")","v":"No"},{"$f":"IF(U14=\"\",\"\",VLOOKUP(U14,Lookup!$L$1:$M$6,2,FALSE))","v":0}]
[null,"Mandatory",{"$f":"IFERROR(INDEX('F Diploma 510 Data Sheet'!$A$3:$E$238,SMALL(IF('F Diploma 510 Data Sheet'!$A$3:$A$238=$E$3,ROW('F Diploma 510 Data Sheet'!$A$3:$A$238)),ROW(7:7))-2,5),\"\")","v":0},{"$f":"IFERROR(INDEX('F Diploma 510 Data Sheet'!$A$3:$E$238,SMALL(IF('F Diploma 510 Data Sheet'!$A$3:$A$238=$E$3,ROW('F Diploma 510 Data Sheet'!$A$3:$A$238)),ROW(7:7))-2,2),\"\")","v":0},{"$f":"IFERROR(INDEX('F Diploma 510 Data Sheet'!$A$3:$E$238,SMALL(IF('F Diploma 510 Data Sheet'!$A$3:$A$238=$E$3,ROW('F Diploma 510 Data Sheet'!$A$3:$A$238)),ROW(7:7))-2,3),\"\")","v":0},null,null,null,{"$f":"IFERROR(INDEX('F Diploma 510 Data Sheet'!$A$3:$E$238,SMALL(IF('F Diploma 510 Data Sheet'!$A$3:$A$238=$E$3,ROW('F Diploma 510 Data Sheet'!$A$3:$A$238)),ROW(7:7))-2,4),\"\")","v":0},null,{"$f":"IFERROR(IF(C15=\"External\",VLOOKUP(J15,Points!$I$2:$M$36,MATCH(C15&\" \"&I15&\" GLH\",Points!$I$2:$M$2,0),FALSE),VLOOKUP(J15,Points!$A$2:$C$6,MATCH(C15&\" \"&I15&\" GLH\",Points!$A$2:$C$2,0),FALSE)),\"\")","v":""},{"$f":"IF(E15=\"\",\"\",VLOOKUP(SUM(N15,P15,R15,T15,V15),Lookup!$M$1:$N$6,2,FALSE))","v":"U"},{"$f":"IFERROR(IF(AND(C15=\"Internal\",I15=120),VLOOKUP(K15,Points!$C$2:$G$6,MATCH(\"Internal Grade\",Points!$C$2:$G$2,0),FALSE),\"\"),\"\")","v":""},null,{"$f":"IFERROR(IF(AND(C15=\"Internal\",I15=90),VLOOKUP(K15,Points!$C$2:$G$6,MATCH(\"Internal Grade\",Points!$C$2:$G$2,0),FALSE),\"\"),\"\")","v":""},{"$f":"IF(O15=\"\",\"\",VLOOKUP(O15,Lookup!$L$2:$M$6,2,FALSE))","v":""},{"$f":"IFERROR(IF(AND(C15=\"Internal\",I15=60),VLOOKUP(K15,Points!$B$2:$G$6,MATCH(\"Internal Grade\",Points!$B$2:$G$2,0),FALSE),\"\"),\"\")","v":""},{"$f":"IF(Q15=\"\",\"\",VLOOKUP(Q15,Lookup!$L$2:$M$6,2,FALSE))","v":""},{"$f":"IF(AND(C15=\"External\",I15=120),VLOOKUP(K15,Points!$M$2:$N$35,MATCH(\"120 GLH Grade\",Points!$M$2:$N$2,0),FALSE),\"No\")","v":"No"},{"$f":"IF(S15=\"\",\"\",VLOOKUP(S15,Lookup!$L$1:$M$6,2,FALSE))","v":0},{"$f":"IF(AND(C15=\"External\",I15=90),VLOOKUP(K15,Points!$J$2:$K$27,MATCH(\"90 GLH Grade\",Points!$J$2:$K$2,0),FALSE),\"No\")","v":"No"},{"$f":"IF(U15=\"\",\"\",VLOOKUP(U15,Lookup!$L$1:$M$6,2,FALSE))","v":0}]
[null,"Mandatory",{"$f":"IFERROR(INDEX('F Diploma 510 Data Sheet'!$A$3:$E$238,SMALL(IF('F Diploma 510 Data Sheet'!$A$3:$A$238=$E$3,ROW('F Diploma 510 Data Sheet'!$A$3:$A$238)),ROW(8:8))-2,5),\"\")","v":0},{"$f":"IFERROR(INDEX('F Diploma 510 Data Sheet'!$A$3:$E$238,SMALL(IF('F Diploma 510 Data Sheet'!$A$3:$A$238=$E$3,ROW('F Diploma 510 Data Sheet'!$A$3:$A$238)),ROW(8:8))-2,2),\"\")","v":0},{"$f":"IFERROR(INDEX('F Diploma 510 Data Sheet'!$A$3:$E$238,SMALL(IF('F Diploma 510 Data Sheet'!$A$3:$A$238=$E$3,ROW('F Diploma 510 Data Sheet'!$A$3:$A$238)),ROW(8:8))-2,3),\"\")","v":0},null,null,null,{"$f":"IFERROR(INDEX('F Diploma 510 Data Sheet'!$A$3:$E$238,SMALL(IF('F Diploma 510 Data Sheet'!$A$3:$A$238=$E$3,ROW('F Diploma 510 Data Sheet'!$A$3:$A$238)),ROW(8:8))-2,4),\"\")","v":0},null,{"$f":"IFERROR(IF(C16=\"External\",VLOOKUP(J16,Points!$I$2:$M$36,MATCH(C16&\" \"&I16&\" GLH\",Points!$I$2:$M$2,0),FALSE),VLOOKUP(J16,Points!$A$2:$C$6,MATCH(C16&\" \"&I16&\" GLH\",Points!$A$2:$C$2,0),FALSE)),\"\")","v":""},{"$f":"IF(E16=\"\",\"\",VLOOKUP(SUM(N16,P16,R16,T16,V16),Lookup!$M$1:$N$6,2,FALSE))","v":"U"},{"$f":"IFERROR(IF(AND(C16=\"Internal\",I16=120),VLOOKUP(K16,Points!$C$2:$G$6,MATCH(\"Internal Grade\",Points!$C$2:$G$2,0),FALSE),\"\"),\"\")","v":""},null,{"$f":"IFERROR(IF(AND(C16=\"Internal\",I16=90),VLOOKUP(K16,Points!$C$2:$G$6,MATCH(\"Internal Grade\",Points!$C$2:$G$2,0),FALSE),\"\"),\"\")","v":""},{"$f":"IF(O16=\"\",\"\",VLOOKUP(O16,Lookup!$L$2:$M$6,2,FALSE))","v":""},{"$f":"IFERROR(IF(AND(C16=\"Internal\",I16=60),VLOOKUP(K16,Points!$B$2:$G$6,MATCH(\"Internal Grade\",Points!$B$2:$G$2,0),FALSE),\"\"),\"\")","v":""},{"$f":"IF(Q16=\"\",\"\",VLOOKUP(Q16,Lookup!$L$2:$M$6,2,FALSE))","v":""},{"$f":"IF(AND(C16=\"External\",I16=120),VLOOKUP(K16,Points!$M$2:$N$35,MATCH(\"120 GLH Grade\",Points!$M$2:$N$2,0),FALSE),\"No\")","v":"No"},{"$f":"IF(S16=\"\",\"\",VLOOKUP(S16,Lookup!$L$1:$M$6,2,FALSE))","v":0},{"$f":"IF(AND(C16=\"External\",I16=90),VLOOKUP(K16,Points!$J$2:$K$27,MATCH(\"90 GLH Grade\",Points!$J$2:$K$2,0),FALSE),\"No\")","v":"No"},{"$f":"IF(U16=\"\",\"\",VLOOKUP(U16,Lookup!$L$1:$M$6,2,FALSE))","v":0}]
[null,"Mandatory",{"$f":"IFERROR(INDEX('F Diploma 510 Data Sheet'!$A$3:$E$238,SMALL(IF('F Diploma 510 Data Sheet'!$A$3:$A$238=$E$3,ROW('F Diploma 510 Data Sheet'!$A$3:$A$238)),ROW(9:9))-2,5),\"\")","v":0},{"$f":"IFERROR(INDEX('F Diploma 510 Data Sheet'!$A$3:$E$238,SMALL(IF('F Diploma 510 Data Sheet'!$A$3:$A$238=$E$3,ROW('F Diploma 510 Data Sheet'!$A$3:$A$238)),ROW(9:9))-2,2),\"\")","v":0},{"$f":"IFERROR(INDEX('F Diploma 510 Data Sheet'!$A$3:$E$238,SMALL(IF('F Diploma 510 Data Sheet'!$A$3:$A$238=$E$3,ROW('F Diploma 510 Data Sheet'!$A$3:$A$238)),ROW(9:9))-2,3),\"\")","v":0},null,null,null,{"$f":"IFERROR(INDEX('F Diploma 510 Data Sheet'!$A$3:$E$238,SMALL(IF('F Diploma 510 Data Sheet'!$A$3:$A$238=$E$3,ROW('F Diploma 510 Data Sheet'!$A$3:$A$238)),ROW(9:9))-2,4),\"\")","v":0},null,{"$f":"IFERROR(IF(C17=\"External\",VLOOKUP(J17,Points!$I$2:$M$36,MATCH(C17&\" \"&I17&\" GLH\",Points!$I$2:$M$2,0),FALSE),VLOOKUP(J17,Points!$A$2:$C$6,MATCH(C17&\" \"&I17&\" GLH\",Points!$A$2:$C$2,0),FALSE)),\"\")","v":""},{"$f":"IF(E17=\"\",\"\",VLOOKUP(SUM(N17,P17,R17,T17,V17),Lookup!$M$1:$N$6,2,FALSE))","v":"U"},{"$f":"IFERROR(IF(AND(C17=\"Internal\",I17=120),VLOOKUP(K17,Points!$C$2:$G$6,MATCH(\"Internal Grade\",Points!$C$2:$G$2,0),FALSE),\"\"),\"\")","v":""},null,{"$f":"IFERROR(IF(AND(C17=\"Internal\",I17=90),VLOOKUP(K17,Points!$C$2:$G$6,MATCH(\"Internal Grade\",Points!$C$2:$G$2,0),FALSE),\"\"),\"\")","v":""},{"$f":"IF(O17=\"\",\"\",VLOOKUP(O17,Lookup!$L$2:$M$6,2,FALSE))","v":""},{"$f":"IFERROR(IF(AND(C17=\"Internal\",I17=60),VLOOKUP(K17,Points!$B$2:$G$6,MATCH(\"Internal Grade\",Points!$B$2:$G$2,0),FALSE),\"\"),\"\")","v":""},{"$f":"IF(Q17=\"\",\"\",VLOOKUP(Q17,Lookup!$L$2:$M$6,2,FALSE))","v":""},{"$f":"IF(AND(C17=\"External\",I17=120),VLOOKUP(K17,Points!$M$2:$N$35,MATCH(\"120 GLH Grade\",Points!$M$2:$N$2,0),FALSE),\"No\")","v":"No"},{"$f":"IF(S17=\"\",\"\",VLOOKUP(S17,Lookup!$L$1:$M$6,2,FALSE))","v":0},{"$f":"IF(AND(C17=\"External\",I17=90),VLOOKUP(K17,Points!$J$2:$K$27,MATCH(\"90 GLH Grade\",Points!$J$2:$K$2,0),FALSE),\"No\")","v":"No"},{"$f":"IF(U17=\"\",\"\",VLOOKUP(U17,Lookup!$L$1:$M$6,2,FALSE))","v":0}]
[null,"Mandatory",{"$f":"IFERROR(INDEX('F Diploma 510 Data Sheet'!$A$3:$E$238,SMALL(IF('F Diploma 510 Data Sheet'!$A$3:$A$238=$E$3,ROW('F Diploma 510 Data Sheet'!$A$3:$A$238)),ROW(10:10))-2,5),\"\")","v":0},{"$f":"IFERROR(INDEX('F Diploma 510 Data Sheet'!$A$3:$E$238,SMALL(IF('F Diploma 510 Data Sheet'!$A$3:$A$238=$E$3,ROW('F Diploma 510 Data Sheet'!$A$3:$A$238)),ROW(10:10))-2,2),\"\")","v":0},{"$f":"IFERROR(INDEX('F Diploma 510 Data Sheet'!$A$3:$E$238,SMALL(IF('F Diploma 510 Data Sheet'!$A$3:$A$238=$E$3,ROW('F Diploma 510 Data Sheet'!$A$3:$A$238)),ROW(10:10))-2,3),\"\")","v":0},null,null,null,{"$f":"IFERROR(INDEX('F Diploma 510 Data Sheet'!$A$3:$E$238,SMALL(IF('F Diploma 510 Data Sheet'!$A$3:$A$238=$E$3,ROW('F Diploma 510 Data Sheet'!$A$3:$A$238)),ROW(10:10))-2,4),\"\")","v":0},null,{"$f":"IFERROR(IF(C18=\"External\",VLOOKUP(J18,Points!$I$2:$M$36,MATCH(C18&\" \"&I18&\" GLH\",Points!$I$2:$M$2,0),FALSE),VLOOKUP(J18,Points!$A$2:$C$6,MATCH(C18&\" \"&I18&\" GLH\",Points!$A$2:$C$2,0),FALSE)),\"\")","v":""},{"$f":"IF(E18=\"\",\"\",VLOOKUP(SUM(N18,P18,R18,T18,V18),Lookup!$M$1:$N$6,2,FALSE))","v":"U"},{"$f":"IFERROR(IF(AND(C18=\"Internal\",I18=120),VLOOKUP(K18,Points!$C$2:$G$6,MATCH(\"Internal Grade\",Points!$C$2:$G$2,0),FALSE),\"\"),\"\")","v":""},null,{"$f":"IFERROR(IF(AND(C18=\"Internal\",I18=90),VLOOKUP(K18,Points!$C$2:$G$6,MATCH(\"Internal Grade\",Points!$C$2:$G$2,0),FALSE),\"\"),\"\")","v":""},{"$f":"IF(O18=\"\",\"\",VLOOKUP(O18,Lookup!$L$2:$M$6,2,FALSE))","v":""},{"$f":"IFERROR(IF(AND(C18=\"Internal\",I18=60),VLOOKUP(K18,Points!$B$2:$G$6,MATCH(\"Internal Grade\",Points!$B$2:$G$2,0),FALSE),\"\"),\"\")","v":""},{"$f":"IF(Q18=\"\",\"\",VLOOKUP(Q18,Lookup!$L$2:$M$6,2,FALSE))","v":""},{"$f":"IF(AND(C18=\"External\",I18=120),VLOOKUP(K18,Points!$M$2:$N$35,MATCH(\"120 GLH Grade\",Points!$M$2:$N$2,0),FALSE),\"No\")","v":"No"},{"$f":"IF(S18=\"\",\"\",VLOOKUP(S18,Lookup!$L$1:$M$6,2,FALSE))","v":0},{"$f":"IF(AND(C18=\"External\",I18=90),VLOOKUP(K18,Points!$J$2:$K$27,MATCH(\"90 GLH Grade\",Points!$J$2:$K$2,0),FALSE),\"No\")","v":"No"},{"$f":"IF(U18=\"\",\"\",VLOOKUP(U18,Lookup!$L$1:$M$6,2,FALSE))","v":0}]
[null,null,{"$f":"IFERROR(INDEX('F Diploma 510 Data Sheet'!$A$3:$E$59,SMALL(IF('F Diploma 510 Data Sheet'!$A$3:$A$59=$E$3,ROW('F Diploma 510 Data Sheet'!$A$3:$A$59)),ROW(11:11))-2,5),\"\")","v":""}]
[null,null,{"$f":"IFERROR(INDEX('F Diploma 510 Data Sheet'!$A$3:$E$59,SMALL(IF('F Diploma 510 Data Sheet'!$A$3:$A$59=$E$3,ROW('F Diploma 510 Data Sheet'!$A$3:$A$59)),ROW(12:12))-2,5),\"\")","v":""}]
[null,"Mandatory",{"$f":"IFERROR(INDEX('F Diploma 510 Data Sheet'!$G$3:$K$1000,SMALL(IF('F Diploma 510 Data Sheet'!$G$3:$G$1000=$E$3,ROW('F Diploma 510 Data Sheet'!$G$3:$G$1000)),ROW(1:1))-2,5),\"\")","v":0},{"$f":"IFERROR(INDEX('F Diploma 510 Data Sheet'!$G$3:$K$1000,SMALL(IF('F Diploma 510 Data Sheet'!$G$3:$G$1000=$E$3,ROW('F Diploma 510 Data Sheet'!$G$3:$G$1000)),ROW(1:1))-2,2),\"\")","v":0},{"$f":"IFERROR(INDEX('F Diploma 510 Data Sheet'!$G$3:$K$1000,SMALL(IF('F Diploma 510 Data Sheet'!$G$3:$G$1000=$E$3,ROW('F Diploma 510 Data Sheet'!$G$3:$G$1000)),ROW(1:1))-2,3),\"\")","v":0},null,null,null,{"$f":"IFERROR(INDEX('F Diploma 510 Data Sheet'!$G$3:$K$1000,SMALL(IF('F Diploma 510 Data Sheet'!$G$3:$G$1000=$E$3,ROW('F Diploma 510 Data Sheet'!$G$3:$G$1000)),ROW(1:1))-2,4),\"\")","v":0},null,{"$f":"IFERROR(IF(C21=\"External\",VLOOKUP(J21,Points!$I$2:$M$36,MATCH(C21&\" \"&I21&\" GLH\",Points!$I$2:$M$2,0),FALSE),VLOOKUP(J21,Points!$A$2:$G$6,MATCH(C21&\" \"&I21&\" GLH\",Points!$A$2:$G$2,0),FALSE)),\"\")","v":""},{"$f":"IF(E21=\"\",\"\",VLOOKUP(SUM(N21,P21,R21,T21,V21),Lookup!$M$1:$N$6,2,FALSE))","v":"U"},{"$f":"IFERROR(IF(AND(C21=\"Internal\",I21=120),VLOOKUP(K21,Points!$D$2:$G$6,MATCH(\"Internal Grade\",Points!$D$2:$G$2,0),FALSE),\"\"),\"\")","v":""},null,{"$f":"IFERROR(IF(AND(C21=\"Internal\",I21=90),VLOOKUP(K21,Points!$C$2:$G$6,MATCH(\"Internal Grade\",Points!$C$2:$G$2,0),FALSE),\"\"),\"\")","v":""},{"$f":"IF(O21=\"\",\"\",VLOOKUP(O21,Lookup!$L$2:$M$6,2,FALSE))","v":""},{"$f":"IFERROR(IF(AND(C21=\"Internal\",I21=60),VLOOKUP(K21,Points!$B$2:$G$6,MATCH(\"Internal Grade\",Points!$B$2:$G$2,0),FALSE),\"\"),\"\")","v":""},{"$f":"IF(Q21=\"\",\"\",VLOOKUP(Q21,Lookup!$L$2:$M$6,2,FALSE))","v":""},{"$f":"IF(AND(C21=\"External\",I21=120),VLOOKUP(K21,Points!$M$2:$N$35,MATCH(\"120 GLH Grade\",Points!$M$2:$N$2,0),FALSE),\"No\")","v":"No"},{"$f":"IF(S21=\"\",\"\",VLOOKUP(S21,Lookup!$L$1:$M$6,2,FALSE))","v":0},{"$f":"IF(AND(C21=\"External\",I21=90),VLOOKUP(K21,Points!$J$2:$K$27,MATCH(\"90 GLH Grade\",Points!$J$2:$K$2,0),FALSE),\"No\")","v":"No"},{"$f":"IF(U21=\"\",\"\",VLOOKUP(U21,Lookup!$L$1:$M$6,2,FALSE))","v":0}]
[null,"Mandatory",{"$f":"IFERROR(INDEX('F Diploma 510 Data Sheet'!$G$3:$K$1000,SMALL(IF('F Diploma 510 Data Sheet'!$G$3:$G$1000=$E$3,ROW('F Diploma 510 Data Sheet'!$G$3:$G$1000)),ROW(2:2))-2,5),\"\")","v":0},{"$f":"IFERROR(INDEX('F Diploma 510 Data Sheet'!$G$3:$K$1000,SMALL(IF('F Diploma 510 Data Sheet'!$G$3:$G$1000=$E$3,ROW('F Diploma 510 Data Sheet'!$G$3:$G$1000)),ROW(2:2))-2,2),\"\")","v":0},{"$f":"IFERROR(INDEX('F Diploma 510 Data Sheet'!$G$3:$K$1000,SMALL(IF('F Diploma 510 Data Sheet'!$G$3:$G$1000=$E$3,ROW('F Diploma 510 Data Sheet'!$G$3:$G$1000)),ROW(2:2))-2,3),\"\")","v":0},null,null,null,{"$f":"IFERROR(INDEX('F Diploma 510 Data Sheet'!$G$3:$K$1000,SMALL(IF('F Diploma 510 Data Sheet'!$G$3:$G$1000=$E$3,ROW('F Diploma 510 Data Sheet'!$G$3:$G$1000)),ROW(2:2))-2,4),\"\")","v":0},null,{"$f":"IFERROR(IF(C22=\"External\",VLOOKUP(J22,Points!$I$2:$M$36,MATCH(C22&\" \"&I22&\" GLH\",Points!$I$2:$M$2,0),FALSE),VLOOKUP(J22,Points!$A$2:$G$6,MATCH(C22&\" \"&I22&\" GLH\",Points!$A$2:$G$2,0),FALSE)),\"\")","v":""},{"$f":"IF(E22=\"\",\"\",VLOOKUP(SUM(N22,P22,R22,T22,V22),Lookup!$M$1:$N$6,2,FALSE))","v":"U"},{"$f":"IFERROR(IF(AND(C22=\"Internal\",I22=120),VLOOKUP(K22,Points!$D$2:$G$6,MATCH(\"Internal Grade\",Points!$D$2:$G$2,0),FALSE),\"\"),\"\")","v":""},null,{"$f":"IFERROR(IF(AND(C22=\"Internal\",I22=90),VLOOKUP(K22,Points!$C$2:$G$6,MATCH(\"Internal Grade\",Points!$C$2:$G$2,0),FALSE),\"\"),\"\")","v":""},{"$f":"IF(O22=\"\",\"\",VLOOKUP(O22,Lookup!$L$2:$M$6,2,FALSE))","v":""},{"$f":"IFERROR(IF(AND(C22=\"Internal\",I22=60),VLOOKUP(K22,Points!$B$2:$G$6,MATCH(\"Internal Grade\",Points!$B$2:$G$2,0),FALSE),\"\"),\"\")","v":""},{"$f":"IF(Q22=\"\",\"\",VLOOKUP(Q22,Lookup!$L$2:$M$6,2,FALSE))","v":""},{"$f":"IF(AND(C22=\"External\",I22=120),VLOOKUP(K22,Points!$M$2:$N$35,MATCH(\"120 GLH Grade\",Points!$M$2:$N$2,0),FALSE),\"No\")","v":"No"},{"$f":"IF(S22=\"\",\"\",VLOOKUP(S22,Lookup!$L$1:$M$6,2,FALSE))","v":0},{"$f":"IF(AND(C22=\"External\",I22=90),VLOOKUP(K22,Points!$J$2:$K$27,MATCH(\"90 GLH Grade\",Points!$J$2:$K$2,0),FALSE),\"No\")","v":"No"},{"$f":"IF(U22=\"\",\"\",VLOOKUP(U22,Lookup!$L$1:$M$6,2,FALSE))","v":0}]
[null,"Mandatory",{"$f":"IFERROR(INDEX('F Diploma 510 Data Sheet'!$G$3:$K$1000,SMALL(IF('F Diploma 510 Data Sheet'!$G$3:$G$1000=$E$3,ROW('F Diploma 510 Data Sheet'!$G$3:$G$1000)),ROW(3:3))-2,5),\"\")","v":0},{"$f":"IFERROR(INDEX('F Diploma 510 Data Sheet'!$G$3:$K$1000,SMALL(IF('F Diploma 510 Data Sheet'!$G$3:$G$1000=$E$3,ROW('F Diploma 510 Data Sheet'!$G$3:$G$1000)),ROW(3:3))-2,2),\"\")","v":0},{"$f":"IFERROR(INDEX('F Diploma 510 Data Sheet'!$G$3:$K$1000,SMALL(IF('F Diploma 510 Data Sheet'!$G$3:$G$1000=$E$3,ROW('F Diploma 510 Data Sheet'!$G$3:$G$1000)),ROW(3:3))-2,3),\"\")","v":0},null,null,null,{"$f":"IFERROR(INDEX('F Diploma 510 Data Sheet'!$G$3:$K$1000,SMALL(IF('F Diploma 510 Data Sheet'!$G$3:$G$1000=$E$3,ROW('F Diploma 510 Data Sheet'!$G$3:$G$1000)),ROW(3:3))-2,4),\"\")","v":0},null,{"$f":"IFERROR(IF(C23=\"External\",VLOOKUP(J23,Points!$I$2:$M$36,MATCH(C23&\" \"&I23&\" GLH\",Points!$I$2:$M$2,0),FALSE),VLOOKUP(J23,Points!$A$2:$G$6,MATCH(C23&\" \"&I23&\" GLH\",Points!$A$2:$G$2,0),FALSE)),\"\")","v":""},{"$f":"IF(E23=\"\",\"\",VLOOKUP(SUM(N23,P23,R23,T23,V23),Lookup!$M$1:$N$6,2,FALSE))","v":"U"},{"$f":"IFERROR(IF(AND(C23=\"Internal\",I23=120),VLOOKUP(K23,Points!$D$2:$G$6,MATCH(\"Internal Grade\",Points!$D$2:$G$2,0),FALSE),\"\"),\"\")","v":""},null,{"$f":"IFERROR(IF(AND(C23=\"Internal\",I23=90),VLOOKUP(K23,Points!$C$2:$G$6,MATCH(\"Internal Grade\",Points!$C$2:$G$2,0),FALSE),\"\"),\"\")","v":""},{"$f":"IF(O23=\"\",\"\",VLOOKUP(O23,Lookup!$L$2:$M$6,2,FALSE))","v":""},{"$f":"IFERROR(IF(AND(C23=\"Internal\",I23=60),VLOOKUP(K23,Points!$B$2:$G$6,MATCH(\"Internal Grade\",Points!$B$2:$G$2,0),FALSE),\"\"),\"\")","v":""},{"$f":"IF(Q23=\"\",\"\",VLOOKUP(Q23,Lookup!$L$2:$M$6,2,FALSE))","v":""},{"$f":"IF(AND(C23=\"External\",I23=120),VLOOKUP(K23,Points!$M$2:$N$35,MATCH(\"120 GLH Grade\",Points!$M$2:$N$2,0),FALSE),\"No\")","v":"No"},{"$f":"IF(S23=\"\",\"\",VLOOKUP(S23,Lookup!$L$1:$M$6,2,FALSE))","v":0},{"$f":"IF(AND(C23=\"External\",I23=90),VLOOKUP(K23,Points!$J$2:$K$27,MATCH(\"90 GLH Grade\",Points!$J$2:$K$2,0),FALSE),\"No\")","v":"No"},{"$f":"IF(U23=\"\",\"\",VLOOKUP(U23,Lookup!$L$1:$M$6,2,FALSE))","v":0}]
[null,"Mandatory",{"$f":"IFERROR(INDEX('F Diploma 510 Data Sheet'!$G$3:$K$1000,SMALL(IF('F Diploma 510 Data Sheet'!$G$3:$G$1000=$E$3,ROW('F Diploma 510 Data Sheet'!$G$3:$G$1000)),ROW(4:4))-2,5),\"\")","v":0},{"$f":"IFERROR(INDEX('F Diploma 510 Data Sheet'!$G$3:$K$1000,SMALL(IF('F Diploma 510 Data Sheet'!$G$3:$G$1000=$E$3,ROW('F Diploma 510 Data Sheet'!$G$3:$G$1000)),ROW(4:4))-2,2),\"\")","v":0},{"$f":"IFERROR(INDEX('F Diploma 510 Data Sheet'!$G$3:$K$1000,SMALL(IF('F Diploma 510 Data Sheet'!$G$3:$G$1000=$E$3,ROW('F Diploma 510 Data Sheet'!$G$3:$G$1000)),ROW(4:4))-2,3),\"\")","v":0},null,null,null,{"$f":"IFERROR(INDEX('F Diploma 510 Data Sheet'!$G$3:$K$1000,SMALL(IF('F Diploma 510 Data Sheet'!$G$3:$G$1000=$E$3,ROW('F Diploma 510 Data Sheet'!$G$3:$G$1000)),ROW(4:4))-2,4),\"\")","v":0},null,{"$f":"IFERROR(IF(C24=\"External\",VLOOKUP(J24,Points!$I$2:$M$36,MATCH(C24&\" \"&I24&\" GLH\",Points!$I$2:$M$2,0),FALSE),VLOOKUP(J24,Points!$A$2:$G$6,MATCH(C24&\" \"&I24&\" GLH\",Points!$A$2:$G$2,0),FALSE)),\"\")","v":""},{"$f":"IF(E24=\"\",\"\",VLOOKUP(SUM(N24,P24,R24,T24,V24),Lookup!$M$1:$N$6,2,FALSE))","v":"U"},{"$f":"IFERROR(IF(AND(C24=\"Internal\",I24=120),VLOOKUP(K24,Points!$D$2:$G$6,MATCH(\"Internal Grade\",Points!$D$2:$G$2,0),FALSE),\"\"),\"\")","v":""},null,{"$f":"IFERROR(IF(AND(C24=\"Internal\",I24=90),VLOOKUP(K24,Points!$C$2:$G$6,MATCH(\"Internal Grade\",Points!$C$2:$G$2,0),FALSE),\"\"),\"\")","v":""},{"$f":"IF(O24=\"\",\"\",VLOOKUP(O24,Lookup!$L$2:$M$6,2,FALSE))","v":""},{"$f":"IFERROR(IF(AND(C24=\"Internal\",I24=60),VLOOKUP(K24,Points!$B$2:$G$6,MATCH(\"Internal Grade\",Points!$B$2:$G$2,0),FALSE),\"\"),\"\")","v":""},{"$f":"IF(Q24=\"\",\"\",VLOOKUP(Q24,Lookup!$L$2:$M$6,2,FALSE))","v":""},{"$f":"IF(AND(C24=\"External\",I24=120),VLOOKUP(K24,Points!$M$2:$N$35,MATCH(\"120 GLH Grade\",Points!$M$2:$N$2,0),FALSE),\"No\")","v":"No"},{"$f":"IF(S24=\"\",\"\",VLOOKUP(S24,Lookup!$L$1:$M$6,2,FALSE))","v":0},{"$f":"IF(AND(C24=\"External\",I24=90),VLOOKUP(K24,Points!$J$2:$K$27,MATCH(\"90 GLH Grade\",Points!$J$2:$K$2,0),FALSE),\"No\")","v":"No"},{"$f":"IF(U24=\"\",\"\",VLOOKUP(U24,Lookup!$L$1:$M$6,2,FALSE))","v":0}]
[null,"Mandatory",{"$f":"IFERROR(INDEX('F Diploma 510 Data Sheet'!$G$3:$K$1000,SMALL(IF('F Diploma 510 Data Sheet'!$G$3:$G$1000=$E$3,ROW('F Diploma 510 Data Sheet'!$G$3:$G$1000)),ROW(5:5))-2,5),\"\")","v":0},{"$f":"IFERROR(INDEX('F Diploma 510 Data Sheet'!$G$3:$K$1000,SMALL(IF('F Diploma 510 Data Sheet'!$G$3:$G$1000=$E$3,ROW('F Diploma 510 Data Sheet'!$G$3:$G$1000)),ROW(5:5))-2,2),\"\")","v":0},{"$f":"IFERROR(INDEX('F Diploma 510 Data Sheet'!$G$3:$K$1000,SMALL(IF('F Diploma 510 Data Sheet'!$G$3:$G$1000=$E$3,ROW('F Diploma 510 Data Sheet'!$G$3:$G$1000)),ROW(5:5))-2,3),\"\")","v":0},null,null,null,{"$f":"IFERROR(INDEX('F Diploma 510 Data Sheet'!$G$3:$K$47,SMALL(IF('F Diploma 510 Data Sheet'!$G$3:$G$47=$E$3,ROW('F Diploma 510 Data Sheet'!$G$3:$G$47)),ROW(5:5))-2,4),\"\")","v":0},null,{"$f":"IFERROR(IF(C25=\"External\",VLOOKUP(J25,Points!$I$2:$M$36,MATCH(C25&\" \"&I25&\" GLH\",Points!$I$2:$M$2,0),FALSE),VLOOKUP(J25,Points!$A$2:$G$6,MATCH(C25&\" \"&I25&\" GLH\",Points!$A$2:$G$2,0),FALSE)),\"\")","v":""},{"$f":"IF(E25=\"\",\"\",VLOOKUP(SUM(N25,P25,R25,T25,V25),Lookup!$M$1:$N$6,2,FALSE))","v":"U"},{"$f":"IFERROR(IF(AND(C25=\"Internal\",I25=120),VLOOKUP(K25,Points!$D$2:$G$6,MATCH(\"Internal Grade\",Points!$D$2:$G$2,0),FALSE),\"\"),\"\")","v":""},null,{"$f":"IFERROR(IF(AND(C25=\"Internal\",I25=90),VLOOKUP(K25,Points!$C$2:$G$6,MATCH(\"Internal Grade\",Points!$C$2:$G$2,0),FALSE),\"\"),\"\")","v":""},{"$f":"IF(O25=\"\",\"\",VLOOKUP(O25,Lookup!$L$2:$M$6,2,FALSE))","v":""},{"$f":"IFERROR(IF(AND(C25=\"Internal\",I25=60),VLOOKUP(K25,Points!$B$2:$G$6,MATCH(\"Internal Grade\",Points!$B$2:$G$2,0),FALSE),\"\"),\"\")","v":""},{"$f":"IF(Q25=\"\",\"\",VLOOKUP(Q25,Lookup!$L$2:$M$6,2,FALSE))","v":""},{"$f":"IF(AND(C25=\"External\",I25=120),VLOOKUP(K25,Points!$M$2:$N$35,MATCH(\"120 GLH Grade\",Points!$M$2:$N$2,0),FALSE),\"No\")","v":"No"},{"$f":"IF(S25=\"\",\"\",VLOOKUP(S25,Lookup!$L$1:$M$6,2,FALSE))","v":0},{"$f":"IF(AND(C25=\"External\",I25=90),VLOOKUP(K25,Points!$J$2:$K$27,MATCH(\"90 GLH Grade\",Points!$J$2:$K$2,0),FALSE),\"No\")","v":"No"},{"$f":"IF(U25=\"\",\"\",VLOOKUP(U25,Lookup!$L$1:$M$6,2,FALSE))","v":0}]
[null,"Mandatory",{"$f":"IFERROR(INDEX('F Diploma 510 Data Sheet'!$G$3:$K$1000,SMALL(IF('F Diploma 510 Data Sheet'!$G$3:$G$1000=$E$3,ROW('F Diploma 510 Data Sheet'!$G$3:$G$1000)),ROW(6:6))-2,5),\"\")","v":0},{"$f":"IFERROR(INDEX('F Diploma 510 Data Sheet'!$G$3:$K$1000,SMALL(IF('F Diploma 510 Data Sheet'!$G$3:$G$1000=$E$3,ROW('F Diploma 510 Data Sheet'!$G$3:$G$1000)),ROW(6:6))-2,2),\"\")","v":0},{"$f":"IFERROR(INDEX('F Diploma 510 Data Sheet'!$G$3:$K$1000,SMALL(IF('F Diploma 510 Data Sheet'!$G$3:$G$1000=$E$3,ROW('F Diploma 510 Data Sheet'!$G$3:$G$1000)),ROW(6:6))-2,3),\"\")","v":0},null,null,null,{"$f":"IFERROR(INDEX('F Diploma 510 Data Sheet'!$G$3:$K$47,SMALL(IF('F Diploma 510 Data Sheet'!$G$3:$G$47=$E$3,ROW('F Diploma 510 Data Sheet'!$G$3:$G$47)),ROW(6:6))-2,4),\"\")","v":0},null,{"$f":"IFERROR(IF(C26=\"External\",VLOOKUP(J26,Points!$I$2:$M$36,MATCH(C26&\" \"&I26&\" GLH\",Points!$I$2:$M$2,0),FALSE),VLOOKUP(J26,Points!$A$2:$G$6,MATCH(C26&\" \"&I26&\" GLH\",Points!$A$2:$G$2,0),FALSE)),\"\")","v":""},{"$f":"IF(E26=\"\",\"\",VLOOKUP(SUM(N26,P26,R26,T26,V26),Lookup!$M$1:$N$6,2,FALSE))","v":"U"},{"$f":"IFERROR(IF(AND(C26=\"Internal\",I26=120),VLOOKUP(K26,Points!$D$2:$G$6,MATCH(\"Internal Grade\",Points!$D$2:$G$2,0),FALSE),\"\"),\"\")","v":""},null,{"$f":"IFERROR(IF(AND(C26=\"Internal\",I26=90),VLOOKUP(K26,Points!$C$2:$G$6,MATCH(\"Internal Grade\",Points!$C$2:$G$2,0),FALSE),\"\"),\"\")","v":""},{"$f":"IF(O26=\"\",\"\",VLOOKUP(O26,Lookup!$L$2:$M$6,2,FALSE))","v":""},{"$f":"IFERROR(IF(AND(C26=\"Internal\",I26=60),VLOOKUP(K26,Points!$B$2:$G$6,MATCH(\"Internal Grade\",Points!$B$2:$G$2,0),FALSE),\"\"),\"\")","v":""},{"$f":"IF(Q26=\"\",\"\",VLOOKUP(Q26,Lookup!$L$2:$M$6,2,FALSE))","v":""},{"$f":"IF(AND(C26=\"External\",I26=120),VLOOKUP(K26,Points!$M$2:$N$35,MATCH(\"120 GLH Grade\",Points!$M$2:$N$2,0),FALSE),\"No\")","v":"No"},{"$f":"IF(S26=\"\",\"\",VLOOKUP(S26,Lookup!$L$1:$M$6,2,FALSE))","v":0},{"$f":"IF(AND(C26=\"External\",I26=90),VLOOKUP(K26,Points!$J$2:$K$27,MATCH(\"90 GLH Grade\",Points!$J$2:$K$2,0),FALSE),\"No\")","v":"No"},{"$f":"IF(U26=\"\",\"\",VLOOKUP(U26,Lookup!$L$1:$M$6,2,FALSE))","v":0}]
[null,null,{"$f":"IFERROR(INDEX('F Diploma 510 Data Sheet'!$A$3:$E$59,SMALL(IF('F Diploma 510 Data Sheet'!$A$3:$A$59=$E$3,ROW('F Diploma 510 Data Sheet'!$A$3:$A$59)),ROW(19:19))-2,5),\"\")","v":""}]
[null,null,null,null,"2. Select optional units from the dropdown lists below"]
[null,"Optional",{"$f":"IFERROR(INDEX('F Diploma 510 Data Sheet'!$R$3:$R$1000,MATCH(E29&$E$3,'F Diploma 510 Data Sheet'!$M$3:$M$1000&'F Diploma 510 Data Sheet'!$N$3:$N$1000,0)),\"\")","v":0},{"$f":"IFERROR(INDEX('F Diploma 510 Data Sheet'!$O$3:$O$1000,MATCH(E29&$E$3,'F Diploma 510 Data Sheet'!$M$3:$M$1000&'F Diploma 510 Data Sheet'!$N$3:$N$1000,0)),\"\")","v":0},null,null,null,null,{"$f":"IFERROR(INDEX('F Diploma 510 Data Sheet'!$Q$3:$Q$1000,MATCH(E29&$E$3,'F Diploma 510 Data Sheet'!$M$3:$M$1000&'F Diploma 510 Data Sheet'!$N$3:$N$1000,0)),\"\")","v":0},null,{"$f":"IFERROR(IF(C29=\"Internal\",VLOOKUP(J29,Points!$A$2:$C$6,MATCH(C29&\" \"&I29&\" GLH\",Points!$A$2:$C$2,0),FALSE),\"\"),\"\")","v":""},{"$f":"IF(E29=\"\",\"\",VLOOKUP(SUM(N29,P29,R29,T29,V29),Lookup!$M$1:$N$6,2,FALSE))","v":""},{"$f":"IFERROR(IF(AND(C29=\"Internal\",I29=120),VLOOKUP(K29,Points!$C$2:$G$6,MATCH(\"Internal Grade\",Points!$C$2:$G$2,0),FALSE),\"\"),\"\")","v":""},{"$f":"IF(M29=\"\",\"\",VLOOKUP(M29,Lookup!$L$2:$M$6,2,FALSE))","v":""},{"$f":"IFERROR(IF(AND(C29=\"Internal\",I29=90),VLOOKUP(K29,Points!$C$2:$G$6,MATCH(\"Internal Grade\",Points!$C$2:$G$2,0),FALSE),\"\"),\"\")","v":""},{"$f":"IF(O29=\"\",\"\",VLOOKUP(O29,Lookup!$L$2:$M$6,2,FALSE))","v":""},{"$f":"IFERROR(IF(AND(C29=\"Internal\",I29=60),VLOOKUP(K29,Points!$B$2:$G$6,MATCH(\"Internal Grade\",Points!$B$2:$G$2,0),FALSE),\"\"),\"\")","v":""},{"$f":"IF(Q29=\"\",\"\",VLOOKUP(Q29,Lookup!$L$2:$M$6,2,FALSE))","v":""},{"$f":"IF(AND(C29=\"External\",I29=120),VLOOKUP(K29,Points!$M$2:$N$35,MATCH(\"120 GLH Grade\",Points!$M$2:$N$2,0),FALSE),\"No\")","v":"No"},{"$f":"IF(S29=\"\",\"\",VLOOKUP(S29,Lookup!$L$1:$M$6,2,FALSE))","v":0},{"$f":"IF(AND(C29=\"External\",I29=90),VLOOKUP(K29,Points!$J$2:$K$27,MATCH(\"90 GLH Grade\",Points!$J$2:$K$2,0),FALSE),\"No\")","v":"No"},{"$f":"IF(U29=\"\",\"\",VLOOKUP(U29,Lookup!$L$1:$M$6,2,FALSE))","v":0}]
[null,"Optional",{"$f":"IFERROR(INDEX('F Diploma 510 Data Sheet'!$R$3:$R$1000,MATCH(E30&$E$3,'F Diploma 510 Data Sheet'!$M$3:$M$1000&'F Diploma 510 Data Sheet'!$N$3:$N$1000,0)),\"\")","v":0},{"$f":"IFERROR(INDEX('F Diploma 510 Data Sheet'!$O$3:$O$1000,MATCH(E30&$E$3,'F Diploma 510 Data Sheet'!$M$3:$M$1000&'F Diploma 510 Data Sheet'!$N$3:$N$1000,0)),\"\")","v":0},null,null,null,null,{"$f":"IFERROR(INDEX('F Diploma 510 Data Sheet'!$Q$3:$Q$1000,MATCH(E30&$E$3,'F Diploma 510 Data Sheet'!$M$3:$M$1000&'F Diploma 510 Data Sheet'!$N$3:$N$1000,0)),\"\")","v":0},null,{"$f":"IFERROR(IF(C30=\"Internal\",VLOOKUP(J30,Points!$A$2:$C$6,MATCH(C30&\" \"&I30&\" GLH\",Points!$A$2:$C$2,0),FALSE),\"\"),\"\")","v":""},{"$f":"IF(E30=\"\",\"\",VLOOKUP(SUM(N30,P30,R30,T30,V30),Lookup!$M$1:$N$6,2,FALSE))","v":""},{"$f":"IFERROR(IF(AND(C30=\"Internal\",I30=120),VLOOKUP(K30,Points!$C$2:$G$6,MATCH(\"Internal Grade\",Points!$C$2:$G$2,0),FALSE),\"\"),\"\")","v":""},{"$f":"IF(M30=\"\",\"\",VLOOKUP(M30,Lookup!$L$2:$M$6,2,FALSE))","v":""},{"$f":"IFERROR(IF(AND(C30=\"Internal\",I30=90),VLOOKUP(K30,Points!$C$2:$G$6,MATCH(\"Internal Grade\",Points!$C$2:$G$2,0),FALSE),\"\"),\"\")","v":""},{"$f":"IF(O30=\"\",\"\",VLOOKUP(O30,Lookup!$L$2:$M$6,2,FALSE))","v":""},{"$f":"IFERROR(IF(AND(C30=\"Internal\",I30=60),VLOOKUP(K30,Points!$B$2:$G$6,MATCH(\"Internal Grade\",Points!$B$2:$G$2,0),FALSE),\"\"),\"\")","v":""},{"$f":"IF(Q30=\"\",\"\",VLOOKUP(Q30,Lookup!$L$2:$M$6,2,FALSE))","v":""},{"$f":"IF(AND(C30=\"External\",I30=120),VLOOKUP(K30,Points!$M$2:$N$35,MATCH(\"120 GLH Grade\",Points!$M$2:$N$2,0),FALSE),\"No\")","v":"No"},{"$f":"IF(S30=\"\",\"\",VLOOKUP(S30,Lookup!$L$1:$M$6,2,FALSE))","v":0},{"$f":"IF(AND(C30=\"External\",I30=90),VLOOKUP(K30,Points!$J$2:$K$27,MATCH(\"90 GLH Grade\",Points!$J$2:$K$2,0),FALSE),\"No\")","v":"No"},{"$f":"IF(U30=\"\",\"\",VLOOKUP(U30,Lookup!$L$1:$M$6,2,FALSE))","v":0}]
[null,"Optional",{"$f":"IFERROR(INDEX('F Diploma 510 Data Sheet'!$R$3:$R$1000,MATCH(E31&$E$3,'F Diploma 510 Data Sheet'!$M$3:$M$1000&'F Diploma 510 Data Sheet'!$N$3:$N$1000,0)),\"\")","v":0},{"$f":"IFERROR(INDEX('F Diploma 510 Data Sheet'!$O$3:$O$1000,MATCH(E31&$E$3,'F Diploma 510 Data Sheet'!$M$3:$M$1000&'F Diploma 510 Data Sheet'!$N$3:$N$1000,0)),\"\")","v":0},null,null,null,null,{"$f":"IFERROR(INDEX('F Diploma 510 Data Sheet'!$Q$3:$Q$1000,MATCH(E31&$E$3,'F Diploma 510 Data Sheet'!$M$3:$M$1000&'F Diploma 510 Data Sheet'!$N$3:$N$1000,0)),\"\")","v":0},null,{"$f":"IFERROR(IF(C31=\"Internal\",VLOOKUP(J31,Points!$A$2:$C$6,MATCH(C31&\" \"&I31&\" GLH\",Points!$A$2:$C$2,0),FALSE),\"\"),\"\")","v":""},{"$f":"IF(E31=\"\",\"\",VLOOKUP(SUM(N31,P31,R31,T31,V31),Lookup!$M$1:$N$6,2,FALSE))","v":""},{"$f":"IFERROR(IF(AND(C31=\"Internal\",I31=120),VLOOKUP(K31,Points!$C$2:$G$6,MATCH(\"Internal Grade\",Points!$C$2:$G$2,0),FALSE),\"\"),\"\")","v":""},{"$f":"IF(M31=\"\",\"\",VLOOKUP(M31,Lookup!$L$2:$M$6,2,FALSE))","v":""},{"$f":"IFERROR(IF(AND(C31=\"Internal\",I31=90),VLOOKUP(K31,Points!$C$2:$G$6,MATCH(\"Internal Grade\",Points!$C$2:$G$2,0),FALSE),\"\"),\"\")","v":""},{"$f":"IF(O31=\"\",\"\",VLOOKUP(O31,Lookup!$L$2:$M$6,2,FALSE))","v":""},{"$f":"IFERROR(IF(AND(C31=\"Internal\",I31=60),VLOOKUP(K31,Points!$B$2:$G$6,MATCH(\"Internal Grade\",Points!$B$2:$G$2,0),FALSE),\"\"),\"\")","v":""},{"$f":"IF(Q31=\"\",\"\",VLOOKUP(Q31,Lookup!$L$2:$M$6,2,FALSE))","v":""},{"$f":"IF(AND(C31=\"External\",I31=120),VLOOKUP(K31,Points!$M$2:$N$35,MATCH(\"120 GLH Grade\",Points!$M$2:$N$2,0),FALSE),\"No\")","v":"No"},{"$f":"IF(S31=\"\",\"\",VLOOKUP(S31,Lookup!$L$1:$M$6,2,FALSE))","v":0},{"$f":"IF(AND(C31=\"External\",I31=90),VLOOKUP(K31,Points!$J$2:$K$27,MATCH(\"90 GLH Grade\",Points!$J$2:$K$2,0),FALSE),\"No\")","v":"No"},{"$f":"IF(U31=\"\",\"\",VLOOKUP(U31,Lookup!$L$1:$M$6,2,FALSE))","v":0}]
[null,"Optional",{"$f":"IFERROR(INDEX('F Diploma 510 Data Sheet'!$R$3:$R$1000,MATCH(E32&$E$3,'F Diploma 510 Data Sheet'!$M$3:$M$1000&'F Diploma 510 Data Sheet'!$N$3:$N$1000,0)),\"\")","v":0},{"$f":"IFERROR(INDEX('F Diploma 510 Data Sheet'!$O$3:$O$1000,MATCH(E32&$E$3,'F Diploma 510 Data Sheet'!$M$3:$M$1000&'F Diploma 510 Data Sheet'!$N$3:$N$1000,0)),\"\")","v":0},null,null,null,null,{"$f":"IFERROR(INDEX('F Diploma 510 Data Sheet'!$Q$3:$Q$1000,MATCH(E32&$E$3,'F Diploma 510 Data Sheet'!$M$3:$M$1000&'F Diploma 510 Data Sheet'!$N$3:$N$1000,0)),\"\")","v":0},null,{"$f":"IFERROR(IF(C32=\"Internal\",VLOOKUP(J32,Points!$A$2:$C$6,MATCH(C32&\" \"&I32&\" GLH\",Points!$A$2:$C$2,0),FALSE),\"\"),\"\")","v":""},{"$f":"IF(E32=\"\",\"\",VLOOKUP(SUM(N32,P32,R32,T32,V32),Lookup!$M$1:$N$6,2,FALSE))","v":""},{"$f":"IFERROR(IF(AND(C32=\"Internal\",I32=120),VLOOKUP(K32,Points!$C$2:$G$6,MATCH(\"Internal Grade\",Points!$C$2:$G$2,0),FALSE),\"\"),\"\")","v":""},{"$f":"IF(M32=\"\",\"\",VLOOKUP(M32,Lookup!$L$2:$M$6,2,FALSE))","v":""},{"$f":"IFERROR(IF(AND(C32=\"Internal\",I32=90),VLOOKUP(K32,Points!$C$2:$G$6,MATCH(\"Internal Grade\",Points!$C$2:$G$2,0),FALSE),\"\"),\"\")","v":""},{"$f":"IF(O32=\"\",\"\",VLOOKUP(O32,Lookup!$L$2:$M$6,2,FALSE))","v":""},{"$f":"IFERROR(IF(AND(C32=\"Internal\",I32=60),VLOOKUP(K32,Points!$B$2:$G$6,MATCH(\"Internal Grade\",Points!$B$2:$G$2,0),FALSE),\"\"),\"\")","v":""},{"$f":"IF(Q32=\"\",\"\",VLOOKUP(Q32,Lookup!$L$2:$M$6,2,FALSE))","v":""},{"$f":"IF(AND(C32=\"External\",I32=120),VLOOKUP(K32,Points!$M$2:$N$35,MATCH(\"120 GLH Grade\",Points!$M$2:$N$2,0),FALSE),\"No\")","v":"No"},{"$f":"IF(S32=\"\",\"\",VLOOKUP(S32,Lookup!$L$1:$M$6,2,FALSE))","v":0},{"$f":"IF(AND(C32=\"External\",I32=90),VLOOKUP(K32,Points!$J$2:$K$27,MATCH(\"90 GLH Grade\",Points!$J$2:$K$2,0),FALSE),\"No\")","v":"No"},{"$f":"IF(U32=\"\",\"\",VLOOKUP(U32,Lookup!$L$1:$M$6,2,FALSE))","v":0}]
[null,"Optional",{"$f":"IFERROR(INDEX('F Diploma 510 Data Sheet'!$R$3:$R$1000,MATCH(E33&$E$3,'F Diploma 510 Data Sheet'!$M$3:$M$1000&'F Diploma 510 Data Sheet'!$N$3:$N$1000,0)),\"\")","v":0},{"$f":"IFERROR(INDEX('F Diploma 510 Data Sheet'!$O$3:$O$1000,MATCH(E33&$E$3,'F Diploma 510 Data Sheet'!$M$3:$M$1000&'F Diploma 510 Data Sheet'!$N$3:$N$1000,0)),\"\")","v":0},null,null,null,null,{"$f":"IFERROR(INDEX('F Diploma 510 Data Sheet'!$Q$3:$Q$1000,MATCH(E33&$E$3,'F Diploma 510 Data Sheet'!$M$3:$M$1000&'F Diploma 510 Data Sheet'!$N$3:$N$1000,0)),\"\")","v":0},null,{"$f":"IFERROR(IF(C33=\"Internal\",VLOOKUP(J33,Points!$A$2:$C$6,MATCH(C33&\" \"&I33&\" GLH\",Points!$A$2:$C$2,0),FALSE),\"\"),\"\")","v":""},{"$f":"IF(E33=\"\",\"\",VLOOKUP(SUM(N33,P33,R33,T33,V33),Lookup!$M$1:$N$6,2,FALSE))","v":""},{"$f":"IFERROR(IF(AND(C33=\"Internal\",I33=120),VLOOKUP(K33,Points!$C$2:$G$6,MATCH(\"Internal Grade\",Points!$C$2:$G$2,0),FALSE),\"\"),\"\")","v":""},{"$f":"IF(M33=\"\",\"\",VLOOKUP(M33,Lookup!$L$2:$M$6,2,FALSE))","v":""},{"$f":"IFERROR(IF(AND(C33=\"Internal\",I33=90),VLOOKUP(K33,Points!$C$2:$G$6,MATCH(\"Internal Grade\",Points!$C$2:$G$2,0),FALSE),\"\"),\"\")","v":""},{"$f":"IF(O33=\"\",\"\",VLOOKUP(O33,Lookup!$L$2:$M$6,2,FALSE))","v":""},{"$f":"IFERROR(IF(AND(C33=\"Internal\",I33=60),VLOOKUP(K33,Points!$B$2:$G$6,MATCH(\"Internal Grade\",Points!$B$2:$G$2,0),FALSE),\"\"),\"\")","v":""},{"$f":"IF(Q33=\"\",\"\",VLOOKUP(Q33,Lookup!$L$2:$M$6,2,FALSE))","v":""},{"$f":"IF(AND(C33=\"External\",I33=120),VLOOKUP(K33,Points!$M$2:$N$35,MATCH(\"120 GLH Grade\",Points!$M$2:$N$2,0),FALSE),\"No\")","v":"No"},{"$f":"IF(S33=\"\",\"\",VLOOKUP(S33,Lookup!$L$1:$M$6,2,FALSE))","v":0},{"$f":"IF(AND(C33=\"External\",I33=90),VLOOKUP(K33,Points!$J$2:$K$27,MATCH(\"90 GLH Grade\",Points!$J$2:$K$2,0),FALSE),\"No\")","v":"No"},{"$f":"IF(U33=\"\",\"\",VLOOKUP(U33,Lookup!$L$1:$M$6,2,FALSE))","v":0}]
[null,"Optional",{"$f":"IFERROR(INDEX('F Diploma 510 Data Sheet'!$R$3:$R$1000,MATCH(E34&$E$3,'F Diploma 510 Data Sheet'!$M$3:$M$1000&'F Diploma 510 Data Sheet'!$N$3:$N$1000,0)),\"\")","v":0},{"$f":"IFERROR(INDEX('F Diploma 510 Data Sheet'!$O$3:$O$1000,MATCH(E34&$E$3,'F Diploma 510 Data Sheet'!$M$3:$M$1000&'F Diploma 510 Data Sheet'!$N$3:$N$1000,0)),\"\")","v":0},null,null,null,null,{"$f":"IFERROR(INDEX('F Diploma 510 Data Sheet'!$Q$3:$Q$1000,MATCH(E34&$E$3,'F Diploma 510 Data Sheet'!$M$3:$M$1000&'F Diploma 510 Data Sheet'!$N$3:$N$1000,0)),\"\")","v":0},null,{"$f":"IFERROR(IF(C34=\"Internal\",VLOOKUP(J34,Points!$A$2:$C$6,MATCH(C34&\" \"&I34&\" GLH\",Points!$A$2:$C$2,0),FALSE),\"\"),\"\")","v":""},{"$f":"IF(E34=\"\",\"\",VLOOKUP(SUM(N34,P34,R34,T34,V34),Lookup!$M$1:$N$6,2,FALSE))","v":""},{"$f":"IFERROR(IF(AND(C34=\"Internal\",I34=120),VLOOKUP(K34,Points!$C$2:$G$6,MATCH(\"Internal Grade\",Points!$C$2:$G$2,0),FALSE),\"\"),\"\")","v":""},{"$f":"IF(M34=\"\",\"\",VLOOKUP(M34,Lookup!$L$2:$M$6,2,FALSE))","v":""},{"$f":"IFERROR(IF(AND(C34=\"Internal\",I34=90),VLOOKUP(K34,Points!$C$2:$G$6,MATCH(\"Internal Grade\",Points!$C$2:$G$2,0),FALSE),\"\"),\"\")","v":""},{"$f":"IF(O34=\"\",\"\",VLOOKUP(O34,Lookup!$L$2:$M$6,2,FALSE))","v":""},{"$f":"IFERROR(IF(AND(C34=\"Internal\",I34=60),VLOOKUP(K34,Points!$B$2:$G$6,MATCH(\"Internal Grade\",Points!$B$2:$G$2,0),FALSE),\"\"),\"\")","v":""},{"$f":"IF(Q34=\"\",\"\",VLOOKUP(Q34,Lookup!$L$2:$M$6,2,FALSE))","v":""},{"$f":"IF(AND(C34=\"External\",I34=120),VLOOKUP(K34,Points!$M$2:$N$35,MATCH(\"120 GLH Grade\",Points!$M$2:$N$2,0),FALSE),\"No\")","v":"No"},{"$f":"IF(S34=\"\",\"\",VLOOKUP(S34,Lookup!$L$1:$M$6,2,FALSE))","v":0},{"$f":"IF(AND(C34=\"External\",I34=90),VLOOKUP(K34,Points!$J$2:$K$27,MATCH(\"90 GLH Grade\",Points!$J$2:$K$2,0),FALSE),\"No\")","v":"No"},{"$f":"IF(U34=\"\",\"\",VLOOKUP(U34,Lookup!$L$1:$M$6,2,FALSE))","v":0}]
[null,null,null,null,null,null,null,null,{"$f":"SUM(I29:I34)","v":0}]
[]
[null,"Optional",{"$f":"IFERROR(INDEX('F Diploma 510 Data Sheet'!$Y$3:$Y$1000,MATCH(E37&$E$3,'F Diploma 510 Data Sheet'!$T$3:$T$1000&'F Diploma 510 Data Sheet'!$U$3:$U$1000,0)),\"\")","v":0},{"$f":"IFERROR(INDEX('F Diploma 510 Data Sheet'!$V$3:$V$1000,MATCH(E37&$E$3,'F Diploma 510 Data Sheet'!$T$3:$T$1000&'F Diploma 510 Data Sheet'!$U$3:$U$1000,0)),\"\")","v":0},null,null,null,null,{"$f":"IFERROR(INDEX('F Diploma 510 Data Sheet'!$X$3:$X$1000,MATCH(E37&$E$3,'F Diploma 510 Data Sheet'!$T$3:$T$1000&'F Diploma 510 Data Sheet'!$U$3:$U$1000,0)),\"\")","v":0},null,{"$f":"IFERROR(IF(C37=\"Internal\",VLOOKUP(J37,Points!$A$2:$C$6,MATCH(C37&\" \"&I37&\" GLH\",Points!$A$2:$C$2,0),FALSE),\"\"),\"\")","v":""},{"$f":"IF(E37=\"\",\"\",VLOOKUP(SUM(N37,P37,R37,T37,V37),Lookup!$M$1:$N$6,2,FALSE))","v":""},null,{"$f":"IF(M37=\"\",\"\",VLOOKUP(M37,Lookup!$L$2:$M$6,2,FALSE))","v":""},{"$f":"IFERROR(IF(AND(C37=\"Internal\",I37=90),VLOOKUP(K37,Points!$C$2:$G$6,MATCH(\"Internal Grade\",Points!$C$2:$G$2,0),FALSE),\"\"),\"\")","v":""},{"$f":"IF(O37=\"\",\"\",VLOOKUP(O37,Lookup!$L$2:$M$6,2,FALSE))","v":""},{"$f":"IFERROR(IF(AND(C37=\"Internal\",I37=60),VLOOKUP(K37,Points!$B$2:$G$6,MATCH(\"Internal Grade\",Points!$B$2:$G$2,0),FALSE),\"\"),\"\")","v":""},{"$f":"IF(Q37=\"\",\"\",VLOOKUP(Q37,Lookup!$L$2:$M$6,2,FALSE))","v":""},{"$f":"IF(AND(C37=\"External\",I37=120),VLOOKUP(K37,Points!$M$2:$N$35,MATCH(\"120 GLH Grade\",Points!$M$2:$N$2,0),FALSE),\"No\")","v":"No"},{"$f":"IF(S37=\"\",\"\",VLOOKUP(S37,Lookup!$L$1:$M$6,2,FALSE))","v":0},{"$f":"IF(AND(C37=\"External\",I37=90),VLOOKUP(K37,Points!$J$2:$K$27,MATCH(\"90 GLH Grade\",Points!$J$2:$K$2,0),FALSE),\"No\")","v":"No"},{"$f":"IF(U37=\"\",\"\",VLOOKUP(U37,Lookup!$L$1:$M$6,2,FALSE))","v":0}]
[null,"Optional",{"$f":"IFERROR(INDEX('F Diploma 510 Data Sheet'!$Y$3:$Y$1000,MATCH(E38&$E$3,'F Diploma 510 Data Sheet'!$T$3:$T$1000&'F Diploma 510 Data Sheet'!$U$3:$U$1000,0)),\"\")","v":0},{"$f":"IFERROR(INDEX('F Diploma 510 Data Sheet'!$V$3:$V$1000,MATCH(E38&$E$3,'F Diploma 510 Data Sheet'!$T$3:$T$1000&'F Diploma 510 Data Sheet'!$U$3:$U$1000,0)),\"\")","v":0},null,null,null,null,{"$f":"IFERROR(INDEX('F Diploma 510 Data Sheet'!$X$3:$X$1000,MATCH(E38&$E$3,'F Diploma 510 Data Sheet'!$T$3:$T$1000&'F Diploma 510 Data Sheet'!$U$3:$U$1000,0)),\"\")","v":0},null,{"$f":"IFERROR(IF(C38=\"Internal\",VLOOKUP(J38,Points!$A$2:$C$6,MATCH(C38&\" \"&I38&\" GLH\",Points!$A$2:$C$2,0),FALSE),\"\"),\"\")","v":""},{"$f":"IF(E38=\"\",\"\",VLOOKUP(SUM(N38,P38,R38,T38,V38),Lookup!$M$1:$N$6,2,FALSE))","v":""},null,{"$f":"IF(M38=\"\",\"\",VLOOKUP(M38,Lookup!$L$2:$M$6,2,FALSE))","v":""},{"$f":"IFERROR(IF(AND(C38=\"Internal\",I38=90),VLOOKUP(K38,Points!$C$2:$G$6,MATCH(\"Internal Grade\",Points!$C$2:$G$2,0),FALSE),\"\"),\"\")","v":""},{"$f":"IF(O38=\"\",\"\",VLOOKUP(O38,Lookup!$L$2:$M$6,2,FALSE))","v":""},{"$f":"IFERROR(IF(AND(C38=\"Internal\",I38=60),VLOOKUP(K38,Points!$B$2:$G$6,MATCH(\"Internal Grade\",Points!$B$2:$G$2,0),FALSE),\"\"),\"\")","v":""},{"$f":"IF(Q38=\"\",\"\",VLOOKUP(Q38,Lookup!$L$2:$M$6,2,FALSE))","v":""},{"$f":"IF(AND(C38=\"External\",I38=120),VLOOKUP(K38,Points!$M$2:$N$35,MATCH(\"120 GLH Grade\",Points!$M$2:$N$2,0),FALSE),\"No\")","v":"No"},{"$f":"IF(S38=\"\",\"\",VLOOKUP(S38,Lookup!$L$1:$M$6,2,FALSE))","v":0},{"$f":"IF(AND(C38=\"External\",I38=90),VLOOKUP(K38,Points!$J$2:$K$27,MATCH(\"90 GLH Grade\",Points!$J$2:$K$2,0),FALSE),\"No\")","v":"No"},{"$f":"IF(U38=\"\",\"\",VLOOKUP(U38,Lookup!$L$1:$M$6,2,FALSE))","v":0}]
[null,"Optional",{"$f":"IFERROR(INDEX('F Diploma 510 Data Sheet'!$Y$3:$Y$1000,MATCH(E39&$E$3,'F Diploma 510 Data Sheet'!$T$3:$T$1000&'F Diploma 510 Data Sheet'!$U$3:$U$1000,0)),\"\")","v":0},{"$f":"IFERROR(INDEX('F Diploma 510 Data Sheet'!$V$3:$V$1000,MATCH(E39&$E$3,'F Diploma 510 Data Sheet'!$T$3:$T$1000&'F Diploma 510 Data Sheet'!$U$3:$U$1000,0)),\"\")","v":0},null,null,null,null,{"$f":"IFERROR(INDEX('F Diploma 510 Data Sheet'!$X$3:$X$1000,MATCH(E39&$E$3,'F Diploma 510 Data Sheet'!$T$3:$T$1000&'F Diploma 510 Data Sheet'!$U$3:$U$1000,0)),\"\")","v":0},null,{"$f":"IFERROR(IF(C39=\"Internal\",VLOOKUP(J39,Points!$A$2:$C$6,MATCH(C39&\" \"&I39&\" GLH\",Points!$A$2:$C$2,0),FALSE),\"\"),\"\")","v":""},{"$f":"IF(E39=\"\",\"\",VLOOKUP(SUM(N39,P39,R39,T39,V39),Lookup!$M$1:$N$6,2,FALSE))","v":""},null,{"$f":"IF(M39=\"\",\"\",VLOOKUP(M39,Lookup!$L$2:$M$6,2,FALSE))","v":""},{"$f":"IFERROR(IF(AND(C39=\"Internal\",I39=90),VLOOKUP(K39,Points!$C$2:$G$6,MATCH(\"Internal Grade\",Points!$C$2:$G$2,0),FALSE),\"\"),\"\")","v":""},{"$f":"IF(O39=\"\",\"\",VLOOKUP(O39,Lookup!$L$2:$M$6,2,FALSE))","v":""},{"$f":"IFERROR(IF(AND(C39=\"Internal\",I39=60),VLOOKUP(K39,Points!$B$2:$G$6,MATCH(\"Internal Grade\",Points!$B$2:$G$2,0),FALSE),\"\"),\"\")","v":""},{"$f":"IF(Q39=\"\",\"\",VLOOKUP(Q39,Lookup!$L$2:$M$6,2,FALSE))","v":""},{"$f":"IF(AND(C39=\"External\",I39=120),VLOOKUP(K39,Points!$M$2:$N$35,MATCH(\"120 GLH Grade\",Points!$M$2:$N$2,0),FALSE),\"No\")","v":"No"},{"$f":"IF(S39=\"\",\"\",VLOOKUP(S39,Lookup!$L$1:$M$6,2,FALSE))","v":0},{"$f":"IF(AND(C39=\"External\",I39=90),VLOOKUP(K39,Points!$J$2:$K$27,MATCH(\"90 GLH Grade\",Points!$J$2:$K$2,0),FALSE),\"No\")","v":"No"},{"$f":"IF(U39=\"\",\"\",VLOOKUP(U39,Lookup!$L$1:$M$6,2,FALSE))","v":0}]
[null,"Optional",{"$f":"IFERROR(INDEX('F Diploma 510 Data Sheet'!$Y$3:$Y$1000,MATCH(E40&$E$3,'F Diploma 510 Data Sheet'!$T$3:$T$1000&'F Diploma 510 Data Sheet'!$U$3:$U$1000,0)),\"\")","v":0},{"$f":"IFERROR(INDEX('F Diploma 510 Data Sheet'!$V$3:$V$1000,MATCH(E40&$E$3,'F Diploma 510 Data Sheet'!$T$3:$T$1000&'F Diploma 510 Data Sheet'!$U$3:$U$1000,0)),\"\")","v":0},null,null,null,null,{"$f":"IFERROR(INDEX('F Diploma 510 Data Sheet'!$X$3:$X$1000,MATCH(E40&$E$3,'F Diploma 510 Data Sheet'!$T$3:$T$1000&'F Diploma 510 Data Sheet'!$U$3:$U$1000,0)),\"\")","v":0},null,{"$f":"IFERROR(IF(C40=\"Internal\",VLOOKUP(J40,Points!$A$2:$C$6,MATCH(C40&\" \"&I40&\" GLH\",Points!$A$2:$C$2,0),FALSE),\"\"),\"\")","v":""},{"$f":"IF(E40=\"\",\"\",VLOOKUP(SUM(N40,P40,R40,T40,V40),Lookup!$M$1:$N$6,2,FALSE))","v":""},null,{"$f":"IF(M40=\"\",\"\",VLOOKUP(M40,Lookup!$L$2:$M$6,2,FALSE))","v":""},{"$f":"IFERROR(IF(AND(C40=\"Internal\",I40=90),VLOOKUP(K40,Points!$C$2:$G$6,MATCH(\"Internal Grade\",Points!$C$2:$G$2,0),FALSE),\"\"),\"\")","v":""},{"$f":"IF(O40=\"\",\"\",VLOOKUP(O40,Lookup!$L$2:$M$6,2,FALSE))","v":""},{"$f":"IFERROR(IF(AND(C40=\"Internal\",I40=60),VLOOKUP(K40,Points!$B$2:$G$6,MATCH(\"Internal Grade\",Points!$B$2:$G$2,0),FALSE),\"\"),\"\")","v":""},{"$f":"IF(Q40=\"\",\"\",VLOOKUP(Q40,Lookup!$L$2:$M$6,2,FALSE))","v":""},{"$f":"IF(AND(C40=\"External\",I40=120),VLOOKUP(K40,Points!$M$2:$N$35,MATCH(\"120 GLH Grade\",Points!$M$2:$N$2,0),FALSE),\"No\")","v":"No"},{"$f":"IF(S40=\"\",\"\",VLOOKUP(S40,Lookup!$L$1:$M$6,2,FALSE))","v":0},{"$f":"IF(AND(C40=\"External\",I40=90),VLOOKUP(K40,Points!$J$2:$K$27,MATCH(\"90 GLH Grade\",Points!$J$2:$K$2,0),FALSE),\"No\")","v":"No"},{"$f":"IF(U40=\"\",\"\",VLOOKUP(U40,Lookup!$L$1:$M$6,2,FALSE))","v":0}]
[null,"Optional",{"$f":"IFERROR(INDEX('F Diploma 510 Data Sheet'!$Y$3:$Y$1000,MATCH(E41&$E$3,'F Diploma 510 Data Sheet'!$T$3:$T$1000&'F Diploma 510 Data Sheet'!$U$3:$U$1000,0)),\"\")","v":0},{"$f":"IFERROR(INDEX('F Diploma 510 Data Sheet'!$V$3:$V$1000,MATCH(E41&$E$3,'F Diploma 510 Data Sheet'!$T$3:$T$1000&'F Diploma 510 Data Sheet'!$U$3:$U$1000,0)),\"\")","v":0},null,null,null,null,{"$f":"IFERROR(INDEX('F Diploma 510 Data Sheet'!$X$3:$X$1000,MATCH(E41&$E$3,'F Diploma 510 Data Sheet'!$T$3:$T$1000&'F Diploma 510 Data Sheet'!$U$3:$U$1000,0)),\"\")","v":0},null,{"$f":"IFERROR(IF(C41=\"Internal\",VLOOKUP(J41,Points!$A$2:$C$6,MATCH(C41&\" \"&I41&\" GLH\",Points!$A$2:$C$2,0),FALSE),\"\"),\"\")","v":""},{"$f":"IF(E41=\"\",\"\",VLOOKUP(SUM(N41,P41,R41,T41,V41),Lookup!$M$1:$N$6,2,FALSE))","v":""},null,{"$f":"IF(M41=\"\",\"\",VLOOKUP(M41,Lookup!$L$2:$M$6,2,FALSE))","v":""},{"$f":"IFERROR(IF(AND(C41=\"Internal\",I41=90),VLOOKUP(K41,Points!$C$2:$G$6,MATCH(\"Internal Grade\",Points!$C$2:$G$2,0),FALSE),\"\"),\"\")","v":""},{"$f":"IF(O41=\"\",\"\",VLOOKUP(O41,Lookup!$L$2:$M$6,2,FALSE))","v":""},{"$f":"IFERROR(IF(AND(C41=\"Internal\",I41=60),VLOOKUP(K41,Points!$B$2:$G$6,MATCH(\"Internal Grade\",Points!$B$2:$G$2,0),FALSE),\"\"),\"\")","v":""},{"$f":"IF(Q41=\"\",\"\",VLOOKUP(Q41,Lookup!$L$2:$M$6,2,FALSE))","v":""},{"$f":"IF(AND(C41=\"External\",I41=120),VLOOKUP(K41,Points!$M$2:$N$35,MATCH(\"120 GLH Grade\",Points!$M$2:$N$2,0),FALSE),\"No\")","v":"No"},{"$f":"IF(S41=\"\",\"\",VLOOKUP(S41,Lookup!$L$1:$M$6,2,FALSE))","v":0},{"$f":"IF(AND(C41=\"External\",I41=90),VLOOKUP(K41,Points!$J$2:$K$27,MATCH(\"90 GLH Grade\",Points!$J$2:$K$2,0),FALSE),\"No\")","v":"No"},{"$f":"IF(U41=\"\",\"\",VLOOKUP(U41,Lookup!$L$1:$M$6,2,FALSE))","v":0}]
[null,"Optional",{"$f":"IFERROR(INDEX('F Diploma 510 Data Sheet'!$Y$3:$Y$1000,MATCH(E42&$E$3,'F Diploma 510 Data Sheet'!$T$3:$T$1000&'F Diploma 510 Data Sheet'!$U$3:$U$1000,0)),\"\")","v":0},{"$f":"IFERROR(INDEX('F Diploma 510 Data Sheet'!$V$3:$V$1000,MATCH(E42&$E$3,'F Diploma 510 Data Sheet'!$T$3:$T$1000&'F Diploma 510 Data Sheet'!$U$3:$U$1000,0)),\"\")","v":0},null,null,null,null,{"$f":"IFERROR(INDEX('F Diploma 510 Data Sheet'!$X$3:$X$1000,MATCH(E42&$E$3,'F Diploma 510 Data Sheet'!$T$3:$T$1000&'F Diploma 510 Data Sheet'!$U$3:$U$1000,0)),\"\")","v":0},null,{"$f":"IFERROR(IF(C42=\"Internal\",VLOOKUP(J42,Points!$A$2:$C$6,MATCH(C42&\" \"&I42&\" GLH\",Points!$A$2:$C$2,0),FALSE),\"\"),\"\")","v":""},{"$f":"IF(E42=\"\",\"\",VLOOKUP(SUM(N42,P42,R42,T42,V42),Lookup!$M$1:$N$6,2,FALSE))","v":""},null,{"$f":"IF(M42=\"\",\"\",VLOOKUP(M42,Lookup!$L$2:$M$6,2,FALSE))","v":""},{"$f":"IFERROR(IF(AND(C42=\"Internal\",I42=90),VLOOKUP(K42,Points!$C$2:$G$6,MATCH(\"Internal Grade\",Points!$C$2:$G$2,0),FALSE),\"\"),\"\")","v":""},{"$f":"IF(O42=\"\",\"\",VLOOKUP(O42,Lookup!$L$2:$M$6,2,FALSE))","v":""},{"$f":"IFERROR(IF(AND(C42=\"Internal\",I42=60),VLOOKUP(K42,Points!$B$2:$G$6,MATCH(\"Internal Grade\",Points!$B$2:$G$2,0),FALSE),\"\"),\"\")","v":""},{"$f":"IF(Q42=\"\",\"\",VLOOKUP(Q42,Lookup!$L$2:$M$6,2,FALSE))","v":""},{"$f":"IF(AND(C42=\"External\",I42=120),VLOOKUP(K42,Points!$M$2:$N$35,MATCH(\"120 GLH Grade\",Points!$M$2:$N$2,0),FALSE),\"No\")","v":"No"},{"$f":"IF(S42=\"\",\"\",VLOOKUP(S42,Lookup!$L$1:$M$6,2,FALSE))","v":0},{"$f":"IF(AND(C42=\"External\",I42=90),VLOOKUP(K42,Points!$J$2:$K$27,MATCH(\"90 GLH Grade\",Points!$J$2:$K$2,0),FALSE),\"No\")","v":"No"},{"$f":"IF(U42=\"\",\"\",VLOOKUP(U42,Lookup!$L$1:$M$6,2,FALSE))","v":0}]
[null,"Optional",{"$f":"IFERROR(INDEX('F Diploma 510 Data Sheet'!$Y$3:$Y$1000,MATCH(E43&$E$3,'F Diploma 510 Data Sheet'!$T$3:$T$1000&'F Diploma 510 Data Sheet'!$U$3:$U$1000,0)),\"\")","v":0},{"$f":"IFERROR(INDEX('F Diploma 510 Data Sheet'!$V$3:$V$1000,MATCH(E43&$E$3,'F Diploma 510 Data Sheet'!$T$3:$T$1000&'F Diploma 510 Data Sheet'!$U$3:$U$1000,0)),\"\")","v":0},null,null,null,null,{"$f":"IFERROR(INDEX('F Diploma 510 Data Sheet'!$X$3:$X$1000,MATCH(E43&$E$3,'F Diploma 510 Data Sheet'!$T$3:$T$1000&'F Diploma 510 Data Sheet'!$U$3:$U$1000,0)),\"\")","v":0},null,{"$f":"IFERROR(IF(C43=\"Internal\",VLOOKUP(J43,Points!$A$2:$C$6,MATCH(C43&\" \"&I43&\" GLH\",Points!$A$2:$C$2,0),FALSE),\"\"),\"\")","v":""},{"$f":"IF(E43=\"\",\"\",VLOOKUP(SUM(N43,P43,R43,T43,V43),Lookup!$M$1:$N$6,2,FALSE))","v":""},null,{"$f":"IF(M43=\"\",\"\",VLOOKUP(M43,Lookup!$L$2:$M$6,2,FALSE))","v":""},{"$f":"IFERROR(IF(AND(C43=\"Internal\",I43=90),VLOOKUP(K43,Points!$C$2:$G$6,MATCH(\"Internal Grade\",Points!$C$2:$G$2,0),FALSE),\"\"),\"\")","v":""},{"$f":"IF(O43=\"\",\"\",VLOOKUP(O43,Lookup!$L$2:$M$6,2,FALSE))","v":""},{"$f":"IFERROR(IF(AND(C43=\"Internal\",I43=60),VLOOKUP(K43,Points!$B$2:$G$6,MATCH(\"Internal Grade\",Points!$B$2:$G$2,0),FALSE),\"\"),\"\")","v":""},{"$f":"IF(Q43=\"\",\"\",VLOOKUP(Q43,Lookup!$L$2:$M$6,2,FALSE))","v":""},{"$f":"IF(AND(C43=\"External\",I43=120),VLOOKUP(K43,Points!$M$2:$N$35,MATCH(\"120 GLH Grade\",Points!$M$2:$N$2,0),FALSE),\"No\")","v":"No"},{"$f":"IF(S43=\"\",\"\",VLOOKUP(S43,Lookup!$L$1:$M$6,2,FALSE))","v":0},{"$f":"IF(AND(C43=\"External\",I43=90),VLOOKUP(K43,Points!$J$2:$K$27,MATCH(\"90 GLH Grade\",Points!$J$2:$K$2,0),FALSE),\"No\")","v":"No"},{"$f":"IF(U43=\"\",\"\",VLOOKUP(U43,Lookup!$L$1:$M$6,2,FALSE))","v":0}]
[null,"Optional",{"$f":"IFERROR(INDEX('F Diploma 510 Data Sheet'!$Y$3:$Y$1000,MATCH(E44&$E$3,'F Diploma 510 Data Sheet'!$T$3:$T$1000&'F Diploma 510 Data Sheet'!$U$3:$U$1000,0)),\"\")","v":0},{"$f":"IFERROR(INDEX('F Diploma 510 Data Sheet'!$V$3:$V$1000,MATCH(E44&$E$3,'F Diploma 510 Data Sheet'!$T$3:$T$1000&'F Diploma 510 Data Sheet'!$U$3:$U$1000,0)),\"\")","v":0},null,null,null,null,{"$f":"IFERROR(INDEX('F Diploma 510 Data Sheet'!$X$3:$X$1000,MATCH(E44&$E$3,'F Diploma 510 Data Sheet'!$T$3:$T$1000&'F Diploma 510 Data Sheet'!$U$3:$U$1000,0)),\"\")","v":0},null,{"$f":"IFERROR(IF(C44=\"Internal\",VLOOKUP(J44,Points!$A$2:$C$6,MATCH(C44&\" \"&I44&\" GLH\",Points!$A$2:$C$2,0),FALSE),\"\"),\"\")","v":""},{"$f":"IF(E44=\"\",\"\",VLOOKUP(SUM(N44,P44,R44,T44,V44),Lookup!$M$1:$N$6,2,FALSE))","v":""},null,{"$f":"IF(M44=\"\",\"\",VLOOKUP(M44,Lookup!$L$2:$M$6,2,FALSE))","v":""},{"$f":"IFERROR(IF(AND(C44=\"Internal\",I44=90),VLOOKUP(K44,Points!$C$2:$G$6,MATCH(\"Internal Grade\",Points!$C$2:$G$2,0),FALSE),\"\"),\"\")","v":""},{"$f":"IF(O44=\"\",\"\",VLOOKUP(O44,Lookup!$L$2:$M$6,2,FALSE))","v":""},{"$f":"IFERROR(IF(AND(C44=\"Internal\",I44=60),VLOOKUP(K44,Points!$B$2:$G$6,MATCH(\"Internal Grade\",Points!$B$2:$G$2,0),FALSE),\"\"),\"\")","v":""},{"$f":"IF(Q44=\"\",\"\",VLOOKUP(Q44,Lookup!$L$2:$M$6,2,FALSE))","v":""},{"$f":"IF(AND(C44=\"External\",I44=120),VLOOKUP(K44,Points!$M$2:$N$35,MATCH(\"120 GLH Grade\",Points!$M$2:$N$2,0),FALSE),\"No\")","v":"No"},{"$f":"IF(S44=\"\",\"\",VLOOKUP(S44,Lookup!$L$1:$M$6,2,FALSE))","v":0},{"$f":"IF(AND(C44=\"External\",I44=90),VLOOKUP(K44,Points!$J$2:$K$27,MATCH(\"90 GLH Grade\",Points!$J$2:$K$2,0),FALSE),\"No\")","v":"No"},{"$f":"IF(U44=\"\",\"\",VLOOKUP(U44,Lookup!$L$1:$M$6,2,FALSE))","v":0}]
[null,"Optional",{"$f":"IFERROR(INDEX('F Diploma 510 Data Sheet'!$Y$3:$Y$1000,MATCH(E45&$E$3,'F Diploma 510 Data Sheet'!$T$3:$T$1000&'F Diploma 510 Data Sheet'!$U$3:$U$1000,0)),\"\")","v":0},{"$f":"IFERROR(INDEX('F Diploma 510 Data Sheet'!$V$3:$V$1000,MATCH(E45&$E$3,'F Diploma 510 Data Sheet'!$T$3:$T$1000&'F Diploma 510 Data Sheet'!$U$3:$U$1000,0)),\"\")","v":0},null,null,null,null,{"$f":"IFERROR(INDEX('F Diploma 510 Data Sheet'!$X$3:$X$1000,MATCH(E45&$E$3,'F Diploma 510 Data Sheet'!$T$3:$T$1000&'F Diploma 510 Data Sheet'!$U$3:$U$1000,0)),\"\")","v":0},null,{"$f":"IFERROR(IF(C45=\"Internal\",VLOOKUP(J45,Points!$A$2:$C$6,MATCH(C45&\" \"&I45&\" GLH\",Points!$A$2:$C$2,0),FALSE),\"\"),\"\")","v":""},{"$f":"IF(E45=\"\",\"\",VLOOKUP(SUM(N45,P45,R45,T45,V45),Lookup!$M$1:$N$6,2,FALSE))","v":""},null,{"$f":"IF(M45=\"\",\"\",VLOOKUP(M45,Lookup!$L$2:$M$6,2,FALSE))","v":""},{"$f":"IFERROR(IF(AND(C45=\"Internal\",I45=90),VLOOKUP(K45,Points!$C$2:$G$6,MATCH(\"Internal Grade\",Points!$C$2:$G$2,0),FALSE),\"\"),\"\")","v":""},{"$f":"IF(O45=\"\",\"\",VLOOKUP(O45,Lookup!$L$2:$M$6,2,FALSE))","v":""},{"$f":"IFERROR(IF(AND(C45=\"Internal\",I45=60),VLOOKUP(K45,Points!$B$2:$G$6,MATCH(\"Internal Grade\",Points!$B$2:$G$2,0),FALSE),\"\"),\"\")","v":""},{"$f":"IF(Q45=\"\",\"\",VLOOKUP(Q45,Lookup!$L$2:$M$6,2,FALSE))","v":""},{"$f":"IF(AND(C45=\"External\",I45=120),VLOOKUP(K45,Points!$M$2:$N$35,MATCH(\"120 GLH Grade\",Points!$M$2:$N$2,0),FALSE),\"No\")","v":"No"},{"$f":"IF(S45=\"\",\"\",VLOOKUP(S45,Lookup!$L$1:$M$6,2,FALSE))","v":0},{"$f":"IF(AND(C45=\"External\",I45=90),VLOOKUP(K45,Points!$J$2:$K$27,MATCH(\"90 GLH Grade\",Points!$J$2:$K$2,0),FALSE),\"No\")","v":"No"},{"$f":"IF(U45=\"\",\"\",VLOOKUP(U45,Lookup!$L$1:$M$6,2,FALSE))","v":0}]
[null,"Optional",{"$f":"IFERROR(INDEX('F Diploma 510 Data Sheet'!$Y$3:$Y$1000,MATCH(E46&$E$3,'F Diploma 510 Data Sheet'!$T$3:$T$1000&'F Diploma 510 Data Sheet'!$U$3:$U$1000,0)),\"\")","v":0},{"$f":"IFERROR(INDEX('F Diploma 510 Data Sheet'!$V$3:$V$1000,MATCH(E46&$E$3,'F Diploma 510 Data Sheet'!$T$3:$T$1000&'F Diploma 510 Data Sheet'!$U$3:$U$1000,0)),\"\")","v":0},null,null,null,null,{"$f":"IFERROR(INDEX('F Diploma 510 Data Sheet'!$X$3:$X$1000,MATCH(E46&$E$3,'F Diploma 510 Data Sheet'!$T$3:$T$1000&'F Diploma 510 Data Sheet'!$U$3:$U$1000,0)),\"\")","v":0},null,{"$f":"IFERROR(IF(C46=\"Internal\",VLOOKUP(J46,Points!$A$2:$C$6,MATCH(C46&\" \"&I46&\" GLH\",Points!$A$2:$C$2,0),FALSE),\"\"),\"\")","v":""},{"$f":"IF(E46=\"\",\"\",VLOOKUP(SUM(N46,P46,R46,T46,V46),Lookup!$M$1:$N$6,2,FALSE))","v":""},null,{"$f":"IF(M46=\"\",\"\",VLOOKUP(M46,Lookup!$L$2:$M$6,2,FALSE))","v":""},{"$f":"IFERROR(IF(AND(C46=\"Internal\",I46=90),VLOOKUP(K46,Points!$C$2:$G$6,MATCH(\"Internal Grade\",Points!$C$2:$G$2,0),FALSE),\"\"),\"\")","v":""},{"$f":"IF(O46=\"\",\"\",VLOOKUP(O46,Lookup!$L$2:$M$6,2,FALSE))","v":""},{"$f":"IFERROR(IF(AND(C46=\"Internal\",I46=60),VLOOKUP(K46,Points!$B$2:$G$6,MATCH(\"Internal Grade\",Points!$B$2:$G$2,0),FALSE),\"\"),\"\")","v":""},{"$f":"IF(Q46=\"\",\"\",VLOOKUP(Q46,Lookup!$L$2:$M$6,2,FALSE))","v":""},{"$f":"IF(AND(C46=\"External\",I46=120),VLOOKUP(K46,Points!$M$2:$N$35,MATCH(\"120 GLH Grade\",Points!$M$2:$N$2,0),FALSE),\"No\")","v":"No"},{"$f":"IF(S46=\"\",\"\",VLOOKUP(S46,Lookup!$L$1:$M$6,2,FALSE))","v":0},{"$f":"IF(AND(C46=\"External\",I46=90),VLOOKUP(K46,Points!$J$2:$K$27,MATCH(\"90 GLH Grade\",Points!$J$2:$K$2,0),FALSE),\"No\")","v":"No"},{"$f":"IF(U46=\"\",\"\",VLOOKUP(U46,Lookup!$L$1:$M$6,2,FALSE))","v":0}]
[null,null,null,null,null,null,null,null,{"$f":"SUM(I37:I46)","v":0}]
[]
[null,"Optional",{"$f":"IFERROR(INDEX('F Diploma 510 Data Sheet'!$AF$3:$AF$1000,MATCH(E49&$E$3,'F Diploma 510 Data Sheet'!$AA$3:$AA$1000&'F Diploma 510 Data Sheet'!$AB$3:$AB$1000,0)),\"\")","v":0},{"$f":"IFERROR(INDEX('F Diploma 510 Data Sheet'!$AC$3:$AC$1000,MATCH(E49&$E$3,'F Diploma 510 Data Sheet'!$AA$3:$AA$1000&'F Diploma 510 Data Sheet'!$AB$3:$AB$1000,0)),\"\")","v":0},null,null,null,null,{"$f":"IFERROR(INDEX('F Diploma 510 Data Sheet'!$AE$3:$AE$1000,MATCH(E49&$E$3,'F Diploma 510 Data Sheet'!$AA$3:$AA$1000&'F Diploma 510 Data Sheet'!$AB$3:$AB$1000,0)),\"\")","v":0},null,{"$f":"IFERROR(IF(C49=\"Internal\",VLOOKUP(J49,Points!$A$2:$C$6,MATCH(C49&\" \"&I49&\" GLH\",Points!$A$2:$C$2,0),FALSE),\"\"),\"\")","v":""},{"$f":"IF(E49=\"\",\"\",VLOOKUP(SUM(N49,P49,R49,T49,V49),Lookup!$M$1:$N$6,2,FALSE))","v":""},null,null,{"$f":"IFERROR(IF(AND(C49=\"Internal\",I49=90),VLOOKUP(K49,Points!$C$2:$G$6,MATCH(\"Internal Grade\",Points!$C$2:$G$2,0),FALSE),\"\"),\"\")","v":""},{"$f":"IF(O49=\"\",\"\",VLOOKUP(O49,Lookup!$L$2:$M$6,2,FALSE))","v":""},{"$f":"IFERROR(IF(AND(C49=\"Internal\",I49=60),VLOOKUP(K49,Points!$B$2:$G$6,MATCH(\"Internal Grade\",Points!$B$2:$G$2,0),FALSE),\"\"),\"\")","v":""},{"$f":"IF(Q49=\"\",\"\",VLOOKUP(Q49,Lookup!$L$2:$M$6,2,FALSE))","v":""},{"$f":"IF(AND(C49=\"External\",I49=120),VLOOKUP(K49,Points!$M$2:$N$35,MATCH(\"120 GLH Grade\",Points!$M$2:$N$2,0),FALSE),\"No\")","v":"No"},{"$f":"IF(S49=\"\",\"\",VLOOKUP(S49,Lookup!$L$1:$M$6,2,FALSE))","v":0},{"$f":"IF(AND(C49=\"External\",I49=90),VLOOKUP(K49,Points!$J$2:$K$27,MATCH(\"90 GLH Grade\",Points!$J$2:$K$2,0),FALSE),\"No\")","v":"No"},{"$f":"IF(U49=\"\",\"\",VLOOKUP(U49,Lookup!$L$1:$M$6,2,FALSE))","v":0}]
[null,"Optional",{"$f":"IFERROR(INDEX('F Diploma 510 Data Sheet'!$AF$3:$AF$1000,MATCH(E50&$E$3,'F Diploma 510 Data Sheet'!$AA$3:$AA$1000&'F Diploma 510 Data Sheet'!$AB$3:$AB$1000,0)),\"\")","v":0},{"$f":"IFERROR(INDEX('F Diploma 510 Data Sheet'!$AC$3:$AC$1000,MATCH(E50&$E$3,'F Diploma 510 Data Sheet'!$AA$3:$AA$1000&'F Diploma 510 Data Sheet'!$AB$3:$AB$1000,0)),\"\")","v":0},null,null,null,null,{"$f":"IFERROR(INDEX('F Diploma 510 Data Sheet'!$AE$3:$AE$1000,MATCH(E50&$E$3,'F Diploma 510 Data Sheet'!$AA$3:$AA$1000&'F Diploma 510 Data Sheet'!$AB$3:$AB$1000,0)),\"\")","v":0},null,{"$f":"IFERROR(IF(C50=\"Internal\",VLOOKUP(J50,Points!$A$2:$C$6,MATCH(C50&\" \"&I50&\" GLH\",Points!$A$2:$C$2,0),FALSE),\"\"),\"\")","v":""},{"$f":"IF(E50=\"\",\"\",VLOOKUP(SUM(N50,P50,R50,T50,V50),Lookup!$M$1:$N$6,2,FALSE))","v":""},null,null,{"$f":"IFERROR(IF(AND(C50=\"Internal\",I50=90),VLOOKUP(K50,Points!$C$2:$G$6,MATCH(\"Internal Grade\",Points!$C$2:$G$2,0),FALSE),\"\"),\"\")","v":""},{"$f":"IF(O50=\"\",\"\",VLOOKUP(O50,Lookup!$L$2:$M$6,2,FALSE))","v":""},{"$f":"IFERROR(IF(AND(C50=\"Internal\",I50=60),VLOOKUP(K50,Points!$B$2:$G$6,MATCH(\"Internal Grade\",Points!$B$2:$G$2,0),FALSE),\"\"),\"\")","v":""},{"$f":"IF(Q50=\"\",\"\",VLOOKUP(Q50,Lookup!$L$2:$M$6,2,FALSE))","v":""},{"$f":"IF(AND(C50=\"External\",I50=120),VLOOKUP(K50,Points!$M$2:$N$35,MATCH(\"120 GLH Grade\",Points!$M$2:$N$2,0),FALSE),\"No\")","v":"No"},{"$f":"IF(S50=\"\",\"\",VLOOKUP(S50,Lookup!$L$1:$M$6,2,FALSE))","v":0},{"$f":"IF(AND(C50=\"External\",I50=90),VLOOKUP(K50,Points!$J$2:$K$27,MATCH(\"90 GLH Grade\",Points!$J$2:$K$2,0),FALSE),\"No\")","v":"No"},{"$f":"IF(U50=\"\",\"\",VLOOKUP(U50,Lookup!$L$1:$M$6,2,FALSE))","v":0}]
[null,"Optional",{"$f":"IFERROR(INDEX('F Diploma 510 Data Sheet'!$AF$3:$AF$1000,MATCH(E51&$E$3,'F Diploma 510 Data Sheet'!$AA$3:$AA$1000&'F Diploma 510 Data Sheet'!$AB$3:$AB$1000,0)),\"\")","v":0},{"$f":"IFERROR(INDEX('F Diploma 510 Data Sheet'!$AC$3:$AC$1000,MATCH(E51&$E$3,'F Diploma 510 Data Sheet'!$AA$3:$AA$1000&'F Diploma 510 Data Sheet'!$AB$3:$AB$1000,0)),\"\")","v":0},null,null,null,null,{"$f":"IFERROR(INDEX('F Diploma 510 Data Sheet'!$AE$3:$AE$1000,MATCH(E51&$E$3,'F Diploma 510 Data Sheet'!$AA$3:$AA$1000&'F Diploma 510 Data Sheet'!$AB$3:$AB$1000,0)),\"\")","v":0},null,{"$f":"IFERROR(IF(C51=\"Internal\",VLOOKUP(J51,Points!$A$2:$C$6,MATCH(C51&\" \"&I51&\" GLH\",Points!$A$2:$C$2,0),FALSE),\"\"),\"\")","v":""},{"$f":"IF(E51=\"\",\"\",VLOOKUP(SUM(N51,P51,R51,T51,V51),Lookup!$M$1:$N$6,2,FALSE))","v":""},null,null,{"$f":"IFERROR(IF(AND(C51=\"Internal\",I51=90),VLOOKUP(K51,Points!$C$2:$G$6,MATCH(\"Internal Grade\",Points!$C$2:$G$2,0),FALSE),\"\"),\"\")","v":""},{"$f":"IF(O51=\"\",\"\",VLOOKUP(O51,Lookup!$L$2:$M$6,2,FALSE))","v":""},{"$f":"IFERROR(IF(AND(C51=\"Internal\",I51=60),VLOOKUP(K51,Points!$B$2:$G$6,MATCH(\"Internal Grade\",Points!$B$2:$G$2,0),FALSE),\"\"),\"\")","v":""},{"$f":"IF(Q51=\"\",\"\",VLOOKUP(Q51,Lookup!$L$2:$M$6,2,FALSE))","v":""},{"$f":"IF(AND(C51=\"External\",I51=120),VLOOKUP(K51,Points!$M$2:$N$35,MATCH(\"120 GLH Grade\",Points!$M$2:$N$2,0),FALSE),\"No\")","v":"No"},{"$f":"IF(S51=\"\",\"\",VLOOKUP(S51,Lookup!$L$1:$M$6,2,FALSE))","v":0},{"$f":"IF(AND(C51=\"External\",I51=90),VLOOKUP(K51,Points!$J$2:$K$27,MATCH(\"90 GLH Grade\",Points!$J$2:$K$2,0),FALSE),\"No\")","v":"No"},{"$f":"IF(U51=\"\",\"\",VLOOKUP(U51,Lookup!$L$1:$M$6,2,FALSE))","v":0}]
[null,"Optional",{"$f":"IFERROR(INDEX('F Diploma 510 Data Sheet'!$AF$3:$AF$1000,MATCH(E52&$E$3,'F Diploma 510 Data Sheet'!$AA$3:$AA$1000&'F Diploma 510 Data Sheet'!$AB$3:$AB$1000,0)),\"\")","v":0},{"$f":"IFERROR(INDEX('F Diploma 510 Data Sheet'!$AC$3:$AC$1000,MATCH(E52&$E$3,'F Diploma 510 Data Sheet'!$AA$3:$AA$1000&'F Diploma 510 Data Sheet'!$AB$3:$AB$1000,0)),\"\")","v":0},null,null,null,null,{"$f":"IFERROR(INDEX('F Diploma 510 Data Sheet'!$AE$3:$AE$1000,MATCH(E52&$E$3,'F Diploma 510 Data Sheet'!$AA$3:$AA$1000&'F Diploma 510 Data Sheet'!$AB$3:$AB$1000,0)),\"\")","v":0},null,{"$f":"IFERROR(IF(C52=\"Internal\",VLOOKUP(J52,Points!$A$2:$C$6,MATCH(C52&\" \"&I52&\" GLH\",Points!$A$2:$C$2,0),FALSE),\"\"),\"\")","v":""},{"$f":"IF(E52=\"\",\"\",VLOOKUP(SUM(N52,P52,R52,T52,V52),Lookup!$M$1:$N$6,2,FALSE))","v":""},null,null,{"$f":"IFERROR(IF(AND(C52=\"Internal\",I52=90),VLOOKUP(K52,Points!$C$2:$G$6,MATCH(\"Internal Grade\",Points!$C$2:$G$2,0),FALSE),\"\"),\"\")","v":""},{"$f":"IF(O52=\"\",\"\",VLOOKUP(O52,Lookup!$L$2:$M$6,2,FALSE))","v":""},{"$f":"IFERROR(IF(AND(C52=\"Internal\",I52=60),VLOOKUP(K52,Points!$B$2:$G$6,MATCH(\"Internal Grade\",Points!$B$2:$G$2,0),FALSE),\"\"),\"\")","v":""},{"$f":"IF(Q52=\"\",\"\",VLOOKUP(Q52,Lookup!$L$2:$M$6,2,FALSE))","v":""},{"$f":"IF(AND(C52=\"External\",I52=120),VLOOKUP(K52,Points!$M$2:$N$35,MATCH(\"120 GLH Grade\",Points!$M$2:$N$2,0),FALSE),\"No\")","v":"No"},{"$f":"IF(S52=\"\",\"\",VLOOKUP(S52,Lookup!$L$1:$M$6,2,FALSE))","v":0},{"$f":"IF(AND(C52=\"External\",I52=90),VLOOKUP(K52,Points!$J$2:$K$27,MATCH(\"90 GLH Grade\",Points!$J$2:$K$2,0),FALSE),\"No\")","v":"No"},{"$f":"IF(U52=\"\",\"\",VLOOKUP(U52,Lookup!$L$1:$M$6,2,FALSE))","v":0}]
[null,null,null,null,null,null,null,null,{"$f":"SUM(I49:I51)","v":0},null,null,{"$f":"IF(E53=\"\",\"\",VLOOKUP(SUM(P53,R53,T53,V53),Lookup!$M$1:$N$6,2,FALSE))","v":""},null,null,{"$f":"IFERROR(IF(AND(C53=\"Internal\",I53=90),VLOOKUP(K53,Points!$C$2:$G$6,MATCH(\"Internal Grade\",Points!$C$2:$G$2,0),FALSE),\"\"),\"\")","v":""},{"$f":"IF(O53=\"\",\"\",VLOOKUP(O53,Lookup!$L$2:$M$6,2,FALSE))","v":""},{"$f":"IFERROR(IF(AND(C53=\"Internal\",I53=60),VLOOKUP(K53,Points!$B$2:$G$6,MATCH(\"Internal Grade\",Points!$B$2:$G$2,0),FALSE),\"\"),\"\")","v":""},{"$f":"IF(Q53=\"\",\"\",VLOOKUP(Q53,Lookup!$L$2:$M$6,2,FALSE))","v":""},{"$f":"IF(AND(C53=\"External\",I53=120),VLOOKUP(K53,Points!$M$2:$N$35,MATCH(\"120 GLH Grade\",Points!$M$2:$N$2,0),FALSE),\"No\")","v":"No"},{"$f":"IF(S53=\"\",\"\",VLOOKUP(S53,Lookup!$L$1:$M$6,2,FALSE))","v":0},{"$f":"IF(AND(C53=\"External\",I53=90),VLOOKUP(K53,Points!$J$2:$K$27,MATCH(\"90 GLH Grade\",Points!$J$2:$K$2,0),FALSE),\"No\")","v":"No"},{"$f":"IF(U53=\"\",\"\",VLOOKUP(U53,Lookup!$L$1:$M$6,2,FALSE))","v":0}]
[null,null,null,null,null,null,null,null,null,null,null,{"$f":"IF(E54=\"\",\"\",VLOOKUP(SUM(P54,R54,T54,V54),Lookup!$M$1:$N$6,2,FALSE))","v":""},null,null,{"$f":"IFERROR(IF(AND(C54=\"Internal\",I54=90),VLOOKUP(K54,Points!$C$2:$G$6,MATCH(\"Internal Grade\",Points!$C$2:$G$2,0),FALSE),\"\"),\"\")","v":""},{"$f":"IF(O54=\"\",\"\",VLOOKUP(O54,Lookup!$L$2:$M$6,2,FALSE))","v":""},{"$f":"IFERROR(IF(AND(C54=\"Internal\",I54=60),VLOOKUP(K54,Points!$B$2:$G$6,MATCH(\"Internal Grade\",Points!$B$2:$G$2,0),FALSE),\"\"),\"\")","v":""},{"$f":"IF(Q54=\"\",\"\",VLOOKUP(Q54,Lookup!$L$2:$M$6,2,FALSE))","v":""},{"$f":"IF(AND(C54=\"External\",I54=120),VLOOKUP(K54,Points!$M$2:$N$35,MATCH(\"120 GLH Grade\",Points!$M$2:$N$2,0),FALSE),\"No\")","v":"No"},{"$f":"IF(S54=\"\",\"\",VLOOKUP(S54,Lookup!$L$1:$M$6,2,FALSE))","v":0},{"$f":"IF(AND(C54=\"External\",I54=90),VLOOKUP(K54,Points!$J$2:$K$27,MATCH(\"90 GLH Grade\",Points!$J$2:$K$2,0),FALSE),\"No\")","v":"No"},{"$f":"IF(U54=\"\",\"\",VLOOKUP(U54,Lookup!$L$1:$M$6,2,FALSE))","v":0}]
[null,"Optional",{"$f":"IFERROR(INDEX('F Diploma 510 Data Sheet'!$AM$3:$AM$1000,MATCH(E55&$E$3,'F Diploma 510 Data Sheet'!$AH$3:$AH$1000&'F Diploma 510 Data Sheet'!$AI$3:$AI$1000,0)),\"\")","v":0},{"$f":"IFERROR(INDEX('F Diploma 510 Data Sheet'!$AJ$3:$AJ$1000,MATCH(E55&$E$3,'F Diploma 510 Data Sheet'!$AH$3:$AH$1000&'F Diploma 510 Data Sheet'!$AI$3:$AI$1000,0)),\"\")","v":0},null,null,null,null,{"$f":"IFERROR(INDEX('F Diploma 510 Data Sheet'!$AL$3:$AL$1000,MATCH(E55&$E$3,'F Diploma 510 Data Sheet'!$AH$3:$AH$1000&'F Diploma 510 Data Sheet'!$AI$3:$AI$1000,0)),\"\")","v":0},null,{"$f":"IFERROR(IF(C55=\"Internal\",VLOOKUP(J55,Points!$A$2:$C$6,MATCH(C55&\" \"&I55&\" GLH\",Points!$A$2:$C$2,0),FALSE),\"\"),\"\")","v":""},{"$f":"IF(E55=\"\",\"\",VLOOKUP(SUM(N55,P55,R55,T55,V55),Lookup!$M$1:$N$6,2,FALSE))","v":""},null,null,{"$f":"IFERROR(IF(AND(C55=\"Internal\",I55=90),VLOOKUP(K55,Points!$C$2:$G$6,MATCH(\"Internal Grade\",Points!$C$2:$G$2,0),FALSE),\"\"),\"\")","v":""},{"$f":"IF(O55=\"\",\"\",VLOOKUP(O55,Lookup!$L$2:$M$6,2,FALSE))","v":""},{"$f":"IFERROR(IF(AND(C55=\"Internal\",I55=60),VLOOKUP(K55,Points!$B$2:$G$6,MATCH(\"Internal Grade\",Points!$B$2:$G$2,0),FALSE),\"\"),\"\")","v":""},{"$f":"IF(Q55=\"\",\"\",VLOOKUP(Q55,Lookup!$L$2:$M$6,2,FALSE))","v":""},{"$f":"IF(AND(C55=\"External\",I55=120),VLOOKUP(K55,Points!$M$2:$N$35,MATCH(\"120 GLH Grade\",Points!$M$2:$N$2,0),FALSE),\"No\")","v":"No"},{"$f":"IF(S55=\"\",\"\",VLOOKUP(S55,Lookup!$L$1:$M$6,2,FALSE))","v":0},{"$f":"IF(AND(C55=\"External\",I55=90),VLOOKUP(K55,Points!$J$2:$K$27,MATCH(\"90 GLH Grade\",Points!$J$2:$K$2,0),FALSE),\"No\")","v":"No"},{"$f":"IF(U55=\"\",\"\",VLOOKUP(U55,Lookup!$L$1:$M$6,2,FALSE))","v":0}]
[null,"Optional",{"$f":"IFERROR(INDEX('F Diploma 510 Data Sheet'!$AM$3:$AM$1000,MATCH(E56&$E$3,'F Diploma 510 Data Sheet'!$AH$3:$AH$1000&'F Diploma 510 Data Sheet'!$AI$3:$AI$1000,0)),\"\")","v":0},{"$f":"IFERROR(INDEX('F Diploma 510 Data Sheet'!$AJ$3:$AJ$1000,MATCH(E56&$E$3,'F Diploma 510 Data Sheet'!$AH$3:$AH$1000&'F Diploma 510 Data Sheet'!$AI$3:$AI$1000,0)),\"\")","v":0},null,null,null,null,{"$f":"IFERROR(INDEX('F Diploma 510 Data Sheet'!$AL$3:$AL$1000,MATCH(E56&$E$3,'F Diploma 510 Data Sheet'!$AH$3:$AH$1000&'F Diploma 510 Data Sheet'!$AI$3:$AI$1000,0)),\"\")","v":0},null,{"$f":"IFERROR(IF(C56=\"Internal\",VLOOKUP(J56,Points!$A$2:$C$6,MATCH(C56&\" \"&I56&\" GLH\",Points!$A$2:$C$2,0),FALSE),\"\"),\"\")","v":""},{"$f":"IF(E56=\"\",\"\",VLOOKUP(SUM(N56,P56,R56,T56,V56),Lookup!$M$1:$N$6,2,FALSE))","v":""},null,null,{"$f":"IFERROR(IF(AND(C56=\"Internal\",I56=90),VLOOKUP(K56,Points!$C$2:$G$6,MATCH(\"Internal Grade\",Points!$C$2:$G$2,0),FALSE),\"\"),\"\")","v":""},{"$f":"IF(O56=\"\",\"\",VLOOKUP(O56,Lookup!$L$2:$M$6,2,FALSE))","v":""},{"$f":"IFERROR(IF(AND(C56=\"Internal\",I56=60),VLOOKUP(K56,Points!$B$2:$G$6,MATCH(\"Internal Grade\",Points!$B$2:$G$2,0),FALSE),\"\"),\"\")","v":""},{"$f":"IF(Q56=\"\",\"\",VLOOKUP(Q56,Lookup!$L$2:$M$6,2,FALSE))","v":""},{"$f":"IF(AND(C56=\"External\",I56=120),VLOOKUP(K56,Points!$M$2:$N$35,MATCH(\"120 GLH Grade\",Points!$M$2:$N$2,0),FALSE),\"No\")","v":"No"},{"$f":"IF(S56=\"\",\"\",VLOOKUP(S56,Lookup!$L$1:$M$6,2,FALSE))","v":0},{"$f":"IF(AND(C56=\"External\",I56=90),VLOOKUP(K56,Points!$J$2:$K$27,MATCH(\"90 GLH Grade\",Points!$J$2:$K$2,0),FALSE),\"No\")","v":"No"},{"$f":"IF(U56=\"\",\"\",VLOOKUP(U56,Lookup!$L$1:$M$6,2,FALSE))","v":0}]
[null,"Optional",{"$f":"IFERROR(INDEX('F Diploma 510 Data Sheet'!$AM$3:$AM$1000,MATCH(E57&$E$3,'F Diploma 510 Data Sheet'!$AH$3:$AH$1000&'F Diploma 510 Data Sheet'!$AI$3:$AI$1000,0)),\"\")","v":0},{"$f":"IFERROR(INDEX('F Diploma 510 Data Sheet'!$AJ$3:$AJ$1000,MATCH(E57&$E$3,'F Diploma 510 Data Sheet'!$AH$3:$AH$1000&'F Diploma 510 Data Sheet'!$AI$3:$AI$1000,0)),\"\")","v":0},null,null,null,null,{"$f":"IFERROR(INDEX('F Diploma 510 Data Sheet'!$AL$3:$AL$1000,MATCH(E57&$E$3,'F Diploma 510 Data Sheet'!$AH$3:$AH$1000&'F Diploma 510 Data Sheet'!$AI$3:$AI$1000,0)),\"\")","v":0},null,{"$f":"IFERROR(IF(C57=\"Internal\",VLOOKUP(J57,Points!$A$2:$C$6,MATCH(C57&\" \"&I57&\" GLH\",Points!$A$2:$C$2,0),FALSE),\"\"),\"\")","v":""},{"$f":"IF(E57=\"\",\"\",VLOOKUP(SUM(N57,P57,R57,T57,V57),Lookup!$M$1:$N$6,2,FALSE))","v":""},null,null,{"$f":"IFERROR(IF(AND(C57=\"Internal\",I57=90),VLOOKUP(K57,Points!$C$2:$G$6,MATCH(\"Internal Grade\",Points!$C$2:$G$2,0),FALSE),\"\"),\"\")","v":""},{"$f":"IF(O57=\"\",\"\",VLOOKUP(O57,Lookup!$L$2:$M$6,2,FALSE))","v":""},{"$f":"IFERROR(IF(AND(C57=\"Internal\",I57=60),VLOOKUP(K57,Points!$B$2:$G$6,MATCH(\"Internal Grade\",Points!$B$2:$G$2,0),FALSE),\"\"),\"\")","v":""},{"$f":"IF(Q57=\"\",\"\",VLOOKUP(Q57,Lookup!$L$2:$M$6,2,FALSE))","v":""},{"$f":"IF(AND(C57=\"External\",I57=120),VLOOKUP(K57,Points!$M$2:$N$35,MATCH(\"120 GLH Grade\",Points!$M$2:$N$2,0),FALSE),\"No\")","v":"No"},{"$f":"IF(S57=\"\",\"\",VLOOKUP(S57,Lookup!$L$1:$M$6,2,FALSE))","v":0},{"$f":"IF(AND(C57=\"External\",I57=90),VLOOKUP(K57,Points!$J$2:$K$27,MATCH(\"90 GLH Grade\",Points!$J$2:$K$2,0),FALSE),\"No\")","v":"No"},{"$f":"IF(U57=\"\",\"\",VLOOKUP(U57,Lookup!$L$1:$M$6,2,FALSE))","v":0}]
[null,"Optional",{"$f":"IFERROR(INDEX('F Diploma 510 Data Sheet'!$AM$3:$AM$1000,MATCH(E58&$E$3,'F Diploma 510 Data Sheet'!$AH$3:$AH$1000&'F Diploma 510 Data Sheet'!$AI$3:$AI$1000,0)),\"\")","v":0},{"$f":"IFERROR(INDEX('F Diploma 510 Data Sheet'!$AJ$3:$AJ$1000,MATCH(E58&$E$3,'F Diploma 510 Data Sheet'!$AH$3:$AH$1000&'F Diploma 510 Data Sheet'!$AI$3:$AI$1000,0)),\"\")","v":0},null,null,null,null,{"$f":"IFERROR(INDEX('F Diploma 510 Data Sheet'!$AL$3:$AL$1000,MATCH(E58&$E$3,'F Diploma 510 Data Sheet'!$AH$3:$AH$1000&'F Diploma 510 Data Sheet'!$AI$3:$AI$1000,0)),\"\")","v":0},null,{"$f":"IFERROR(IF(C58=\"Internal\",VLOOKUP(J58,Points!$A$2:$C$6,MATCH(C58&\" \"&I58&\" GLH\",Points!$A$2:$C$2,0),FALSE),\"\"),\"\")","v":""},{"$f":"IF(E58=\"\",\"\",VLOOKUP(SUM(N58,P58,R58,T58,V58),Lookup!$M$1:$N$6,2,FALSE))","v":""},null,null,{"$f":"IFERROR(IF(AND(C58=\"Internal\",I58=90),VLOOKUP(K58,Points!$C$2:$G$6,MATCH(\"Internal Grade\",Points!$C$2:$G$2,0),FALSE),\"\"),\"\")","v":""},{"$f":"IF(O58=\"\",\"\",VLOOKUP(O58,Lookup!$L$2:$M$6,2,FALSE))","v":""},{"$f":"IFERROR(IF(AND(C58=\"Internal\",I58=60),VLOOKUP(K58,Points!$B$2:$G$6,MATCH(\"Internal Grade\",Points!$B$2:$G$2,0),FALSE),\"\"),\"\")","v":""},{"$f":"IF(Q58=\"\",\"\",VLOOKUP(Q58,Lookup!$L$2:$M$6,2,FALSE))","v":""},{"$f":"IF(AND(C58=\"External\",I58=120),VLOOKUP(K58,Points!$M$2:$N$35,MATCH(\"120 GLH Grade\",Points!$M$2:$N$2,0),FALSE),\"No\")","v":"No"},{"$f":"IF(S58=\"\",\"\",VLOOKUP(S58,Lookup!$L$1:$M$6,2,FALSE))","v":0},{"$f":"IF(AND(C58=\"External\",I58=90),VLOOKUP(K58,Points!$J$2:$K$27,MATCH(\"90 GLH Grade\",Points!$J$2:$K$2,0),FALSE),\"No\")","v":"No"},{"$f":"IF(U58=\"\",\"\",VLOOKUP(U58,Lookup!$L$1:$M$6,2,FALSE))","v":0}]
[null,"Optional",{"$f":"IFERROR(INDEX('F Diploma 510 Data Sheet'!$AM$3:$AM$1000,MATCH(E59&$E$3,'F Diploma 510 Data Sheet'!$AH$3:$AH$1000&'F Diploma 510 Data Sheet'!$AI$3:$AI$1000,0)),\"\")","v":0},{"$f":"IFERROR(INDEX('F Diploma 510 Data Sheet'!$AJ$3:$AJ$1000,MATCH(E59&$E$3,'F Diploma 510 Data Sheet'!$AH$3:$AH$1000&'F Diploma 510 Data Sheet'!$AI$3:$AI$1000,0)),\"\")","v":0},null,null,null,null,{"$f":"IFERROR(INDEX('F Diploma 510 Data Sheet'!$AL$3:$AL$1000,MATCH(E59&$E$3,'F Diploma 510 Data Sheet'!$AH$3:$AH$1000&'F Diploma 510 Data Sheet'!$AI$3:$AI$1000,0)),\"\")","v":0},null,{"$f":"IFERROR(IF(C59=\"Internal\",VLOOKUP(J59,Points!$A$2:$C$6,MATCH(C59&\" \"&I59&\" GLH\",Points!$A$2:$C$2,0),FALSE),\"\"),\"\")","v":""},{"$f":"IF(E59=\"\",\"\",VLOOKUP(SUM(N59,P59,R59,T59,V59),Lookup!$M$1:$N$6,2,FALSE))","v":""},null,null,{"$f":"IFERROR(IF(AND(C59=\"Internal\",I59=90),VLOOKUP(K59,Points!$C$2:$G$6,MATCH(\"Internal Grade\",Points!$C$2:$G$2,0),FALSE),\"\"),\"\")","v":""},{"$f":"IF(O59=\"\",\"\",VLOOKUP(O59,Lookup!$L$2:$M$6,2,FALSE))","v":""},{"$f":"IFERROR(IF(AND(C59=\"Internal\",I59=60),VLOOKUP(K59,Points!$B$2:$G$6,MATCH(\"Internal Grade\",Points!$B$2:$G$2,0),FALSE),\"\"),\"\")","v":""},{"$f":"IF(Q59=\"\",\"\",VLOOKUP(Q59,Lookup!$L$2:$M$6,2,FALSE))","v":""},{"$f":"IF(AND(C59=\"External\",I59=120),VLOOKUP(K59,Points!$M$2:$N$35,MATCH(\"120 GLH Grade\",Points!$M$2:$N$2,0),FALSE),\"No\")","v":"No"},{"$f":"IF(S59=\"\",\"\",VLOOKUP(S59,Lookup!$L$1:$M$6,2,FALSE))","v":0},{"$f":"IF(AND(C59=\"External\",I59=90),VLOOKUP(K59,Points!$J$2:$K$27,MATCH(\"90 GLH Grade\",Points!$J$2:$K$2,0),FALSE),\"No\")","v":"No"},{"$f":"IF(U59=\"\",\"\",VLOOKUP(U59,Lookup!$L$1:$M$6,2,FALSE))","v":0}]
[null,"Optional",{"$f":"IFERROR(INDEX('F Diploma 510 Data Sheet'!$AM$3:$AM$1000,MATCH(E60&$E$3,'F Diploma 510 Data Sheet'!$AH$3:$AH$1000&'F Diploma 510 Data Sheet'!$AI$3:$AI$1000,0)),\"\")","v":0},{"$f":"IFERROR(INDEX('F Diploma 510 Data Sheet'!$AJ$3:$AJ$1000,MATCH(E60&$E$3,'F Diploma 510 Data Sheet'!$AH$3:$AH$1000&'F Diploma 510 Data Sheet'!$AI$3:$AI$1000,0)),\"\")","v":0},null,null,null,null,{"$f":"IFERROR(INDEX('F Diploma 510 Data Sheet'!$AL$3:$AL$1000,MATCH(E60&$E$3,'F Diploma 510 Data Sheet'!$AH$3:$AH$1000&'F Diploma 510 Data Sheet'!$AI$3:$AI$1000,0)),\"\")","v":0},null,{"$f":"IFERROR(IF(C60=\"Internal\",VLOOKUP(J60,Points!$A$2:$C$6,MATCH(C60&\" \"&I60&\" GLH\",Points!$A$2:$C$2,0),FALSE),\"\"),\"\")","v":""},{"$f":"IF(E60=\"\",\"\",VLOOKUP(SUM(N60,P60,R60,T60,V60),Lookup!$M$1:$N$6,2,FALSE))","v":""},null,null,{"$f":"IFERROR(IF(AND(C60=\"Internal\",I60=90),VLOOKUP(K60,Points!$C$2:$G$6,MATCH(\"Internal Grade\",Points!$C$2:$G$2,0),FALSE),\"\"),\"\")","v":""},{"$f":"IF(O60=\"\",\"\",VLOOKUP(O60,Lookup!$L$2:$M$6,2,FALSE))","v":""},{"$f":"IFERROR(IF(AND(C60=\"Internal\",I60=60),VLOOKUP(K60,Points!$B$2:$G$6,MATCH(\"Internal Grade\",Points!$B$2:$G$2,0),FALSE),\"\"),\"\")","v":""},{"$f":"IF(Q60=\"\",\"\",VLOOKUP(Q60,Lookup!$L$2:$M$6,2,FALSE))","v":""},{"$f":"IF(AND(C60=\"External\",I60=120),VLOOKUP(K60,Points!$M$2:$N$35,MATCH(\"120 GLH Grade\",Points!$M$2:$N$2,0),FALSE),\"No\")","v":"No"},{"$f":"IF(S60=\"\",\"\",VLOOKUP(S60,Lookup!$L$1:$M$6,2,FALSE))","v":0},{"$f":"IF(AND(C60=\"External\",I60=90),VLOOKUP(K60,Points!$J$2:$K$27,MATCH(\"90 GLH Grade\",Points!$J$2:$K$2,0),FALSE),\"No\")","v":"No"},{"$f":"IF(U60=\"\",\"\",VLOOKUP(U60,Lookup!$L$1:$M$6,2,FALSE))","v":0}]
[null,null,null,null,null,null,null,null,{"$f":"SUM(I55:I60)","v":0}]
[null,null,null,null,null,null,null,null,{"$f":"SUM(I9:I60)-(I35+I47+I53)","v":0}]
[null,null,null,null,null,null,null,null,{"$f":"SUMIFS(I21:I60,L21:L60,\"U\")","v":0},"Overall Grade",{"$f":"SUM(K9:K60)","v":0},{"$f":"IF(E3=\"CPLD\",HLOOKUP(E3,$O$65:$S$66,2,FALSE),O66)","v":"U"},null,null,{"$f":"COUNTIF(L9:L26,\"U\")","v":16}]
[null,null,null,null,null,null,null,null,{"$f":"SUMIFS(I9:I18,L9:L18,\"U\")","v":0},"Points",null,{"$f":"K63","v":0}]
[null,null,null,null,null,null,null,null,{"$f":"I62-I63-I64","v":0},null,null,null,null,null,"AG","TL","CPLD"]
[null,null,null,null,null,null,null,null,{"$f":"SUMIFS(I21:I26,L21:L26,\"U\")","v":0},null,null,null,null,null,{"$f":"IFERROR(IF(I64>0,\"U\",VLOOKUP($K$63,Points!$S$2:$T$13,MATCH(\"Foun Dip 510 Grade\",Points!$S$2:$T$2,0),TRUE)),\"\")","v":"U"},null,{"$f":"IFERROR(IF(COUNTIF($L$9:$L$18,\"U\"),\"U\",VLOOKUP($K$63,Points!$U$2:$V$13,MATCH(\"Foun Dip 540 Grade\",Points!$U$2:$V$2,0),TRUE)),\"\")","v":"U"}]
[null,null,null,null,null,null,null,null,null,"Calculate an estimate of the externally assessed unit grades needed to reach a qualification grade based on the internally assessed unit grades. You must enter all internally assessed grades and may enter any externally assessed grades already known, then select an overall qualification grade below."]
[]
[]
[null,null,null,null,null,null,null,null,null,"Qualification Grade",null,null,null,null,null,null,null,null,null,null,null,null,null,null,null,null,null,null,null,{"$f":"COUNTIF(L4:L21,\"#N/A\")","v":0}]
[null,null,null,null,null,null,null,null,null,"Bottom Grade point total",null,{"$f":"IF($L$70=\"\",0,VLOOKUP($L$70,'Points Contingency'!$I$2:$K$6,2,FALSE))","v":0}]
[null,null,null,null,null,null,null,null,null,"Top Grade point total",null,{"$f":"IF($L$70=\"\",0,VLOOKUP($L$70,'Points Contingency'!$I$2:$K$6,3,FALSE))","v":0}]
[null,null,null,null,null,null,null,null,null,"Points for externals",null,{"$f":"IF(L71-L64<0,L72-L64,L71-L64)","v":0}]
[null,null,null,null,null,null,null,null,null,"No. of 90 GLH externals",null,{"$f":"COUNTIFS($C$9:$C$60,\"External\",$I$9:I$60,90,$L$9:$L$60,\"U\")","v":0}]
[null,null,null,null,null,null,null,null,null,"No. of 120 GLH externals",null,{"$f":"COUNTIFS($C$9:$C$60,\"External\",$I$9:I$60,120,$L$9:$L$60,\"U\")","v":0}]
[null,null,null,null,null,null,null,null,null,"Total GLH external",null,{"$f":"(L74*90)+(L75*120)","v":0}]
[null,null,null,null,null,null,null,null,null,"Scale for 90 GLH",null,{"$f":"IFERROR(L74*90/L76,\"\")","v":""}]
[null,null,null,null,null,null,null,null,null,"Scale for 120 GLH",null,{"$f":"IFERROR(L75*120/L76,\"\")","v":""}]
[null,null,null,null,null,null,null,null,null,"Total points for externals",null,{"$f":"MAX(L73,L84)","v":0},null,null,null,null,null,null,null,null,null,null,null,null,null,null,null,null,null,15]
[null,null,null,null,null,null,null,null,null,"Points per 90 GLH external",null,{"$f":"IFERROR((L79*L77)/L74,\"\")","v":""}]
[null,null,null,null,null,null,null,null,null,"Points per 120 GLH external",null,15]
[null,null,null,null,null,null,null,null,null,"90GLH points",null,{"$f":"IFERROR(ROUND(L80,0),\"\")","v":""}]
[null,null,null,null,null,null,null,null,null,"120GLH points",null,{"$f":"ROUND(L81,0)","v":15}]
[null,null,null,null,null,null,null,null,null,"Points to N",null,{"$f":"(L74*AC5)+(L75*AD5)","v":0}]
[null,null,null,null,null,null,null,null,null,"Total points external min",null,{"$f":"MIN(L73,L84)","v":0}]

{"sheet":"Foundation Diploma 540","index":6,"n_rows":85,"n_cols":40,"rows_kept":85,"cut":false,"hidden":false,"merged":[[2,4,2,7],[6,4,6,7],[1,31,1,33],[1,35,1,38],[66,9,68,11]]}
[null,null,null,null,null,null,null,null,null,null,null,null,null,null,null,null,null,null,null,{"$f":"IF(E3=\"\",\"\",VLOOKUP(E3,Sectors!$F$1:$G$9,2,FALSE))","v":""}]
[null,null,null,null,null,null,null,null,null,null,null,null,null,null,null,null,null,null,null,null,null,null,null,null,null,null,null,null,null,null,null,"Grade boundaries for External Units",null,null,null,"Points for Internal Units"]
[null,null,"Select Sector","Start →",null,null,null,null,null,null,null,null,null,null,null,null,null,null,null,null,{"$f":"IF(L10=\"No\",REPLACE(\"No\",1,2,\"U\"),\"\")","v":""},null,null,null,null,null,null,null,null,null,null,null,"90 GLH","120 GLH",null,null,"60 GLH","90 GLH","120 GLH","150 GLH"]
[null,null,null,null,"1. Select your sector from the dropdown list in the cell above",null,null,null,null,null,null,null,null,null,null,null,null,null,null,null,null,null,null,null,null,null,null,null,null,null,null,"U","0","0",null,"U","0","0","0","0"]
[null,null,null,null,null,null,null,null,null,null,null,null,null,null,null,null,null,null,null,null,null,null,null,null,null,null,null,null,null,null,null,"N",6,8,null,"P",6,9,12,15]
[null,null,null,null,null,null,null,null,null,null,null,null,null,null,null,null,null,null,null,null,null,null,null,null,null,null,null,null,null,null,null,"P",9,12,null,"M",10,15,20,25]
[null,null,"Assessment Type","Unit Number","Unit Name",null,null,null,"GLH","Unit Points/Grade","Points","Unit Grade","Internal 180 GLH",null,"Internal 150 GLH",null,"Internal 120 GLH Grade",null,"Internal 90 GLH Grade",null,"Internal 60 GLH Grade",null,"External 120 GLH Grade",null,"External 90 GLH Grade",null,null,null,null,null,null,"M",15,20,null,"D",16,24,32,40]
[null,"Group A mandatory units must be passed",null,null,null,null,null,null,null,"3. Enter the points or grade for the units below",null,null,null,null,null,null,null,null,null,null,null,null,null,null,null,null,null,null,null,null,null,"D",24,32]
[null,"Mandatory",{"$f":"IFERROR(INDEX('F Diploma 540 Data Sheet'!$A$3:$E$238,SMALL(IF('F Diploma 540 Data Sheet'!$A$3:$A$238=$E$3,ROW('F Diploma 540 Data Sheet'!$A$3:$A$238)),ROW(1:1))-2,5),\"\")","v":0},{"$f":"IFERROR(INDEX('F Diploma 540 Data Sheet'!$A$3:$E$238,SMALL(IF('F Diploma 540 Data Sheet'!$A$3:$A$238=$E$3,ROW('F Diploma 540 Data Sheet'!$A$3:$A$238)),ROW(1:1))-2,2),\"\")","v":0},{"$f":"IFERROR(INDEX('F Diploma 540 Data Sheet'!$A$3:$E$238,SMALL(IF('F Diploma 540 Data Sheet'!$A$3:$A$238=$E$3,ROW('F Diploma 540 Data Sheet'!$A$3:$A$238)),ROW(1:1))-2,3),\"\")","v":0},null,null,null,{"$f":"IFERROR(INDEX('F Diploma 540 Data Sheet'!$A$3:$E$238,SMALL(IF('F Diploma 540 Data Sheet'!$A$3:$A$238=$E$3,ROW('F Diploma 540 Data Sheet'!$A$3:$A$238)),ROW(1:1))-2,4),\"\")","v":0},null,{"$f":"IFERROR(IF(C9=\"External\",VLOOKUP(J9,Points!$I$2:$M$36,MATCH(C9&\" \"&I9&\" GLH\",Points!$I$2:$M$2,0),FALSE),VLOOKUP(J9,Points!$A$2:$G$6,MATCH(C9&\" \"&I9&\" GLH\",Points!$A$2:$G$2,0),FALSE)),\"\")","v":""},{"$f":"IF(E9=\"\",\"\",VLOOKUP(SUM(N9,P9,R9,T9,V9,X9,Z9),Lookup!$M$1:$N$6,2,FALSE))","v":"U"},{"$f":"IFERROR(IF(AND(C9=\"Internal\",I9=180),VLOOKUP(K9,Points!$F$2:$G$6,MATCH(\"Internal Grade\",Points!$F$2:$G$2,0),FALSE),\"\"),\"\")","v":""},{"$f":"IF(M9=\"\",\"\",VLOOKUP(M9,Lookup!$L$2:$M$6,2,FALSE))","v":""},{"$f":"IFERROR(IF(AND(C9=\"Internal\",I9=150),VLOOKUP(K9,Points!$E$2:$G$6,MATCH(\"Internal Grade\",Points!$E$2:$G$2,0),FALSE),\"\"),\"\")","v":""},{"$f":"IF(O9=\"\",\"\",VLOOKUP(O9,Lookup!$L$2:$M$6,2,FALSE))","v":""},{"$f":"IFERROR(IF(AND(C9=\"Internal\",I9=120),VLOOKUP(K9,Points!$D$2:$G$6,MATCH(\"Internal Grade\",Points!$D$2:$G$2,0),FALSE),\"\"),\"\")","v":""},{"$f":"IF(Q9=\"\",\"\",VLOOKUP(Q9,Lookup!$L$2:$M$6,2,FALSE))","v":""},{"$f":"IFERROR(IF(AND(C9=\"Internal\",I9=90),VLOOKUP(K9,Points!$C$2:$G$6,MATCH(\"Internal Grade\",Points!$C$2:$G$2,0),FALSE),\"\"),\"\")","v":""},{"$f":"IF(S9=\"\",\"\",VLOOKUP(S9,Lookup!$L$2:$M$6,2,FALSE))","v":""},{"$f":"IFERROR(IF(AND(C9=\"Internal\",I9=60),VLOOKUP(K9,Points!$B$2:$G$6,MATCH(\"Internal Grade\",Points!$B$2:$G$2,0),FALSE),\"\"),\"\")","v":""},{"$f":"IF(U9=\"\",\"\",VLOOKUP(U9,Lookup!$L$2:$M$6,2,FALSE))","v":""},{"$f":"IF(AND(C9=\"External\",I9=120),VLOOKUP(K9,Points!$M$2:$N$35,MATCH(\"120 GLH Grade\",Points!$M$2:$N$2,0),FALSE),\"No\")","v":"No"},{"$f":"IF(W9=\"\",\"\",VLOOKUP(W9,Lookup!$L$1:$M$6,2,FALSE))","v":0},{"$f":"IF(AND(C9=\"External\",I9=90),VLOOKUP(K9,Points!$J$2:$K$27,MATCH(\"90 GLH Grade\",Points!$J$2:$K$2,0),FALSE),\"No\")","v":"No"},{"$f":"IF(Y9=\"\",\"\",VLOOKUP(Y9,Lookup!$L$1:$M$6,2,FALSE))","v":0}]
[null,"Mandatory",{"$f":"IFERROR(INDEX('F Diploma 540 Data Sheet'!$A$3:$E$238,SMALL(IF('F Diploma 540 Data Sheet'!$A$3:$A$238=$E$3,ROW('F Diploma 540 Data Sheet'!$A$3:$A$238)),ROW(2:2))-2,5),\"\")","v":0},{"$f":"IFERROR(INDEX('F Diploma 540 Data Sheet'!$A$3:$E$238,SMALL(IF('F Diploma 540 Data Sheet'!$A$3:$A$238=$E$3,ROW('F Diploma 540 Data Sheet'!$A$3:$A$238)),ROW(2:2))-2,2),\"\")","v":0},{"$f":"IFERROR(INDEX('F Diploma 540 Data Sheet'!$A$3:$E$238,SMALL(IF('F Diploma 540 Data Sheet'!$A$3:$A$238=$E$3,ROW('F Diploma 540 Data Sheet'!$A$3:$A$238)),ROW(2:2))-2,3),\"\")","v":0},null,null,null,{"$f":"IFERROR(INDEX('F Diploma 540 Data Sheet'!$A$3:$E$238,SMALL(IF('F Diploma 540 Data Sheet'!$A$3:$A$238=$E$3,ROW('F Diploma 540 Data Sheet'!$A$3:$A$238)),ROW(2:2))-2,4),\"\")","v":0},null,{"$f":"IFERROR(IF(C10=\"External\",VLOOKUP(J10,Points!$I$2:$M$36,MATCH(C10&\" \"&I10&\" GLH\",Points!$I$2:$M$2,0),FALSE),VLOOKUP(J10,Points!$A$2:$G$6,MATCH(C10&\" \"&I10&\" GLH\",Points!$A$2:$G$2,0),FALSE)),\"\")","v":""},{"$f":"IF(E10=\"\",\"\",VLOOKUP(SUM(N10,P10,R10,T10,V10,X10,Z10),Lookup!$M$1:$N$6,2,FALSE))","v":"U"},{"$f":"IFERROR(IF(AND(C10=\"Internal\",I10=180),VLOOKUP(K10,Points!$F$2:$G$6,MATCH(\"Internal Grade\",Points!$F$2:$G$2,0),FALSE),\"\"),\"\")","v":""},{"$f":"IF(M10=\"\",\"\",VLOOKUP(M10,Lookup!$L$2:$M$6,2,FALSE))","v":""},{"$f":"IFERROR(IF(AND(C10=\"Internal\",I10=150),VLOOKUP(K10,Points!$E$2:$G$6,MATCH(\"Internal Grade\",Points!$E$2:$G$2,0),FALSE),\"\"),\"\")","v":""},{"$f":"IF(O10=\"\",\"\",VLOOKUP(O10,Lookup!$L$2:$M$6,2,FALSE))","v":""},{"$f":"IFERROR(IF(AND(C10=\"Internal\",I10=120),VLOOKUP(K10,Points!$D$2:$G$6,MATCH(\"Internal Grade\",Points!$D$2:$G$2,0),FALSE),\"\"),\"\")","v":""},{"$f":"IF(Q10=\"\",\"\",VLOOKUP(Q10,Lookup!$L$2:$M$6,2,FALSE))","v":""},{"$f":"IFERROR(IF(AND(C10=\"Internal\",I10=90),VLOOKUP(K10,Points!$C$2:$G$6,MATCH(\"Internal Grade\",Points!$C$2:$G$2,0),FALSE),\"\"),\"\")","v":""},{"$f":"IF(S10=\"\",\"\",VLOOKUP(S10,Lookup!$L$2:$M$6,2,FALSE))","v":""},{"$f":"IFERROR(IF(AND(C10=\"Internal\",I10=60),VLOOKUP(K10,Points!$B$2:$G$6,MATCH(\"Internal Grade\",Points!$B$2:$G$2,0),FALSE),\"\"),\"\")","v":""},{"$f":"IF(U10=\"\",\"\",VLOOKUP(U10,Lookup!$L$2:$M$6,2,FALSE))","v":""},{"$f":"IF(AND(C10=\"External\",I10=120),VLOOKUP(K10,Points!$M$2:$N$35,MATCH(\"120 GLH Grade\",Points!$M$2:$N$2,0),FALSE),\"No\")","v":"No"},{"$f":"IF(W10=\"\",\"\",VLOOKUP(W10,Lookup!$L$1:$M$6,2,FALSE))","v":0},{"$f":"IF(AND(C10=\"External\",I10=90),VLOOKUP(K10,Points!$J$2:$K$27,MATCH(\"90 GLH Grade\",Points!$J$2:$K$2,0),FALSE),\"No\")","v":"No"},{"$f":"IF(Y10=\"\",\"\",VLOOKUP(Y10,Lookup!$L$1:$M$6,2,FALSE))","v":0}]
[null,"Mandatory",{"$f":"IFERROR(INDEX('F Diploma 540 Data Sheet'!$A$3:$E$238,SMALL(IF('F Diploma 540 Data Sheet'!$A$3:$A$238=$E$3,ROW('F Diploma 540 Data Sheet'!$A$3:$A$238)),ROW(3:3))-2,5),\"\")","v":0},{"$f":"IFERROR(INDEX('F Diploma 540 Data Sheet'!$A$3:$E$238,SMALL(IF('F Diploma 540 Data Sheet'!$A$3:$A$238=$E$3,ROW('F Diploma 540 Data Sheet'!$A$3:$A$238)),ROW(3:3))-2,2),\"\")","v":0},{"$f":"IFERROR(INDEX('F Diploma 540 Data Sheet'!$A$3:$E$238,SMALL(IF('F Diploma 540 Data Sheet'!$A$3:$A$238=$E$3,ROW('F Diploma 540 Data Sheet'!$A$3:$A$238)),ROW(3:3))-2,3),\"\")","v":0},null,null,null,{"$f":"IFERROR(INDEX('F Diploma 540 Data Sheet'!$A$3:$E$238,SMALL(IF('F Diploma 540 Data Sheet'!$A$3:$A$238=$E$3,ROW('F Diploma 540 Data Sheet'!$A$3:$A$238)),ROW(3:3))-2,4),\"\")","v":0},null,{"$f":"IFERROR(IF(C11=\"External\",VLOOKUP(J11,Points!$I$2:$M$36,MATCH(C11&\" \"&I11&\" GLH\",Points!$I$2:$M$2,0),FALSE),VLOOKUP(J11,Points!$A$2:$G$6,MATCH(C11&\" \"&I11&\" GLH\",Points!$A$2:$G$2,0),FALSE)),\"\")","v":""},{"$f":"IF(E11=\"\",\"\",VLOOKUP(SUM(N11,P11,R11,T11,V11,X11,Z11),Lookup!$M$1:$N$6,2,FALSE))","v":"U"},{"$f":"IFERROR(IF(AND(C11=\"Internal\",I11=180),VLOOKUP(K11,Points!$F$2:$G$6,MATCH(\"Internal Grade\",Points!$F$2:$G$2,0),FALSE),\"\"),\"\")","v":""},{"$f":"IF(M11=\"\",\"\",VLOOKUP(M11,Lookup!$L$2:$M$6,2,FALSE))","v":""},{"$f":"IFERROR(IF(AND(C11=\"Internal\",I11=150),VLOOKUP(K11,Points!$E$2:$G$6,MATCH(\"Internal Grade\",Points!$E$2:$G$2,0),FALSE),\"\"),\"\")","v":""},{"$f":"IF(O11=\"\",\"\",VLOOKUP(O11,Lookup!$L$2:$M$6,2,FALSE))","v":""},{"$f":"IFERROR(IF(AND(C11=\"Internal\",I11=120),VLOOKUP(K11,Points!$D$2:$G$6,MATCH(\"Internal Grade\",Points!$D$2:$G$2,0),FALSE),\"\"),\"\")","v":""},{"$f":"IF(Q11=\"\",\"\",VLOOKUP(Q11,Lookup!$L$2:$M$6,2,FALSE))","v":""},{"$f":"IFERROR(IF(AND(C11=\"Internal\",I11=90),VLOOKUP(K11,Points!$C$2:$G$6,MATCH(\"Internal Grade\",Points!$C$2:$G$2,0),FALSE),\"\"),\"\")","v":""},{"$f":"IF(S11=\"\",\"\",VLOOKUP(S11,Lookup!$L$2:$M$6,2,FALSE))","v":""},{"$f":"IFERROR(IF(AND(C11=\"Internal\",I11=60),VLOOKUP(K11,Points!$B$2:$G$6,MATCH(\"Internal Grade\",Points!$B$2:$G$2,0),FALSE),\"\"),\"\")","v":""},{"$f":"IF(U11=\"\",\"\",VLOOKUP(U11,Lookup!$L$2:$M$6,2,FALSE))","v":""},{"$f":"IF(AND(C11=\"External\",I11=120),VLOOKUP(K11,Points!$M$2:$N$35,MATCH(\"120 GLH Grade\",Points!$M$2:$N$2,0),FALSE),\"No\")","v":"No"},{"$f":"IF(W11=\"\",\"\",VLOOKUP(W11,Lookup!$L$1:$M$6,2,FALSE))","v":0},{"$f":"IF(AND(C11=\"External\",I11=90),VLOOKUP(K11,Points!$J$2:$K$27,MATCH(\"90 GLH Grade\",Points!$J$2:$K$2,0),FALSE),\"No\")","v":"No"},{"$f":"IF(Y11=\"\",\"\",VLOOKUP(Y11,Lookup!$L$1:$M$6,2,FALSE))","v":0}]
[null,"Mandatory",{"$f":"IFERROR(INDEX('F Diploma 540 Data Sheet'!$A$3:$E$238,SMALL(IF('F Diploma 540 Data Sheet'!$A$3:$A$238=$E$3,ROW('F Diploma 540 Data Sheet'!$A$3:$A$238)),ROW(4:4))-2,5),\"\")","v":0},{"$f":"IFERROR(INDEX('F Diploma 540 Data Sheet'!$A$3:$E$238,SMALL(IF('F Diploma 540 Data Sheet'!$A$3:$A$238=$E$3,ROW('F Diploma 540 Data Sheet'!$A$3:$A$238)),ROW(4:4))-2,2),\"\")","v":0},{"$f":"IFERROR(INDEX('F Diploma 540 Data Sheet'!$A$3:$E$238,SMALL(IF('F Diploma 540 Data Sheet'!$A$3:$A$238=$E$3,ROW('F Diploma 540 Data Sheet'!$A$3:$A$238)),ROW(4:4))-2,3),\"\")","v":0},null,null,null,{"$f":"IFERROR(INDEX('F Diploma 540 Data Sheet'!$A$3:$E$238,SMALL(IF('F Diploma 540 Data Sheet'!$A$3:$A$238=$E$3,ROW('F Diploma 540 Data Sheet'!$A$3:$A$238)),ROW(4:4))-2,4),\"\")","v":0},null,{"$f":"IFERROR(IF(C12=\"External\",VLOOKUP(J12,Points!$I$2:$M$36,MATCH(C12&\" \"&I12&\" GLH\",Points!$I$2:$M$2,0),FALSE),VLOOKUP(J12,Points!$A$2:$G$6,MATCH(C12&\" \"&I12&\" GLH\",Points!$A$2:$G$2,0),FALSE)),\"\")","v":""},{"$f":"IF(E12=\"\",\"\",VLOOKUP(SUM(N12,P12,R12,T12,V12,X12,Z12),Lookup!$M$1:$N$6,2,FALSE))","v":"U"},{"$f":"IFERROR(IF(AND(C12=\"Internal\",I12=180),VLOOKUP(K12,Points!$F$2:$G$6,MATCH(\"Internal Grade\",Points!$F$2:$G$2,0),FALSE),\"\"),\"\")","v":""},{"$f":"IF(M12=\"\",\"\",VLOOKUP(M12,Lookup!$L$2:$M$6,2,FALSE))","v":""},{"$f":"IFERROR(IF(AND(C12=\"Internal\",I12=150),VLOOKUP(K12,Points!$E$2:$G$6,MATCH(\"Internal Grade\",Points!$E$2:$G$2,0),FALSE),\"\"),\"\")","v":""},{"$f":"IF(O12=\"\",\"\",VLOOKUP(O12,Lookup!$L$2:$M$6,2,FALSE))","v":""},{"$f":"IFERROR(IF(AND(C12=\"Internal\",I12=120),VLOOKUP(K12,Points!$D$2:$G$6,MATCH(\"Internal Grade\",Points!$D$2:$G$2,0),FALSE),\"\"),\"\")","v":""},{"$f":"IF(Q12=\"\",\"\",VLOOKUP(Q12,Lookup!$L$2:$M$6,2,FALSE))","v":""},{"$f":"IFERROR(IF(AND(C12=\"Internal\",I12=90),VLOOKUP(K12,Points!$C$2:$G$6,MATCH(\"Internal Grade\",Points!$C$2:$G$2,0),FALSE),\"\"),\"\")","v":""},{"$f":"IF(S12=\"\",\"\",VLOOKUP(S12,Lookup!$L$2:$M$6,2,FALSE))","v":""},{"$f":"IFERROR(IF(AND(C12=\"Internal\",I12=60),VLOOKUP(K12,Points!$B$2:$G$6,MATCH(\"Internal Grade\",Points!$B$2:$G$2,0),FALSE),\"\"),\"\")","v":""},{"$f":"IF(U12=\"\",\"\",VLOOKUP(U12,Lookup!$L$2:$M$6,2,FALSE))","v":""},{"$f":"IF(AND(C12=\"External\",I12=120),VLOOKUP(K12,Points!$M$2:$N$35,MATCH(\"120 GLH Grade\",Points!$M$2:$N$2,0),FALSE),\"No\")","v":"No"},{"$f":"IF(W12=\"\",\"\",VLOOKUP(W12,Lookup!$L$1:$M$6,2,FALSE))","v":0},{"$f":"IF(AND(C12=\"External\",I12=90),VLOOKUP(K12,Points!$J$2:$K$27,MATCH(\"90 GLH Grade\",Points!$J$2:$K$2,0),FALSE),\"No\")","v":"No"},{"$f":"IF(Y12=\"\",\"\",VLOOKUP(Y12,Lookup!$L$1:$M$6,2,FALSE))","v":0}]
[null,"Mandatory",{"$f":"IFERROR(INDEX('F Diploma 540 Data Sheet'!$A$3:$E$238,SMALL(IF('F Diploma 540 Data Sheet'!$A$3:$A$238=$E$3,ROW('F Diploma 540 Data Sheet'!$A$3:$A$238)),ROW(5:5))-2,5),\"\")","v":0},{"$f":"IFERROR(INDEX('F Diploma 540 Data Sheet'!$A$3:$E$238,SMALL(IF('F Diploma 540 Data Sheet'!$A$3:$A$238=$E$3,ROW('F Diploma 540 Data Sheet'!$A$3:$A$238)),ROW(5:5))-2,2),\"\")","v":0},{"$f":"IFERROR(INDEX('F Diploma 540 Data Sheet'!$A$3:$E$238,SMALL(IF('F Diploma 540 Data Sheet'!$A$3:$A$238=$E$3,ROW('F Diploma 540 Data Sheet'!$A$3:$A$238)),ROW(5:5))-2,3),\"\")","v":0},null,null,null,{"$f":"IFERROR(INDEX('F Diploma 540 Data Sheet'!$A$3:$E$238,SMALL(IF('F Diploma 540 Data Sheet'!$A$3:$A$238=$E$3,ROW('F Diploma 540 Data Sheet'!$A$3:$A$238)),ROW(5:5))-2,4),\"\")","v":0},null,{"$f":"IFERROR(IF(C13=\"External\",VLOOKUP(J13,Points!$I$2:$M$36,MATCH(C13&\" \"&I13&\" GLH\",Points!$I$2:$M$2,0),FALSE),VLOOKUP(J13,Points!$A$2:$G$6,MATCH(C13&\" \"&I13&\" GLH\",Points!$A$2:$G$2,0),FALSE)),\"\")","v":""},{"$f":"IF(E13=\"\",\"\",VLOOKUP(SUM(N13,P13,R13,T13,V13,X13,Z13),Lookup!$M$1:$N$6,2,FALSE))","v":"U"},{"$f":"IFERROR(IF(AND(C13=\"Internal\",I13=180),VLOOKUP(K13,Points!$F$2:$G$6,MATCH(\"Internal Grade\",Points!$F$2:$G$2,0),FALSE),\"\"),\"\")","v":""},{"$f":"IF(M13=\"\",\"\",VLOOKUP(M13,Lookup!$L$2:$M$6,2,FALSE))","v":""},{"$f":"IFERROR(IF(AND(C13=\"Internal\",I13=150),VLOOKUP(K13,Points!$E$2:$G$6,MATCH(\"Internal Grade\",Points!$E$2:$G$2,0),FALSE),\"\"),\"\")","v":""},{"$f":"IF(O13=\"\",\"\",VLOOKUP(O13,Lookup!$L$2:$M$6,2,FALSE))","v":""},{"$f":"IFERROR(IF(AND(C13=\"Internal\",I13=120),VLOOKUP(K13,Points!$D$2:$G$6,MATCH(\"Internal Grade\",Points!$D$2:$G$2,0),FALSE),\"\"),\"\")","v":""},{"$f":"IF(Q13=\"\",\"\",VLOOKUP(Q13,Lookup!$L$2:$M$6,2,FALSE))","v":""},{"$f":"IFERROR(IF(AND(C13=\"Internal\",I13=90),VLOOKUP(K13,Points!$C$2:$G$6,MATCH(\"Internal Grade\",Points!$C$2:$G$2,0),FALSE),\"\"),\"\")","v":""},{"$f":"IF(S13=\"\",\"\",VLOOKUP(S13,Lookup!$L$2:$M$6,2,FALSE))","v":""},{"$f":"IFERROR(IF(AND(C13=\"Internal\",I13=60),VLOOKUP(K13,Points!$B$2:$G$6,MATCH(\"Internal Grade\",Points!$B$2:$G$2,0),FALSE),\"\"),\"\")","v":""},{"$f":"IF(U13=\"\",\"\",VLOOKUP(U13,Lookup!$L$2:$M$6,2,FALSE))","v":""},{"$f":"IF(AND(C13=\"External\",I13=120),VLOOKUP(K13,Points!$M$2:$N$35,MATCH(\"120 GLH Grade\",Points!$M$2:$N$2,0),FALSE),\"No\")","v":"No"},{"$f":"IF(W13=\"\",\"\",VLOOKUP(W13,Lookup!$L$1:$M$6,2,FALSE))","v":0},{"$f":"IF(AND(C13=\"External\",I13=90),VLOOKUP(K13,Points!$J$2:$K$27,MATCH(\"90 GLH Grade\",Points!$J$2:$K$2,0),FALSE),\"No\")","v":"No"},{"$f":"IF(Y13=\"\",\"\",VLOOKUP(Y13,Lookup!$L$1:$M$6,2,FALSE))","v":0}]
[null,"Mandatory",{"$f":"IFERROR(INDEX('F Diploma 540 Data Sheet'!$A$3:$E$238,SMALL(IF('F Diploma 540 Data Sheet'!$A$3:$A$238=$E$3,ROW('F Diploma 540 Data Sheet'!$A$3:$A$238)),ROW(6:6))-2,5),\"\")","v":0},{"$f":"IFERROR(INDEX('F Diploma 540 Data Sheet'!$A$3:$E$238,SMALL(IF('F Diploma 540 Data Sheet'!$A$3:$A$238=$E$3,ROW('F Diploma 540 Data Sheet'!$A$3:$A$238)),ROW(6:6))-2,2),\"\")","v":0},{"$f":"IFERROR(INDEX('F Diploma 540 Data Sheet'!$A$3:$E$238,SMALL(IF('F Diploma 540 Data Sheet'!$A$3:$A$238=$E$3,ROW('F Diploma 540 Data Sheet'!$A$3:$A$238)),ROW(6:6))-2,3),\"\")","v":0},null,null,null,{"$f":"IFERROR(INDEX('F Diploma 540 Data Sheet'!$A$3:$E$238,SMALL(IF('F Diploma 540 Data Sheet'!$A$3:$A$238=$E$3,ROW('F Diploma 540 Data Sheet'!$A$3:$A$238)),ROW(6:6))-2,4),\"\")","v":0},null,{"$f":"IFERROR(IF(C14=\"External\",VLOOKUP(J14,Points!$I$2:$M$36,MATCH(C14&\" \"&I14&\" GLH\",Points!$I$2:$M$2,0),FALSE),VLOOKUP(J14,Points!$A$2:$C$6,MATCH(C14&\" \"&I14&\" GLH\",Points!$A$2:$C$2,0),FALSE)),\"\")","v":""},{"$f":"IF(E14=\"\",\"\",VLOOKUP(SUM(N14,P14,R14,T14,V14,X14,Z14),Lookup!$M$1:$N$6,2,FALSE))","v":"U"},{"$f":"IFERROR(IF(AND(C14=\"Internal\",I14=180),VLOOKUP(K14,Points!$F$2:$G$6,MATCH(\"Internal Grade\",Points!$F$2:$G$2,0),FALSE),\"\"),\"\")","v":""},{"$f":"IF(M14=\"\",\"\",VLOOKUP(M14,Lookup!$L$2:$M$6,2,FALSE))","v":""},{"$f":"IFERROR(IF(AND(C14=\"Internal\",I14=150),VLOOKUP(K14,Points!$E$2:$G$6,MATCH(\"Internal Grade\",Points!$E$2:$G$2,0),FALSE),\"\"),\"\")","v":""},{"$f":"IF(O14=\"\",\"\",VLOOKUP(O14,Lookup!$L$2:$M$6,2,FALSE))","v":""},{"$f":"IFERROR(IF(AND(C14=\"Internal\",I14=120),VLOOKUP(K14,Points!$C$2:$G$6,MATCH(\"Internal Grade\",Points!$C$2:$G$2,0),FALSE),\"\"),\"\")","v":""},null,{"$f":"IFERROR(IF(AND(C14=\"Internal\",I14=90),VLOOKUP(K14,Points!$C$2:$G$6,MATCH(\"Internal Grade\",Points!$C$2:$G$2,0),FALSE),\"\"),\"\")","v":""},{"$f":"IF(S14=\"\",\"\",VLOOKUP(S14,Lookup!$L$2:$M$6,2,FALSE))","v":""},{"$f":"IFERROR(IF(AND(C14=\"Internal\",I14=60),VLOOKUP(K14,Points!$B$2:$G$6,MATCH(\"Internal Grade\",Points!$B$2:$G$2,0),FALSE),\"\"),\"\")","v":""},{"$f":"IF(U14=\"\",\"\",VLOOKUP(U14,Lookup!$L$2:$M$6,2,FALSE))","v":""},{"$f":"IF(AND(C14=\"External\",I14=120),VLOOKUP(K14,Points!$M$2:$N$35,MATCH(\"120 GLH Grade\",Points!$M$2:$N$2,0),FALSE),\"No\")","v":"No"},{"$f":"IF(W14=\"\",\"\",VLOOKUP(W14,Lookup!$L$1:$M$6,2,FALSE))","v":0},{"$f":"IF(AND(C14=\"External\",I14=90),VLOOKUP(K14,Points!$J$2:$K$27,MATCH(\"90 GLH Grade\",Points!$J$2:$K$2,0),FALSE),\"No\")","v":"No"},{"$f":"IF(Y14=\"\",\"\",VLOOKUP(Y14,Lookup!$L$1:$M$6,2,FALSE))","v":0}]
[null,"Mandatory",{"$f":"IFERROR(INDEX('F Diploma 540 Data Sheet'!$A$3:$E$238,SMALL(IF('F Diploma 540 Data Sheet'!$A$3:$A$238=$E$3,ROW('F Diploma 540 Data Sheet'!$A$3:$A$238)),ROW(7:7))-2,5),\"\")","v":0},{"$f":"IFERROR(INDEX('F Diploma 540 Data Sheet'!$A$3:$E$238,SMALL(IF('F Diploma 540 Data Sheet'!$A$3:$A$238=$E$3,ROW('F Diploma 540 Data Sheet'!$A$3:$A$238)),ROW(7:7))-2,2),\"\")","v":0},{"$f":"IFERROR(INDEX('F Diploma 540 Data Sheet'!$A$3:$E$238,SMALL(IF('F Diploma 540 Data Sheet'!$A$3:$A$238=$E$3,ROW('F Diploma 540 Data Sheet'!$A$3:$A$238)),ROW(7:7))-2,3),\"\")","v":0},null,null,null,{"$f":"IFERROR(INDEX('F Diploma 540 Data Sheet'!$A$3:$E$238,SMALL(IF('F Diploma 540 Data Sheet'!$A$3:$A$238=$E$3,ROW('F Diploma 540 Data Sheet'!$A$3:$A$238)),ROW(7:7))-2,4),\"\")","v":0},null,{"$f":"IFERROR(IF(C15=\"External\",VLOOKUP(J15,Points!$I$2:$M$36,MATCH(C15&\" \"&I15&\" GLH\",Points!$I$2:$M$2,0),FALSE),VLOOKUP(J15,Points!$A$2:$C$6,MATCH(C15&\" \"&I15&\" GLH\",Points!$A$2:$C$2,0),FALSE)),\"\")","v":""},{"$f":"IF(E15=\"\",\"\",VLOOKUP(SUM(N15,P15,R15,T15,V15,X15,Z15),Lookup!$M$1:$N$6,2,FALSE))","v":"U"},{"$f":"IFERROR(IF(AND(C15=\"Internal\",I15=180),VLOOKUP(K15,Points!$F$2:$G$6,MATCH(\"Internal Grade\",Points!$F$2:$G$2,0),FALSE),\"\"),\"\")","v":""},{"$f":"IF(M15=\"\",\"\",VLOOKUP(M15,Lookup!$L$2:$M$6,2,FALSE))","v":""},{"$f":"IFERROR(IF(AND(C15=\"Internal\",I15=150),VLOOKUP(K15,Points!$E$2:$G$6,MATCH(\"Internal Grade\",Points!$E$2:$G$2,0),FALSE),\"\"),\"\")","v":""},{"$f":"IF(O15=\"\",\"\",VLOOKUP(O15,Lookup!$L$2:$M$6,2,FALSE))","v":""},{"$f":"IFERROR(IF(AND(C15=\"Internal\",I15=120),VLOOKUP(K15,Points!$C$2:$G$6,MATCH(\"Internal Grade\",Points!$C$2:$G$2,0),FALSE),\"\"),\"\")","v":""},null,{"$f":"IFERROR(IF(AND(C15=\"Internal\",I15=90),VLOOKUP(K15,Points!$C$2:$G$6,MATCH(\"Internal Grade\",Points!$C$2:$G$2,0),FALSE),\"\"),\"\")","v":""},{"$f":"IF(S15=\"\",\"\",VLOOKUP(S15,Lookup!$L$2:$M$6,2,FALSE))","v":""},{"$f":"IFERROR(IF(AND(C15=\"Internal\",I15=60),VLOOKUP(K15,Points!$B$2:$G$6,MATCH(\"Internal Grade\",Points!$B$2:$G$2,0),FALSE),\"\"),\"\")","v":""},{"$f":"IF(U15=\"\",\"\",VLOOKUP(U15,Lookup!$L$2:$M$6,2,FALSE))","v":""},{"$f":"IF(AND(C15=\"External\",I15=120),VLOOKUP(K15,Points!$M$2:$N$35,MATCH(\"120 GLH Grade\",Points!$M$2:$N$2,0),FALSE),\"No\")","v":"No"},{"$f":"IF(W15=\"\",\"\",VLOOKUP(W15,Lookup!$L$1:$M$6,2,FALSE))","v":0},{"$f":"IF(AND(C15=\"External\",I15=90),VLOOKUP(K15,Points!$J$2:$K$27,MATCH(\"90 GLH Grade\",Points!$J$2:$K$2,0),FALSE),\"No\")","v":"No"},{"$f":"IF(Y15=\"\",\"\",VLOOKUP(Y15,Lookup!$L$1:$M$6,2,FALSE))","v":0}]
[null,"Mandatory",{"$f":"IFERROR(INDEX('F Diploma 540 Data Sheet'!$A$3:$E$238,SMALL(IF('F Diploma 540 Data Sheet'!$A$3:$A$238=$E$3,ROW('F Diploma 540 Data Sheet'!$A$3:$A$238)),ROW(8:8))-2,5),\"\")","v":0},{"$f":"IFERROR(INDEX('F Diploma 540 Data Sheet'!$A$3:$E$238,SMALL(IF('F Diploma 540 Data Sheet'!$A$3:$A$238=$E$3,ROW('F Diploma 540 Data Sheet'!$A$3:$A$238)),ROW(8:8))-2,2),\"\")","v":0},{"$f":"IFERROR(INDEX('F Diploma 540 Data Sheet'!$A$3:$E$238,SMALL(IF('F Diploma 540 Data Sheet'!$A$3:$A$238=$E$3,ROW('F Diploma 540 Data Sheet'!$A$3:$A$238)),ROW(8:8))-2,3),\"\")","v":0},null,null,null,{"$f":"IFERROR(INDEX('F Diploma 540 Data Sheet'!$A$3:$E$238,SMALL(IF('F Diploma 540 Data Sheet'!$A$3:$A$238=$E$3,ROW('F Diploma 540 Data Sheet'!$A$3:$A$238)),ROW(8:8))-2,4),\"\")","v":0},null,{"$f":"IFERROR(IF(C16=\"External\",VLOOKUP(J16,Points!$I$2:$M$36,MATCH(C16&\" \"&I16&\" GLH\",Points!$I$2:$M$2,0),FALSE),VLOOKUP(J16,Points!$A$2:$C$6,MATCH(C16&\" \"&I16&\" GLH\",Points!$A$2:$C$2,0),FALSE)),\"\")","v":""},{"$f":"IF(E16=\"\",\"\",VLOOKUP(SUM(N16,P16,R16,T16,V16,X16,Z16),Lookup!$M$1:$N$6,2,FALSE))","v":"U"},{"$f":"IFERROR(IF(AND(C16=\"Internal\",I16=180),VLOOKUP(K16,Points!$F$2:$G$6,MATCH(\"Internal Grade\",Points!$F$2:$G$2,0),FALSE),\"\"),\"\")","v":""},{"$f":"IF(M16=\"\",\"\",VLOOKUP(M16,Lookup!$L$2:$M$6,2,FALSE))","v":""},{"$f":"IFERROR(IF(AND(C16=\"Internal\",I16=150),VLOOKUP(K16,Points!$E$2:$G$6,MATCH(\"Internal Grade\",Points!$E$2:$G$2,0),FALSE),\"\"),\"\")","v":""},{"$f":"IF(O16=\"\",\"\",VLOOKUP(O16,Lookup!$L$2:$M$6,2,FALSE))","v":""},{"$f":"IFERROR(IF(AND(C16=\"Internal\",I16=120),VLOOKUP(K16,Points!$C$2:$G$6,MATCH(\"Internal Grade\",Points!$C$2:$G$2,0),FALSE),\"\"),\"\")","v":""},null,{"$f":"IFERROR(IF(AND(C16=\"Internal\",I16=90),VLOOKUP(K16,Points!$C$2:$G$6,MATCH(\"Internal Grade\",Points!$C$2:$G$2,0),FALSE),\"\"),\"\")","v":""},{"$f":"IF(S16=\"\",\"\",VLOOKUP(S16,Lookup!$L$2:$M$6,2,FALSE))","v":""},{"$f":"IFERROR(IF(AND(C16=\"Internal\",I16=60),VLOOKUP(K16,Points!$B$2:$G$6,MATCH(\"Internal Grade\",Points!$B$2:$G$2,0),FALSE),\"\"),\"\")","v":""},{"$f":"IF(U16=\"\",\"\",VLOOKUP(U16,Lookup!$L$2:$M$6,2,FALSE))","v":""},{"$f":"IF(AND(C16=\"External\",I16=120),VLOOKUP(K16,Points!$M$2:$N$35,MATCH(\"120 GLH Grade\",Points!$M$2:$N$2,0),FALSE),\"No\")","v":"No"},{"$f":"IF(W16=\"\",\"\",VLOOKUP(W16,Lookup!$L$1:$M$6,2,FALSE))","v":0},{"$f":"IF(AND(C16=\"External\",I16=90),VLOOKUP(K16,Points!$J$2:$K$27,MATCH(\"90 GLH Grade\",Points!$J$2:$K$2,0),FALSE),\"No\")","v":"No"},{"$f":"IF(Y16=\"\",\"\",VLOOKUP(Y16,Lookup!$L$1:$M$6,2,FALSE))","v":0}]
[null,"Mandatory",{"$f":"IFERROR(INDEX('F Diploma 540 Data Sheet'!$A$3:$E$238,SMALL(IF('F Diploma 540 Data Sheet'!$A$3:$A$238=$E$3,ROW('F Diploma 540 Data Sheet'!$A$3:$A$238)),ROW(9:9))-2,5),\"\")","v":0},{"$f":"IFERROR(INDEX('F Diploma 540 Data Sheet'!$A$3:$E$238,SMALL(IF('F Diploma 540 Data Sheet'!$A$3:$A$238=$E$3,ROW('F Diploma 540 Data Sheet'!$A$3:$A$238)),ROW(9:9))-2,2),\"\")","v":0},{"$f":"IFERROR(INDEX('F Diploma 540 Data Sheet'!$A$3:$E$238,SMALL(IF('F Diploma 540 Data Sheet'!$A$3:$A$238=$E$3,ROW('F Diploma 540 Data Sheet'!$A$3:$A$238)),ROW(9:9))-2,3),\"\")","v":0},null,null,null,{"$f":"IFERROR(INDEX('F Diploma 540 Data Sheet'!$A$3:$E$238,SMALL(IF('F Diploma 540 Data Sheet'!$A$3:$A$238=$E$3,ROW('F Diploma 540 Data Sheet'!$A$3:$A$238)),ROW(9:9))-2,4),\"\")","v":0},null,{"$f":"IFERROR(IF(C17=\"External\",VLOOKUP(J17,Points!$I$2:$M$36,MATCH(C17&\" \"&I17&\" GLH\",Points!$I$2:$M$2,0),FALSE),VLOOKUP(J17,Points!$A$2:$C$6,MATCH(C17&\" \"&I17&\" GLH\",Points!$A$2:$C$2,0),FALSE)),\"\")","v":""},{"$f":"IF(E17=\"\",\"\",VLOOKUP(SUM(N17,P17,R17,T17,V17,X17,Z17),Lookup!$M$1:$N$6,2,FALSE))","v":"U"},{"$f":"IFERROR(IF(AND(C17=\"Internal\",I17=180),VLOOKUP(K17,Points!$F$2:$G$6,MATCH(\"Internal Grade\",Points!$F$2:$G$2,0),FALSE),\"\"),\"\")","v":""},{"$f":"IF(M17=\"\",\"\",VLOOKUP(M17,Lookup!$L$2:$M$6,2,FALSE))","v":""},{"$f":"IFERROR(IF(AND(C17=\"Internal\",I17=150),VLOOKUP(K17,Points!$E$2:$G$6,MATCH(\"Internal Grade\",Points!$E$2:$G$2,0),FALSE),\"\"),\"\")","v":""},{"$f":"IF(O17=\"\",\"\",VLOOKUP(O17,Lookup!$L$2:$M$6,2,FALSE))","v":""},{"$f":"IFERROR(IF(AND(C17=\"Internal\",I17=120),VLOOKUP(K17,Points!$C$2:$G$6,MATCH(\"Internal Grade\",Points!$C$2:$G$2,0),FALSE),\"\"),\"\")","v":""},null,{"$f":"IFERROR(IF(AND(C17=\"Internal\",I17=90),VLOOKUP(K17,Points!$C$2:$G$6,MATCH(\"Internal Grade\",Points!$C$2:$G$2,0),FALSE),\"\"),\"\")","v":""},{"$f":"IF(S17=\"\",\"\",VLOOKUP(S17,Lookup!$L$2:$M$6,2,FALSE))","v":""},{"$f":"IFERROR(IF(AND(C17=\"Internal\",I17=60),VLOOKUP(K17,Points!$B$2:$G$6,MATCH(\"Internal Grade\",Points!$B$2:$G$2,0),FALSE),\"\"),\"\")","v":""},{"$f":"IF(U17=\"\",\"\",VLOOKUP(U17,Lookup!$L$2:$M$6,2,FALSE))","v":""},{"$f":"IF(AND(C17=\"External\",I17=120),VLOOKUP(K17,Points!$M$2:$N$35,MATCH(\"120 GLH Grade\",Points!$M$2:$N$2,0),FALSE),\"No\")","v":"No"},{"$f":"IF(W17=\"\",\"\",VLOOKUP(W17,Lookup!$L$1:$M$6,2,FALSE))","v":0},{"$f":"IF(AND(C17=\"External\",I17=90),VLOOKUP(K17,Points!$J$2:$K$27,MATCH(\"90 GLH Grade\",Points!$J$2:$K$2,0),FALSE),\"No\")","v":"No"},{"$f":"IF(Y17=\"\",\"\",VLOOKUP(Y17,Lookup!$L$1:$M$6,2,FALSE))","v":0}]
[null,"Mandatory",{"$f":"IFERROR(INDEX('F Diploma 540 Data Sheet'!$A$3:$E$238,SMALL(IF('F Diploma 540 Data Sheet'!$A$3:$A$238=$E$3,ROW('F Diploma 540 Data Sheet'!$A$3:$A$238)),ROW(10:10))-2,5),\"\")","v":0},{"$f":"IFERROR(INDEX('F Diploma 540 Data Sheet'!$A$3:$E$238,SMALL(IF('F Diploma 540 Data Sheet'!$A$3:$A$238=$E$3,ROW('F Diploma 540 Data Sheet'!$A$3:$A$238)),ROW(10:10))-2,2),\"\")","v":0},{"$f":"IFERROR(INDEX('F Diploma 540 Data Sheet'!$A$3:$E$238,SMALL(IF('F Diploma 540 Data Sheet'!$A$3:$A$238=$E$3,ROW('F Diploma 540 Data Sheet'!$A$3:$A$238)),ROW(10:10))-2,3),\"\")","v":0},null,null,null,{"$f":"IFERROR(INDEX('F Diploma 540 Data Sheet'!$A$3:$E$238,SMALL(IF('F Diploma 540 Data Sheet'!$A$3:$A$238=$E$3,ROW('F Diploma 540 Data Sheet'!$A$3:$A$238)),ROW(10:10))-2,4),\"\")","v":0},null,{"$f":"IFERROR(IF(C18=\"External\",VLOOKUP(J18,Points!$I$2:$M$36,MATCH(C18&\" \"&I18&\" GLH\",Points!$I$2:$M$2,0),FALSE),VLOOKUP(J18,Points!$A$2:$C$6,MATCH(C18&\" \"&I18&\" GLH\",Points!$A$2:$C$2,0),FALSE)),\"\")","v":""},{"$f":"IF(E18=\"\",\"\",VLOOKUP(SUM(N18,P18,R18,T18,V18,X18,Z18),Lookup!$M$1:$N$6,2,FALSE))","v":"U"},{"$f":"IFERROR(IF(AND(C18=\"Internal\",I18=180),VLOOKUP(K18,Points!$F$2:$G$6,MATCH(\"Internal Grade\",Points!$F$2:$G$2,0),FALSE),\"\"),\"\")","v":""},{"$f":"IF(M18=\"\",\"\",VLOOKUP(M18,Lookup!$L$2:$M$6,2,FALSE))","v":""},{"$f":"IFERROR(IF(AND(C18=\"Internal\",I18=150),VLOOKUP(K18,Points!$E$2:$G$6,MATCH(\"Internal Grade\",Points!$E$2:$G$2,0),FALSE),\"\"),\"\")","v":""},{"$f":"IF(O18=\"\",\"\",VLOOKUP(O18,Lookup!$L$2:$M$6,2,FALSE))","v":""},{"$f":"IFERROR(IF(AND(C18=\"Internal\",I18=120),VLOOKUP(K18,Points!$C$2:$G$6,MATCH(\"Internal Grade\",Points!$C$2:$G$2,0),FALSE),\"\"),\"\")","v":""},null,{"$f":"IFERROR(IF(AND(C18=\"Internal\",I18=90),VLOOKUP(K18,Points!$C$2:$G$6,MATCH(\"Internal Grade\",Points!$C$2:$G$2,0),FALSE),\"\"),\"\")","v":""},{"$f":"IF(S18=\"\",\"\",VLOOKUP(S18,Lookup!$L$2:$M$6,2,FALSE))","v":""},{"$f":"IFERROR(IF(AND(C18=\"Internal\",I18=60),VLOOKUP(K18,Points!$B$2:$G$6,MATCH(\"Internal Grade\",Points!$B$2:$G$2,0),FALSE),\"\"),\"\")","v":""},{"$f":"IF(U18=\"\",\"\",VLOOKUP(U18,Lookup!$L$2:$M$6,2,FALSE))","v":""},{"$f":"IF(AND(C18=\"External\",I18=120),VLOOKUP(K18,Points!$M$2:$N$35,MATCH(\"120 GLH Grade\",Points!$M$2:$N$2,0),FALSE),\"No\")","v":"No"},{"$f":"IF(W18=\"\",\"\",VLOOKUP(W18,Lookup!$L$1:$M$6,2,FALSE))","v":0},{"$f":"IF(AND(C18=\"External\",I18=90),VLOOKUP(K18,Points!$J$2:$K$27,MATCH(\"90 GLH Grade\",Points!$J$2:$K$2,0),FALSE),\"No\")","v":"No"},{"$f":"IF(Y18=\"\",\"\",VLOOKUP(Y18,Lookup!$L$1:$M$6,2,FALSE))","v":0}]
[null,null,{"$f":"IFERROR(INDEX('F Diploma 540 Data Sheet'!$A$3:$E$59,SMALL(IF('F Diploma 540 Data Sheet'!$A$3:$A$59=$E$3,ROW('F Diploma 540 Data Sheet'!$A$3:$A$59)),ROW(11:11))-2,5),\"\")","v":""},null,null,null,null,null,null,null,null,{"$f":"IF(E19=\"\",\"\",VLOOKUP(SUM(P19,R19,T19,V19,X19,Z19),Lookup!$M$1:$N$6,2,FALSE))","v":""},null,null,{"$f":"IFERROR(IF(AND(C19=\"Internal\",I19=150),VLOOKUP(K19,Points!$E$2:$G$6,MATCH(\"Internal Grade\",Points!$E$2:$G$2,0),FALSE),\"\"),\"\")","v":""},{"$f":"IF(O19=\"\",\"\",VLOOKUP(O19,Lookup!$L$2:$M$6,2,FALSE))","v":""}]
[null,"Group B mandatory units must be completed and a grade reported",null,null,null,null,null,null,null,null,null,{"$f":"IF(E20=\"\",\"\",VLOOKUP(SUM(P20,R20,T20,V20,X20,Z20),Lookup!$M$1:$N$6,2,FALSE))","v":""},null,null,{"$f":"IFERROR(IF(AND(C20=\"Internal\",I20=150),VLOOKUP(K20,Points!$E$2:$G$6,MATCH(\"Internal Grade\",Points!$E$2:$G$2,0),FALSE),\"\"),\"\")","v":""},{"$f":"IF(O20=\"\",\"\",VLOOKUP(O20,Lookup!$L$2:$M$6,2,FALSE))","v":""}]
[null,"Mandatory",{"$f":"IFERROR(INDEX('F Diploma 540 Data Sheet'!$G$3:$K$1000,SMALL(IF('F Diploma 540 Data Sheet'!$G$3:$G$1000=$E$3,ROW('F Diploma 540 Data Sheet'!$G$3:$G$1000)),ROW(1:1))-2,5),\"\")","v":0},{"$f":"IFERROR(INDEX('F Diploma 540 Data Sheet'!$G$3:$K$1000,SMALL(IF('F Diploma 540 Data Sheet'!$G$3:$G$1000=$E$3,ROW('F Diploma 540 Data Sheet'!$G$3:$G$1000)),ROW(1:1))-2,2),\"\")","v":0},{"$f":"IFERROR(INDEX('F Diploma 540 Data Sheet'!$G$3:$K$1000,SMALL(IF('F Diploma 540 Data Sheet'!$G$3:$G$1000=$E$3,ROW('F Diploma 540 Data Sheet'!$G$3:$G$1000)),ROW(1:1))-2,3),\"\")","v":0},null,null,null,{"$f":"IFERROR(INDEX('F Diploma 540 Data Sheet'!$G$3:$K$1000,SMALL(IF('F Diploma 540 Data Sheet'!$G$3:$G$1000=$E$3,ROW('F Diploma 540 Data Sheet'!$G$3:$G$1000)),ROW(1:1))-2,4),\"\")","v":0},null,{"$f":"IFERROR(IF(C21=\"External\",VLOOKUP(J21,Points!$I$2:$M$36,MATCH(C21&\" \"&I21&\" GLH\",Points!$I$2:$M$2,0),FALSE),VLOOKUP(J21,Points!$A$2:$G$6,MATCH(C21&\" \"&I21&\" GLH\",Points!$A$2:$G$2,0),FALSE)),\"\")","v":""},{"$f":"IF(E21=\"\",\"\",VLOOKUP(SUM(P21,R21,T21,V21,X21,Z21),Lookup!$M$1:$N$6,2,FALSE))","v":"U"},null,null,{"$f":"IFERROR(IF(AND(C21=\"Internal\",I21=150),VLOOKUP(K21,Points!$E$2:$G$6,MATCH(\"Internal Grade\",Points!$E$2:$G$2,0),FALSE),\"\"),\"\")","v":""},{"$f":"IF(O21=\"\",\"\",VLOOKUP(O21,Lookup!$L$2:$M$6,2,FALSE))","v":""},{"$f":"IFERROR(IF(AND(C21=\"Internal\",I21=120),VLOOKUP(K21,Points!$D$2:$G$6,MATCH(\"Internal Grade\",Points!$D$2:$G$2,0),FALSE),\"\"),\"\")","v":""},null,{"$f":"IFERROR(IF(AND(C21=\"Internal\",I21=90),VLOOKUP(K21,Points!$C$2:$G$6,MATCH(\"Internal Grade\",Points!$C$2:$G$2,0),FALSE),\"\"),\"\")","v":""},{"$f":"IF(S21=\"\",\"\",VLOOKUP(S21,Lookup!$L$2:$M$6,2,FALSE))","v":""},{"$f":"IFERROR(IF(AND(C21=\"Internal\",I21=60),VLOOKUP(K21,Points!$B$2:$G$6,MATCH(\"Internal Grade\",Points!$B$2:$G$2,0),FALSE),\"\"),\"\")","v":""},{"$f":"IF(U21=\"\",\"\",VLOOKUP(U21,Lookup!$L$2:$M$6,2,FALSE))","v":""},{"$f":"IF(AND(C21=\"External\",I21=120),VLOOKUP(K21,Points!$M$2:$N$35,MATCH(\"120 GLH Grade\",Points!$M$2:$N$2,0),FALSE),\"No\")","v":"No"},{"$f":"IF(W21=\"\",\"\",VLOOKUP(W21,Lookup!$L$1:$M$6,2,FALSE))","v":0},{"$f":"IF(AND(C21=\"External\",I21=90),VLOOKUP(K21,Points!$J$2:$K$27,MATCH(\"90 GLH Grade\",Points!$J$2:$K$2,0),FALSE),\"No\")","v":"No"},{"$f":"IF(Y21=\"\",\"\",VLOOKUP(Y21,Lookup!$L$1:$M$6,2,FALSE))","v":0}]
[null,"Mandatory",{"$f":"IFERROR(INDEX('F Diploma 540 Data Sheet'!$G$3:$K$1000,SMALL(IF('F Diploma 540 Data Sheet'!$G$3:$G$1000=$E$3,ROW('F Diploma 540 Data Sheet'!$G$3:$G$1000)),ROW(2:2))-2,5),\"\")","v":0},{"$f":"IFERROR(INDEX('F Diploma 540 Data Sheet'!$G$3:$K$1000,SMALL(IF('F Diploma 540 Data Sheet'!$G$3:$G$1000=$E$3,ROW('F Diploma 540 Data Sheet'!$G$3:$G$1000)),ROW(2:2))-2,2),\"\")","v":0},{"$f":"IFERROR(INDEX('F Diploma 540 Data Sheet'!$G$3:$K$1000,SMALL(IF('F Diploma 540 Data Sheet'!$G$3:$G$1000=$E$3,ROW('F Diploma 540 Data Sheet'!$G$3:$G$1000)),ROW(2:2))-2,3),\"\")","v":0},null,null,null,{"$f":"IFERROR(INDEX('F Diploma 540 Data Sheet'!$G$3:$K$1000,SMALL(IF('F Diploma 540 Data Sheet'!$G$3:$G$1000=$E$3,ROW('F Diploma 540 Data Sheet'!$G$3:$G$1000)),ROW(2:2))-2,4),\"\")","v":0},null,{"$f":"IFERROR(IF(C22=\"External\",VLOOKUP(J22,Points!$I$2:$M$36,MATCH(C22&\" \"&I22&\" GLH\",Points!$I$2:$M$2,0),FALSE),VLOOKUP(J22,Points!$A$2:$G$6,MATCH(C22&\" \"&I22&\" GLH\",Points!$A$2:$G$2,0),FALSE)),\"\")","v":""},{"$f":"IF(E22=\"\",\"\",VLOOKUP(SUM(P22,R22,T22,V22,X22,Z22),Lookup!$M$1:$N$6,2,FALSE))","v":"U"},null,null,{"$f":"IFERROR(IF(AND(C22=\"Internal\",I22=150),VLOOKUP(K22,Points!$E$2:$G$6,MATCH(\"Internal Grade\",Points!$E$2:$G$2,0),FALSE),\"\"),\"\")","v":""},{"$f":"IF(O22=\"\",\"\",VLOOKUP(O22,Lookup!$L$2:$M$6,2,FALSE))","v":""},{"$f":"IFERROR(IF(AND(C22=\"Internal\",I22=120),VLOOKUP(K22,Points!$D$2:$G$6,MATCH(\"Internal Grade\",Points!$D$2:$G$2,0),FALSE),\"\"),\"\")","v":""},null,{"$f":"IFERROR(IF(AND(C22=\"Internal\",I22=90),VLOOKUP(K22,Points!$C$2:$G$6,MATCH(\"Internal Grade\",Points!$C$2:$G$2,0),FALSE),\"\"),\"\")","v":""},{"$f":"IF(S22=\"\",\"\",VLOOKUP(S22,Lookup!$L$2:$M$6,2,FALSE))","v":""},{"$f":"IFERROR(IF(AND(C22=\"Internal\",I22=60),VLOOKUP(K22,Points!$B$2:$G$6,MATCH(\"Internal Grade\",Points!$B$2:$G$2,0),FALSE),\"\"),\"\")","v":""},{"$f":"IF(U22=\"\",\"\",VLOOKUP(U22,Lookup!$L$2:$M$6,2,FALSE))","v":""},{"$f":"IF(AND(C22=\"External\",I22=120),VLOOKUP(K22,Points!$M$2:$N$35,MATCH(\"120 GLH Grade\",Points!$M$2:$N$2,0),FALSE),\"No\")","v":"No"},{"$f":"IF(W22=\"\",\"\",VLOOKUP(W22,Lookup!$L$1:$M$6,2,FALSE))","v":0},{"$f":"IF(AND(C22=\"External\",I22=90),VLOOKUP(K22,Points!$J$2:$K$27,MATCH(\"90 GLH Grade\",Points!$J$2:$K$2,0),FALSE),\"No\")","v":"No"},{"$f":"IF(Y22=\"\",\"\",VLOOKUP(Y22,Lookup!$L$1:$M$6,2,FALSE))","v":0}]
[null,"Mandatory",{"$f":"IFERROR(INDEX('F Diploma 540 Data Sheet'!$G$3:$K$1000,SMALL(IF('F Diploma 540 Data Sheet'!$G$3:$G$1000=$E$3,ROW('F Diploma 540 Data Sheet'!$G$3:$G$1000)),ROW(3:3))-2,5),\"\")","v":0},{"$f":"IFERROR(INDEX('F Diploma 540 Data Sheet'!$G$3:$K$1000,SMALL(IF('F Diploma 540 Data Sheet'!$G$3:$G$1000=$E$3,ROW('F Diploma 540 Data Sheet'!$G$3:$G$1000)),ROW(3:3))-2,2),\"\")","v":0},{"$f":"IFERROR(INDEX('F Diploma 540 Data Sheet'!$G$3:$K$1000,SMALL(IF('F Diploma 540 Data Sheet'!$G$3:$G$1000=$E$3,ROW('F Diploma 540 Data Sheet'!$G$3:$G$1000)),ROW(3:3))-2,3),\"\")","v":0},null,null,null,{"$f":"IFERROR(INDEX('F Diploma 540 Data Sheet'!$G$3:$K$1000,SMALL(IF('F Diploma 540 Data Sheet'!$G$3:$G$1000=$E$3,ROW('F Diploma 540 Data Sheet'!$G$3:$G$1000)),ROW(3:3))-2,4),\"\")","v":0},null,{"$f":"IFERROR(IF(C23=\"External\",VLOOKUP(J23,Points!$I$2:$M$36,MATCH(C23&\" \"&I23&\" GLH\",Points!$I$2:$M$2,0),FALSE),VLOOKUP(J23,Points!$A$2:$G$6,MATCH(C23&\" \"&I23&\" GLH\",Points!$A$2:$G$2,0),FALSE)),\"\")","v":""},{"$f":"IF(E23=\"\",\"\",VLOOKUP(SUM(P23,R23,T23,V23,X23,Z23),Lookup!$M$1:$N$6,2,FALSE))","v":"U"},null,null,{"$f":"IFERROR(IF(AND(C23=\"Internal\",I23=150),VLOOKUP(K23,Points!$E$2:$G$6,MATCH(\"Internal Grade\",Points!$E$2:$G$2,0),FALSE),\"\"),\"\")","v":""},{"$f":"IF(O23=\"\",\"\",VLOOKUP(O23,Lookup!$L$2:$M$6,2,FALSE))","v":""},{"$f":"IFERROR(IF(AND(C23=\"Internal\",I23=120),VLOOKUP(K23,Points!$D$2:$G$6,MATCH(\"Internal Grade\",Points!$D$2:$G$2,0),FALSE),\"\"),\"\")","v":""},null,{"$f":"IFERROR(IF(AND(C23=\"Internal\",I23=90),VLOOKUP(K23,Points!$C$2:$G$6,MATCH(\"Internal Grade\",Points!$C$2:$G$2,0),FALSE),\"\"),\"\")","v":""},{"$f":"IF(S23=\"\",\"\",VLOOKUP(S23,Lookup!$L$2:$M$6,2,FALSE))","v":""},{"$f":"IFERROR(IF(AND(C23=\"Internal\",I23=60),VLOOKUP(K23,Points!$B$2:$G$6,MATCH(\"Internal Grade\",Points!$B$2:$G$2,0),FALSE),\"\"),\"\")","v":""},{"$f":"IF(U23=\"\",\"\",VLOOKUP(U23,Lookup!$L$2:$M$6,2,FALSE))","v":""},{"$f":"IF(AND(C23=\"External\",I23=120),VLOOKUP(K23,Points!$M$2:$N$35,MATCH(\"120 GLH Grade\",Points!$M$2:$N$2,0),FALSE),\"No\")","v":"No"},{"$f":"IF(W23=\"\",\"\",VLOOKUP(W23,Lookup!$L$1:$M$6,2,FALSE))","v":0},{"$f":"IF(AND(C23=\"External\",I23=90),VLOOKUP(K23,Points!$J$2:$K$27,MATCH(\"90 GLH Grade\",Points!$J$2:$K$2,0),FALSE),\"No\")","v":"No"},{"$f":"IF(Y23=\"\",\"\",VLOOKUP(Y23,Lookup!$L$1:$M$6,2,FALSE))","v":0}]
[null,"Mandatory",{"$f":"IFERROR(INDEX('F Diploma 540 Data Sheet'!$G$3:$K$1000,SMALL(IF('F Diploma 540 Data Sheet'!$G$3:$G$1000=$E$3,ROW('F Diploma 540 Data Sheet'!$G$3:$G$1000)),ROW(4:4))-2,5),\"\")","v":0},{"$f":"IFERROR(INDEX('F Diploma 540 Data Sheet'!$G$3:$K$1000,SMALL(IF('F Diploma 540 Data Sheet'!$G$3:$G$1000=$E$3,ROW('F Diploma 540 Data Sheet'!$G$3:$G$1000)),ROW(4:4))-2,2),\"\")","v":0},{"$f":"IFERROR(INDEX('F Diploma 540 Data Sheet'!$G$3:$K$1000,SMALL(IF('F Diploma 540 Data Sheet'!$G$3:$G$1000=$E$3,ROW('F Diploma 540 Data Sheet'!$G$3:$G$1000)),ROW(4:4))-2,3),\"\")","v":0},null,null,null,{"$f":"IFERROR(INDEX('F Diploma 540 Data Sheet'!$G$3:$K$1000,SMALL(IF('F Diploma 540 Data Sheet'!$G$3:$G$1000=$E$3,ROW('F Diploma 540 Data Sheet'!$G$3:$G$1000)),ROW(4:4))-2,4),\"\")","v":0},null,{"$f":"IFERROR(IF(C24=\"External\",VLOOKUP(J24,Points!$I$2:$M$36,MATCH(C24&\" \"&I24&\" GLH\",Points!$I$2:$M$2,0),FALSE),VLOOKUP(J24,Points!$A$2:$G$6,MATCH(C24&\" \"&I24&\" GLH\",Points!$A$2:$G$2,0),FALSE)),\"\")","v":""},{"$f":"IF(E24=\"\",\"\",VLOOKUP(SUM(P24,R24,T24,V24,X24,Z24),Lookup!$M$1:$N$6,2,FALSE))","v":"U"},null,null,{"$f":"IFERROR(IF(AND(C24=\"Internal\",I24=150),VLOOKUP(K24,Points!$E$2:$G$6,MATCH(\"Internal Grade\",Points!$E$2:$G$2,0),FALSE),\"\"),\"\")","v":""},{"$f":"IF(O24=\"\",\"\",VLOOKUP(O24,Lookup!$L$2:$M$6,2,FALSE))","v":""},{"$f":"IFERROR(IF(AND(C24=\"Internal\",I24=120),VLOOKUP(K24,Points!$D$2:$G$6,MATCH(\"Internal Grade\",Points!$D$2:$G$2,0),FALSE),\"\"),\"\")","v":""},null,{"$f":"IFERROR(IF(AND(C24=\"Internal\",I24=90),VLOOKUP(K24,Points!$C$2:$G$6,MATCH(\"Internal Grade\",Points!$C$2:$G$2,0),FALSE),\"\"),\"\")","v":""},{"$f":"IF(S24=\"\",\"\",VLOOKUP(S24,Lookup!$L$2:$M$6,2,FALSE))","v":""},{"$f":"IFERROR(IF(AND(C24=\"Internal\",I24=60),VLOOKUP(K24,Points!$B$2:$G$6,MATCH(\"Internal Grade\",Points!$B$2:$G$2,0),FALSE),\"\"),\"\")","v":""},{"$f":"IF(U24=\"\",\"\",VLOOKUP(U24,Lookup!$L$2:$M$6,2,FALSE))","v":""},{"$f":"IF(AND(C24=\"External\",I24=120),VLOOKUP(K24,Points!$M$2:$N$35,MATCH(\"120 GLH Grade\",Points!$M$2:$N$2,0),FALSE),\"No\")","v":"No"},{"$f":"IF(W24=\"\",\"\",VLOOKUP(W24,Lookup!$L$1:$M$6,2,FALSE))","v":0},{"$f":"IF(AND(C24=\"External\",I24=90),VLOOKUP(K24,Points!$J$2:$K$27,MATCH(\"90 GLH Grade\",Points!$J$2:$K$2,0),FALSE),\"No\")","v":"No"},{"$f":"IF(Y24=\"\",\"\",VLOOKUP(Y24,Lookup!$L$1:$M$6,2,FALSE))","v":0}]
[null,"Mandatory",{"$f":"IFERROR(INDEX('F Diploma 540 Data Sheet'!$G$3:$K$1000,SMALL(IF('F Diploma 540 Data Sheet'!$G$3:$G$1000=$E$3,ROW('F Diploma 540 Data Sheet'!$G$3:$G$1000)),ROW(5:5))-2,5),\"\")","v":0},{"$f":"IFERROR(INDEX('F Diploma 540 Data Sheet'!$G$3:$K$1000,SMALL(IF('F Diploma 540 Data Sheet'!$G$3:$G$1000=$E$3,ROW('F Diploma 540 Data Sheet'!$G$3:$G$1000)),ROW(5:5))-2,2),\"\")","v":0},{"$f":"IFERROR(INDEX('F Diploma 540 Data Sheet'!$G$3:$K$1000,SMALL(IF('F Diploma 540 Data Sheet'!$G$3:$G$1000=$E$3,ROW('F Diploma 540 Data Sheet'!$G$3:$G$1000)),ROW(5:5))-2,3),\"\")","v":0},null,null,null,{"$f":"IFERROR(INDEX('F Diploma 540 Data Sheet'!$G$3:$K$47,SMALL(IF('F Diploma 540 Data Sheet'!$G$3:$G$47=$E$3,ROW('F Diploma 540 Data Sheet'!$G$3:$G$47)),ROW(5:5))-2,4),\"\")","v":0},null,{"$f":"IFERROR(IF(C25=\"External\",VLOOKUP(J25,Points!$I$2:$M$36,MATCH(C25&\" \"&I25&\" GLH\",Points!$I$2:$M$2,0),FALSE),VLOOKUP(J25,Points!$A$2:$G$6,MATCH(C25&\" \"&I25&\" GLH\",Points!$A$2:$G$2,0),FALSE)),\"\")","v":""},{"$f":"IF(E25=\"\",\"\",VLOOKUP(SUM(P25,R25,T25,V25,X25,Z25),Lookup!$M$1:$N$6,2,FALSE))","v":"U"},null,null,{"$f":"IFERROR(IF(AND(C25=\"Internal\",I25=150),VLOOKUP(K25,Points!$E$2:$G$6,MATCH(\"Internal Grade\",Points!$E$2:$G$2,0),FALSE),\"\"),\"\")","v":""},{"$f":"IF(O25=\"\",\"\",VLOOKUP(O25,Lookup!$L$2:$M$6,2,FALSE))","v":""},{"$f":"IFERROR(IF(AND(C25=\"Internal\",I25=120),VLOOKUP(K25,Points!$D$2:$G$6,MATCH(\"Internal Grade\",Points!$D$2:$G$2,0),FALSE),\"\"),\"\")","v":""},null,{"$f":"IFERROR(IF(AND(C25=\"Internal\",I25=90),VLOOKUP(K25,Points!$C$2:$G$6,MATCH(\"Internal Grade\",Points!$C$2:$G$2,0),FALSE),\"\"),\"\")","v":""},{"$f":"IF(S25=\"\",\"\",VLOOKUP(S25,Lookup!$L$2:$M$6,2,FALSE))","v":""},{"$f":"IFERROR(IF(AND(C25=\"Internal\",I25=60),VLOOKUP(K25,Points!$B$2:$G$6,MATCH(\"Internal Grade\",Points!$B$2:$G$2,0),FALSE),\"\"),\"\")","v":""},{"$f":"IF(U25=\"\",\"\",VLOOKUP(U25,Lookup!$L$2:$M$6,2,FALSE))","v":""},{"$f":"IF(AND(C25=\"External\",I25=120),VLOOKUP(K25,Points!$M$2:$N$35,MATCH(\"120 GLH Grade\",Points!$M$2:$N$2,0),FALSE),\"No\")","v":"No"},{"$f":"IF(W25=\"\",\"\",VLOOKUP(W25,Lookup!$L$1:$M$6,2,FALSE))","v":0},{"$f":"IF(AND(C25=\"External\",I25=90),VLOOKUP(K25,Points!$J$2:$K$27,MATCH(\"90 GLH Grade\",Points!$J$2:$K$2,0),FALSE),\"No\")","v":"No"},{"$f":"IF(Y25=\"\",\"\",VLOOKUP(Y25,Lookup!$L$1:$M$6,2,FALSE))","v":0}]
[null,"Mandatory",{"$f":"IFERROR(INDEX('F Diploma 540 Data Sheet'!$G$3:$K$1000,SMALL(IF('F Diploma 540 Data Sheet'!$G$3:$G$1000=$E$3,ROW('F Diploma 540 Data Sheet'!$G$3:$G$1000)),ROW(6:6))-2,5),\"\")","v":0},{"$f":"IFERROR(INDEX('F Diploma 540 Data Sheet'!$G$3:$K$1000,SMALL(IF('F Diploma 540 Data Sheet'!$G$3:$G$1000=$E$3,ROW('F Diploma 540 Data Sheet'!$G$3:$G$1000)),ROW(6:6))-2,2),\"\")","v":0},{"$f":"IFERROR(INDEX('F Diploma 540 Data Sheet'!$G$3:$K$1000,SMALL(IF('F Diploma 540 Data Sheet'!$G$3:$G$1000=$E$3,ROW('F Diploma 540 Data Sheet'!$G$3:$G$1000)),ROW(6:6))-2,3),\"\")","v":0},null,null,null,{"$f":"IFERROR(INDEX('F Diploma 540 Data Sheet'!$G$3:$K$47,SMALL(IF('F Diploma 540 Data Sheet'!$G$3:$G$47=$E$3,ROW('F Diploma 540 Data Sheet'!$G$3:$G$47)),ROW(6:6))-2,4),\"\")","v":0},null,{"$f":"IFERROR(IF(C26=\"External\",VLOOKUP(J26,Points!$I$2:$M$36,MATCH(C26&\" \"&I26&\" GLH\",Points!$I$2:$M$2,0),FALSE),VLOOKUP(J26,Points!$A$2:$G$6,MATCH(C26&\" \"&I26&\" GLH\",Points!$A$2:$G$2,0),FALSE)),\"\")","v":""},{"$f":"IF(E26=\"\",\"\",VLOOKUP(SUM(P26,R26,T26,V26,X26,Z26),Lookup!$M$1:$N$6,2,FALSE))","v":"U"},null,null,{"$f":"IFERROR(IF(AND(C26=\"Internal\",I26=150),VLOOKUP(K26,Points!$E$2:$G$6,MATCH(\"Internal Grade\",Points!$E$2:$G$2,0),FALSE),\"\"),\"\")","v":""},{"$f":"IF(O26=\"\",\"\",VLOOKUP(O26,Lookup!$L$2:$M$6,2,FALSE))","v":""},{"$f":"IFERROR(IF(AND(C26=\"Internal\",I26=120),VLOOKUP(K26,Points!$D$2:$G$6,MATCH(\"Internal Grade\",Points!$D$2:$G$2,0),FALSE),\"\"),\"\")","v":""},null,{"$f":"IFERROR(IF(AND(C26=\"Internal\",I26=90),VLOOKUP(K26,Points!$C$2:$G$6,MATCH(\"Internal Grade\",Points!$C$2:$G$2,0),FALSE),\"\"),\"\")","v":""},{"$f":"IF(S26=\"\",\"\",VLOOKUP(S26,Lookup!$L$2:$M$6,2,FALSE))","v":""},{"$f":"IFERROR(IF(AND(C26=\"Internal\",I26=60),VLOOKUP(K26,Points!$B$2:$G$6,MATCH(\"Internal Grade\",Points!$B$2:$G$2,0),FALSE),\"\"),\"\")","v":""},{"$f":"IF(U26=\"\",\"\",VLOOKUP(U26,Lookup!$L$2:$M$6,2,FALSE))","v":""},{"$f":"IF(AND(C26=\"External\",I26=120),VLOOKUP(K26,Points!$M$2:$N$35,MATCH(\"120 GLH Grade\",Points!$M$2:$N$2,0),FALSE),\"No\")","v":"No"},{"$f":"IF(W26=\"\",\"\",VLOOKUP(W26,Lookup!$L$1:$M$6,2,FALSE))","v":0},{"$f":"IF(AND(C26=\"External\",I26=90),VLOOKUP(K26,Points!$J$2:$K$27,MATCH(\"90 GLH Grade\",Points!$J$2:$K$2,0),FALSE),\"No\")","v":"No"},{"$f":"IF(Y26=\"\",\"\",VLOOKUP(Y26,Lookup!$L$1:$M$6,2,FALSE))","v":0}]
[null,null,{"$f":"IFERROR(INDEX('F Diploma 540 Data Sheet'!$A$3:$E$59,SMALL(IF('F Diploma 540 Data Sheet'!$A$3:$A$59=$E$3,ROW('F Diploma 540 Data Sheet'!$A$3:$A$59)),ROW(19:19))-2,5),\"\")","v":""}]
[null,null,null,null,"2. Select optional units from the dropdown lists below"]
[null,"Optional",{"$f":"IFERROR(INDEX('F Diploma 540 Data Sheet'!$R$3:$R$1000,MATCH(E29&$E$3,'F Diploma 540 Data Sheet'!$M$3:$M$1000&'F Diploma 540 Data Sheet'!$N$3:$N$1000,0)),\"\")","v":0},{"$f":"IFERROR(INDEX('F Diploma 540 Data Sheet'!$O$3:$O$1000,MATCH(E29&$E$3,'F Diploma 540 Data Sheet'!$M$3:$M$1000&'F Diploma 540 Data Sheet'!$N$3:$N$1000,0)),\"\")","v":0},null,null,null,null,{"$f":"IFERROR(INDEX('F Diploma 540 Data Sheet'!$Q$3:$Q$1000,MATCH(E29&$E$3,'F Diploma 540 Data Sheet'!$M$3:$M$1000&'F Diploma 540 Data Sheet'!$N$3:$N$1000,0)),\"\")","v":0},null,{"$f":"IFERROR(IF(C29=\"Internal\",VLOOKUP(J29,Points!$A$2:$C$6,MATCH(C29&\" \"&I29&\" GLH\",Points!$A$2:$C$2,0),FALSE),\"\"),\"\")","v":""},{"$f":"IF(E29=\"\",\"\",VLOOKUP(SUM(R29,T29,V29,X29,Z29),Lookup!$M$1:$N$6,2,FALSE))","v":""},null,null,null,null,{"$f":"IFERROR(IF(AND(C29=\"Internal\",I29=120),VLOOKUP(K29,Points!$C$2:$G$6,MATCH(\"Internal Grade\",Points!$C$2:$G$2,0),FALSE),\"\"),\"\")","v":""},{"$f":"IF(Q29=\"\",\"\",VLOOKUP(Q29,Lookup!$L$2:$M$6,2,FALSE))","v":""},{"$f":"IFERROR(IF(AND(C29=\"Internal\",I29=90),VLOOKUP(K29,Points!$C$2:$G$6,MATCH(\"Internal Grade\",Points!$C$2:$G$2,0),FALSE),\"\"),\"\")","v":""},{"$f":"IF(S29=\"\",\"\",VLOOKUP(S29,Lookup!$L$2:$M$6,2,FALSE))","v":""},{"$f":"IFERROR(IF(AND(C29=\"Internal\",I29=60),VLOOKUP(K29,Points!$B$2:$G$6,MATCH(\"Internal Grade\",Points!$B$2:$G$2,0),FALSE),\"\"),\"\")","v":""},{"$f":"IF(U29=\"\",\"\",VLOOKUP(U29,Lookup!$L$2:$M$6,2,FALSE))","v":""},{"$f":"IF(AND(C29=\"External\",I29=120),VLOOKUP(K29,Points!$M$2:$N$35,MATCH(\"120 GLH Grade\",Points!$M$2:$N$2,0),FALSE),\"No\")","v":"No"},{"$f":"IF(W29=\"\",\"\",VLOOKUP(W29,Lookup!$L$1:$M$6,2,FALSE))","v":0},{"$f":"IF(AND(C29=\"External\",I29=90),VLOOKUP(K29,Points!$J$2:$K$27,MATCH(\"90 GLH Grade\",Points!$J$2:$K$2,0),FALSE),\"No\")","v":"No"},{"$f":"IF(Y29=\"\",\"\",VLOOKUP(Y29,Lookup!$L$1:$M$6,2,FALSE))","v":0}]
[null,"Optional",{"$f":"IFERROR(INDEX('F Diploma 540 Data Sheet'!$R$3:$R$1000,MATCH(E30&$E$3,'F Diploma 540 Data Sheet'!$M$3:$M$1000&'F Diploma 540 Data Sheet'!$N$3:$N$1000,0)),\"\")","v":0},{"$f":"IFERROR(INDEX('F Diploma 540 Data Sheet'!$O$3:$O$1000,MATCH(E30&$E$3,'F Diploma 540 Data Sheet'!$M$3:$M$1000&'F Diploma 540 Data Sheet'!$N$3:$N$1000,0)),\"\")","v":0},null,null,null,null,{"$f":"IFERROR(INDEX('F Diploma 540 Data Sheet'!$Q$3:$Q$1000,MATCH(E30&$E$3,'F Diploma 540 Data Sheet'!$M$3:$M$1000&'F Diploma 540 Data Sheet'!$N$3:$N$1000,0)),\"\")","v":0},null,{"$f":"IFERROR(IF(C30=\"Internal\",VLOOKUP(J30,Points!$A$2:$C$6,MATCH(C30&\" \"&I30&\" GLH\",Points!$A$2:$C$2,0),FALSE),\"\"),\"\")","v":""},{"$f":"IF(E30=\"\",\"\",VLOOKUP(SUM(R30,T30,V30,X30,Z30),Lookup!$M$1:$N$6,2,FALSE))","v":""},null,null,null,null,{"$f":"IFERROR(IF(AND(C30=\"Internal\",I30=120),VLOOKUP(K30,Points!$C$2:$G$6,MATCH(\"Internal Grade\",Points!$C$2:$G$2,0),FALSE),\"\"),\"\")","v":""},{"$f":"IF(Q30=\"\",\"\",VLOOKUP(Q30,Lookup!$L$2:$M$6,2,FALSE))","v":""},{"$f":"IFERROR(IF(AND(C30=\"Internal\",I30=90),VLOOKUP(K30,Points!$C$2:$G$6,MATCH(\"Internal Grade\",Points!$C$2:$G$2,0),FALSE),\"\"),\"\")","v":""},{"$f":"IF(S30=\"\",\"\",VLOOKUP(S30,Lookup!$L$2:$M$6,2,FALSE))","v":""},{"$f":"IFERROR(IF(AND(C30=\"Internal\",I30=60),VLOOKUP(K30,Points!$B$2:$G$6,MATCH(\"Internal Grade\",Points!$B$2:$G$2,0),FALSE),\"\"),\"\")","v":""},{"$f":"IF(U30=\"\",\"\",VLOOKUP(U30,Lookup!$L$2:$M$6,2,FALSE))","v":""},{"$f":"IF(AND(C30=\"External\",I30=120),VLOOKUP(K30,Points!$M$2:$N$35,MATCH(\"120 GLH Grade\",Points!$M$2:$N$2,0),FALSE),\"No\")","v":"No"},{"$f":"IF(W30=\"\",\"\",VLOOKUP(W30,Lookup!$L$1:$M$6,2,FALSE))","v":0},{"$f":"IF(AND(C30=\"External\",I30=90),VLOOKUP(K30,Points!$J$2:$K$27,MATCH(\"90 GLH Grade\",Points!$J$2:$K$2,0),FALSE),\"No\")","v":"No"},{"$f":"IF(Y30=\"\",\"\",VLOOKUP(Y30,Lookup!$L$1:$M$6,2,FALSE))","v":0}]
[null,"Optional",{"$f":"IFERROR(INDEX('F Diploma 540 Data Sheet'!$R$3:$R$1000,MATCH(E31&$E$3,'F Diploma 540 Data Sheet'!$M$3:$M$1000&'F Diploma 540 Data Sheet'!$N$3:$N$1000,0)),\"\")","v":0},{"$f":"IFERROR(INDEX('F Diploma 540 Data Sheet'!$O$3:$O$1000,MATCH(E31&$E$3,'F Diploma 540 Data Sheet'!$M$3:$M$1000&'F Diploma 540 Data Sheet'!$N$3:$N$1000,0)),\"\")","v":0},null,null,null,null,{"$f":"IFERROR(INDEX('F Diploma 540 Data Sheet'!$Q$3:$Q$1000,MATCH(E31&$E$3,'F Diploma 540 Data Sheet'!$M$3:$M$1000&'F Diploma 540 Data Sheet'!$N$3:$N$1000,0)),\"\")","v":0},null,{"$f":"IFERROR(IF(C31=\"Internal\",VLOOKUP(J31,Points!$A$2:$C$6,MATCH(C31&\" \"&I31&\" GLH\",Points!$A$2:$C$2,0),FALSE),\"\"),\"\")","v":""},{"$f":"IF(E31=\"\",\"\",VLOOKUP(SUM(R31,T31,V31,X31,Z31),Lookup!$M$1:$N$6,2,FALSE))","v":""},null,null,null,null,{"$f":"IFERROR(IF(AND(C31=\"Internal\",I31=120),VLOOKUP(K31,Points!$C$2:$G$6,MATCH(\"Internal Grade\",Points!$C$2:$G$2,0),FALSE),\"\"),\"\")","v":""},{"$f":"IF(Q31=\"\",\"\",VLOOKUP(Q31,Lookup!$L$2:$M$6,2,FALSE))","v":""},{"$f":"IFERROR(IF(AND(C31=\"Internal\",I31=90),VLOOKUP(K31,Points!$C$2:$G$6,MATCH(\"Internal Grade\",Points!$C$2:$G$2,0),FALSE),\"\"),\"\")","v":""},{"$f":"IF(S31=\"\",\"\",VLOOKUP(S31,Lookup!$L$2:$M$6,2,FALSE))","v":""},{"$f":"IFERROR(IF(AND(C31=\"Internal\",I31=60),VLOOKUP(K31,Points!$B$2:$G$6,MATCH(\"Internal Grade\",Points!$B$2:$G$2,0),FALSE),\"\"),\"\")","v":""},{"$f":"IF(U31=\"\",\"\",VLOOKUP(U31,Lookup!$L$2:$M$6,2,FALSE))","v":""},{"$f":"IF(AND(C31=\"External\",I31=120),VLOOKUP(K31,Points!$M$2:$N$35,MATCH(\"120 GLH Grade\",Points!$M$2:$N$2,0),FALSE),\"No\")","v":"No"},{"$f":"IF(W31=\"\",\"\",VLOOKUP(W31,Lookup!$L$1:$M$6,2,FALSE))","v":0},{"$f":"IF(AND(C31=\"External\",I31=90),VLOOKUP(K31,Points!$J$2:$K$27,MATCH(\"90 GLH Grade\",Points!$J$2:$K$2,0),FALSE),\"No\")","v":"No"},{"$f":"IF(Y31=\"\",\"\",VLOOKUP(Y31,Lookup!$L$1:$M$6,2,FALSE))","v":0}]
[null,"Optional",{"$f":"IFERROR(INDEX('F Diploma 540 Data Sheet'!$R$3:$R$1000,MATCH(E32&$E$3,'F Diploma 540 Data Sheet'!$M$3:$M$1000&'F Diploma 540 Data Sheet'!$N$3:$N$1000,0)),\"\")","v":0},{"$f":"IFERROR(INDEX('F Diploma 540 Data Sheet'!$O$3:$O$1000,MATCH(E32&$E$3,'F Diploma 540 Data Sheet'!$M$3:$M$1000&'F Diploma 540 Data Sheet'!$N$3:$N$1000,0)),\"\")","v":0},null,null,null,null,{"$f":"IFERROR(INDEX('F Diploma 540 Data Sheet'!$Q$3:$Q$1000,MATCH(E32&$E$3,'F Diploma 540 Data Sheet'!$M$3:$M$1000&'F Diploma 540 Data Sheet'!$N$3:$N$1000,0)),\"\")","v":0},null,{"$f":"IFERROR(IF(C32=\"Internal\",VLOOKUP(J32,Points!$A$2:$C$6,MATCH(C32&\" \"&I32&\" GLH\",Points!$A$2:$C$2,0),FALSE),\"\"),\"\")","v":""},{"$f":"IF(E32=\"\",\"\",VLOOKUP(SUM(R32,T32,V32,X32,Z32),Lookup!$M$1:$N$6,2,FALSE))","v":""},null,null,null,null,{"$f":"IFERROR(IF(AND(C32=\"Internal\",I32=120),VLOOKUP(K32,Points!$C$2:$G$6,MATCH(\"Internal Grade\",Points!$C$2:$G$2,0),FALSE),\"\"),\"\")","v":""},{"$f":"IF(Q32=\"\",\"\",VLOOKUP(Q32,Lookup!$L$2:$M$6,2,FALSE))","v":""},{"$f":"IFERROR(IF(AND(C32=\"Internal\",I32=90),VLOOKUP(K32,Points!$C$2:$G$6,MATCH(\"Internal Grade\",Points!$C$2:$G$2,0),FALSE),\"\"),\"\")","v":""},{"$f":"IF(S32=\"\",\"\",VLOOKUP(S32,Lookup!$L$2:$M$6,2,FALSE))","v":""},{"$f":"IFERROR(IF(AND(C32=\"Internal\",I32=60),VLOOKUP(K32,Points!$B$2:$G$6,MATCH(\"Internal Grade\",Points!$B$2:$G$2,0),FALSE),\"\"),\"\")","v":""},{"$f":"IF(U32=\"\",\"\",VLOOKUP(U32,Lookup!$L$2:$M$6,2,FALSE))","v":""},{"$f":"IF(AND(C32=\"External\",I32=120),VLOOKUP(K32,Points!$M$2:$N$35,MATCH(\"120 GLH Grade\",Points!$M$2:$N$2,0),FALSE),\"No\")","v":"No"},{"$f":"IF(W32=\"\",\"\",VLOOKUP(W32,Lookup!$L$1:$M$6,2,FALSE))","v":0},{"$f":"IF(AND(C32=\"External\",I32=90),VLOOKUP(K32,Points!$J$2:$K$27,MATCH(\"90 GLH Grade\",Points!$J$2:$K$2,0),FALSE),\"No\")","v":"No"},{"$f":"IF(Y32=\"\",\"\",VLOOKUP(Y32,Lookup!$L$1:$M$6,2,FALSE))","v":0}]
[null,"Optional",{"$f":"IFERROR(INDEX('F Diploma 540 Data Sheet'!$R$3:$R$1000,MATCH(E33&$E$3,'F Diploma 540 Data Sheet'!$M$3:$M$1000&'F Diploma 540 Data Sheet'!$N$3:$N$1000,0)),\"\")","v":0},{"$f":"IFERROR(INDEX('F Diploma 540 Data Sheet'!$O$3:$O$1000,MATCH(E33&$E$3,'F Diploma 540 Data Sheet'!$M$3:$M$1000&'F Diploma 540 Data Sheet'!$N$3:$N$1000,0)),\"\")","v":0},null,null,null,null,{"$f":"IFERROR(INDEX('F Diploma 540 Data Sheet'!$Q$3:$Q$1000,MATCH(E33&$E$3,'F Diploma 540 Data Sheet'!$M$3:$M$1000&'F Diploma 540 Data Sheet'!$N$3:$N$1000,0)),\"\")","v":0},null,{"$f":"IFERROR(IF(C33=\"Internal\",VLOOKUP(J33,Points!$A$2:$C$6,MATCH(C33&\" \"&I33&\" GLH\",Points!$A$2:$C$2,0),FALSE),\"\"),\"\")","v":""},{"$f":"IF(E33=\"\",\"\",VLOOKUP(SUM(R33,T33,V33,X33,Z33),Lookup!$M$1:$N$6,2,FALSE))","v":""},null,null,null,null,{"$f":"IFERROR(IF(AND(C33=\"Internal\",I33=120),VLOOKUP(K33,Points!$C$2:$G$6,MATCH(\"Internal Grade\",Points!$C$2:$G$2,0),FALSE),\"\"),\"\")","v":""},{"$f":"IF(Q33=\"\",\"\",VLOOKUP(Q33,Lookup!$L$2:$M$6,2,FALSE))","v":""},{"$f":"IFERROR(IF(AND(C33=\"Internal\",I33=90),VLOOKUP(K33,Points!$C$2:$G$6,MATCH(\"Internal Grade\",Points!$C$2:$G$2,0),FALSE),\"\"),\"\")","v":""},{"$f":"IF(S33=\"\",\"\",VLOOKUP(S33,Lookup!$L$2:$M$6,2,FALSE))","v":""},{"$f":"IFERROR(IF(AND(C33=\"Internal\",I33=60),VLOOKUP(K33,Points!$B$2:$G$6,MATCH(\"Internal Grade\",Points!$B$2:$G$2,0),FALSE),\"\"),\"\")","v":""},{"$f":"IF(U33=\"\",\"\",VLOOKUP(U33,Lookup!$L$2:$M$6,2,FALSE))","v":""},{"$f":"IF(AND(C33=\"External\",I33=120),VLOOKUP(K33,Points!$M$2:$N$35,MATCH(\"120 GLH Grade\",Points!$M$2:$N$2,0),FALSE),\"No\")","v":"No"},{"$f":"IF(W33=\"\",\"\",VLOOKUP(W33,Lookup!$L$1:$M$6,2,FALSE))","v":0},{"$f":"IF(AND(C33=\"External\",I33=90),VLOOKUP(K33,Points!$J$2:$K$27,MATCH(\"90 GLH Grade\",Points!$J$2:$K$2,0),FALSE),\"No\")","v":"No"},{"$f":"IF(Y33=\"\",\"\",VLOOKUP(Y33,Lookup!$L$1:$M$6,2,FALSE))","v":0}]
[null,"Optional",{"$f":"IFERROR(INDEX('F Diploma 540 Data Sheet'!$R$3:$R$1000,MATCH(E34&$E$3,'F Diploma 540 Data Sheet'!$M$3:$M$1000&'F Diploma 540 Data Sheet'!$N$3:$N$1000,0)),\"\")","v":0},{"$f":"IFERROR(INDEX('F Diploma 540 Data Sheet'!$O$3:$O$1000,MATCH(E34&$E$3,'F Diploma 540 Data Sheet'!$M$3:$M$1000&'F Diploma 540 Data Sheet'!$N$3:$N$1000,0)),\"\")","v":0},null,null,null,null,{"$f":"IFERROR(INDEX('F Diploma 540 Data Sheet'!$Q$3:$Q$1000,MATCH(E34&$E$3,'F Diploma 540 Data Sheet'!$M$3:$M$1000&'F Diploma 540 Data Sheet'!$N$3:$N$1000,0)),\"\")","v":0},null,{"$f":"IFERROR(IF(C34=\"Internal\",VLOOKUP(J34,Points!$A$2:$C$6,MATCH(C34&\" \"&I34&\" GLH\",Points!$A$2:$C$2,0),FALSE),\"\"),\"\")","v":""},{"$f":"IF(E34=\"\",\"\",VLOOKUP(SUM(R34,T34,V34,X34,Z34),Lookup!$M$1:$N$6,2,FALSE))","v":""},null,null,null,null,{"$f":"IFERROR(IF(AND(C34=\"Internal\",I34=120),VLOOKUP(K34,Points!$C$2:$G$6,MATCH(\"Internal Grade\",Points!$C$2:$G$2,0),FALSE),\"\"),\"\")","v":""},{"$f":"IF(Q34=\"\",\"\",VLOOKUP(Q34,Lookup!$L$2:$M$6,2,FALSE))","v":""},{"$f":"IFERROR(IF(AND(C34=\"Internal\",I34=90),VLOOKUP(K34,Points!$C$2:$G$6,MATCH(\"Internal Grade\",Points!$C$2:$G$2,0),FALSE),\"\"),\"\")","v":""},{"$f":"IF(S34=\"\",\"\",VLOOKUP(S34,Lookup!$L$2:$M$6,2,FALSE))","v":""},{"$f":"IFERROR(IF(AND(C34=\"Internal\",I34=60),VLOOKUP(K34,Points!$B$2:$G$6,MATCH(\"Internal Grade\",Points!$B$2:$G$2,0),FALSE),\"\"),\"\")","v":""},{"$f":"IF(U34=\"\",\"\",VLOOKUP(U34,Lookup!$L$2:$M$6,2,FALSE))","v":""},{"$f":"IF(AND(C34=\"External\",I34=120),VLOOKUP(K34,Points!$M$2:$N$35,MATCH(\"120 GLH Grade\",Points!$M$2:$N$2,0),FALSE),\"No\")","v":"No"},{"$f":"IF(W34=\"\",\"\",VLOOKUP(W34,Lookup!$L$1:$M$6,2,FALSE))","v":0},{"$f":"IF(AND(C34=\"External\",I34=90),VLOOKUP(K34,Points!$J$2:$K$27,MATCH(\"90 GLH Grade\",Points!$J$2:$K$2,0),FALSE),\"No\")","v":"No"},{"$f":"IF(Y34=\"\",\"\",VLOOKUP(Y34,Lookup!$L$1:$M$6,2,FALSE))","v":0}]
[null,null,null,null,null,null,null,null,{"$f":"SUM(I29:I34)","v":0}]
[]
[null,"Optional",{"$f":"IFERROR(INDEX('F Diploma 540 Data Sheet'!$Y$3:$Y$1000,MATCH(E37&$E$3,'F Diploma 540 Data Sheet'!$T$3:$T$1000&'F Diploma 540 Data Sheet'!$U$3:$U$1000,0)),\"\")","v":0},{"$f":"IFERROR(INDEX('F Diploma 540 Data Sheet'!$V$3:$V$1000,MATCH(E37&$E$3,'F Diploma 540 Data Sheet'!$T$3:$T$1000&'F Diploma 540 Data Sheet'!$U$3:$U$1000,0)),\"\")","v":0},null,null,null,null,{"$f":"IFERROR(INDEX('F Diploma 540 Data Sheet'!$X$3:$X$1000,MATCH(E37&$E$3,'F Diploma 540 Data Sheet'!$T$3:$T$1000&'F Diploma 540 Data Sheet'!$U$3:$U$1000,0)),\"\")","v":0},null,{"$f":"IFERROR(IF(C37=\"Internal\",VLOOKUP(J37,Points!$A$2:$C$6,MATCH(C37&\" \"&I37&\" GLH\",Points!$A$2:$C$2,0),FALSE),\"\"),\"\")","v":""},{"$f":"IF(E37=\"\",\"\",VLOOKUP(SUM(R37,T37,V37,X37,Z37),Lookup!$M$1:$N$6,2,FALSE))","v":""},null,null,null,null,null,{"$f":"IF(Q37=\"\",\"\",VLOOKUP(Q37,Lookup!$L$2:$M$6,2,FALSE))","v":""},{"$f":"IFERROR(IF(AND(C37=\"Internal\",I37=90),VLOOKUP(K37,Points!$C$2:$G$6,MATCH(\"Internal Grade\",Points!$C$2:$G$2,0),FALSE),\"\"),\"\")","v":""},{"$f":"IF(S37=\"\",\"\",VLOOKUP(S37,Lookup!$L$2:$M$6,2,FALSE))","v":""},{"$f":"IFERROR(IF(AND(C37=\"Internal\",I37=60),VLOOKUP(K37,Points!$B$2:$G$6,MATCH(\"Internal Grade\",Points!$B$2:$G$2,0),FALSE),\"\"),\"\")","v":""},{"$f":"IF(U37=\"\",\"\",VLOOKUP(U37,Lookup!$L$2:$M$6,2,FALSE))","v":""},{"$f":"IF(AND(C37=\"External\",I37=120),VLOOKUP(K37,Points!$M$2:$N$35,MATCH(\"120 GLH Grade\",Points!$M$2:$N$2,0),FALSE),\"No\")","v":"No"},{"$f":"IF(W37=\"\",\"\",VLOOKUP(W37,Lookup!$L$1:$M$6,2,FALSE))","v":0},{"$f":"IF(AND(C37=\"External\",I37=90),VLOOKUP(K37,Points!$J$2:$K$27,MATCH(\"90 GLH Grade\",Points!$J$2:$K$2,0),FALSE),\"No\")","v":"No"},{"$f":"IF(Y37=\"\",\"\",VLOOKUP(Y37,Lookup!$L$1:$M$6,2,FALSE))","v":0}]
[null,"Optional",{"$f":"IFERROR(INDEX('F Diploma 540 Data Sheet'!$Y$3:$Y$1000,MATCH(E38&$E$3,'F Diploma 540 Data Sheet'!$T$3:$T$1000&'F Diploma 540 Data Sheet'!$U$3:$U$1000,0)),\"\")","v":0},{"$f":"IFERROR(INDEX('F Diploma 540 Data Sheet'!$V$3:$V$1000,MATCH(E38&$E$3,'F Diploma 540 Data Sheet'!$T$3:$T$1000&'F Diploma 540 Data Sheet'!$U$3:$U$1000,0)),\"\")","v":0},null,null,null,null,{"$f":"IFERROR(INDEX('F Diploma 540 Data Sheet'!$X$3:$X$1000,MATCH(E38&$E$3,'F Diploma 540 Data Sheet'!$T$3:$T$1000&'F Diploma 540 Data Sheet'!$U$3:$U$1000,0)),\"\")","v":0},null,{"$f":"IFERROR(IF(C38=\"Internal\",VLOOKUP(J38,Points!$A$2:$C$6,MATCH(C38&\" \"&I38&\" GLH\",Points!$A$2:$C$2,0),FALSE),\"\"),\"\")","v":""},{"$f":"IF(E38=\"\",\"\",VLOOKUP(SUM(R38,T38,V38,X38,Z38),Lookup!$M$1:$N$6,2,FALSE))","v":""},null,null,null,null,null,{"$f":"IF(Q38=\"\",\"\",VLOOKUP(Q38,Lookup!$L$2:$M$6,2,FALSE))","v":""},{"$f":"IFERROR(IF(AND(C38=\"Internal\",I38=90),VLOOKUP(K38,Points!$C$2:$G$6,MATCH(\"Internal Grade\",Points!$C$2:$G$2,0),FALSE),\"\"),\"\")","v":""},{"$f":"IF(S38=\"\",\"\",VLOOKUP(S38,Lookup!$L$2:$M$6,2,FALSE))","v":""},{"$f":"IFERROR(IF(AND(C38=\"Internal\",I38=60),VLOOKUP(K38,Points!$B$2:$G$6,MATCH(\"Internal Grade\",Points!$B$2:$G$2,0),FALSE),\"\"),\"\")","v":""},{"$f":"IF(U38=\"\",\"\",VLOOKUP(U38,Lookup!$L$2:$M$6,2,FALSE))","v":""},{"$f":"IF(AND(C38=\"External\",I38=120),VLOOKUP(K38,Points!$M$2:$N$35,MATCH(\"120 GLH Grade\",Points!$M$2:$N$2,0),FALSE),\"No\")","v":"No"},{"$f":"IF(W38=\"\",\"\",VLOOKUP(W38,Lookup!$L$1:$M$6,2,FALSE))","v":0},{"$f":"IF(AND(C38=\"External\",I38=90),VLOOKUP(K38,Points!$J$2:$K$27,MATCH(\"90 GLH Grade\",Points!$J$2:$K$2,0),FALSE),\"No\")","v":"No"},{"$f":"IF(Y38=\"\",\"\",VLOOKUP(Y38,Lookup!$L$1:$M$6,2,FALSE))","v":0}]
[null,"Optional",{"$f":"IFERROR(INDEX('F Diploma 540 Data Sheet'!$Y$3:$Y$1000,MATCH(E39&$E$3,'F Diploma 540 Data Sheet'!$T$3:$T$1000&'F Diploma 540 Data Sheet'!$U$3:$U$1000,0)),\"\")","v":0},{"$f":"IFERROR(INDEX('F Diploma 540 Data Sheet'!$V$3:$V$1000,MATCH(E39&$E$3,'F Diploma 540 Data Sheet'!$T$3:$T$1000&'F Diploma 540 Data Sheet'!$U$3:$U$1000,0)),\"\")","v":0},null,null,null,null,{"$f":"IFERROR(INDEX('F Diploma 540 Data Sheet'!$X$3:$X$1000,MATCH(E39&$E$3,'F Diploma 540 Data Sheet'!$T$3:$T$1000&'F Diploma 540 Data Sheet'!$U$3:$U$1000,0)),\"\")","v":0},null,{"$f":"IFERROR(IF(C39=\"Internal\",VLOOKUP(J39,Points!$A$2:$C$6,MATCH(C39&\" \"&I39&\" GLH\",Points!$A$2:$C$2,0),FALSE),\"\"),\"\")","v":""},{"$f":"IF(E39=\"\",\"\",VLOOKUP(SUM(R39,T39,V39,X39,Z39),Lookup!$M$1:$N$6,2,FALSE))","v":""},null,null,null,null,null,{"$f":"IF(Q39=\"\",\"\",VLOOKUP(Q39,Lookup!$L$2:$M$6,2,FALSE))","v":""},{"$f":"IFERROR(IF(AND(C39=\"Internal\",I39=90),VLOOKUP(K39,Points!$C$2:$G$6,MATCH(\"Internal Grade\",Points!$C$2:$G$2,0),FALSE),\"\"),\"\")","v":""},{"$f":"IF(S39=\"\",\"\",VLOOKUP(S39,Lookup!$L$2:$M$6,2,FALSE))","v":""},{"$f":"IFERROR(IF(AND(C39=\"Internal\",I39=60),VLOOKUP(K39,Points!$B$2:$G$6,MATCH(\"Internal Grade\",Points!$B$2:$G$2,0),FALSE),\"\"),\"\")","v":""},{"$f":"IF(U39=\"\",\"\",VLOOKUP(U39,Lookup!$L$2:$M$6,2,FALSE))","v":""},{"$f":"IF(AND(C39=\"External\",I39=120),VLOOKUP(K39,Points!$M$2:$N$35,MATCH(\"120 GLH Grade\",Points!$M$2:$N$2,0),FALSE),\"No\")","v":"No"},{"$f":"IF(W39=\"\",\"\",VLOOKUP(W39,Lookup!$L$1:$M$6,2,FALSE))","v":0},{"$f":"IF(AND(C39=\"External\",I39=90),VLOOKUP(K39,Points!$J$2:$K$27,MATCH(\"90 GLH Grade\",Points!$J$2:$K$2,0),FALSE),\"No\")","v":"No"},{"$f":"IF(Y39=\"\",\"\",VLOOKUP(Y39,Lookup!$L$1:$M$6,2,FALSE))","v":0}]
[null,"Optional",{"$f":"IFERROR(INDEX('F Diploma 540 Data Sheet'!$Y$3:$Y$1000,MATCH(E40&$E$3,'F Diploma 540 Data Sheet'!$T$3:$T$1000&'F Diploma 540 Data Sheet'!$U$3:$U$1000,0)),\"\")","v":0},{"$f":"IFERROR(INDEX('F Diploma 540 Data Sheet'!$V$3:$V$1000,MATCH(E40&$E$3,'F Diploma 540 Data Sheet'!$T$3:$T$1000&'F Diploma 540 Data Sheet'!$U$3:$U$1000,0)),\"\")","v":0},null,null,null,null,{"$f":"IFERROR(INDEX('F Diploma 540 Data Sheet'!$X$3:$X$1000,MATCH(E40&$E$3,'F Diploma 540 Data Sheet'!$T$3:$T$1000&'F Diploma 540 Data Sheet'!$U$3:$U$1000,0)),\"\")","v":0},null,{"$f":"IFERROR(IF(C40=\"Internal\",VLOOKUP(J40,Points!$A$2:$C$6,MATCH(C40&\" \"&I40&\" GLH\",Points!$A$2:$C$2,0),FALSE),\"\"),\"\")","v":""},{"$f":"IF(E40=\"\",\"\",VLOOKUP(SUM(R40,T40,V40,X40,Z40),Lookup!$M$1:$N$6,2,FALSE))","v":""},null,null,null,null,null,{"$f":"IF(Q40=\"\",\"\",VLOOKUP(Q40,Lookup!$L$2:$M$6,2,FALSE))","v":""},{"$f":"IFERROR(IF(AND(C40=\"Internal\",I40=90),VLOOKUP(K40,Points!$C$2:$G$6,MATCH(\"Internal Grade\",Points!$C$2:$G$2,0),FALSE),\"\"),\"\")","v":""},{"$f":"IF(S40=\"\",\"\",VLOOKUP(S40,Lookup!$L$2:$M$6,2,FALSE))","v":""},{"$f":"IFERROR(IF(AND(C40=\"Internal\",I40=60),VLOOKUP(K40,Points!$B$2:$G$6,MATCH(\"Internal Grade\",Points!$B$2:$G$2,0),FALSE),\"\"),\"\")","v":""},{"$f":"IF(U40=\"\",\"\",VLOOKUP(U40,Lookup!$L$2:$M$6,2,FALSE))","v":""},{"$f":"IF(AND(C40=\"External\",I40=120),VLOOKUP(K40,Points!$M$2:$N$35,MATCH(\"120 GLH Grade\",Points!$M$2:$N$2,0),FALSE),\"No\")","v":"No"},{"$f":"IF(W40=\"\",\"\",VLOOKUP(W40,Lookup!$L$1:$M$6,2,FALSE))","v":0},{"$f":"IF(AND(C40=\"External\",I40=90),VLOOKUP(K40,Points!$J$2:$K$27,MATCH(\"90 GLH Grade\",Points!$J$2:$K$2,0),FALSE),\"No\")","v":"No"},{"$f":"IF(Y40=\"\",\"\",VLOOKUP(Y40,Lookup!$L$1:$M$6,2,FALSE))","v":0}]
[null,"Optional",{"$f":"IFERROR(INDEX('F Diploma 540 Data Sheet'!$Y$3:$Y$1000,MATCH(E41&$E$3,'F Diploma 540 Data Sheet'!$T$3:$T$1000&'F Diploma 540 Data Sheet'!$U$3:$U$1000,0)),\"\")","v":0},{"$f":"IFERROR(INDEX('F Diploma 540 Data Sheet'!$V$3:$V$1000,MATCH(E41&$E$3,'F Diploma 540 Data Sheet'!$T$3:$T$1000&'F Diploma 540 Data Sheet'!$U$3:$U$1000,0)),\"\")","v":0},null,null,null,null,{"$f":"IFERROR(INDEX('F Diploma 540 Data Sheet'!$X$3:$X$1000,MATCH(E41&$E$3,'F Diploma 540 Data Sheet'!$T$3:$T$1000&'F Diploma 540 Data Sheet'!$U$3:$U$1000,0)),\"\")","v":0},null,{"$f":"IFERROR(IF(C41=\"Internal\",VLOOKUP(J41,Points!$A$2:$C$6,MATCH(C41&\" \"&I41&\" GLH\",Points!$A$2:$C$2,0),FALSE),\"\"),\"\")","v":""},{"$f":"IF(E41=\"\",\"\",VLOOKUP(SUM(R41,T41,V41,X41,Z41),Lookup!$M$1:$N$6,2,FALSE))","v":""},null,null,null,null,null,{"$f":"IF(Q41=\"\",\"\",VLOOKUP(Q41,Lookup!$L$2:$M$6,2,FALSE))","v":""},{"$f":"IFERROR(IF(AND(C41=\"Internal\",I41=90),VLOOKUP(K41,Points!$C$2:$G$6,MATCH(\"Internal Grade\",Points!$C$2:$G$2,0),FALSE),\"\"),\"\")","v":""},{"$f":"IF(S41=\"\",\"\",VLOOKUP(S41,Lookup!$L$2:$M$6,2,FALSE))","v":""},{"$f":"IFERROR(IF(AND(C41=\"Internal\",I41=60),VLOOKUP(K41,Points!$B$2:$G$6,MATCH(\"Internal Grade\",Points!$B$2:$G$2,0),FALSE),\"\"),\"\")","v":""},{"$f":"IF(U41=\"\",\"\",VLOOKUP(U41,Lookup!$L$2:$M$6,2,FALSE))","v":""},{"$f":"IF(AND(C41=\"External\",I41=120),VLOOKUP(K41,Points!$M$2:$N$35,MATCH(\"120 GLH Grade\",Points!$M$2:$N$2,0),FALSE),\"No\")","v":"No"},{"$f":"IF(W41=\"\",\"\",VLOOKUP(W41,Lookup!$L$1:$M$6,2,FALSE))","v":0},{"$f":"IF(AND(C41=\"External\",I41=90),VLOOKUP(K41,Points!$J$2:$K$27,MATCH(\"90 GLH Grade\",Points!$J$2:$K$2,0),FALSE),\"No\")","v":"No"},{"$f":"IF(Y41=\"\",\"\",VLOOKUP(Y41,Lookup!$L$1:$M$6,2,FALSE))","v":0}]
[null,"Optional",{"$f":"IFERROR(INDEX('F Diploma 540 Data Sheet'!$Y$3:$Y$1000,MATCH(E42&$E$3,'F Diploma 540 Data Sheet'!$T$3:$T$1000&'F Diploma 540 Data Sheet'!$U$3:$U$1000,0)),\"\")","v":0},{"$f":"IFERROR(INDEX('F Diploma 540 Data Sheet'!$V$3:$V$1000,MATCH(E42&$E$3,'F Diploma 540 Data Sheet'!$T$3:$T$1000&'F Diploma 540 Data Sheet'!$U$3:$U$1000,0)),\"\")","v":0},null,null,null,null,{"$f":"IFERROR(INDEX('F Diploma 540 Data Sheet'!$X$3:$X$1000,MATCH(E42&$E$3,'F Diploma 540 Data Sheet'!$T$3:$T$1000&'F Diploma 540 Data Sheet'!$U$3:$U$1000,0)),\"\")","v":0},null,{"$f":"IFERROR(IF(C42=\"Internal\",VLOOKUP(J42,Points!$A$2:$C$6,MATCH(C42&\" \"&I42&\" GLH\",Points!$A$2:$C$2,0),FALSE),\"\"),\"\")","v":""},{"$f":"IF(E42=\"\",\"\",VLOOKUP(SUM(R42,T42,V42,X42,Z42),Lookup!$M$1:$N$6,2,FALSE))","v":""},null,null,null,null,null,{"$f":"IF(Q42=\"\",\"\",VLOOKUP(Q42,Lookup!$L$2:$M$6,2,FALSE))","v":""},{"$f":"IFERROR(IF(AND(C42=\"Internal\",I42=90),VLOOKUP(K42,Points!$C$2:$G$6,MATCH(\"Internal Grade\",Points!$C$2:$G$2,0),FALSE),\"\"),\"\")","v":""},{"$f":"IF(S42=\"\",\"\",VLOOKUP(S42,Lookup!$L$2:$M$6,2,FALSE))","v":""},{"$f":"IFERROR(IF(AND(C42=\"Internal\",I42=60),VLOOKUP(K42,Points!$B$2:$G$6,MATCH(\"Internal Grade\",Points!$B$2:$G$2,0),FALSE),\"\"),\"\")","v":""},{"$f":"IF(U42=\"\",\"\",VLOOKUP(U42,Lookup!$L$2:$M$6,2,FALSE))","v":""},{"$f":"IF(AND(C42=\"External\",I42=120),VLOOKUP(K42,Points!$M$2:$N$35,MATCH(\"120 GLH Grade\",Points!$M$2:$N$2,0),FALSE),\"No\")","v":"No"},{"$f":"IF(W42=\"\",\"\",VLOOKUP(W42,Lookup!$L$1:$M$6,2,FALSE))","v":0},{"$f":"IF(AND(C42=\"External\",I42=90),VLOOKUP(K42,Points!$J$2:$K$27,MATCH(\"90 GLH Grade\",Points!$J$2:$K$2,0),FALSE),\"No\")","v":"No"},{"$f":"IF(Y42=\"\",\"\",VLOOKUP(Y42,Lookup!$L$1:$M$6,2,FALSE))","v":0}]
[null,"Optional",{"$f":"IFERROR(INDEX('F Diploma 540 Data Sheet'!$Y$3:$Y$1000,MATCH(E43&$E$3,'F Diploma 540 Data Sheet'!$T$3:$T$1000&'F Diploma 540 Data Sheet'!$U$3:$U$1000,0)),\"\")","v":0},{"$f":"IFERROR(INDEX('F Diploma 540 Data Sheet'!$V$3:$V$1000,MATCH(E43&$E$3,'F Diploma 540 Data Sheet'!$T$3:$T$1000&'F Diploma 540 Data Sheet'!$U$3:$U$1000,0)),\"\")","v":0},null,null,null,null,{"$f":"IFERROR(INDEX('F Diploma 540 Data Sheet'!$X$3:$X$1000,MATCH(E43&$E$3,'F Diploma 540 Data Sheet'!$T$3:$T$1000&'F Diploma 540 Data Sheet'!$U$3:$U$1000,0)),\"\")","v":0},null,{"$f":"IFERROR(IF(C43=\"Internal\",VLOOKUP(J43,Points!$A$2:$C$6,MATCH(C43&\" \"&I43&\" GLH\",Points!$A$2:$C$2,0),FALSE),\"\"),\"\")","v":""},{"$f":"IF(E43=\"\",\"\",VLOOKUP(SUM(R43,T43,V43,X43,Z43),Lookup!$M$1:$N$6,2,FALSE))","v":""},null,null,null,null,null,{"$f":"IF(Q43=\"\",\"\",VLOOKUP(Q43,Lookup!$L$2:$M$6,2,FALSE))","v":""},{"$f":"IFERROR(IF(AND(C43=\"Internal\",I43=90),VLOOKUP(K43,Points!$C$2:$G$6,MATCH(\"Internal Grade\",Points!$C$2:$G$2,0),FALSE),\"\"),\"\")","v":""},{"$f":"IF(S43=\"\",\"\",VLOOKUP(S43,Lookup!$L$2:$M$6,2,FALSE))","v":""},{"$f":"IFERROR(IF(AND(C43=\"Internal\",I43=60),VLOOKUP(K43,Points!$B$2:$G$6,MATCH(\"Internal Grade\",Points!$B$2:$G$2,0),FALSE),\"\"),\"\")","v":""},{"$f":"IF(U43=\"\",\"\",VLOOKUP(U43,Lookup!$L$2:$M$6,2,FALSE))","v":""},{"$f":"IF(AND(C43=\"External\",I43=120),VLOOKUP(K43,Points!$M$2:$N$35,MATCH(\"120 GLH Grade\",Points!$M$2:$N$2,0),FALSE),\"No\")","v":"No"},{"$f":"IF(W43=\"\",\"\",VLOOKUP(W43,Lookup!$L$1:$M$6,2,FALSE))","v":0},{"$f":"IF(AND(C43=\"External\",I43=90),VLOOKUP(K43,Points!$J$2:$K$27,MATCH(\"90 GLH Grade\",Points!$J$2:$K$2,0),FALSE),\"No\")","v":"No"},{"$f":"IF(Y43=\"\",\"\",VLOOKUP(Y43,Lookup!$L$1:$M$6,2,FALSE))","v":0}]
[null,"Optional",{"$f":"IFERROR(INDEX('F Diploma 540 Data Sheet'!$Y$3:$Y$1000,MATCH(E44&$E$3,'F Diploma 540 Data Sheet'!$T$3:$T$1000&'F Diploma 540 Data Sheet'!$U$3:$U$1000,0)),\"\")","v":0},{"$f":"IFERROR(INDEX('F Diploma 540 Data Sheet'!$V$3:$V$1000,MATCH(E44&$E$3,'F Diploma 540 Data Sheet'!$T$3:$T$1000&'F Diploma 540 Data Sheet'!$U$3:$U$1000,0)),\"\")","v":0},null,null,null,null,{"$f":"IFERROR(INDEX('F Diploma 540 Data Sheet'!$X$3:$X$1000,MATCH(E44&$E$3,'F Diploma 540 Data Sheet'!$T$3:$T$1000&'F Diploma 540 Data Sheet'!$U$3:$U$1000,0)),\"\")","v":0},null,{"$f":"IFERROR(IF(C44=\"Internal\",VLOOKUP(J44,Points!$A$2:$C$6,MATCH(C44&\" \"&I44&\" GLH\",Points!$A$2:$C$2,0),FALSE),\"\"),\"\")","v":""},{"$f":"IF(E44=\"\",\"\",VLOOKUP(SUM(R44,T44,V44,X44,Z44),Lookup!$M$1:$N$6,2,FALSE))","v":""},null,null,null,null,null,{"$f":"IF(Q44=\"\",\"\",VLOOKUP(Q44,Lookup!$L$2:$M$6,2,FALSE))","v":""},{"$f":"IFERROR(IF(AND(C44=\"Internal\",I44=90),VLOOKUP(K44,Points!$C$2:$G$6,MATCH(\"Internal Grade\",Points!$C$2:$G$2,0),FALSE),\"\"),\"\")","v":""},{"$f":"IF(S44=\"\",\"\",VLOOKUP(S44,Lookup!$L$2:$M$6,2,FALSE))","v":""},{"$f":"IFERROR(IF(AND(C44=\"Internal\",I44=60),VLOOKUP(K44,Points!$B$2:$G$6,MATCH(\"Internal Grade\",Points!$B$2:$G$2,0),FALSE),\"\"),\"\")","v":""},{"$f":"IF(U44=\"\",\"\",VLOOKUP(U44,Lookup!$L$2:$M$6,2,FALSE))","v":""},{"$f":"IF(AND(C44=\"External\",I44=120),VLOOKUP(K44,Points!$M$2:$N$35,MATCH(\"120 GLH Grade\",Points!$M$2:$N$2,0),FALSE),\"No\")","v":"No"},{"$f":"IF(W44=\"\",\"\",VLOOKUP(W44,Lookup!$L$1:$M$6,2,FALSE))","v":0},{"$f":"IF(AND(C44=\"External\",I44=90),VLOOKUP(K44,Points!$J$2:$K$27,MATCH(\"90 GLH Grade\",Points!$J$2:$K$2,0),FALSE),\"No\")","v":"No"},{"$f":"IF(Y44=\"\",\"\",VLOOKUP(Y44,Lookup!$L$1:$M$6,2,FALSE))","v":0}]
[null,"Optional",{"$f":"IFERROR(INDEX('F Diploma 540 Data Sheet'!$Y$3:$Y$1000,MATCH(E45&$E$3,'F Diploma 540 Data Sheet'!$T$3:$T$1000&'F Diploma 540 Data Sheet'!$U$3:$U$1000,0)),\"\")","v":0},{"$f":"IFERROR(INDEX('F Diploma 540 Data Sheet'!$V$3:$V$1000,MATCH(E45&$E$3,'F Diploma 540 Data Sheet'!$T$3:$T$1000&'F Diploma 540 Data Sheet'!$U$3:$U$1000,0)),\"\")","v":0},null,null,null,null,{"$f":"IFERROR(INDEX('F Diploma 540 Data Sheet'!$X$3:$X$1000,MATCH(E45&$E$3,'F Diploma 540 Data Sheet'!$T$3:$T$1000&'F Diploma 540 Data Sheet'!$U$3:$U$1000,0)),\"\")","v":0},null,{"$f":"IFERROR(IF(C45=\"Internal\",VLOOKUP(J45,Points!$A$2:$C$6,MATCH(C45&\" \"&I45&\" GLH\",Points!$A$2:$C$2,0),FALSE),\"\"),\"\")","v":""},{"$f":"IF(E45=\"\",\"\",VLOOKUP(SUM(R45,T45,V45,X45,Z45),Lookup!$M$1:$N$6,2,FALSE))","v":""},null,null,null,null,null,{"$f":"IF(Q45=\"\",\"\",VLOOKUP(Q45,Lookup!$L$2:$M$6,2,FALSE))","v":""},{"$f":"IFERROR(IF(AND(C45=\"Internal\",I45=90),VLOOKUP(K45,Points!$C$2:$G$6,MATCH(\"Internal Grade\",Points!$C$2:$G$2,0),FALSE),\"\"),\"\")","v":""},{"$f":"IF(S45=\"\",\"\",VLOOKUP(S45,Lookup!$L$2:$M$6,2,FALSE))","v":""},{"$f":"IFERROR(IF(AND(C45=\"Internal\",I45=60),VLOOKUP(K45,Points!$B$2:$G$6,MATCH(\"Internal Grade\",Points!$B$2:$G$2,0),FALSE),\"\"),\"\")","v":""},{"$f":"IF(U45=\"\",\"\",VLOOKUP(U45,Lookup!$L$2:$M$6,2,FALSE))","v":""},{"$f":"IF(AND(C45=\"External\",I45=120),VLOOKUP(K45,Points!$M$2:$N$35,MATCH(\"120 GLH Grade\",Points!$M$2:$N$2,0),FALSE),\"No\")","v":"No"},{"$f":"IF(W45=\"\",\"\",VLOOKUP(W45,Lookup!$L$1:$M$6,2,FALSE))","v":0},{"$f":"IF(AND(C45=\"External\",I45=90),VLOOKUP(K45,Points!$J$2:$K$27,MATCH(\"90 GLH Grade\",Points!$J$2:$K$2,0),FALSE),\"No\")","v":"No"},{"$f":"IF(Y45=\"\",\"\",VLOOKUP(Y45,Lookup!$L$1:$M$6,2,FALSE))","v":0}]
[null,"Optional",{"$f":"IFERROR(INDEX('F Diploma 540 Data Sheet'!$Y$3:$Y$1000,MATCH(E46&$E$3,'F Diploma 540 Data Sheet'!$T$3:$T$1000&'F Diploma 540 Data Sheet'!$U$3:$U$1000,0)),\"\")","v":0},{"$f":"IFERROR(INDEX('F Diploma 540 Data Sheet'!$V$3:$V$1000,MATCH(E46&$E$3,'F Diploma 540 Data Sheet'!$T$3:$T$1000&'F Diploma 540 Data Sheet'!$U$3:$U$1000,0)),\"\")","v":0},null,null,null,null,{"$f":"IFERROR(INDEX('F Diploma 540 Data Sheet'!$X$3:$X$1000,MATCH(E46&$E$3,'F Diploma 540 Data Sheet'!$T$3:$T$1000&'F Diploma 540 Data Sheet'!$U$3:$U$1000,0)),\"\")","v":0},null,{"$f":"IFERROR(IF(C46=\"Internal\",VLOOKUP(J46,Points!$A$2:$C$6,MATCH(C46&\" \"&I46&\" GLH\",Points!$A$2:$C$2,0),FALSE),\"\"),\"\")","v":""},{"$f":"IF(E46=\"\",\"\",VLOOKUP(SUM(R46,T46,V46,X46,Z46),Lookup!$M$1:$N$6,2,FALSE))","v":""},null,null,null,null,null,{"$f":"IF(Q46=\"\",\"\",VLOOKUP(Q46,Lookup!$L$2:$M$6,2,FALSE))","v":""},{"$f":"IFERROR(IF(AND(C46=\"Internal\",I46=90),VLOOKUP(K46,Points!$C$2:$G$6,MATCH(\"Internal Grade\",Points!$C$2:$G$2,0),FALSE),\"\"),\"\")","v":""},{"$f":"IF(S46=\"\",\"\",VLOOKUP(S46,Lookup!$L$2:$M$6,2,FALSE))","v":""},{"$f":"IFERROR(IF(AND(C46=\"Internal\",I46=60),VLOOKUP(K46,Points!$B$2:$G$6,MATCH(\"Internal Grade\",Points!$B$2:$G$2,0),FALSE),\"\"),\"\")","v":""},{"$f":"IF(U46=\"\",\"\",VLOOKUP(U46,Lookup!$L$2:$M$6,2,FALSE))","v":""},{"$f":"IF(AND(C46=\"External\",I46=120),VLOOKUP(K46,Points!$M$2:$N$35,MATCH(\"120 GLH Grade\",Points!$M$2:$N$2,0),FALSE),\"No\")","v":"No"},{"$f":"IF(W46=\"\",\"\",VLOOKUP(W46,Lookup!$L$1:$M$6,2,FALSE))","v":0},{"$f":"IF(AND(C46=\"External\",I46=90),VLOOKUP(K46,Points!$J$2:$K$27,MATCH(\"90 GLH Grade\",Points!$J$2:$K$2,0),FALSE),\"No\")","v":"No"},{"$f":"IF(Y46=\"\",\"\",VLOOKUP(Y46,Lookup!$L$1:$M$6,2,FALSE))","v":0}]
[null,null,null,null,null,null,null,null,{"$f":"SUM(I37:I46)","v":0}]
[]
[null,"Optional",{"$f":"IFERROR(INDEX('F Diploma 540 Data Sheet'!$AF$3:$AF$1000,MATCH(E49&$E$3,'F Diploma 540 Data Sheet'!$AA$3:$AA$1000&'F Diploma 540 Data Sheet'!$AB$3:$AB$1000,0)),\"\")","v":0},{"$f":"IFERROR(INDEX('F Diploma 540 Data Sheet'!$AC$3:$AC$1000,MATCH(E49&$E$3,'F Diploma 540 Data Sheet'!$AA$3:$AA$1000&'F Diploma 540 Data Sheet'!$AB$3:$AB$1000,0)),\"\")","v":0},null,null,null,null,{"$f":"IFERROR(INDEX('F Diploma 540 Data Sheet'!$AE$3:$AE$1000,MATCH(E49&$E$3,'F Diploma 540 Data Sheet'!$AA$3:$AA$1000&'F Diploma 540 Data Sheet'!$AB$3:$AB$1000,0)),\"\")","v":0},null,{"$f":"IFERROR(IF(C49=\"Internal\",VLOOKUP(J49,Points!$A$2:$C$6,MATCH(C49&\" \"&I49&\" GLH\",Points!$A$2:$C$2,0),FALSE),\"\"),\"\")","v":""},{"$f":"IF(E49=\"\",\"\",VLOOKUP(SUM(R49,T49,V49,X49,Z49),Lookup!$M$1:$N$6,2,FALSE))","v":""},null,null,null,null,null,null,{"$f":"IFERROR(IF(AND(C49=\"Internal\",I49=90),VLOOKUP(K49,Points!$C$2:$G$6,MATCH(\"Internal Grade\",Points!$C$2:$G$2,0),FALSE),\"\"),\"\")","v":""},{"$f":"IF(S49=\"\",\"\",VLOOKUP(S49,Lookup!$L$2:$M$6,2,FALSE))","v":""},{"$f":"IFERROR(IF(AND(C49=\"Internal\",I49=60),VLOOKUP(K49,Points!$B$2:$G$6,MATCH(\"Internal Grade\",Points!$B$2:$G$2,0),FALSE),\"\"),\"\")","v":""},{"$f":"IF(U49=\"\",\"\",VLOOKUP(U49,Lookup!$L$2:$M$6,2,FALSE))","v":""},{"$f":"IF(AND(C49=\"External\",I49=120),VLOOKUP(K49,Points!$M$2:$N$35,MATCH(\"120 GLH Grade\",Points!$M$2:$N$2,0),FALSE),\"No\")","v":"No"},{"$f":"IF(W49=\"\",\"\",VLOOKUP(W49,Lookup!$L$1:$M$6,2,FALSE))","v":0},{"$f":"IF(AND(C49=\"External\",I49=90),VLOOKUP(K49,Points!$J$2:$K$27,MATCH(\"90 GLH Grade\",Points!$J$2:$K$2,0),FALSE),\"No\")","v":"No"},{"$f":"IF(Y49=\"\",\"\",VLOOKUP(Y49,Lookup!$L$1:$M$6,2,FALSE))","v":0}]
[null,"Optional",{"$f":"IFERROR(INDEX('F Diploma 540 Data Sheet'!$AF$3:$AF$1000,MATCH(E50&$E$3,'F Diploma 540 Data Sheet'!$AA$3:$AA$1000&'F Diploma 540 Data Sheet'!$AB$3:$AB$1000,0)),\"\")","v":0},{"$f":"IFERROR(INDEX('F Diploma 540 Data Sheet'!$AC$3:$AC$1000,MATCH(E50&$E$3,'F Diploma 540 Data Sheet'!$AA$3:$AA$1000&'F Diploma 540 Data Sheet'!$AB$3:$AB$1000,0)),\"\")","v":0},null,null,null,null,{"$f":"IFERROR(INDEX('F Diploma 540 Data Sheet'!$AE$3:$AE$1000,MATCH(E50&$E$3,'F Diploma 540 Data Sheet'!$AA$3:$AA$1000&'F Diploma 540 Data Sheet'!$AB$3:$AB$1000,0)),\"\")","v":0},null,{"$f":"IFERROR(IF(C50=\"Internal\",VLOOKUP(J50,Points!$A$2:$C$6,MATCH(C50&\" \"&I50&\" GLH\",Points!$A$2:$C$2,0),FALSE),\"\"),\"\")","v":""},{"$f":"IF(E50=\"\",\"\",VLOOKUP(SUM(R50,T50,V50,X50,Z50),Lookup!$M$1:$N$6,2,FALSE))","v":""},null,null,null,null,null,null,{"$f":"IFERROR(IF(AND(C50=\"Internal\",I50=90),VLOOKUP(K50,Points!$C$2:$G$6,MATCH(\"Internal Grade\",Points!$C$2:$G$2,0),FALSE),\"\"),\"\")","v":""},{"$f":"IF(S50=\"\",\"\",VLOOKUP(S50,Lookup!$L$2:$M$6,2,FALSE))","v":""},{"$f":"IFERROR(IF(AND(C50=\"Internal\",I50=60),VLOOKUP(K50,Points!$B$2:$G$6,MATCH(\"Internal Grade\",Points!$B$2:$G$2,0),FALSE),\"\"),\"\")","v":""},{"$f":"IF(U50=\"\",\"\",VLOOKUP(U50,Lookup!$L$2:$M$6,2,FALSE))","v":""},{"$f":"IF(AND(C50=\"External\",I50=120),VLOOKUP(K50,Points!$M$2:$N$35,MATCH(\"120 GLH Grade\",Points!$M$2:$N$2,0),FALSE),\"No\")","v":"No"},{"$f":"IF(W50=\"\",\"\",VLOOKUP(W50,Lookup!$L$1:$M$6,2,FALSE))","v":0},{"$f":"IF(AND(C50=\"External\",I50=90),VLOOKUP(K50,Points!$J$2:$K$27,MATCH(\"90 GLH Grade\",Points!$J$2:$K$2,0),FALSE),\"No\")","v":"No"},{"$f":"IF(Y50=\"\",\"\",VLOOKUP(Y50,Lookup!$L$1:$M$6,2,FALSE))","v":0}]
[null,"Optional",{"$f":"IFERROR(INDEX('F Diploma 540 Data Sheet'!$AF$3:$AF$1000,MATCH(E51&$E$3,'F Diploma 540 Data Sheet'!$AA$3:$AA$1000&'F Diploma 540 Data Sheet'!$AB$3:$AB$1000,0)),\"\")","v":0},{"$f":"IFERROR(INDEX('F Diploma 540 Data Sheet'!$AC$3:$AC$1000,MATCH(E51&$E$3,'F Diploma 540 Data Sheet'!$AA$3:$AA$1000&'F Diploma 540 Data Sheet'!$AB$3:$AB$1000,0)),\"\")","v":0},null,null,null,null,{"$f":"IFERROR(INDEX('F Diploma 540 Data Sheet'!$AE$3:$AE$1000,MATCH(E51&$E$3,'F Diploma 540 Data Sheet'!$AA$3:$AA$1000&'F Diploma 540 Data Sheet'!$AB$3:$AB$1000,0)),\"\")","v":0},null,{"$f":"IFERROR(IF(C51=\"Internal\",VLOOKUP(J51,Points!$A$2:$C$6,MATCH(C51&\" \"&I51&\" GLH\",Points!$A$2:$C$2,0),FALSE),\"\"),\"\")","v":""},{"$f":"IF(E51=\"\",\"\",VLOOKUP(SUM(R51,T51,V51,X51,Z51),Lookup!$M$1:$N$6,2,FALSE))","v":""},null,null,null,null,null,null,{"$f":"IFERROR(IF(AND(C51=\"Internal\",I51=90),VLOOKUP(K51,Points!$C$2:$G$6,MATCH(\"Internal Grade\",Points!$C$2:$G$2,0),FALSE),\"\"),\"\")","v":""},{"$f":"IF(S51=\"\",\"\",VLOOKUP(S51,Lookup!$L$2:$M$6,2,FALSE))","v":""},{"$f":"IFERROR(IF(AND(C51=\"Internal\",I51=60),VLOOKUP(K51,Points!$B$2:$G$6,MATCH(\"Internal Grade\",Points!$B$2:$G$2,0),FALSE),\"\"),\"\")","v":""},{"$f":"IF(U51=\"\",\"\",VLOOKUP(U51,Lookup!$L$2:$M$6,2,FALSE))","v":""},{"$f":"IF(AND(C51=\"External\",I51=120),VLOOKUP(K51,Points!$M$2:$N$35,MATCH(\"120 GLH Grade\",Points!$M$2:$N$2,0),FALSE),\"No\")","v":"No"},{"$f":"IF(W51=\"\",\"\",VLOOKUP(W51,Lookup!$L$1:$M$6,2,FALSE))","v":0},{"$f":"IF(AND(C51=\"External\",I51=90),VLOOKUP(K51,Points!$J$2:$K$27,MATCH(\"90 GLH Grade\",Points!$J$2:$K$2,0),FALSE),\"No\")","v":"No"},{"$f":"IF(Y51=\"\",\"\",VLOOKUP(Y51,Lookup!$L$1:$M$6,2,FALSE))","v":0}]
[null,"Optional",{"$f":"IFERROR(INDEX('F Diploma 540 Data Sheet'!$AF$3:$AF$1000,MATCH(E52&$E$3,'F Diploma 540 Data Sheet'!$AA$3:$AA$1000&'F Diploma 540 Data Sheet'!$AB$3:$AB$1000,0)),\"\")","v":0},{"$f":"IFERROR(INDEX('F Diploma 540 Data Sheet'!$AC$3:$AC$1000,MATCH(E52&$E$3,'F Diploma 540 Data Sheet'!$AA$3:$AA$1000&'F Diploma 540 Data Sheet'!$AB$3:$AB$1000,0)),\"\")","v":0},null,null,null,null,{"$f":"IFERROR(INDEX('F Diploma 540 Data Sheet'!$AE$3:$AE$1000,MATCH(E52&$E$3,'F Diploma 540 Data Sheet'!$AA$3:$AA$1000&'F Diploma 540 Data Sheet'!$AB$3:$AB$1000,0)),\"\")","v":0},null,{"$f":"IFERROR(IF(C52=\"Internal\",VLOOKUP(J52,Points!$A$2:$C$6,MATCH(C52&\" \"&I52&\" GLH\",Points!$A$2:$C$2,0),FALSE),\"\"),\"\")","v":""},{"$f":"IF(E52=\"\",\"\",VLOOKUP(SUM(R52,T52,V52,X52,Z52),Lookup!$M$1:$N$6,2,FALSE))","v":""},null,null,null,null,null,null,{"$f":"IFERROR(IF(AND(C52=\"Internal\",I52=90),VLOOKUP(K52,Points!$C$2:$G$6,MATCH(\"Internal Grade\",Points!$C$2:$G$2,0),FALSE),\"\"),\"\")","v":""},{"$f":"IF(S52=\"\",\"\",VLOOKUP(S52,Lookup!$L$2:$M$6,2,FALSE))","v":""},{"$f":"IFERROR(IF(AND(C52=\"Internal\",I52=60),VLOOKUP(K52,Points!$B$2:$G$6,MATCH(\"Internal Grade\",Points!$B$2:$G$2,0),FALSE),\"\"),\"\")","v":""},{"$f":"IF(U52=\"\",\"\",VLOOKUP(U52,Lookup!$L$2:$M$6,2,FALSE))","v":""},{"$f":"IF(AND(C52=\"External\",I52=120),VLOOKUP(K52,Points!$M$2:$N$35,MATCH(\"120 GLH Grade\",Points!$M$2:$N$2,0),FALSE),\"No\")","v":"No"},{"$f":"IF(W52=\"\",\"\",VLOOKUP(W52,Lookup!$L$1:$M$6,2,FALSE))","v":0},{"$f":"IF(AND(C52=\"External\",I52=90),VLOOKUP(K52,Points!$J$2:$K$27,MATCH(\"90 GLH Grade\",Points!$J$2:$K$2,0),FALSE),\"No\")","v":"No"},{"$f":"IF(Y52=\"\",\"\",VLOOKUP(Y52,Lookup!$L$1:$M$6,2,FALSE))","v":0}]
[null,null,null,null,null,null,null,null,{"$f":"SUM(I49:I51)","v":0},null,null,{"$f":"IF(E53=\"\",\"\",VLOOKUP(SUM(T53,V53,X53,Z53),Lookup!$M$1:$N$6,2,FALSE))","v":""},null,null,null,null,null,null,{"$f":"IFERROR(IF(AND(C53=\"Internal\",I53=90),VLOOKUP(K53,Points!$C$2:$G$6,MATCH(\"Internal Grade\",Points!$C$2:$G$2,0),FALSE),\"\"),\"\")","v":""},{"$f":"IF(S53=\"\",\"\",VLOOKUP(S53,Lookup!$L$2:$M$6,2,FALSE))","v":""},{"$f":"IFERROR(IF(AND(C53=\"Internal\",I53=60),VLOOKUP(K53,Points!$B$2:$G$6,MATCH(\"Internal Grade\",Points!$B$2:$G$2,0),FALSE),\"\"),\"\")","v":""},{"$f":"IF(U53=\"\",\"\",VLOOKUP(U53,Lookup!$L$2:$M$6,2,FALSE))","v":""},{"$f":"IF(AND(C53=\"External\",I53=120),VLOOKUP(K53,Points!$M$2:$N$35,MATCH(\"120 GLH Grade\",Points!$M$2:$N$2,0),FALSE),\"No\")","v":"No"},{"$f":"IF(W53=\"\",\"\",VLOOKUP(W53,Lookup!$L$1:$M$6,2,FALSE))","v":0},{"$f":"IF(AND(C53=\"External\",I53=90),VLOOKUP(K53,Points!$J$2:$K$27,MATCH(\"90 GLH Grade\",Points!$J$2:$K$2,0),FALSE),\"No\")","v":"No"},{"$f":"IF(Y53=\"\",\"\",VLOOKUP(Y53,Lookup!$L$1:$M$6,2,FALSE))","v":0}]
[null,null,null,null,null,null,null,null,null,null,null,{"$f":"IF(E54=\"\",\"\",VLOOKUP(SUM(T54,V54,X54,Z54),Lookup!$M$1:$N$6,2,FALSE))","v":""},null,null,null,null,null,null,{"$f":"IFERROR(IF(AND(C54=\"Internal\",I54=90),VLOOKUP(K54,Points!$C$2:$G$6,MATCH(\"Internal Grade\",Points!$C$2:$G$2,0),FALSE),\"\"),\"\")","v":""},{"$f":"IF(S54=\"\",\"\",VLOOKUP(S54,Lookup!$L$2:$M$6,2,FALSE))","v":""},{"$f":"IFERROR(IF(AND(C54=\"Internal\",I54=60),VLOOKUP(K54,Points!$B$2:$G$6,MATCH(\"Internal Grade\",Points!$B$2:$G$2,0),FALSE),\"\"),\"\")","v":""},{"$f":"IF(U54=\"\",\"\",VLOOKUP(U54,Lookup!$L$2:$M$6,2,FALSE))","v":""},{"$f":"IF(AND(C54=\"External\",I54=120),VLOOKUP(K54,Points!$M$2:$N$35,MATCH(\"120 GLH Grade\",Points!$M$2:$N$2,0),FALSE),\"No\")","v":"No"},{"$f":"IF(W54=\"\",\"\",VLOOKUP(W54,Lookup!$L$1:$M$6,2,FALSE))","v":0},{"$f":"IF(AND(C54=\"External\",I54=90),VLOOKUP(K54,Points!$J$2:$K$27,MATCH(\"90 GLH Grade\",Points!$J$2:$K$2,0),FALSE),\"No\")","v":"No"},{"$f":"IF(Y54=\"\",\"\",VLOOKUP(Y54,Lookup!$L$1:$M$6,2,FALSE))","v":0}]
[null,"Optional",{"$f":"IFERROR(INDEX('F Diploma 540 Data Sheet'!$AM$3:$AM$1000,MATCH(E55&$E$3,'F Diploma 540 Data Sheet'!$AH$3:$AH$1000&'F Diploma 540 Data Sheet'!$AI$3:$AI$1000,0)),\"\")","v":0},{"$f":"IFERROR(INDEX('F Diploma 540 Data Sheet'!$AJ$3:$AJ$1000,MATCH(E55&$E$3,'F Diploma 540 Data Sheet'!$AH$3:$AH$1000&'F Diploma 540 Data Sheet'!$AI$3:$AI$1000,0)),\"\")","v":0},null,null,null,null,{"$f":"IFERROR(INDEX('F Diploma 540 Data Sheet'!$AL$3:$AL$1000,MATCH(E55&$E$3,'F Diploma 540 Data Sheet'!$AH$3:$AH$1000&'F Diploma 540 Data Sheet'!$AI$3:$AI$1000,0)),\"\")","v":0},null,{"$f":"IFERROR(IF(C55=\"Internal\",VLOOKUP(J55,Points!$A$2:$C$6,MATCH(C55&\" \"&I55&\" GLH\",Points!$A$2:$C$2,0),FALSE),\"\"),\"\")","v":""},{"$f":"IF(E55=\"\",\"\",VLOOKUP(SUM(R55,T55,V55,X55,Z55),Lookup!$M$1:$N$6,2,FALSE))","v":""},null,null,null,null,null,null,{"$f":"IFERROR(IF(AND(C55=\"Internal\",I55=90),VLOOKUP(K55,Points!$C$2:$G$6,MATCH(\"Internal Grade\",Points!$C$2:$G$2,0),FALSE),\"\"),\"\")","v":""},{"$f":"IF(S55=\"\",\"\",VLOOKUP(S55,Lookup!$L$2:$M$6,2,FALSE))","v":""},{"$f":"IFERROR(IF(AND(C55=\"Internal\",I55=60),VLOOKUP(K55,Points!$B$2:$G$6,MATCH(\"Internal Grade\",Points!$B$2:$G$2,0),FALSE),\"\"),\"\")","v":""},{"$f":"IF(U55=\"\",\"\",VLOOKUP(U55,Lookup!$L$2:$M$6,2,FALSE))","v":""},{"$f":"IF(AND(C55=\"External\",I55=120),VLOOKUP(K55,Points!$M$2:$N$35,MATCH(\"120 GLH Grade\",Points!$M$2:$N$2,0),FALSE),\"No\")","v":"No"},{"$f":"IF(W55=\"\",\"\",VLOOKUP(W55,Lookup!$L$1:$M$6,2,FALSE))","v":0},{"$f":"IF(AND(C55=\"External\",I55=90),VLOOKUP(K55,Points!$J$2:$K$27,MATCH(\"90 GLH Grade\",Points!$J$2:$K$2,0),FALSE),\"No\")","v":"No"},{"$f":"IF(Y55=\"\",\"\",VLOOKUP(Y55,Lookup!$L$1:$M$6,2,FALSE))","v":0}]
[null,"Optional",{"$f":"IFERROR(INDEX('F Diploma 540 Data Sheet'!$AM$3:$AM$1000,MATCH(E56&$E$3,'F Diploma 540 Data Sheet'!$AH$3:$AH$1000&'F Diploma 540 Data Sheet'!$AI$3:$AI$1000,0)),\"\")","v":0},{"$f":"IFERROR(INDEX('F Diploma 540 Data Sheet'!$AJ$3:$AJ$1000,MATCH(E56&$E$3,'F Diploma 540 Data Sheet'!$AH$3:$AH$1000&'F Diploma 540 Data Sheet'!$AI$3:$AI$1000,0)),\"\")","v":0},null,null,null,null,{"$f":"IFERROR(INDEX('F Diploma 540 Data Sheet'!$AL$3:$AL$1000,MATCH(E56&$E$3,'F Diploma 540 Data Sheet'!$AH$3:$AH$1000&'F Diploma 540 Data Sheet'!$AI$3:$AI$1000,0)),\"\")","v":0},null,{"$f":"IFERROR(IF(C56=\"Internal\",VLOOKUP(J56,Points!$A$2:$C$6,MATCH(C56&\" \"&I56&\" GLH\",Points!$A$2:$C$2,0),FALSE),\"\"),\"\")","v":""},{"$f":"IF(E56=\"\",\"\",VLOOKUP(SUM(R56,T56,V56,X56,Z56),Lookup!$M$1:$N$6,2,FALSE))","v":""},null,null,null,null,null,null,{"$f":"IFERROR(IF(AND(C56=\"Internal\",I56=90),VLOOKUP(K56,Points!$C$2:$G$6,MATCH(\"Internal Grade\",Points!$C$2:$G$2,0),FALSE),\"\"),\"\")","v":""},{"$f":"IF(S56=\"\",\"\",VLOOKUP(S56,Lookup!$L$2:$M$6,2,FALSE))","v":""},{"$f":"IFERROR(IF(AND(C56=\"Internal\",I56=60),VLOOKUP(K56,Points!$B$2:$G$6,MATCH(\"Internal Grade\",Points!$B$2:$G$2,0),FALSE),\"\"),\"\")","v":""},{"$f":"IF(U56=\"\",\"\",VLOOKUP(U56,Lookup!$L$2:$M$6,2,FALSE))","v":""},{"$f":"IF(AND(C56=\"External\",I56=120),VLOOKUP(K56,Points!$M$2:$N$35,MATCH(\"120 GLH Grade\",Points!$M$2:$N$2,0),FALSE),\"No\")","v":"No"},{"$f":"IF(W56=\"\",\"\",VLOOKUP(W56,Lookup!$L$1:$M$6,2,FALSE))","v":0},{"$f":"IF(AND(C56=\"External\",I56=90),VLOOKUP(K56,Points!$J$2:$K$27,MATCH(\"90 GLH Grade\",Points!$J$2:$K$2,0),FALSE),\"No\")","v":"No"},{"$f":"IF(Y56=\"\",\"\",VLOOKUP(Y56,Lookup!$L$1:$M$6,2,FALSE))","v":0}]
[null,"Optional",{"$f":"IFERROR(INDEX('F Diploma 540 Data Sheet'!$AM$3:$AM$1000,MATCH(E57&$E$3,'F Diploma 540 Data Sheet'!$AH$3:$AH$1000&'F Diploma 540 Data Sheet'!$AI$3:$AI$1000,0)),\"\")","v":0},{"$f":"IFERROR(INDEX('F Diploma 540 Data Sheet'!$AJ$3:$AJ$1000,MATCH(E57&$E$3,'F Diploma 540 Data Sheet'!$AH$3:$AH$1000&'F Diploma 540 Data Sheet'!$AI$3:$AI$1000,0)),\"\")","v":0},null,null,null,null,{"$f":"IFERROR(INDEX('F Diploma 540 Data Sheet'!$AL$3:$AL$1000,MATCH(E57&$E$3,'F Diploma 540 Data Sheet'!$AH$3:$AH$1000&'F Diploma 540 Data Sheet'!$AI$3:$AI$1000,0)),\"\")","v":0},null,{"$f":"IFERROR(IF(C57=\"Internal\",VLOOKUP(J57,Points!$A$2:$C$6,MATCH(C57&\" \"&I57&\" GLH\",Points!$A$2:$C$2,0),FALSE),\"\"),\"\")","v":""},{"$f":"IF(E57=\"\",\"\",VLOOKUP(SUM(R57,T57,V57,X57,Z57),Lookup!$M$1:$N$6,2,FALSE))","v":""},null,null,null,null,null,null,{"$f":"IFERROR(IF(AND(C57=\"Internal\",I57=90),VLOOKUP(K57,Points!$C$2:$G$6,MATCH(\"Internal Grade\",Points!$C$2:$G$2,0),FALSE),\"\"),\"\")","v":""},{"$f":"IF(S57=\"\",\"\",VLOOKUP(S57,Lookup!$L$2:$M$6,2,FALSE))","v":""},{"$f":"IFERROR(IF(AND(C57=\"Internal\",I57=60),VLOOKUP(K57,Points!$B$2:$G$6,MATCH(\"Internal Grade\",Points!$B$2:$G$2,0),FALSE),\"\"),\"\")","v":""},{"$f":"IF(U57=\"\",\"\",VLOOKUP(U57,Lookup!$L$2:$M$6,2,FALSE))","v":""},{"$f":"IF(AND(C57=\"External\",I57=120),VLOOKUP(K57,Points!$M$2:$N$35,MATCH(\"120 GLH Grade\",Points!$M$2:$N$2,0),FALSE),\"No\")","v":"No"},{"$f":"IF(W57=\"\",\"\",VLOOKUP(W57,Lookup!$L$1:$M$6,2,FALSE))","v":0},{"$f":"IF(AND(C57=\"External\",I57=90),VLOOKUP(K57,Points!$J$2:$K$27,MATCH(\"90 GLH Grade\",Points!$J$2:$K$2,0),FALSE),\"No\")","v":"No"},{"$f":"IF(Y57=\"\",\"\",VLOOKUP(Y57,Lookup!$L$1:$M$6,2,FALSE))","v":0}]
[null,"Optional",{"$f":"IFERROR(INDEX('F Diploma 540 Data Sheet'!$AM$3:$AM$1000,MATCH(E58&$E$3,'F Diploma 540 Data Sheet'!$AH$3:$AH$1000&'F Diploma 540 Data Sheet'!$AI$3:$AI$1000,0)),\"\")","v":0},{"$f":"IFERROR(INDEX('F Diploma 540 Data Sheet'!$AJ$3:$AJ$1000,MATCH(E58&$E$3,'F Diploma 540 Data Sheet'!$AH$3:$AH$1000&'F Diploma 540 Data Sheet'!$AI$3:$AI$1000,0)),\"\")","v":0},null,null,null,null,{"$f":"IFERROR(INDEX('F Diploma 540 Data Sheet'!$AL$3:$AL$1000,MATCH(E58&$E$3,'F Diploma 540 Data Sheet'!$AH$3:$AH$1000&'F Diploma 540 Data Sheet'!$AI$3:$AI$1000,0)),\"\")","v":0},null,{"$f":"IFERROR(IF(C58=\"Internal\",VLOOKUP(J58,Points!$A$2:$C$6,MATCH(C58&\" \"&I58&\" GLH\",Points!$A$2:$C$2,0),FALSE),\"\"),\"\")","v":""},{"$f":"IF(E58=\"\",\"\",VLOOKUP(SUM(R58,T58,V58,X58,Z58),Lookup!$M$1:$N$6,2,FALSE))","v":""},null,null,null,null,null,null,{"$f":"IFERROR(IF(AND(C58=\"Internal\",I58=90),VLOOKUP(K58,Points!$C$2:$G$6,MATCH(\"Internal Grade\",Points!$C$2:$G$2,0),FALSE),\"\"),\"\")","v":""},{"$f":"IF(S58=\"\",\"\",VLOOKUP(S58,Lookup!$L$2:$M$6,2,FALSE))","v":""},{"$f":"IFERROR(IF(AND(C58=\"Internal\",I58=60),VLOOKUP(K58,Points!$B$2:$G$6,MATCH(\"Internal Grade\",Points!$B$2:$G$2,0),FALSE),\"\"),\"\")","v":""},{"$f":"IF(U58=\"\",\"\",VLOOKUP(U58,Lookup!$L$2:$M$6,2,FALSE))","v":""},{"$f":"IF(AND(C58=\"External\",I58=120),VLOOKUP(K58,Points!$M$2:$N$35,MATCH(\"120 GLH Grade\",Points!$M$2:$N$2,0),FALSE),\"No\")","v":"No"},{"$f":"IF(W58=\"\",\"\",VLOOKUP(W58,Lookup!$L$1:$M$6,2,FALSE))","v":0},{"$f":"IF(AND(C58=\"External\",I58=90),VLOOKUP(K58,Points!$J$2:$K$27,MATCH(\"90 GLH Grade\",Points!$J$2:$K$2,0),FALSE),\"No\")","v":"No"},{"$f":"IF(Y58=\"\",\"\",VLOOKUP(Y58,Lookup!$L$1:$M$6,2,FALSE))","v":0}]
[null,"Optional",{"$f":"IFERROR(INDEX('F Diploma 540 Data Sheet'!$AM$3:$AM$1000,MATCH(E59&$E$3,'F Diploma 540 Data Sheet'!$AH$3:$AH$1000&'F Diploma 540 Data Sheet'!$AI$3:$AI$1000,0)),\"\")","v":0},{"$f":"IFERROR(INDEX('F Diploma 540 Data Sheet'!$AJ$3:$AJ$1000,MATCH(E59&$E$3,'F Diploma 540 Data Sheet'!$AH$3:$AH$1000&'F Diploma 540 Data Sheet'!$AI$3:$AI$1000,0)),\"\")","v":0},null,null,null,null,{"$f":"IFERROR(INDEX('F Diploma 540 Data Sheet'!$AL$3:$AL$1000,MATCH(E59&$E$3,'F Diploma 540 Data Sheet'!$AH$3:$AH$1000&'F Diploma 540 Data Sheet'!$AI$3:$AI$1000,0)),\"\")","v":0},null,{"$f":"IFERROR(IF(C59=\"Internal\",VLOOKUP(J59,Points!$A$2:$C$6,MATCH(C59&\" \"&I59&\" GLH\",Points!$A$2:$C$2,0),FALSE),\"\"),\"\")","v":""},{"$f":"IF(E59=\"\",\"\",VLOOKUP(SUM(R59,T59,V59,X59,Z59),Lookup!$M$1:$N$6,2,FALSE))","v":""},null,null,null,null,null,null,{"$f":"IFERROR(IF(AND(C59=\"Internal\",I59=90),VLOOKUP(K59,Points!$C$2:$G$6,MATCH(\"Internal Grade\",Points!$C$2:$G$2,0),FALSE),\"\"),\"\")","v":""},{"$f":"IF(S59=\"\",\"\",VLOOKUP(S59,Lookup!$L$2:$M$6,2,FALSE))","v":""},{"$f":"IFERROR(IF(AND(C59=\"Internal\",I59=60),VLOOKUP(K59,Points!$B$2:$G$6,MATCH(\"Internal Grade\",Points!$B$2:$G$2,0),FALSE),\"\"),\"\")","v":""},{"$f":"IF(U59=\"\",\"\",VLOOKUP(U59,Lookup!$L$2:$M$6,2,FALSE))","v":""},{"$f":"IF(AND(C59=\"External\",I59=120),VLOOKUP(K59,Points!$M$2:$N$35,MATCH(\"120 GLH Grade\",Points!$M$2:$N$2,0),FALSE),\"No\")","v":"No"},{"$f":"IF(W59=\"\",\"\",VLOOKUP(W59,Lookup!$L$1:$M$6,2,FALSE))","v":0},{"$f":"IF(AND(C59=\"External\",I59=90),VLOOKUP(K59,Points!$J$2:$K$27,MATCH(\"90 GLH Grade\",Points!$J$2:$K$2,0),FALSE),\"No\")","v":"No"},{"$f":"IF(Y59=\"\",\"\",VLOOKUP(Y59,Lookup!$L$1:$M$6,2,FALSE))","v":0}]
[null,"Optional",{"$f":"IFERROR(INDEX('F Diploma 540 Data Sheet'!$AM$3:$AM$1000,MATCH(E60&$E$3,'F Diploma 540 Data Sheet'!$AH$3:$AH$1000&'F Diploma 540 Data Sheet'!$AI$3:$AI$1000,0)),\"\")","v":0},{"$f":"IFERROR(INDEX('F Diploma 540 Data Sheet'!$AJ$3:$AJ$1000,MATCH(E60&$E$3,'F Diploma 540 Data Sheet'!$AH$3:$AH$1000&'F Diploma 540 Data Sheet'!$AI$3:$AI$1000,0)),\"\")","v":0},null,null,null,null,{"$f":"IFERROR(INDEX('F Diploma 540 Data Sheet'!$AL$3:$AL$1000,MATCH(E60&$E$3,'F Diploma 540 Data Sheet'!$AH$3:$AH$1000&'F Diploma 540 Data Sheet'!$AI$3:$AI$1000,0)),\"\")","v":0},null,{"$f":"IFERROR(IF(C60=\"Internal\",VLOOKUP(J60,Points!$A$2:$C$6,MATCH(C60&\" \"&I60&\" GLH\",Points!$A$2:$C$2,0),FALSE),\"\"),\"\")","v":""},{"$f":"IF(E60=\"\",\"\",VLOOKUP(SUM(R60,T60,V60,X60,Z60),Lookup!$M$1:$N$6,2,FALSE))","v":""},null,null,null,null,null,null,{"$f":"IFERROR(IF(AND(C60=\"Internal\",I60=90),VLOOKUP(K60,Points!$C$2:$G$6,MATCH(\"Internal Grade\",Points!$C$2:$G$2,0),FALSE),\"\"),\"\")","v":""},{"$f":"IF(S60=\"\",\"\",VLOOKUP(S60,Lookup!$L$2:$M$6,2,FALSE))","v":""},{"$f":"IFERROR(IF(AND(C60=\"Internal\",I60=60),VLOOKUP(K60,Points!$B$2:$G$6,MATCH(\"Internal Grade\",Points!$B$2:$G$2,0),FALSE),\"\"),\"\")","v":""},{"$f":"IF(U60=\"\",\"\",VLOOKUP(U60,Lookup!$L$2:$M$6,2,FALSE))","v":""},{"$f":"IF(AND(C60=\"External\",I60=120),VLOOKUP(K60,Points!$M$2:$N$35,MATCH(\"120 GLH Grade\",Points!$M$2:$N$2,0),FALSE),\"No\")","v":"No"},{"$f":"IF(W60=\"\",\"\",VLOOKUP(W60,Lookup!$L$1:$M$6,2,FALSE))","v":0},{"$f":"IF(AND(C60=\"External\",I60=90),VLOOKUP(K60,Points!$J$2:$K$27,MATCH(\"90 GLH Grade\",Points!$J$2:$K$2,0),FALSE),\"No\")","v":"No"},{"$f":"IF(Y60=\"\",\"\",VLOOKUP(Y60,Lookup!$L$1:$M$6,2,FALSE))","v":0}]
[null,null,null,null,null,null,null,null,{"$f":"SUM(I55:I60)","v":0}]
[null,null,null,null,null,null,null,null,{"$f":"SUM(I9:I60)-(I35+I47+I53)","v":0}]
[null,null,null,null,null,null,null,null,{"$f":"SUMIFS(I21:I60,L21:L60,\"U\")","v":0},"Overall Grade",{"$f":"SUM(K9:K60)","v":0},{"$f":"IF(OR(E3=\"CPLD\",E3=\"Music\",E3=\"Music (Production)\",E3=\"Performing Arts Practice\",E3=\"Performing Arts Practice (Acting)\",E3=\"Performing Arts Practice (Dance)\",E3=\"Performing Arts Practice (Musical Theatre)\",E3=\"Performing Arts Practice (Circus)\",E3=\"Production Arts Practice\",E3=\"Production Arts Practice (Design)\",E3=\"Production Arts Practice (Technical)\", E3=\"Production Arts Practice (Management)\", E3=\"Production Arts Practice (Make Up)\"),HLOOKUP(E3,$S$65:$AG$66,2,FALSE),S66)","v":"U"},null,null,null,null,null,null,{"$f":"COUNTIF(L9:L26,\"U\")","v":16}]
[null,null,null,null,null,null,null,null,{"$f":"SUMIFS(I9:I18,L9:L18,\"U\")","v":0},"Points",null,{"$f":"K63","v":0}]
[null,null,null,null,null,null,null,null,{"$f":"I62-I63-I64","v":0},null,null,null,null,null,null,null,null,null,"AG","TL","CPLD","Music","Music (Production)","Performing Arts Practice","Performing Arts Practice (Acting)","Performing Arts Practice (Dance)","Performing Arts Practice (Musical Theatre)","Performing Arts Practice (Circus)","Production Arts Practice","Production Arts Practice (Design)","Production Arts Practice (Technical)","Production Arts Practice (Management)","Production Arts Practice (Make Up)"]
[null,null,null,null,null,null,null,null,{"$f":"SUMIFS(I21:I26,L21:L26,\"U\")","v":0},null,null,null,null,null,null,null,null,null,{"$f":"IFERROR(IF(I64>0,\"U\",VLOOKUP($K$63,Points!$U$2:$V$13,MATCH(\"Foun Dip 540 Grade\",Points!$U$2:$V$2,0),TRUE)),\"\")","v":"U"},null,{"$f":"IFERROR(IF(COUNTIF($L$9:$L$18,\"U\"),\"U\",VLOOKUP($K$63,Points!$U$2:$V$13,MATCH(\"Foun Dip 540 Grade\",Points!$U$2:$V$2,0),TRUE)),\"\")","v":"U"},{"$f":"IF(I67>150,\"U\",VLOOKUP($K$63,Points!$U$2:$V$13,MATCH(\"Foun Dip 540 Grade\",Points!$U$2:$V$2,0),TRUE))","v":"U"},{"$f":"IF($I$67>150,\"U\",VLOOKUP($K$63,Points!$U$2:$V$13,MATCH(\"Foun Dip 540 Grade\",Points!$U$2:$V$2,0),TRUE))","v":"U"},{"$f":"IF($I$67>150,\"U\",VLOOKUP($K$63,Points!$U$2:$V$13,MATCH(\"Foun Dip 540 Grade\",Points!$U$2:$V$2,0),TRUE))","v":"U"},{"$f":"IF($I$67>150,\"U\",VLOOKUP($K$63,Points!$U$2:$V$13,MATCH(\"Foun Dip 540 Grade\",Points!$U$2:$V$2,0),TRUE))","v":"U"},{"$f":"IF($I$67>150,\"U\",VLOOKUP($K$63,Points!$U$2:$V$13,MATCH(\"Foun Dip 540 Grade\",Points!$U$2:$V$2,0),TRUE))","v":"U"},{"$f":"IF($I$67>150,\"U\",VLOOKUP($K$63,Points!$U$2:$V$13,MATCH(\"Foun Dip 540 Grade\",Points!$U$2:$V$2,0),TRUE))","v":"U"},{"$f":"IF($I$67>150,\"U\",VLOOKUP($K$63,Points!$U$2:$V$13,MATCH(\"Foun Dip 540 Grade\",Points!$U$2:$V$2,0),TRUE))","v":"U"},{"$f":"IF($I$67>150,\"U\",VLOOKUP($K$63,Points!$U$2:$V$13,MATCH(\"Foun Dip 540 Grade\",Points!$U$2:$V$2,0),TRUE))","v":"U"},{"$f":"IF($I$67>150,\"U\",VLOOKUP($K$63,Points!$U$2:$V$13,MATCH(\"Foun Dip 540 Grade\",Points!$U$2:$V$2,0),TRUE))","v":"U"},{"$f":"IF($I$67>150,\"U\",VLOOKUP($K$63,Points!$U$2:$V$13,MATCH(\"Foun Dip 540 Grade\",Points!$U$2:$V$2,0),TRUE))","v":"U"},{"$f":"IF($I$67>150,\"U\",VLOOKUP($K$63,Points!$U$2:$V$13,MATCH(\"Foun Dip 540 Grade\",Points!$U$2:$V$2,0),TRUE))","v":"U"},{"$f":"IF($I$67>150,\"U\",VLOOKUP($K$63,Points!$U$2:$V$13,MATCH(\"Foun Dip 540 Grade\",Points!$U$2:$V$2,0),TRUE))","v":"U"}]
[null,null,null,null,null,null,null,null,{"$f":"SUMIFS(I9:I12,L9:L12,\"U\")","v":0},"Calculate an estimate of the externally assessed unit grades needed to reach a qualification grade based on the internally assessed unit grades. You must enter all internally assessed grades and may enter any externally assessed grades already known, then select an overall qualification grade below."]
[]
[]
[null,null,null,null,null,null,null,null,null,"Qualification Grade",null,null,null,null,null,null,null,null,null,null,null,null,null,null,null,null,null,null,null,{"$f":"COUNTIF(L4:L21,\"#N/A\")","v":0}]
[null,null,null,null,null,null,null,null,null,"Bottom Grade point total",null,{"$f":"IF($L$70=\"\",0,VLOOKUP($L$70,'Points Contingency'!$M$2:$O$6,2,FALSE))","v":0}]
[null,null,null,null,null,null,null,null,null,"Top Grade point total",null,{"$f":"IF($L$70=\"\",0,VLOOKUP($L$70,'Points Contingency'!$M$2:$O$6,3,FALSE))","v":0}]
[null,null,null,null,null,null,null,null,null,"Points for externals",null,{"$f":"IF(L71-L64<0,L72-L64,L71-L64)","v":0}]
[null,null,null,null,null,null,null,null,null,"No. of 90 GLH externals",null,{"$f":"COUNTIFS($C$9:$C$60,\"External\",$I$9:I$60,90,$L$9:$L$60,\"U\")","v":0}]
[null,null,null,null,null,null,null,null,null,"No. of 120 GLH externals",null,{"$f":"COUNTIFS($C$9:$C$60,\"External\",$I$9:I$60,120,$L$9:$L$60,\"U\")","v":0}]
[null,null,null,null,null,null,null,null,null,"Total GLH external",null,{"$f":"(L74*90)+(L75*120)","v":0}]
[null,null,null,null,null,null,null,null,null,"Scale for 90 GLH",null,{"$f":"IFERROR(L74*90/L76,\"\")","v":""}]
[null,null,null,null,null,null,null,null,null,"Scale for 120 GLH",null,{"$f":"IFERROR(L75*120/L76,\"\")","v":""}]
[null,null,null,null,null,null,null,null,null,"Total points for externals",null,{"$f":"MAX(L73,L84)","v":0},null,null,null,null,null,null,null,null,null,null,null,null,null,null,null,null,null,28]
[null,null,null,null,null,null,null,null,null,"Points per 90 GLH external",null,{"$f":"IFERROR((L79*L77)/L74,\"\")","v":""}]
[null,null,null,null,null,null,null,null,null,"Points per 120 GLH external",null,28]
[null,null,null,null,null,null,null,null,null,"90GLH points",null,{"$f":"IFERROR(ROUND(L80,0),\"\")","v":""}]
[null,null,null,null,null,null,null,null,null,"120GLH points",null,{"$f":"ROUND(L81,0)","v":28}]
[null,null,null,null,null,null,null,null,null,"Points to N",null,{"$f":"(L74*AG5)+(L75*AH5)","v":0}]
[null,null,null,null,null,null,null,null,null,"Total points external min",null,{"$f":"MIN(L73,L84)","v":0}]

{"sheet":"ADMP Foundation Diploma 540","index":7,"n_rows":24,"n_cols":19,"rows_kept":24,"cut":false,"hidden":false,"merged":[[2,4,2,7],[6,4,6,7],[7,1,7,8],[0,17,0,18]]}
[null,null,null,null,null,null,null,null,null,null,null,null,null,null,null,null,null,"Points for each criterion in units"]
[null,null,null,null,null,null,null,null,null,null,null,null,null,null,null,null,null,null,"A1 & A2"]
[null,null,"Select Sector","Start →",null,null,null,null,null,null,null,null,null,null,null,null,null,"U",0]
[null,null,null,null,"1. Select your sector from the dropdown list in the cell above",null,null,null,null,null,null,null,null,null,null,null,null,"Pass",1]
[null,null,null,null,null,null,null,null,null,null,null,null,null,null,null,null,null,"Merit",2]
[null,null,null,null,null,null,null,null,null,null,null,null,null,null,null,null,null,"Distinction",3]
[null,null,"Assessment Type","Unit Number","Unit Name",null,null,null,"GLH",null,"Points","Unit Grade"]
[null,"Learners must achieve\na Pass or above in all assessment criteria for all assessment units",null,null,null,null,null,null,null,"3. Enter the points or grade for the units below"]
[null,null,null,{"$f":"IFERROR(INDEX('F Diploma 540 Data Sheet'!$A$3:$E$238,SMALL(IF('F Diploma 540 Data Sheet'!$A$3:$A$238=$E$3,ROW('F Diploma 540 Data Sheet'!$A$3:$A$238)),ROW(1:1))-2,2),\"\")","v":0},{"$f":"IFERROR(INDEX('F Diploma 540 Data Sheet'!$A$3:$E$238,SMALL(IF('F Diploma 540 Data Sheet'!$A$3:$A$238=$E$3,ROW('F Diploma 540 Data Sheet'!$A$3:$A$238)),ROW(1:1))-2,3),\"\")","v":0},null,null,null,{"$f":"IFERROR(INDEX('F Diploma 540 Data Sheet'!$A$3:$E$238,SMALL(IF('F Diploma 540 Data Sheet'!$A$3:$A$238=$E$3,ROW('F Diploma 540 Data Sheet'!$A$3:$A$238)),ROW(1:1))-2,4),\"\")","v":0}]
[null,null,null,{"$f":"IFERROR(INDEX('F Diploma 540 Data Sheet'!$A$3:$E$238,SMALL(IF('F Diploma 540 Data Sheet'!$A$3:$A$238=$E$3,ROW('F Diploma 540 Data Sheet'!$A$3:$A$238)),ROW(2:2))-2,2),\"\")","v":0},{"$f":"IFERROR(INDEX('F Diploma 540 Data Sheet'!$A$3:$E$238,SMALL(IF('F Diploma 540 Data Sheet'!$A$3:$A$238=$E$3,ROW('F Diploma 540 Data Sheet'!$A$3:$A$238)),ROW(2:2))-2,3),\"\")","v":0},null,null,null,{"$f":"IFERROR(INDEX('F Diploma 540 Data Sheet'!$A$3:$E$238,SMALL(IF('F Diploma 540 Data Sheet'!$A$3:$A$238=$E$3,ROW('F Diploma 540 Data Sheet'!$A$3:$A$238)),ROW(2:2))-2,4),\"\")","v":0},null,{"$f":"SUM(K11:K15)","v":0}]
[null,"Mandatory",{"$f":"IFERROR(INDEX('F Diploma 540 Data Sheet'!$A$3:$E$238,SMALL(IF('F Diploma 540 Data Sheet'!$A$3:$A$238=$E$3,ROW('F Diploma 540 Data Sheet'!$A$3:$A$238)),ROW(3:3))-2,5),\"\")","v":0},{"$f":"IFERROR(INDEX('F Diploma 540 Data Sheet'!$A$3:$E$238,SMALL(IF('F Diploma 540 Data Sheet'!$A$3:$A$238=$E$3,ROW('F Diploma 540 Data Sheet'!$A$3:$A$238)),ROW(3:3))-2,2),\"\")","v":0},{"$f":"IFERROR(INDEX('F Diploma 540 Data Sheet'!$A$3:$E$238,SMALL(IF('F Diploma 540 Data Sheet'!$A$3:$A$238=$E$3,ROW('F Diploma 540 Data Sheet'!$A$3:$A$238)),ROW(3:3))-2,3),\"\")","v":0},null,null,null,{"$f":"IFERROR(INDEX('F Diploma 540 Data Sheet'!$A$3:$E$238,SMALL(IF('F Diploma 540 Data Sheet'!$A$3:$A$238=$E$3,ROW('F Diploma 540 Data Sheet'!$A$3:$A$238)),ROW(3:3))-2,4),\"\")","v":0},null,{"$f":"IFERROR(IF(C11=\"External\",VLOOKUP(J11,Points!$I$2:$M$36,MATCH(C11&\" \"&I11&\" GLH\",Points!$I$2:$M$2,0),FALSE),VLOOKUP(J11,Points!$A$8:$C$12,MATCH(C11&\" \"&I11&\" GLH\",Points!$A$8:$D$8,0),FALSE)),\"\")","v":""},{"$f":"IF(E11=\"\",\"\",VLOOKUP(SUM(N11,P11,R11,T11,V11,X11,Z11),Lookup!$M$1:$N$6,2,FALSE))","v":"U"},{"$f":"IFERROR(IF(AND(C11=\"Internal\",I11=81),VLOOKUP(K11,Points!$B$8:$D$12,MATCH(\"Internal Grade\",Points!$B$8:$D$8,0),FALSE),\"\"),\"\")","v":""},{"$f":"IF(M11=\"\",\"\",VLOOKUP(M11,Lookup!$L$2:$M$6,2,FALSE))","v":""},{"$f":"IFERROR(IF(AND(C11=\"Internal\",I11=27),VLOOKUP(K11,Points!$C$8:$D$12,MATCH(\"Internal Grade\",Points!$C$8:$D$8,0),FALSE),\"\"),\"\")","v":""},{"$f":"IF(O11=\"\",\"\",VLOOKUP(O11,Lookup!$L$2:$M$6,2,FALSE))","v":""}]
[null,"Mandatory",{"$f":"IFERROR(INDEX('F Diploma 540 Data Sheet'!$A$3:$E$238,SMALL(IF('F Diploma 540 Data Sheet'!$A$3:$A$238=$E$3,ROW('F Diploma 540 Data Sheet'!$A$3:$A$238)),ROW(4:4))-2,5),\"\")","v":0},{"$f":"IFERROR(INDEX('F Diploma 540 Data Sheet'!$A$3:$E$238,SMALL(IF('F Diploma 540 Data Sheet'!$A$3:$A$238=$E$3,ROW('F Diploma 540 Data Sheet'!$A$3:$A$238)),ROW(4:4))-2,2),\"\")","v":0},{"$f":"IFERROR(INDEX('F Diploma 540 Data Sheet'!$A$3:$E$238,SMALL(IF('F Diploma 540 Data Sheet'!$A$3:$A$238=$E$3,ROW('F Diploma 540 Data Sheet'!$A$3:$A$238)),ROW(4:4))-2,3),\"\")","v":0},null,null,null,{"$f":"IFERROR(INDEX('F Diploma 540 Data Sheet'!$A$3:$E$238,SMALL(IF('F Diploma 540 Data Sheet'!$A$3:$A$238=$E$3,ROW('F Diploma 540 Data Sheet'!$A$3:$A$238)),ROW(4:4))-2,4),\"\")","v":0},null,{"$f":"IFERROR(IF(C12=\"External\",VLOOKUP(J12,Points!$I$2:$M$36,MATCH(C12&\" \"&I12&\" GLH\",Points!$I$2:$M$2,0),FALSE),VLOOKUP(J12,Points!$A$8:$C$12,MATCH(C12&\" \"&I12&\" GLH\",Points!$A$8:$D$8,0),FALSE)),\"\")","v":""},{"$f":"IF(E12=\"\",\"\",VLOOKUP(SUM(N12,P12,R12,T12,V12,X12,Z12),Lookup!$M$1:$N$6,2,FALSE))","v":"U"},{"$f":"IFERROR(IF(AND(C12=\"Internal\",I12=81),VLOOKUP(K12,Points!$B$8:$D$12,MATCH(\"Internal Grade\",Points!$B$8:$D$8,0),FALSE),\"\"),\"\")","v":""},{"$f":"IF(M12=\"\",\"\",VLOOKUP(M12,Lookup!$L$2:$M$6,2,FALSE))","v":""},{"$f":"IFERROR(IF(AND(C12=\"Internal\",I12=27),VLOOKUP(K12,Points!$C$8:$D$12,MATCH(\"Internal Grade\",Points!$C$8:$D$8,0),FALSE),\"\"),\"\")","v":""},{"$f":"IF(O12=\"\",\"\",VLOOKUP(O12,Lookup!$L$2:$M$6,2,FALSE))","v":""}]
[null,"Mandatory",{"$f":"IFERROR(INDEX('F Diploma 540 Data Sheet'!$A$3:$E$238,SMALL(IF('F Diploma 540 Data Sheet'!$A$3:$A$238=$E$3,ROW('F Diploma 540 Data Sheet'!$A$3:$A$238)),ROW(5:5))-2,5),\"\")","v":0},{"$f":"IFERROR(INDEX('F Diploma 540 Data Sheet'!$A$3:$E$238,SMALL(IF('F Diploma 540 Data Sheet'!$A$3:$A$238=$E$3,ROW('F Diploma 540 Data Sheet'!$A$3:$A$238)),ROW(5:5))-2,2),\"\")","v":0},{"$f":"IFERROR(INDEX('F Diploma 540 Data Sheet'!$A$3:$E$238,SMALL(IF('F Diploma 540 Data Sheet'!$A$3:$A$238=$E$3,ROW('F Diploma 540 Data Sheet'!$A$3:$A$238)),ROW(5:5))-2,3),\"\")","v":0},null,null,null,{"$f":"IFERROR(INDEX('F Diploma 540 Data Sheet'!$A$3:$E$238,SMALL(IF('F Diploma 540 Data Sheet'!$A$3:$A$238=$E$3,ROW('F Diploma 540 Data Sheet'!$A$3:$A$238)),ROW(5:5))-2,4),\"\")","v":0},null,{"$f":"IFERROR(IF(C13=\"External\",VLOOKUP(J13,Points!$I$2:$M$36,MATCH(C13&\" \"&I13&\" GLH\",Points!$I$2:$M$2,0),FALSE),VLOOKUP(J13,Points!$A$8:$C$12,MATCH(C13&\" \"&I13&\" GLH\",Points!$A$8:$D$8,0),FALSE)),\"\")","v":""},{"$f":"IF(E13=\"\",\"\",VLOOKUP(SUM(N13,P13,R13,T13,V13,X13,Z13),Lookup!$M$1:$N$6,2,FALSE))","v":"U"},{"$f":"IFERROR(IF(AND(C13=\"Internal\",I13=81),VLOOKUP(K13,Points!$B$8:$D$12,MATCH(\"Internal Grade\",Points!$B$8:$D$8,0),FALSE),\"\"),\"\")","v":""},{"$f":"IF(M13=\"\",\"\",VLOOKUP(M13,Lookup!$L$2:$M$6,2,FALSE))","v":""},{"$f":"IFERROR(IF(AND(C13=\"Internal\",I13=27),VLOOKUP(K13,Points!$C$8:$D$12,MATCH(\"Internal Grade\",Points!$C$8:$D$8,0),FALSE),\"\"),\"\")","v":""},{"$f":"IF(O13=\"\",\"\",VLOOKUP(O13,Lookup!$L$2:$M$6,2,FALSE))","v":""}]
[null,"Mandatory",{"$f":"IFERROR(INDEX('F Diploma 540 Data Sheet'!$A$3:$E$238,SMALL(IF('F Diploma 540 Data Sheet'!$A$3:$A$238=$E$3,ROW('F Diploma 540 Data Sheet'!$A$3:$A$238)),ROW(6:6))-2,5),\"\")","v":0},{"$f":"IFERROR(INDEX('F Diploma 540 Data Sheet'!$A$3:$E$238,SMALL(IF('F Diploma 540 Data Sheet'!$A$3:$A$238=$E$3,ROW('F Diploma 540 Data Sheet'!$A$3:$A$238)),ROW(6:6))-2,2),\"\")","v":0},{"$f":"IFERROR(INDEX('F Diploma 540 Data Sheet'!$A$3:$E$238,SMALL(IF('F Diploma 540 Data Sheet'!$A$3:$A$238=$E$3,ROW('F Diploma 540 Data Sheet'!$A$3:$A$238)),ROW(6:6))-2,3),\"\")","v":0},null,null,null,{"$f":"IFERROR(INDEX('F Diploma 540 Data Sheet'!$A$3:$E$238,SMALL(IF('F Diploma 540 Data Sheet'!$A$3:$A$238=$E$3,ROW('F Diploma 540 Data Sheet'!$A$3:$A$238)),ROW(6:6))-2,4),\"\")","v":0},null,{"$f":"IFERROR(IF(C14=\"External\",VLOOKUP(J14,Points!$I$2:$M$36,MATCH(C14&\" \"&I14&\" GLH\",Points!$I$2:$M$2,0),FALSE),VLOOKUP(J14,Points!$A$8:$C$12,MATCH(C14&\" \"&I14&\" GLH\",Points!$A$8:$D$8,0),FALSE)),\"\")","v":""},{"$f":"IF(E14=\"\",\"\",VLOOKUP(SUM(N14,P14,R14,T14,V14,X14,Z14),Lookup!$M$1:$N$6,2,FALSE))","v":"U"},{"$f":"IFERROR(IF(AND(C14=\"Internal\",I14=81),VLOOKUP(K14,Points!$B$8:$D$12,MATCH(\"Internal Grade\",Points!$B$8:$D$8,0),FALSE),\"\"),\"\")","v":""},{"$f":"IF(M14=\"\",\"\",VLOOKUP(M14,Lookup!$L$2:$M$6,2,FALSE))","v":""},{"$f":"IFERROR(IF(AND(C14=\"Internal\",I14=27),VLOOKUP(K14,Points!$C$8:$D$12,MATCH(\"Internal Grade\",Points!$C$8:$D$8,0),FALSE),\"\"),\"\")","v":""},{"$f":"IF(O14=\"\",\"\",VLOOKUP(O14,Lookup!$L$2:$M$6,2,FALSE))","v":""}]
[null,"Mandatory",{"$f":"IFERROR(INDEX('F Diploma 540 Data Sheet'!$A$3:$E$238,SMALL(IF('F Diploma 540 Data Sheet'!$A$3:$A$238=$E$3,ROW('F Diploma 540 Data Sheet'!$A$3:$A$238)),ROW(7:7))-2,5),\"\")","v":0},{"$f":"IFERROR(INDEX('F Diploma 540 Data Sheet'!$A$3:$E$238,SMALL(IF('F Diploma 540 Data Sheet'!$A$3:$A$238=$E$3,ROW('F Diploma 540 Data Sheet'!$A$3:$A$238)),ROW(7:7))-2,2),\"\")","v":0},{"$f":"IFERROR(INDEX('F Diploma 540 Data Sheet'!$A$3:$E$238,SMALL(IF('F Diploma 540 Data Sheet'!$A$3:$A$238=$E$3,ROW('F Diploma 540 Data Sheet'!$A$3:$A$238)),ROW(7:7))-2,3),\"\")","v":0},null,null,null,{"$f":"IFERROR(INDEX('F Diploma 540 Data Sheet'!$A$3:$E$238,SMALL(IF('F Diploma 540 Data Sheet'!$A$3:$A$238=$E$3,ROW('F Diploma 540 Data Sheet'!$A$3:$A$238)),ROW(7:7))-2,4),\"\")","v":0},null,{"$f":"IFERROR(IF(C15=\"External\",VLOOKUP(J15,Points!$I$2:$M$36,MATCH(C15&\" \"&I15&\" GLH\",Points!$I$2:$M$2,0),FALSE),VLOOKUP(J15,Points!$A$8:$C$12,MATCH(C15&\" \"&I15&\" GLH\",Points!$A$8:$D$8,0),FALSE)),\"\")","v":""},{"$f":"IF(E15=\"\",\"\",VLOOKUP(SUM(N15,P15,R15,T15,V15,X15,Z15),Lookup!$M$1:$N$6,2,FALSE))","v":"U"},{"$f":"IFERROR(IF(AND(C15=\"Internal\",I15=81),VLOOKUP(K15,Points!$B$8:$D$12,MATCH(\"Internal Grade\",Points!$B$8:$D$8,0),FALSE),\"\"),\"\")","v":""},{"$f":"IF(M15=\"\",\"\",VLOOKUP(M15,Lookup!$L$2:$M$6,2,FALSE))","v":""},{"$f":"IFERROR(IF(AND(C15=\"Internal\",I15=27),VLOOKUP(K15,Points!$C$8:$D$12,MATCH(\"Internal Grade\",Points!$C$8:$D$8,0),FALSE),\"\"),\"\")","v":""},{"$f":"IF(O15=\"\",\"\",VLOOKUP(O15,Lookup!$L$2:$M$6,2,FALSE))","v":""}]
[null,null,null,{"$f":"IFERROR(INDEX('F Diploma 540 Data Sheet'!$A$3:$E$238,SMALL(IF('F Diploma 540 Data Sheet'!$A$3:$A$238=$E$3,ROW('F Diploma 540 Data Sheet'!$A$3:$A$238)),ROW(8:8))-2,2),\"\")","v":0},{"$f":"IFERROR(INDEX('F Diploma 540 Data Sheet'!$A$3:$E$238,SMALL(IF('F Diploma 540 Data Sheet'!$A$3:$A$238=$E$3,ROW('F Diploma 540 Data Sheet'!$A$3:$A$238)),ROW(8:8))-2,3),\"\")","v":0},null,null,null,{"$f":"IFERROR(INDEX('F Diploma 540 Data Sheet'!$A$3:$E$238,SMALL(IF('F Diploma 540 Data Sheet'!$A$3:$A$238=$E$3,ROW('F Diploma 540 Data Sheet'!$A$3:$A$238)),ROW(8:8))-2,4),\"\")","v":0},null,{"$f":"SUM(K17:K21)","v":0}]
[null,"Mandatory",{"$f":"IFERROR(INDEX('F Diploma 540 Data Sheet'!$A$3:$E$238,SMALL(IF('F Diploma 540 Data Sheet'!$A$3:$A$238=$E$3,ROW('F Diploma 540 Data Sheet'!$A$3:$A$238)),ROW(9:9))-2,5),\"\")","v":0},{"$f":"IFERROR(INDEX('F Diploma 540 Data Sheet'!$A$3:$E$238,SMALL(IF('F Diploma 540 Data Sheet'!$A$3:$A$238=$E$3,ROW('F Diploma 540 Data Sheet'!$A$3:$A$238)),ROW(9:9))-2,2),\"\")","v":0},{"$f":"IFERROR(INDEX('F Diploma 540 Data Sheet'!$A$3:$E$238,SMALL(IF('F Diploma 540 Data Sheet'!$A$3:$A$238=$E$3,ROW('F Diploma 540 Data Sheet'!$A$3:$A$238)),ROW(9:9))-2,3),\"\")","v":0},null,null,null,{"$f":"IFERROR(INDEX('F Diploma 540 Data Sheet'!$A$3:$E$238,SMALL(IF('F Diploma 540 Data Sheet'!$A$3:$A$238=$E$3,ROW('F Diploma 540 Data Sheet'!$A$3:$A$238)),ROW(9:9))-2,4),\"\")","v":0},null,{"$f":"IFERROR(IF(C17=\"External\",VLOOKUP(J17,Points!$I$2:$M$36,MATCH(C17&\" \"&I17&\" GLH\",Points!$I$2:$M$2,0),FALSE),VLOOKUP(J17,Points!$A$8:$C$12,MATCH(C17&\" \"&I17&\" GLH\",Points!$A$8:$D$8,0),FALSE)),\"\")","v":""},{"$f":"IF(E17=\"\",\"\",VLOOKUP(SUM(N17,P17,R17,T17,V17,X17,Z17),Lookup!$M$1:$N$6,2,FALSE))","v":"U"},{"$f":"IFERROR(IF(AND(C17=\"Internal\",I17=81),VLOOKUP(K17,Points!$B$8:$D$12,MATCH(\"Internal Grade\",Points!$B$8:$D$8,0),FALSE),\"\"),\"\")","v":""},{"$f":"IF(M17=\"\",\"\",VLOOKUP(M17,Lookup!$L$2:$M$6,2,FALSE))","v":""},{"$f":"IFERROR(IF(AND(C17=\"Internal\",I17=27),VLOOKUP(K17,Points!$C$8:$D$12,MATCH(\"Internal Grade\",Points!$C$8:$D$8,0),FALSE),\"\"),\"\")","v":""},{"$f":"IF(O17=\"\",\"\",VLOOKUP(O17,Lookup!$L$2:$M$6,2,FALSE))","v":""}]
[null,"Mandatory",{"$f":"IFERROR(INDEX('F Diploma 540 Data Sheet'!$A$3:$E$238,SMALL(IF('F Diploma 540 Data Sheet'!$A$3:$A$238=$E$3,ROW('F Diploma 540 Data Sheet'!$A$3:$A$238)),ROW(10:10))-2,5),\"\")","v":0},{"$f":"IFERROR(INDEX('F Diploma 540 Data Sheet'!$A$3:$E$238,SMALL(IF('F Diploma 540 Data Sheet'!$A$3:$A$238=$E$3,ROW('F Diploma 540 Data Sheet'!$A$3:$A$238)),ROW(10:10))-2,2),\"\")","v":0},{"$f":"IFERROR(INDEX('F Diploma 540 Data Sheet'!$A$3:$E$238,SMALL(IF('F Diploma 540 Data Sheet'!$A$3:$A$238=$E$3,ROW('F Diploma 540 Data Sheet'!$A$3:$A$238)),ROW(10:10))-2,3),\"\")","v":0},null,null,null,{"$f":"IFERROR(INDEX('F Diploma 540 Data Sheet'!$A$3:$E$238,SMALL(IF('F Diploma 540 Data Sheet'!$A$3:$A$238=$E$3,ROW('F Diploma 540 Data Sheet'!$A$3:$A$238)),ROW(10:10))-2,4),\"\")","v":0},null,{"$f":"IFERROR(IF(C18=\"External\",VLOOKUP(J18,Points!$I$2:$M$36,MATCH(C18&\" \"&I18&\" GLH\",Points!$I$2:$M$2,0),FALSE),VLOOKUP(J18,Points!$A$8:$C$12,MATCH(C18&\" \"&I18&\" GLH\",Points!$A$8:$D$8,0),FALSE)),\"\")","v":""},{"$f":"IF(E18=\"\",\"\",VLOOKUP(SUM(N18,P18,R18,T18,V18,X18,Z18),Lookup!$M$1:$N$6,2,FALSE))","v":"U"},{"$f":"IFERROR(IF(AND(C18=\"Internal\",I18=81),VLOOKUP(K18,Points!$B$8:$D$12,MATCH(\"Internal Grade\",Points!$B$8:$D$8,0),FALSE),\"\"),\"\")","v":""},{"$f":"IF(M18=\"\",\"\",VLOOKUP(M18,Lookup!$L$2:$M$6,2,FALSE))","v":""},{"$f":"IFERROR(IF(AND(C18=\"Internal\",I18=27),VLOOKUP(K18,Points!$C$8:$D$12,MATCH(\"Internal Grade\",Points!$C$8:$D$8,0),FALSE),\"\"),\"\")","v":""},{"$f":"IF(O18=\"\",\"\",VLOOKUP(O18,Lookup!$L$2:$M$6,2,FALSE))","v":""}]
[null,"Mandatory",{"$f":"IFERROR(INDEX('F Diploma 540 Data Sheet'!$A$3:$E$238,SMALL(IF('F Diploma 540 Data Sheet'!$A$3:$A$238=$E$3,ROW('F Diploma 540 Data Sheet'!$A$3:$A$238)),ROW(11:11))-2,5),\"\")","v":0},{"$f":"IFERROR(INDEX('F Diploma 540 Data Sheet'!$A$3:$E$238,SMALL(IF('F Diploma 540 Data Sheet'!$A$3:$A$238=$E$3,ROW('F Diploma 540 Data Sheet'!$A$3:$A$238)),ROW(11:11))-2,2),\"\")","v":0},{"$f":"IFERROR(INDEX('F Diploma 540 Data Sheet'!$A$3:$E$238,SMALL(IF('F Diploma 540 Data Sheet'!$A$3:$A$238=$E$3,ROW('F Diploma 540 Data Sheet'!$A$3:$A$238)),ROW(11:11))-2,3),\"\")","v":0},null,null,null,{"$f":"IFERROR(INDEX('F Diploma 540 Data Sheet'!$A$3:$E$238,SMALL(IF('F Diploma 540 Data Sheet'!$A$3:$A$238=$E$3,ROW('F Diploma 540 Data Sheet'!$A$3:$A$238)),ROW(11:11))-2,4),\"\")","v":0},null,{"$f":"IFERROR(IF(C19=\"External\",VLOOKUP(J19,Points!$I$2:$M$36,MATCH(C19&\" \"&I19&\" GLH\",Points!$I$2:$M$2,0),FALSE),VLOOKUP(J19,Points!$A$8:$C$12,MATCH(C19&\" \"&I19&\" GLH\",Points!$A$8:$D$8,0),FALSE)),\"\")","v":""},{"$f":"IF(E19=\"\",\"\",VLOOKUP(SUM(N19,P19,R19,T19,V19,X19,Z19),Lookup!$M$1:$N$6,2,FALSE))","v":"U"},{"$f":"IFERROR(IF(AND(C19=\"Internal\",I19=81),VLOOKUP(K19,Points!$B$8:$D$12,MATCH(\"Internal Grade\",Points!$B$8:$D$8,0),FALSE),\"\"),\"\")","v":""},{"$f":"IF(M19=\"\",\"\",VLOOKUP(M19,Lookup!$L$2:$M$6,2,FALSE))","v":""},{"$f":"IFERROR(IF(AND(C19=\"Internal\",I19=27),VLOOKUP(K19,Points!$C$8:$D$12,MATCH(\"Internal Grade\",Points!$C$8:$D$8,0),FALSE),\"\"),\"\")","v":""},{"$f":"IF(O19=\"\",\"\",VLOOKUP(O19,Lookup!$L$2:$M$6,2,FALSE))","v":""}]
[null,"Mandatory",{"$f":"IFERROR(INDEX('F Diploma 540 Data Sheet'!$A$3:$E$238,SMALL(IF('F Diploma 540 Data Sheet'!$A$3:$A$238=$E$3,ROW('F Diploma 540 Data Sheet'!$A$3:$A$238)),ROW(12:12))-2,5),\"\")","v":0},{"$f":"IFERROR(INDEX('F Diploma 540 Data Sheet'!$A$3:$E$238,SMALL(IF('F Diploma 540 Data Sheet'!$A$3:$A$238=$E$3,ROW('F Diploma 540 Data Sheet'!$A$3:$A$238)),ROW(12:12))-2,2),\"\")","v":0},{"$f":"IFERROR(INDEX('F Diploma 540 Data Sheet'!$A$3:$E$238,SMALL(IF('F Diploma 540 Data Sheet'!$A$3:$A$238=$E$3,ROW('F Diploma 540 Data Sheet'!$A$3:$A$238)),ROW(12:12))-2,3),\"\")","v":0},null,null,null,{"$f":"IFERROR(INDEX('F Diploma 540 Data Sheet'!$A$3:$E$238,SMALL(IF('F Diploma 540 Data Sheet'!$A$3:$A$238=$E$3,ROW('F Diploma 540 Data Sheet'!$A$3:$A$238)),ROW(12:12))-2,4),\"\")","v":0},null,{"$f":"IFERROR(IF(C20=\"External\",VLOOKUP(J20,Points!$I$2:$M$36,MATCH(C20&\" \"&I20&\" GLH\",Points!$I$2:$M$2,0),FALSE),VLOOKUP(J20,Points!$A$8:$C$12,MATCH(C20&\" \"&I20&\" GLH\",Points!$A$8:$D$8,0),FALSE)),\"\")","v":""},{"$f":"IF(E20=\"\",\"\",VLOOKUP(SUM(N20,P20,R20,T20,V20,X20,Z20),Lookup!$M$1:$N$6,2,FALSE))","v":"U"},{"$f":"IFERROR(IF(AND(C20=\"Internal\",I20=81),VLOOKUP(K20,Points!$B$8:$D$12,MATCH(\"Internal Grade\",Points!$B$8:$D$8,0),FALSE),\"\"),\"\")","v":""},{"$f":"IF(M20=\"\",\"\",VLOOKUP(M20,Lookup!$L$2:$M$6,2,FALSE))","v":""},{"$f":"IFERROR(IF(AND(C20=\"Internal\",I20=27),VLOOKUP(K20,Points!$C$8:$D$12,MATCH(\"Internal Grade\",Points!$C$8:$D$8,0),FALSE),\"\"),\"\")","v":""},{"$f":"IF(O20=\"\",\"\",VLOOKUP(O20,Lookup!$L$2:$M$6,2,FALSE))","v":""}]
[null,"Mandatory",{"$f":"IFERROR(INDEX('F Diploma 540 Data Sheet'!$A$3:$E$238,SMALL(IF('F Diploma 540 Data Sheet'!$A$3:$A$238=$E$3,ROW('F Diploma 540 Data Sheet'!$A$3:$A$238)),ROW(13:13))-2,5),\"\")","v":0},{"$f":"IFERROR(INDEX('F Diploma 540 Data Sheet'!$A$3:$E$238,SMALL(IF('F Diploma 540 Data Sheet'!$A$3:$A$238=$E$3,ROW('F Diploma 540 Data Sheet'!$A$3:$A$238)),ROW(13:13))-2,2),\"\")","v":0},{"$f":"IFERROR(INDEX('F Diploma 540 Data Sheet'!$A$3:$E$238,SMALL(IF('F Diploma 540 Data Sheet'!$A$3:$A$238=$E$3,ROW('F Diploma 540 Data Sheet'!$A$3:$A$238)),ROW(13:13))-2,3),\"\")","v":0},null,null,null,{"$f":"IFERROR(INDEX('F Diploma 540 Data Sheet'!$A$3:$E$238,SMALL(IF('F Diploma 540 Data Sheet'!$A$3:$A$238=$E$3,ROW('F Diploma 540 Data Sheet'!$A$3:$A$238)),ROW(13:13))-2,4),\"\")","v":0},null,{"$f":"IFERROR(IF(C21=\"External\",VLOOKUP(J21,Points!$I$2:$M$36,MATCH(C21&\" \"&I21&\" GLH\",Points!$I$2:$M$2,0),FALSE),VLOOKUP(J21,Points!$A$8:$C$12,MATCH(C21&\" \"&I21&\" GLH\",Points!$A$8:$D$8,0),FALSE)),\"\")","v":""},{"$f":"IF(E21=\"\",\"\",VLOOKUP(SUM(N21,P21,R21,T21,V21,X21,Z21),Lookup!$M$1:$N$6,2,FALSE))","v":"U"},{"$f":"IFERROR(IF(AND(C21=\"Internal\",I21=81),VLOOKUP(K21,Points!$B$8:$D$12,MATCH(\"Internal Grade\",Points!$B$8:$D$8,0),FALSE),\"\"),\"\")","v":""},{"$f":"IF(M21=\"\",\"\",VLOOKUP(M21,Lookup!$L$2:$M$6,2,FALSE))","v":""},{"$f":"IFERROR(IF(AND(C21=\"Internal\",I21=27),VLOOKUP(K21,Points!$C$8:$D$12,MATCH(\"Internal Grade\",Points!$C$8:$D$8,0),FALSE),\"\"),\"\")","v":""},{"$f":"IF(O21=\"\",\"\",VLOOKUP(O21,Lookup!$L$2:$M$6,2,FALSE))","v":""}]
[null,null,null,null,null,null,null,null,{"$f":"SUMIFS(I11:I21,L11:L21,\"U\")","v":0}]
[null,null,null,null,null,null,null,null,null,"Overall Grade",{"$f":"SUM(K11:K15,K17:K21)","v":0},{"$f":"N23","v":"U"},null,{"$f":"IFERROR(IF(I22>0,\"U\",VLOOKUP($K$23,Points!$E$8:$F$13,MATCH(\"ADM FD 540 Grade\",Points!$E$8:$F$8,0),TRUE)),\"\")","v":"U"}]
[null,null,null,null,null,null,null,null,null,"Points",null,{"$f":"K23","v":0}]

{"sheet":"Diploma","index":8,"n_rows":85,"n_cols":39,"rows_kept":85,"cut":false,"hidden":false,"merged":[[2,4,2,7],[6,4,6,7],[1,29,1,31],[1,33,1,36],[66,9,68,11]]}
[null,null,null,null,null,null,null,null,null,null,null,null,null,null,null,null,null,{"$f":"IF(E3=\"\",\"\",VLOOKUP(E3,Sectors!$F$1:$G$9,2,FALSE))","v":""}]
[null,null,null,null,null,null,null,null,null,null,null,null,null,null,null,null,null,null,null,null,null,null,null,null,null,null,null,null,null,"Grade boundaries for External Units",null,null,null,"Points for Internal Units"]
[null,null,"Select Sector","Start →",null,null,null,null,null,null,null,null,null,null,null,null,null,null,{"$f":"IF(L10=\"No\",REPLACE(\"No\",1,2,\"U\"),\"\")","v":""},null,null,null,null,null,null,null,null,null,null,null,"90 GLH","120 GLH",null,null,"60 GLH","90 GLH","120 GLH","150 GLH","180 GLH"]
[null,null,null,null,"1. Select your sector from the dropdown list in the cell above",null,null,null,null,null,null,null,null,null,null,null,null,null,null,null,null,null,null,null,null,null,null,null,null,"U","0","0",null,"U","0","0","0","0","0"]
[null,null,null,null,null,null,null,null,null,null,null,null,null,null,null,null,null,null,null,null,null,null,null,null,null,null,null,null,null,"N",6,8,null,"P",6,9,12,15,18]
[null,null,null,null,null,null,null,null,null,null,null,null,null,null,null,null,null,null,null,null,null,null,null,null,null,null,null,null,null,"P",9,12,null,"M",10,15,20,25,30]
[null,null,"Assessment Type","Unit Number","Unit Name",null,null,null,"GLH","Unit Points/Grade","Points","Unit Grade","Internal 180 GLH",null,"Internal 120 GLH Grade",null,"Internal 90 GLH Grade",null,"Internal 60 GLH Grade",null,"External 120 GLH Grade",null,"External 90 GLH Grade",null,null,null,null,null,null,"M",15,20,null,"D",16,24,32,40,48]
[null,"Group A mandatory units must be passed",null,null,null,null,null,null,null,"3. Enter the points or grade for the units below",null,null,null,null,null,null,null,null,null,null,null,null,null,null,null,null,null,null,null,"D",24,32]
[null,"Mandatory",{"$f":"IFERROR(INDEX('Diploma Data Sheet'!$A$3:$E$238,SMALL(IF('Diploma Data Sheet'!$A$3:$A$238=$E$3,ROW('Diploma Data Sheet'!$A$3:$A$238)),ROW(1:1))-2,5),\"\")","v":0},{"$f":"IFERROR(INDEX('Diploma Data Sheet'!$A$3:$E$238,SMALL(IF('Diploma Data Sheet'!$A$3:$A$238=$E$3,ROW('Diploma Data Sheet'!$A$3:$A$238)),ROW(1:1))-2,2),\"\")","v":0},{"$f":"IFERROR(INDEX('Diploma Data Sheet'!$A$3:$E$238,SMALL(IF('Diploma Data Sheet'!$A$3:$A$238=$E$3,ROW('Diploma Data Sheet'!$A$3:$A$238)),ROW(1:1))-2,3),\"\")","v":0},null,null,null,{"$f":"IFERROR(INDEX('Diploma Data Sheet'!$A$3:$E$238,SMALL(IF('Diploma Data Sheet'!$A$3:$A$238=$E$3,ROW('Diploma Data Sheet'!$A$3:$A$238)),ROW(1:1))-2,4),\"\")","v":0},null,{"$f":"IFERROR(IF(C9=\"External\",VLOOKUP(J9,Points!$I$2:$M$36,MATCH(C9&\" \"&I9&\" GLH\",Points!$I$2:$M$2,0),FALSE),VLOOKUP(J9,Points!$A$2:$G$6,MATCH(C9&\" \"&I9&\" GLH\",Points!$A$2:$G$2,0),FALSE)),\"\")","v":""},{"$f":"IF(E9=\"\",\"\",VLOOKUP(SUM(N9,P9,R9,T9,V9,X9),Lookup!$M$1:$N$6,2,FALSE))","v":"U"},{"$f":"IFERROR(IF(AND(C9=\"Internal\",I9=180),VLOOKUP(K9,Points!$F$2:$G$6,MATCH(\"Internal Grade\",Points!$F$2:$G$2,0),FALSE),\"\"),\"\")","v":""},{"$f":"IF(M9=\"\",\"\",VLOOKUP(M9,Lookup!$L$2:$M$6,2,FALSE))","v":""},{"$f":"IFERROR(IF(AND(C9=\"Internal\",I9=120),VLOOKUP(K9,Points!$D$2:$G$6,MATCH(\"Internal Grade\",Points!$D$2:$G$2,0),FALSE),\"\"),\"\")","v":""},{"$f":"IF(O9=\"\",\"\",VLOOKUP(O9,Lookup!$L$2:$M$6,2,FALSE))","v":""},{"$f":"IFERROR(IF(AND(C9=\"Internal\",I9=90),VLOOKUP(K9,Points!$C$2:$G$6,MATCH(\"Internal Grade\",Points!$C$2:$G$2,0),FALSE),\"\"),\"\")","v":""},{"$f":"IF(Q9=\"\",\"\",VLOOKUP(Q9,Lookup!$L$2:$M$6,2,FALSE))","v":""},{"$f":"IFERROR(IF(AND(C9=\"Internal\",I9=60),VLOOKUP(K9,Points!$B$2:$G$6,MATCH(\"Internal Grade\",Points!$B$2:$G$2,0),FALSE),\"\"),\"\")","v":""},{"$f":"IF(S9=\"\",\"\",VLOOKUP(S9,Lookup!$L$2:$M$6,2,FALSE))","v":""},{"$f":"IF(AND(C9=\"External\",I9=120),VLOOKUP(K9,Points!$M$2:$N$35,MATCH(\"120 GLH Grade\",Points!$M$2:$N$2,0),FALSE),\"No\")","v":"No"},{"$f":"IF(U9=\"\",\"\",VLOOKUP(U9,Lookup!$L$1:$M$6,2,FALSE))","v":0},{"$f":"IF(AND(C9=\"External\",I9=90),VLOOKUP(K9,Points!$J$2:$K$27,MATCH(\"90 GLH Grade\",Points!$J$2:$K$2,0),FALSE),\"No\")","v":"No"},{"$f":"IF(W9=\"\",\"\",VLOOKUP(W9,Lookup!$L$1:$M$6,2,FALSE))","v":0}]
[null,"Mandatory",{"$f":"IFERROR(INDEX('Diploma Data Sheet'!$A$3:$E$238,SMALL(IF('Diploma Data Sheet'!$A$3:$A$238=$E$3,ROW('Diploma Data Sheet'!$A$3:$A$238)),ROW(2:2))-2,5),\"\")","v":0},{"$f":"IFERROR(INDEX('Diploma Data Sheet'!$A$3:$E$238,SMALL(IF('Diploma Data Sheet'!$A$3:$A$238=$E$3,ROW('Diploma Data Sheet'!$A$3:$A$238)),ROW(2:2))-2,2),\"\")","v":0},{"$f":"IFERROR(INDEX('Diploma Data Sheet'!$A$3:$E$238,SMALL(IF('Diploma Data Sheet'!$A$3:$A$238=$E$3,ROW('Diploma Data Sheet'!$A$3:$A$238)),ROW(2:2))-2,3),\"\")","v":0},null,null,null,{"$f":"IFERROR(INDEX('Diploma Data Sheet'!$A$3:$E$238,SMALL(IF('Diploma Data Sheet'!$A$3:$A$238=$E$3,ROW('Diploma Data Sheet'!$A$3:$A$238)),ROW(2:2))-2,4),\"\")","v":0},null,{"$f":"IFERROR(IF(C10=\"External\",VLOOKUP(J10,Points!$I$2:$M$36,MATCH(C10&\" \"&I10&\" GLH\",Points!$I$2:$M$2,0),FALSE),VLOOKUP(J10,Points!$A$2:$G$6,MATCH(C10&\" \"&I10&\" GLH\",Points!$A$2:$G$2,0),FALSE)),\"\")","v":""},{"$f":"IF(E10=\"\",\"\",VLOOKUP(SUM(N10,P10,R10,T10,V10,X10),Lookup!$M$1:$N$6,2,FALSE))","v":"U"},{"$f":"IFERROR(IF(AND(C10=\"Internal\",I10=180),VLOOKUP(K10,Points!$F$2:$G$6,MATCH(\"Internal Grade\",Points!$F$2:$G$2,0),FALSE),\"\"),\"\")","v":""},{"$f":"IF(M10=\"\",\"\",VLOOKUP(M10,Lookup!$L$2:$M$6,2,FALSE))","v":""},{"$f":"IFERROR(IF(AND(C10=\"Internal\",I10=120),VLOOKUP(K10,Points!$D$2:$G$6,MATCH(\"Internal Grade\",Points!$D$2:$G$2,0),FALSE),\"\"),\"\")","v":""},{"$f":"IF(O10=\"\",\"\",VLOOKUP(O10,Lookup!$L$2:$M$6,2,FALSE))","v":""},{"$f":"IFERROR(IF(AND(C10=\"Internal\",I10=90),VLOOKUP(K10,Points!$C$2:$G$6,MATCH(\"Internal Grade\",Points!$C$2:$G$2,0),FALSE),\"\"),\"\")","v":""},{"$f":"IF(Q10=\"\",\"\",VLOOKUP(Q10,Lookup!$L$2:$M$6,2,FALSE))","v":""},{"$f":"IFERROR(IF(AND(C10=\"Internal\",I10=60),VLOOKUP(K10,Points!$B$2:$G$6,MATCH(\"Internal Grade\",Points!$B$2:$G$2,0),FALSE),\"\"),\"\")","v":""},{"$f":"IF(S10=\"\",\"\",VLOOKUP(S10,Lookup!$L$2:$M$6,2,FALSE))","v":""},{"$f":"IF(AND(C10=\"External\",I10=120),VLOOKUP(K10,Points!$M$2:$N$35,MATCH(\"120 GLH Grade\",Points!$M$2:$N$2,0),FALSE),\"No\")","v":"No"},{"$f":"IF(U10=\"\",\"\",VLOOKUP(U10,Lookup!$L$1:$M$6,2,FALSE))","v":0},{"$f":"IF(AND(C10=\"External\",I10=90),VLOOKUP(K10,Points!$J$2:$K$27,MATCH(\"90 GLH Grade\",Points!$J$2:$K$2,0),FALSE),\"No\")","v":"No"},{"$f":"IF(W10=\"\",\"\",VLOOKUP(W10,Lookup!$L$1:$M$6,2,FALSE))","v":0}]
[null,"Mandatory",{"$f":"IFERROR(INDEX('Diploma Data Sheet'!$A$3:$E$238,SMALL(IF('Diploma Data Sheet'!$A$3:$A$238=$E$3,ROW('Diploma Data Sheet'!$A$3:$A$238)),ROW(3:3))-2,5),\"\")","v":0},{"$f":"IFERROR(INDEX('Diploma Data Sheet'!$A$3:$E$238,SMALL(IF('Diploma Data Sheet'!$A$3:$A$238=$E$3,ROW('Diploma Data Sheet'!$A$3:$A$238)),ROW(3:3))-2,2),\"\")","v":0},{"$f":"IFERROR(INDEX('Diploma Data Sheet'!$A$3:$E$238,SMALL(IF('Diploma Data Sheet'!$A$3:$A$238=$E$3,ROW('Diploma Data Sheet'!$A$3:$A$238)),ROW(3:3))-2,3),\"\")","v":0},null,null,null,{"$f":"IFERROR(INDEX('Diploma Data Sheet'!$A$3:$E$238,SMALL(IF('Diploma Data Sheet'!$A$3:$A$238=$E$3,ROW('Diploma Data Sheet'!$A$3:$A$238)),ROW(3:3))-2,4),\"\")","v":0},null,{"$f":"IFERROR(IF(C11=\"External\",VLOOKUP(J11,Points!$I$2:$M$36,MATCH(C11&\" \"&I11&\" GLH\",Points!$I$2:$M$2,0),FALSE),VLOOKUP(J11,Points!$A$2:$G$6,MATCH(C11&\" \"&I11&\" GLH\",Points!$A$2:$G$2,0),FALSE)),\"\")","v":""},{"$f":"IF(E11=\"\",\"\",VLOOKUP(SUM(N11,P11,R11,T11,V11,X11),Lookup!$M$1:$N$6,2,FALSE))","v":"U"},{"$f":"IFERROR(IF(AND(C11=\"Internal\",I11=180),VLOOKUP(K11,Points!$F$2:$G$6,MATCH(\"Internal Grade\",Points!$F$2:$G$2,0),FALSE),\"\"),\"\")","v":""},{"$f":"IF(M11=\"\",\"\",VLOOKUP(M11,Lookup!$L$2:$M$6,2,FALSE))","v":""},{"$f":"IFERROR(IF(AND(C11=\"Internal\",I11=120),VLOOKUP(K11,Points!$D$2:$G$6,MATCH(\"Internal Grade\",Points!$D$2:$G$2,0),FALSE),\"\"),\"\")","v":""},{"$f":"IF(O11=\"\",\"\",VLOOKUP(O11,Lookup!$L$2:$M$6,2,FALSE))","v":""},{"$f":"IFERROR(IF(AND(C11=\"Internal\",I11=90),VLOOKUP(K11,Points!$C$2:$G$6,MATCH(\"Internal Grade\",Points!$C$2:$G$2,0),FALSE),\"\"),\"\")","v":""},{"$f":"IF(Q11=\"\",\"\",VLOOKUP(Q11,Lookup!$L$2:$M$6,2,FALSE))","v":""},{"$f":"IFERROR(IF(AND(C11=\"Internal\",I11=60),VLOOKUP(K11,Points!$B$2:$G$6,MATCH(\"Internal Grade\",Points!$B$2:$G$2,0),FALSE),\"\"),\"\")","v":""},{"$f":"IF(S11=\"\",\"\",VLOOKUP(S11,Lookup!$L$2:$M$6,2,FALSE))","v":""},{"$f":"IF(AND(C11=\"External\",I11=120),VLOOKUP(K11,Points!$M$2:$N$35,MATCH(\"120 GLH Grade\",Points!$M$2:$N$2,0),FALSE),\"No\")","v":"No"},{"$f":"IF(U11=\"\",\"\",VLOOKUP(U11,Lookup!$L$1:$M$6,2,FALSE))","v":0},{"$f":"IF(AND(C11=\"External\",I11=90),VLOOKUP(K11,Points!$J$2:$K$27,MATCH(\"90 GLH Grade\",Points!$J$2:$K$2,0),FALSE),\"No\")","v":"No"},{"$f":"IF(W11=\"\",\"\",VLOOKUP(W11,Lookup!$L$1:$M$6,2,FALSE))","v":0}]
[null,"Mandatory",{"$f":"IFERROR(INDEX('Diploma Data Sheet'!$A$3:$E$238,SMALL(IF('Diploma Data Sheet'!$A$3:$A$238=$E$3,ROW('Diploma Data Sheet'!$A$3:$A$238)),ROW(4:4))-2,5),\"\")","v":0},{"$f":"IFERROR(INDEX('Diploma Data Sheet'!$A$3:$E$238,SMALL(IF('Diploma Data Sheet'!$A$3:$A$238=$E$3,ROW('Diploma Data Sheet'!$A$3:$A$238)),ROW(4:4))-2,2),\"\")","v":0},{"$f":"IFERROR(INDEX('Diploma Data Sheet'!$A$3:$E$238,SMALL(IF('Diploma Data Sheet'!$A$3:$A$238=$E$3,ROW('Diploma Data Sheet'!$A$3:$A$238)),ROW(4:4))-2,3),\"\")","v":0},null,null,null,{"$f":"IFERROR(INDEX('Diploma Data Sheet'!$A$3:$E$238,SMALL(IF('Diploma Data Sheet'!$A$3:$A$238=$E$3,ROW('Diploma Data Sheet'!$A$3:$A$238)),ROW(4:4))-2,4),\"\")","v":0},null,{"$f":"IFERROR(IF(C12=\"External\",VLOOKUP(J12,Points!$I$2:$M$36,MATCH(C12&\" \"&I12&\" GLH\",Points!$I$2:$M$2,0),FALSE),VLOOKUP(J12,Points!$A$2:$G$6,MATCH(C12&\" \"&I12&\" GLH\",Points!$A$2:$G$2,0),FALSE)),\"\")","v":""},{"$f":"IF(E12=\"\",\"\",VLOOKUP(SUM(N12,P12,R12,T12,V12,X12),Lookup!$M$1:$N$6,2,FALSE))","v":"U"},{"$f":"IFERROR(IF(AND(C12=\"Internal\",I12=180),VLOOKUP(K12,Points!$F$2:$G$6,MATCH(\"Internal Grade\",Points!$F$2:$G$2,0),FALSE),\"\"),\"\")","v":""},{"$f":"IF(M12=\"\",\"\",VLOOKUP(M12,Lookup!$L$2:$M$6,2,FALSE))","v":""},{"$f":"IFERROR(IF(AND(C12=\"Internal\",I12=120),VLOOKUP(K12,Points!$D$2:$G$6,MATCH(\"Internal Grade\",Points!$D$2:$G$2,0),FALSE),\"\"),\"\")","v":""},{"$f":"IF(O12=\"\",\"\",VLOOKUP(O12,Lookup!$L$2:$M$6,2,FALSE))","v":""},{"$f":"IFERROR(IF(AND(C12=\"Internal\",I12=90),VLOOKUP(K12,Points!$C$2:$G$6,MATCH(\"Internal Grade\",Points!$C$2:$G$2,0),FALSE),\"\"),\"\")","v":""},{"$f":"IF(Q12=\"\",\"\",VLOOKUP(Q12,Lookup!$L$2:$M$6,2,FALSE))","v":""},{"$f":"IFERROR(IF(AND(C12=\"Internal\",I12=60),VLOOKUP(K12,Points!$B$2:$G$6,MATCH(\"Internal Grade\",Points!$B$2:$G$2,0),FALSE),\"\"),\"\")","v":""},{"$f":"IF(S12=\"\",\"\",VLOOKUP(S12,Lookup!$L$2:$M$6,2,FALSE))","v":""},{"$f":"IF(AND(C12=\"External\",I12=120),VLOOKUP(K12,Points!$M$2:$N$35,MATCH(\"120 GLH Grade\",Points!$M$2:$N$2,0),FALSE),\"No\")","v":"No"},{"$f":"IF(U12=\"\",\"\",VLOOKUP(U12,Lookup!$L$1:$M$6,2,FALSE))","v":0},{"$f":"IF(AND(C12=\"External\",I12=90),VLOOKUP(K12,Points!$J$2:$K$27,MATCH(\"90 GLH Grade\",Points!$J$2:$K$2,0),FALSE),\"No\")","v":"No"},{"$f":"IF(W12=\"\",\"\",VLOOKUP(W12,Lookup!$L$1:$M$6,2,FALSE))","v":0}]
[null,"Mandatory",{"$f":"IFERROR(INDEX('Diploma Data Sheet'!$A$3:$E$238,SMALL(IF('Diploma Data Sheet'!$A$3:$A$238=$E$3,ROW('Diploma Data Sheet'!$A$3:$A$238)),ROW(5:5))-2,5),\"\")","v":0},{"$f":"IFERROR(INDEX('Diploma Data Sheet'!$A$3:$E$238,SMALL(IF('Diploma Data Sheet'!$A$3:$A$238=$E$3,ROW('Diploma Data Sheet'!$A$3:$A$238)),ROW(5:5))-2,2),\"\")","v":0},{"$f":"IFERROR(INDEX('Diploma Data Sheet'!$A$3:$E$238,SMALL(IF('Diploma Data Sheet'!$A$3:$A$238=$E$3,ROW('Diploma Data Sheet'!$A$3:$A$238)),ROW(5:5))-2,3),\"\")","v":0},null,null,null,{"$f":"IFERROR(INDEX('Diploma Data Sheet'!$A$3:$E$238,SMALL(IF('Diploma Data Sheet'!$A$3:$A$238=$E$3,ROW('Diploma Data Sheet'!$A$3:$A$238)),ROW(5:5))-2,4),\"\")","v":0},null,{"$f":"IFERROR(IF(C13=\"External\",VLOOKUP(J13,Points!$I$2:$M$36,MATCH(C13&\" \"&I13&\" GLH\",Points!$I$2:$M$2,0),FALSE),VLOOKUP(J13,Points!$A$2:$G$6,MATCH(C13&\" \"&I13&\" GLH\",Points!$A$2:$G$2,0),FALSE)),\"\")","v":""},{"$f":"IF(E13=\"\",\"\",VLOOKUP(SUM(N13,P13,R13,T13,V13,X13),Lookup!$M$1:$N$6,2,FALSE))","v":"U"},{"$f":"IFERROR(IF(AND(C13=\"Internal\",I13=180),VLOOKUP(K13,Points!$F$2:$G$6,MATCH(\"Internal Grade\",Points!$F$2:$G$2,0),FALSE),\"\"),\"\")","v":""},{"$f":"IF(M13=\"\",\"\",VLOOKUP(M13,Lookup!$L$2:$M$6,2,FALSE))","v":""},{"$f":"IFERROR(IF(AND(C13=\"Internal\",I13=120),VLOOKUP(K13,Points!$D$2:$G$6,MATCH(\"Internal Grade\",Points!$D$2:$G$2,0),FALSE),\"\"),\"\")","v":""},{"$f":"IF(O13=\"\",\"\",VLOOKUP(O13,Lookup!$L$2:$M$6,2,FALSE))","v":""},{"$f":"IFERROR(IF(AND(C13=\"Internal\",I13=90),VLOOKUP(K13,Points!$C$2:$G$6,MATCH(\"Internal Grade\",Points!$C$2:$G$2,0),FALSE),\"\"),\"\")","v":""},{"$f":"IF(Q13=\"\",\"\",VLOOKUP(Q13,Lookup!$L$2:$M$6,2,FALSE))","v":""},{"$f":"IFERROR(IF(AND(C13=\"Internal\",I13=60),VLOOKUP(K13,Points!$B$2:$G$6,MATCH(\"Internal Grade\",Points!$B$2:$G$2,0),FALSE),\"\"),\"\")","v":""},{"$f":"IF(S13=\"\",\"\",VLOOKUP(S13,Lookup!$L$2:$M$6,2,FALSE))","v":""},{"$f":"IF(AND(C13=\"External\",I13=120),VLOOKUP(K13,Points!$M$2:$N$35,MATCH(\"120 GLH Grade\",Points!$M$2:$N$2,0),FALSE),\"No\")","v":"No"},{"$f":"IF(U13=\"\",\"\",VLOOKUP(U13,Lookup!$L$1:$M$6,2,FALSE))","v":0},{"$f":"IF(AND(C13=\"External\",I13=90),VLOOKUP(K13,Points!$J$2:$K$27,MATCH(\"90 GLH Grade\",Points!$J$2:$K$2,0),FALSE),\"No\")","v":"No"},{"$f":"IF(W13=\"\",\"\",VLOOKUP(W13,Lookup!$L$1:$M$6,2,FALSE))","v":0}]
[null,"Mandatory",{"$f":"IFERROR(INDEX('Diploma Data Sheet'!$A$3:$E$238,SMALL(IF('Diploma Data Sheet'!$A$3:$A$238=$E$3,ROW('Diploma Data Sheet'!$A$3:$A$238)),ROW(6:6))-2,5),\"\")","v":0},{"$f":"IFERROR(INDEX('Diploma Data Sheet'!$A$3:$E$238,SMALL(IF('Diploma Data Sheet'!$A$3:$A$238=$E$3,ROW('Diploma Data Sheet'!$A$3:$A$238)),ROW(6:6))-2,2),\"\")","v":0},{"$f":"IFERROR(INDEX('Diploma Data Sheet'!$A$3:$E$238,SMALL(IF('Diploma Data Sheet'!$A$3:$A$238=$E$3,ROW('Diploma Data Sheet'!$A$3:$A$238)),ROW(6:6))-2,3),\"\")","v":0},null,null,null,{"$f":"IFERROR(INDEX('Diploma Data Sheet'!$A$3:$E$238,SMALL(IF('Diploma Data Sheet'!$A$3:$A$238=$E$3,ROW('Diploma Data Sheet'!$A$3:$A$238)),ROW(6:6))-2,4),\"\")","v":0},null,{"$f":"IFERROR(IF(C14=\"External\",VLOOKUP(J14,Points!$I$2:$M$36,MATCH(C14&\" \"&I14&\" GLH\",Points!$I$2:$M$2,0),FALSE),VLOOKUP(J14,Points!$A$2:$C$6,MATCH(C14&\" \"&I14&\" GLH\",Points!$A$2:$C$2,0),FALSE)),\"\")","v":""},{"$f":"IF(E14=\"\",\"\",VLOOKUP(SUM(N14,P14,R14,T14,V14,X14),Lookup!$M$1:$N$6,2,FALSE))","v":"U"},{"$f":"IFERROR(IF(AND(C14=\"Internal\",I14=180),VLOOKUP(K14,Points!$F$2:$G$6,MATCH(\"Internal Grade\",Points!$F$2:$G$2,0),FALSE),\"\"),\"\")","v":""},{"$f":"IF(M14=\"\",\"\",VLOOKUP(M14,Lookup!$L$2:$M$6,2,FALSE))","v":""},{"$f":"IFERROR(IF(AND(C14=\"Internal\",I14=120),VLOOKUP(K14,Points!$C$2:$G$6,MATCH(\"Internal Grade\",Points!$C$2:$G$2,0),FALSE),\"\"),\"\")","v":""},null,{"$f":"IFERROR(IF(AND(C14=\"Internal\",I14=90),VLOOKUP(K14,Points!$C$2:$G$6,MATCH(\"Internal Grade\",Points!$C$2:$G$2,0),FALSE),\"\"),\"\")","v":""},{"$f":"IF(Q14=\"\",\"\",VLOOKUP(Q14,Lookup!$L$2:$M$6,2,FALSE))","v":""},{"$f":"IFERROR(IF(AND(C14=\"Internal\",I14=60),VLOOKUP(K14,Points!$B$2:$G$6,MATCH(\"Internal Grade\",Points!$B$2:$G$2,0),FALSE),\"\"),\"\")","v":""},{"$f":"IF(S14=\"\",\"\",VLOOKUP(S14,Lookup!$L$2:$M$6,2,FALSE))","v":""},{"$f":"IF(AND(C14=\"External\",I14=120),VLOOKUP(K14,Points!$M$2:$N$35,MATCH(\"120 GLH Grade\",Points!$M$2:$N$2,0),FALSE),\"No\")","v":"No"},{"$f":"IF(U14=\"\",\"\",VLOOKUP(U14,Lookup!$L$1:$M$6,2,FALSE))","v":0},{"$f":"IF(AND(C14=\"External\",I14=90),VLOOKUP(K14,Points!$J$2:$K$27,MATCH(\"90 GLH Grade\",Points!$J$2:$K$2,0),FALSE),\"No\")","v":"No"},{"$f":"IF(W14=\"\",\"\",VLOOKUP(W14,Lookup!$L$1:$M$6,2,FALSE))","v":0}]
[null,"Mandatory",{"$f":"IFERROR(INDEX('Diploma Data Sheet'!$A$3:$E$238,SMALL(IF('Diploma Data Sheet'!$A$3:$A$238=$E$3,ROW('Diploma Data Sheet'!$A$3:$A$238)),ROW(7:7))-2,5),\"\")","v":0},{"$f":"IFERROR(INDEX('Diploma Data Sheet'!$A$3:$E$238,SMALL(IF('Diploma Data Sheet'!$A$3:$A$238=$E$3,ROW('Diploma Data Sheet'!$A$3:$A$238)),ROW(7:7))-2,2),\"\")","v":0},{"$f":"IFERROR(INDEX('Diploma Data Sheet'!$A$3:$E$238,SMALL(IF('Diploma Data Sheet'!$A$3:$A$238=$E$3,ROW('Diploma Data Sheet'!$A$3:$A$238)),ROW(7:7))-2,3),\"\")","v":0},null,null,null,{"$f":"IFERROR(INDEX('Diploma Data Sheet'!$A$3:$E$238,SMALL(IF('Diploma Data Sheet'!$A$3:$A$238=$E$3,ROW('Diploma Data Sheet'!$A$3:$A$238)),ROW(7:7))-2,4),\"\")","v":0},null,{"$f":"IFERROR(IF(C15=\"External\",VLOOKUP(J15,Points!$I$2:$M$36,MATCH(C15&\" \"&I15&\" GLH\",Points!$I$2:$M$2,0),FALSE),VLOOKUP(J15,Points!$A$2:$C$6,MATCH(C15&\" \"&I15&\" GLH\",Points!$A$2:$C$2,0),FALSE)),\"\")","v":""},{"$f":"IF(E15=\"\",\"\",VLOOKUP(SUM(N15,P15,R15,T15,V15,X15),Lookup!$M$1:$N$6,2,FALSE))","v":"U"},{"$f":"IFERROR(IF(AND(C15=\"Internal\",I15=180),VLOOKUP(K15,Points!$F$2:$G$6,MATCH(\"Internal Grade\",Points!$F$2:$G$2,0),FALSE),\"\"),\"\")","v":""},{"$f":"IF(M15=\"\",\"\",VLOOKUP(M15,Lookup!$L$2:$M$6,2,FALSE))","v":""},{"$f":"IFERROR(IF(AND(C15=\"Internal\",I15=120),VLOOKUP(K15,Points!$C$2:$G$6,MATCH(\"Internal Grade\",Points!$C$2:$G$2,0),FALSE),\"\"),\"\")","v":""},null,{"$f":"IFERROR(IF(AND(C15=\"Internal\",I15=90),VLOOKUP(K15,Points!$C$2:$G$6,MATCH(\"Internal Grade\",Points!$C$2:$G$2,0),FALSE),\"\"),\"\")","v":""},{"$f":"IF(Q15=\"\",\"\",VLOOKUP(Q15,Lookup!$L$2:$M$6,2,FALSE))","v":""},{"$f":"IFERROR(IF(AND(C15=\"Internal\",I15=60),VLOOKUP(K15,Points!$B$2:$G$6,MATCH(\"Internal Grade\",Points!$B$2:$G$2,0),FALSE),\"\"),\"\")","v":""},{"$f":"IF(S15=\"\",\"\",VLOOKUP(S15,Lookup!$L$2:$M$6,2,FALSE))","v":""},{"$f":"IF(AND(C15=\"External\",I15=120),VLOOKUP(K15,Points!$M$2:$N$35,MATCH(\"120 GLH Grade\",Points!$M$2:$N$2,0),FALSE),\"No\")","v":"No"},{"$f":"IF(U15=\"\",\"\",VLOOKUP(U15,Lookup!$L$1:$M$6,2,FALSE))","v":0},{"$f":"IF(AND(C15=\"External\",I15=90),VLOOKUP(K15,Points!$J$2:$K$27,MATCH(\"90 GLH Grade\",Points!$J$2:$K$2,0),FALSE),\"No\")","v":"No"},{"$f":"IF(W15=\"\",\"\",VLOOKUP(W15,Lookup!$L$1:$M$6,2,FALSE))","v":0}]
[null,"Mandatory",{"$f":"IFERROR(INDEX('Diploma Data Sheet'!$A$3:$E$238,SMALL(IF('Diploma Data Sheet'!$A$3:$A$238=$E$3,ROW('Diploma Data Sheet'!$A$3:$A$238)),ROW(8:8))-2,5),\"\")","v":0},{"$f":"IFERROR(INDEX('Diploma Data Sheet'!$A$3:$E$238,SMALL(IF('Diploma Data Sheet'!$A$3:$A$238=$E$3,ROW('Diploma Data Sheet'!$A$3:$A$238)),ROW(8:8))-2,2),\"\")","v":0},{"$f":"IFERROR(INDEX('Diploma Data Sheet'!$A$3:$E$238,SMALL(IF('Diploma Data Sheet'!$A$3:$A$238=$E$3,ROW('Diploma Data Sheet'!$A$3:$A$238)),ROW(8:8))-2,3),\"\")","v":0},null,null,null,{"$f":"IFERROR(INDEX('Diploma Data Sheet'!$A$3:$E$238,SMALL(IF('Diploma Data Sheet'!$A$3:$A$238=$E$3,ROW('Diploma Data Sheet'!$A$3:$A$238)),ROW(8:8))-2,4),\"\")","v":0},null,{"$f":"IFERROR(IF(C16=\"External\",VLOOKUP(J16,Points!$I$2:$M$36,MATCH(C16&\" \"&I16&\" GLH\",Points!$I$2:$M$2,0),FALSE),VLOOKUP(J16,Points!$A$2:$C$6,MATCH(C16&\" \"&I16&\" GLH\",Points!$A$2:$C$2,0),FALSE)),\"\")","v":""},{"$f":"IF(E16=\"\",\"\",VLOOKUP(SUM(N16,P16,R16,T16,V16,X16),Lookup!$M$1:$N$6,2,FALSE))","v":"U"},{"$f":"IFERROR(IF(AND(C16=\"Internal\",I16=180),VLOOKUP(K16,Points!$F$2:$G$6,MATCH(\"Internal Grade\",Points!$F$2:$G$2,0),FALSE),\"\"),\"\")","v":""},{"$f":"IF(M16=\"\",\"\",VLOOKUP(M16,Lookup!$L$2:$M$6,2,FALSE))","v":""},{"$f":"IFERROR(IF(AND(C16=\"Internal\",I16=120),VLOOKUP(K16,Points!$C$2:$G$6,MATCH(\"Internal Grade\",Points!$C$2:$G$2,0),FALSE),\"\"),\"\")","v":""},null,{"$f":"IFERROR(IF(AND(C16=\"Internal\",I16=90),VLOOKUP(K16,Points!$C$2:$G$6,MATCH(\"Internal Grade\",Points!$C$2:$G$2,0),FALSE),\"\"),\"\")","v":""},{"$f":"IF(Q16=\"\",\"\",VLOOKUP(Q16,Lookup!$L$2:$M$6,2,FALSE))","v":""},{"$f":"IFERROR(IF(AND(C16=\"Internal\",I16=60),VLOOKUP(K16,Points!$B$2:$G$6,MATCH(\"Internal Grade\",Points!$B$2:$G$2,0),FALSE),\"\"),\"\")","v":""},{"$f":"IF(S16=\"\",\"\",VLOOKUP(S16,Lookup!$L$2:$M$6,2,FALSE))","v":""},{"$f":"IF(AND(C16=\"External\",I16=120),VLOOKUP(K16,Points!$M$2:$N$35,MATCH(\"120 GLH Grade\",Points!$M$2:$N$2,0),FALSE),\"No\")","v":"No"},{"$f":"IF(U16=\"\",\"\",VLOOKUP(U16,Lookup!$L$1:$M$6,2,FALSE))","v":0},{"$f":"IF(AND(C16=\"External\",I16=90),VLOOKUP(K16,Points!$J$2:$K$27,MATCH(\"90 GLH Grade\",Points!$J$2:$K$2,0),FALSE),\"No\")","v":"No"},{"$f":"IF(W16=\"\",\"\",VLOOKUP(W16,Lookup!$L$1:$M$6,2,FALSE))","v":0}]
[null,"Mandatory",{"$f":"IFERROR(INDEX('Diploma Data Sheet'!$A$3:$E$238,SMALL(IF('Diploma Data Sheet'!$A$3:$A$238=$E$3,ROW('Diploma Data Sheet'!$A$3:$A$238)),ROW(9:9))-2,5),\"\")","v":0},{"$f":"IFERROR(INDEX('Diploma Data Sheet'!$A$3:$E$238,SMALL(IF('Diploma Data Sheet'!$A$3:$A$238=$E$3,ROW('Diploma Data Sheet'!$A$3:$A$238)),ROW(9:9))-2,2),\"\")","v":0},{"$f":"IFERROR(INDEX('Diploma Data Sheet'!$A$3:$E$238,SMALL(IF('Diploma Data Sheet'!$A$3:$A$238=$E$3,ROW('Diploma Data Sheet'!$A$3:$A$238)),ROW(9:9))-2,3),\"\")","v":0},null,null,null,{"$f":"IFERROR(INDEX('Diploma Data Sheet'!$A$3:$E$238,SMALL(IF('Diploma Data Sheet'!$A$3:$A$238=$E$3,ROW('Diploma Data Sheet'!$A$3:$A$238)),ROW(9:9))-2,4),\"\")","v":0},null,{"$f":"IFERROR(IF(C17=\"External\",VLOOKUP(J17,Points!$I$2:$M$36,MATCH(C17&\" \"&I17&\" GLH\",Points!$I$2:$M$2,0),FALSE),VLOOKUP(J17,Points!$A$2:$C$6,MATCH(C17&\" \"&I17&\" GLH\",Points!$A$2:$C$2,0),FALSE)),\"\")","v":""},{"$f":"IF(E17=\"\",\"\",VLOOKUP(SUM(N17,P17,R17,T17,V17,X17),Lookup!$M$1:$N$6,2,FALSE))","v":"U"},{"$f":"IFERROR(IF(AND(C17=\"Internal\",I17=180),VLOOKUP(K17,Points!$F$2:$G$6,MATCH(\"Internal Grade\",Points!$F$2:$G$2,0),FALSE),\"\"),\"\")","v":""},{"$f":"IF(M17=\"\",\"\",VLOOKUP(M17,Lookup!$L$2:$M$6,2,FALSE))","v":""},{"$f":"IFERROR(IF(AND(C17=\"Internal\",I17=120),VLOOKUP(K17,Points!$C$2:$G$6,MATCH(\"Internal Grade\",Points!$C$2:$G$2,0),FALSE),\"\"),\"\")","v":""},null,{"$f":"IFERROR(IF(AND(C17=\"Internal\",I17=90),VLOOKUP(K17,Points!$C$2:$G$6,MATCH(\"Internal Grade\",Points!$C$2:$G$2,0),FALSE),\"\"),\"\")","v":""},{"$f":"IF(Q17=\"\",\"\",VLOOKUP(Q17,Lookup!$L$2:$M$6,2,FALSE))","v":""},{"$f":"IFERROR(IF(AND(C17=\"Internal\",I17=60),VLOOKUP(K17,Points!$B$2:$G$6,MATCH(\"Internal Grade\",Points!$B$2:$G$2,0),FALSE),\"\"),\"\")","v":""},{"$f":"IF(S17=\"\",\"\",VLOOKUP(S17,Lookup!$L$2:$M$6,2,FALSE))","v":""},{"$f":"IF(AND(C17=\"External\",I17=120),VLOOKUP(K17,Points!$M$2:$N$35,MATCH(\"120 GLH Grade\",Points!$M$2:$N$2,0),FALSE),\"No\")","v":"No"},{"$f":"IF(U17=\"\",\"\",VLOOKUP(U17,Lookup!$L$1:$M$6,2,FALSE))","v":0},{"$f":"IF(AND(C17=\"External\",I17=90),VLOOKUP(K17,Points!$J$2:$K$27,MATCH(\"90 GLH Grade\",Points!$J$2:$K$2,0),FALSE),\"No\")","v":"No"},{"$f":"IF(W17=\"\",\"\",VLOOKUP(W17,Lookup!$L$1:$M$6,2,FALSE))","v":0}]
[null,"Mandatory",{"$f":"IFERROR(INDEX('Diploma Data Sheet'!$A$3:$E$238,SMALL(IF('Diploma Data Sheet'!$A$3:$A$238=$E$3,ROW('Diploma Data Sheet'!$A$3:$A$238)),ROW(10:10))-2,5),\"\")","v":0},{"$f":"IFERROR(INDEX('Diploma Data Sheet'!$A$3:$E$238,SMALL(IF('Diploma Data Sheet'!$A$3:$A$238=$E$3,ROW('Diploma Data Sheet'!$A$3:$A$238)),ROW(10:10))-2,2),\"\")","v":0},{"$f":"IFERROR(INDEX('Diploma Data Sheet'!$A$3:$E$238,SMALL(IF('Diploma Data Sheet'!$A$3:$A$238=$E$3,ROW('Diploma Data Sheet'!$A$3:$A$238)),ROW(10:10))-2,3),\"\")","v":0},null,null,null,{"$f":"IFERROR(INDEX('Diploma Data Sheet'!$A$3:$E$238,SMALL(IF('Diploma Data Sheet'!$A$3:$A$238=$E$3,ROW('Diploma Data Sheet'!$A$3:$A$238)),ROW(10:10))-2,4),\"\")","v":0},null,{"$f":"IFERROR(IF(C18=\"External\",VLOOKUP(J18,Points!$I$2:$M$36,MATCH(C18&\" \"&I18&\" GLH\",Points!$I$2:$M$2,0),FALSE),VLOOKUP(J18,Points!$A$2:$C$6,MATCH(C18&\" \"&I18&\" GLH\",Points!$A$2:$C$2,0),FALSE)),\"\")","v":""},{"$f":"IF(E18=\"\",\"\",VLOOKUP(SUM(N18,P18,R18,T18,V18,X18),Lookup!$M$1:$N$6,2,FALSE))","v":"U"},{"$f":"IFERROR(IF(AND(C18=\"Internal\",I18=180),VLOOKUP(K18,Points!$F$2:$G$6,MATCH(\"Internal Grade\",Points!$F$2:$G$2,0),FALSE),\"\"),\"\")","v":""},{"$f":"IF(M18=\"\",\"\",VLOOKUP(M18,Lookup!$L$2:$M$6,2,FALSE))","v":""},{"$f":"IFERROR(IF(AND(C18=\"Internal\",I18=120),VLOOKUP(K18,Points!$C$2:$G$6,MATCH(\"Internal Grade\",Points!$C$2:$G$2,0),FALSE),\"\"),\"\")","v":""},null,{"$f":"IFERROR(IF(AND(C18=\"Internal\",I18=90),VLOOKUP(K18,Points!$C$2:$G$6,MATCH(\"Internal Grade\",Points!$C$2:$G$2,0),FALSE),\"\"),\"\")","v":""},{"$f":"IF(Q18=\"\",\"\",VLOOKUP(Q18,Lookup!$L$2:$M$6,2,FALSE))","v":""},{"$f":"IFERROR(IF(AND(C18=\"Internal\",I18=60),VLOOKUP(K18,Points!$B$2:$G$6,MATCH(\"Internal Grade\",Points!$B$2:$G$2,0),FALSE),\"\"),\"\")","v":""},{"$f":"IF(S18=\"\",\"\",VLOOKUP(S18,Lookup!$L$2:$M$6,2,FALSE))","v":""},{"$f":"IF(AND(C18=\"External\",I18=120),VLOOKUP(K18,Points!$M$2:$N$35,MATCH(\"120 GLH Grade\",Points!$M$2:$N$2,0),FALSE),\"No\")","v":"No"},{"$f":"IF(U18=\"\",\"\",VLOOKUP(U18,Lookup!$L$1:$M$6,2,FALSE))","v":0},{"$f":"IF(AND(C18=\"External\",I18=90),VLOOKUP(K18,Points!$J$2:$K$27,MATCH(\"90 GLH Grade\",Points!$J$2:$K$2,0),FALSE),\"No\")","v":"No"},{"$f":"IF(W18=\"\",\"\",VLOOKUP(W18,Lookup!$L$1:$M$6,2,FALSE))","v":0}]
[null,null,{"$f":"IFERROR(INDEX('Diploma Data Sheet'!$A$3:$E$59,SMALL(IF('Diploma Data Sheet'!$A$3:$A$59=$E$3,ROW('Diploma Data Sheet'!$A$3:$A$59)),ROW(11:11))-2,5),\"\")","v":""}]
[null,"Group B mandatory units must be completed and a grade reported"]
[null,"Mandatory",{"$f":"IFERROR(INDEX('Diploma Data Sheet'!$G$3:$K$1000,SMALL(IF('Diploma Data Sheet'!$G$3:$G$1000=$E$3,ROW('Diploma Data Sheet'!$G$3:$G$1000)),ROW(1:1))-2,5),\"\")","v":0},{"$f":"IFERROR(INDEX('Diploma Data Sheet'!$G$3:$K$1000,SMALL(IF('Diploma Data Sheet'!$G$3:$G$1000=$E$3,ROW('Diploma Data Sheet'!$G$3:$G$1000)),ROW(1:1))-2,2),\"\")","v":0},{"$f":"IFERROR(INDEX('Diploma Data Sheet'!$G$3:$K$1000,SMALL(IF('Diploma Data Sheet'!$G$3:$G$1000=$E$3,ROW('Diploma Data Sheet'!$G$3:$G$1000)),ROW(1:1))-2,3),\"\")","v":0},null,null,null,{"$f":"IFERROR(INDEX('Diploma Data Sheet'!$G$3:$K$1000,SMALL(IF('Diploma Data Sheet'!$G$3:$G$1000=$E$3,ROW('Diploma Data Sheet'!$G$3:$G$1000)),ROW(1:1))-2,4),\"\")","v":0},null,{"$f":"IFERROR(IF(C21=\"External\",VLOOKUP(J21,Points!$I$2:$M$36,MATCH(C21&\" \"&I21&\" GLH\",Points!$I$2:$M$2,0),FALSE),VLOOKUP(J21,Points!$A$2:$G$6,MATCH(C21&\" \"&I21&\" GLH\",Points!$A$2:$G$2,0),FALSE)),\"\")","v":""},{"$f":"IF(E21=\"\",\"\",VLOOKUP(SUM(P21,R21,T21,V21,X21),Lookup!$M$1:$N$6,2,FALSE))","v":"U"},null,null,{"$f":"IFERROR(IF(AND(C21=\"Internal\",I21=120),VLOOKUP(K21,Points!$D$2:$G$6,MATCH(\"Internal Grade\",Points!$D$2:$G$2,0),FALSE),\"\"),\"\")","v":""},null,{"$f":"IFERROR(IF(AND(C21=\"Internal\",I21=90),VLOOKUP(K21,Points!$C$2:$G$6,MATCH(\"Internal Grade\",Points!$C$2:$G$2,0),FALSE),\"\"),\"\")","v":""},{"$f":"IF(Q21=\"\",\"\",VLOOKUP(Q21,Lookup!$L$2:$M$6,2,FALSE))","v":""},{"$f":"IFERROR(IF(AND(C21=\"Internal\",I21=60),VLOOKUP(K21,Points!$B$2:$G$6,MATCH(\"Internal Grade\",Points!$B$2:$G$2,0),FALSE),\"\"),\"\")","v":""},{"$f":"IF(S21=\"\",\"\",VLOOKUP(S21,Lookup!$L$2:$M$6,2,FALSE))","v":""},{"$f":"IF(AND(C21=\"External\",I21=120),VLOOKUP(K21,Points!$M$2:$N$35,MATCH(\"120 GLH Grade\",Points!$M$2:$N$2,0),FALSE),\"No\")","v":"No"},{"$f":"IF(U21=\"\",\"\",VLOOKUP(U21,Lookup!$L$1:$M$6,2,FALSE))","v":0},{"$f":"IF(AND(C21=\"External\",I21=90),VLOOKUP(K21,Points!$J$2:$K$27,MATCH(\"90 GLH Grade\",Points!$J$2:$K$2,0),FALSE),\"No\")","v":"No"},{"$f":"IF(W21=\"\",\"\",VLOOKUP(W21,Lookup!$L$1:$M$6,2,FALSE))","v":0}]
[null,"Mandatory",{"$f":"IFERROR(INDEX('Diploma Data Sheet'!$G$3:$K$1000,SMALL(IF('Diploma Data Sheet'!$G$3:$G$1000=$E$3,ROW('Diploma Data Sheet'!$G$3:$G$1000)),ROW(2:2))-2,5),\"\")","v":0},{"$f":"IFERROR(INDEX('Diploma Data Sheet'!$G$3:$K$1000,SMALL(IF('Diploma Data Sheet'!$G$3:$G$1000=$E$3,ROW('Diploma Data Sheet'!$G$3:$G$1000)),ROW(2:2))-2,2),\"\")","v":0},{"$f":"IFERROR(INDEX('Diploma Data Sheet'!$G$3:$K$1000,SMALL(IF('Diploma Data Sheet'!$G$3:$G$1000=$E$3,ROW('Diploma Data Sheet'!$G$3:$G$1000)),ROW(2:2))-2,3),\"\")","v":0},null,null,null,{"$f":"IFERROR(INDEX('Diploma Data Sheet'!$G$3:$K$1000,SMALL(IF('Diploma Data Sheet'!$G$3:$G$1000=$E$3,ROW('Diploma Data Sheet'!$G$3:$G$1000)),ROW(2:2))-2,4),\"\")","v":0},null,{"$f":"IFERROR(IF(C22=\"External\",VLOOKUP(J22,Points!$I$2:$M$36,MATCH(C22&\" \"&I22&\" GLH\",Points!$I$2:$M$2,0),FALSE),VLOOKUP(J22,Points!$A$2:$G$6,MATCH(C22&\" \"&I22&\" GLH\",Points!$A$2:$G$2,0),FALSE)),\"\")","v":""},{"$f":"IF(E22=\"\",\"\",VLOOKUP(SUM(P22,R22,T22,V22,X22),Lookup!$M$1:$N$6,2,FALSE))","v":"U"},null,null,{"$f":"IFERROR(IF(AND(C22=\"Internal\",I22=120),VLOOKUP(K22,Points!$D$2:$G$6,MATCH(\"Internal Grade\",Points!$D$2:$G$2,0),FALSE),\"\"),\"\")","v":""},null,{"$f":"IFERROR(IF(AND(C22=\"Internal\",I22=90),VLOOKUP(K22,Points!$C$2:$G$6,MATCH(\"Internal Grade\",Points!$C$2:$G$2,0),FALSE),\"\"),\"\")","v":""},{"$f":"IF(Q22=\"\",\"\",VLOOKUP(Q22,Lookup!$L$2:$M$6,2,FALSE))","v":""},{"$f":"IFERROR(IF(AND(C22=\"Internal\",I22=60),VLOOKUP(K22,Points!$B$2:$G$6,MATCH(\"Internal Grade\",Points!$B$2:$G$2,0),FALSE),\"\"),\"\")","v":""},{"$f":"IF(S22=\"\",\"\",VLOOKUP(S22,Lookup!$L$2:$M$6,2,FALSE))","v":""},{"$f":"IF(AND(C22=\"External\",I22=120),VLOOKUP(K22,Points!$M$2:$N$35,MATCH(\"120 GLH Grade\",Points!$M$2:$N$2,0),FALSE),\"No\")","v":"No"},{"$f":"IF(U22=\"\",\"\",VLOOKUP(U22,Lookup!$L$1:$M$6,2,FALSE))","v":0},{"$f":"IF(AND(C22=\"External\",I22=90),VLOOKUP(K22,Points!$J$2:$K$27,MATCH(\"90 GLH Grade\",Points!$J$2:$K$2,0),FALSE),\"No\")","v":"No"},{"$f":"IF(W22=\"\",\"\",VLOOKUP(W22,Lookup!$L$1:$M$6,2,FALSE))","v":0}]
[null,"Mandatory",{"$f":"IFERROR(INDEX('Diploma Data Sheet'!$G$3:$K$1000,SMALL(IF('Diploma Data Sheet'!$G$3:$G$1000=$E$3,ROW('Diploma Data Sheet'!$G$3:$G$1000)),ROW(3:3))-2,5),\"\")","v":0},{"$f":"IFERROR(INDEX('Diploma Data Sheet'!$G$3:$K$1000,SMALL(IF('Diploma Data Sheet'!$G$3:$G$1000=$E$3,ROW('Diploma Data Sheet'!$G$3:$G$1000)),ROW(3:3))-2,2),\"\")","v":0},{"$f":"IFERROR(INDEX('Diploma Data Sheet'!$G$3:$K$1000,SMALL(IF('Diploma Data Sheet'!$G$3:$G$1000=$E$3,ROW('Diploma Data Sheet'!$G$3:$G$1000)),ROW(3:3))-2,3),\"\")","v":0},null,null,null,{"$f":"IFERROR(INDEX('Diploma Data Sheet'!$G$3:$K$1000,SMALL(IF('Diploma Data Sheet'!$G$3:$G$1000=$E$3,ROW('Diploma Data Sheet'!$G$3:$G$1000)),ROW(3:3))-2,4),\"\")","v":0},null,{"$f":"IFERROR(IF(C23=\"External\",VLOOKUP(J23,Points!$I$2:$M$36,MATCH(C23&\" \"&I23&\" GLH\",Points!$I$2:$M$2,0),FALSE),VLOOKUP(J23,Points!$A$2:$G$6,MATCH(C23&\" \"&I23&\" GLH\",Points!$A$2:$G$2,0),FALSE)),\"\")","v":""},{"$f":"IF(E23=\"\",\"\",VLOOKUP(SUM(P23,R23,T23,V23,X23),Lookup!$M$1:$N$6,2,FALSE))","v":"U"},null,null,{"$f":"IFERROR(IF(AND(C23=\"Internal\",I23=120),VLOOKUP(K23,Points!$D$2:$G$6,MATCH(\"Internal Grade\",Points!$D$2:$G$2,0),FALSE),\"\"),\"\")","v":""},null,{"$f":"IFERROR(IF(AND(C23=\"Internal\",I23=90),VLOOKUP(K23,Points!$C$2:$G$6,MATCH(\"Internal Grade\",Points!$C$2:$G$2,0),FALSE),\"\"),\"\")","v":""},{"$f":"IF(Q23=\"\",\"\",VLOOKUP(Q23,Lookup!$L$2:$M$6,2,FALSE))","v":""},{"$f":"IFERROR(IF(AND(C23=\"Internal\",I23=60),VLOOKUP(K23,Points!$B$2:$G$6,MATCH(\"Internal Grade\",Points!$B$2:$G$2,0),FALSE),\"\"),\"\")","v":""},{"$f":"IF(S23=\"\",\"\",VLOOKUP(S23,Lookup!$L$2:$M$6,2,FALSE))","v":""},{"$f":"IF(AND(C23=\"External\",I23=120),VLOOKUP(K23,Points!$M$2:$N$35,MATCH(\"120 GLH Grade\",Points!$M$2:$N$2,0),FALSE),\"No\")","v":"No"},{"$f":"IF(U23=\"\",\"\",VLOOKUP(U23,Lookup!$L$1:$M$6,2,FALSE))","v":0},{"$f":"IF(AND(C23=\"External\",I23=90),VLOOKUP(K23,Points!$J$2:$K$27,MATCH(\"90 GLH Grade\",Points!$J$2:$K$2,0),FALSE),\"No\")","v":"No"},{"$f":"IF(W23=\"\",\"\",VLOOKUP(W23,Lookup!$L$1:$M$6,2,FALSE))","v":0}]
[null,"Mandatory",{"$f":"IFERROR(INDEX('Diploma Data Sheet'!$G$3:$K$1000,SMALL(IF('Diploma Data Sheet'!$G$3:$G$1000=$E$3,ROW('Diploma Data Sheet'!$G$3:$G$1000)),ROW(4:4))-2,5),\"\")","v":0},{"$f":"IFERROR(INDEX('Diploma Data Sheet'!$G$3:$K$1000,SMALL(IF('Diploma Data Sheet'!$G$3:$G$1000=$E$3,ROW('Diploma Data Sheet'!$G$3:$G$1000)),ROW(4:4))-2,2),\"\")","v":0},{"$f":"IFERROR(INDEX('Diploma Data Sheet'!$G$3:$K$1000,SMALL(IF('Diploma Data Sheet'!$G$3:$G$1000=$E$3,ROW('Diploma Data Sheet'!$G$3:$G$1000)),ROW(4:4))-2,3),\"\")","v":0},null,null,null,{"$f":"IFERROR(INDEX('Diploma Data Sheet'!$G$3:$K$1000,SMALL(IF('Diploma Data Sheet'!$G$3:$G$1000=$E$3,ROW('Diploma Data Sheet'!$G$3:$G$1000)),ROW(4:4))-2,4),\"\")","v":0},null,{"$f":"IFERROR(IF(C24=\"External\",VLOOKUP(J24,Points!$I$2:$M$36,MATCH(C24&\" \"&I24&\" GLH\",Points!$I$2:$M$2,0),FALSE),VLOOKUP(J24,Points!$A$2:$G$6,MATCH(C24&\" \"&I24&\" GLH\",Points!$A$2:$G$2,0),FALSE)),\"\")","v":""},{"$f":"IF(E24=\"\",\"\",VLOOKUP(SUM(P24,R24,T24,V24,X24),Lookup!$M$1:$N$6,2,FALSE))","v":"U"},null,null,{"$f":"IFERROR(IF(AND(C24=\"Internal\",I24=120),VLOOKUP(K24,Points!$D$2:$G$6,MATCH(\"Internal Grade\",Points!$D$2:$G$2,0),FALSE),\"\"),\"\")","v":""},null,{"$f":"IFERROR(IF(AND(C24=\"Internal\",I24=90),VLOOKUP(K24,Points!$C$2:$G$6,MATCH(\"Internal Grade\",Points!$C$2:$G$2,0),FALSE),\"\"),\"\")","v":""},{"$f":"IF(Q24=\"\",\"\",VLOOKUP(Q24,Lookup!$L$2:$M$6,2,FALSE))","v":""},{"$f":"IFERROR(IF(AND(C24=\"Internal\",I24=60),VLOOKUP(K24,Points!$B$2:$G$6,MATCH(\"Internal Grade\",Points!$B$2:$G$2,0),FALSE),\"\"),\"\")","v":""},{"$f":"IF(S24=\"\",\"\",VLOOKUP(S24,Lookup!$L$2:$M$6,2,FALSE))","v":""},{"$f":"IF(AND(C24=\"External\",I24=120),VLOOKUP(K24,Points!$M$2:$N$35,MATCH(\"120 GLH Grade\",Points!$M$2:$N$2,0),FALSE),\"No\")","v":"No"},{"$f":"IF(U24=\"\",\"\",VLOOKUP(U24,Lookup!$L$1:$M$6,2,FALSE))","v":0},{"$f":"IF(AND(C24=\"External\",I24=90),VLOOKUP(K24,Points!$J$2:$K$27,MATCH(\"90 GLH Grade\",Points!$J$2:$K$2,0),FALSE),\"No\")","v":"No"},{"$f":"IF(W24=\"\",\"\",VLOOKUP(W24,Lookup!$L$1:$M$6,2,FALSE))","v":0}]
[null,"Mandatory",{"$f":"IFERROR(INDEX('Diploma Data Sheet'!$G$3:$K$1000,SMALL(IF('Diploma Data Sheet'!$G$3:$G$1000=$E$3,ROW('Diploma Data Sheet'!$G$3:$G$1000)),ROW(5:5))-2,5),\"\")","v":0},{"$f":"IFERROR(INDEX('Diploma Data Sheet'!$G$3:$K$1000,SMALL(IF('Diploma Data Sheet'!$G$3:$G$1000=$E$3,ROW('Diploma Data Sheet'!$G$3:$G$1000)),ROW(5:5))-2,2),\"\")","v":0},{"$f":"IFERROR(INDEX('Diploma Data Sheet'!$G$3:$K$1000,SMALL(IF('Diploma Data Sheet'!$G$3:$G$1000=$E$3,ROW('Diploma Data Sheet'!$G$3:$G$1000)),ROW(5:5))-2,3),\"\")","v":0},null,null,null,{"$f":"IFERROR(INDEX('Diploma Data Sheet'!$G$3:$K$47,SMALL(IF('Diploma Data Sheet'!$G$3:$G$47=$E$3,ROW('Diploma Data Sheet'!$G$3:$G$47)),ROW(5:5))-2,4),\"\")","v":""},null,{"$f":"IFERROR(IF(C25=\"External\",VLOOKUP(J25,Points!$I$2:$M$36,MATCH(C25&\" \"&I25&\" GLH\",Points!$I$2:$M$2,0),FALSE),VLOOKUP(J25,Points!$A$2:$G$6,MATCH(C25&\" \"&I25&\" GLH\",Points!$A$2:$G$2,0),FALSE)),\"\")","v":""},{"$f":"IF(E25=\"\",\"\",VLOOKUP(SUM(P25,R25,T25,V25,X25),Lookup!$M$1:$N$6,2,FALSE))","v":"U"},null,null,{"$f":"IFERROR(IF(AND(C25=\"Internal\",I25=120),VLOOKUP(K25,Points!$D$2:$G$6,MATCH(\"Internal Grade\",Points!$D$2:$G$2,0),FALSE),\"\"),\"\")","v":""},null,{"$f":"IFERROR(IF(AND(C25=\"Internal\",I25=90),VLOOKUP(K25,Points!$C$2:$G$6,MATCH(\"Internal Grade\",Points!$C$2:$G$2,0),FALSE),\"\"),\"\")","v":""},{"$f":"IF(Q25=\"\",\"\",VLOOKUP(Q25,Lookup!$L$2:$M$6,2,FALSE))","v":""},{"$f":"IFERROR(IF(AND(C25=\"Internal\",I25=60),VLOOKUP(K25,Points!$B$2:$G$6,MATCH(\"Internal Grade\",Points!$B$2:$G$2,0),FALSE),\"\"),\"\")","v":""},{"$f":"IF(S25=\"\",\"\",VLOOKUP(S25,Lookup!$L$2:$M$6,2,FALSE))","v":""},{"$f":"IF(AND(C25=\"External\",I25=120),VLOOKUP(K25,Points!$M$2:$N$35,MATCH(\"120 GLH Grade\",Points!$M$2:$N$2,0),FALSE),\"No\")","v":"No"},{"$f":"IF(U25=\"\",\"\",VLOOKUP(U25,Lookup!$L$1:$M$6,2,FALSE))","v":0},{"$f":"IF(AND(C25=\"External\",I25=90),VLOOKUP(K25,Points!$J$2:$K$27,MATCH(\"90 GLH Grade\",Points!$J$2:$K$2,0),FALSE),\"No\")","v":"No"},{"$f":"IF(W25=\"\",\"\",VLOOKUP(W25,Lookup!$L$1:$M$6,2,FALSE))","v":0}]
[null,"Mandatory",{"$f":"IFERROR(INDEX('Diploma Data Sheet'!$G$3:$K$1000,SMALL(IF('Diploma Data Sheet'!$G$3:$G$1000=$E$3,ROW('Diploma Data Sheet'!$G$3:$G$1000)),ROW(6:6))-2,5),\"\")","v":0},{"$f":"IFERROR(INDEX('Diploma Data Sheet'!$G$3:$K$1000,SMALL(IF('Diploma Data Sheet'!$G$3:$G$1000=$E$3,ROW('Diploma Data Sheet'!$G$3:$G$1000)),ROW(6:6))-2,2),\"\")","v":0},{"$f":"IFERROR(INDEX('Diploma Data Sheet'!$G$3:$K$1000,SMALL(IF('Diploma Data Sheet'!$G$3:$G$1000=$E$3,ROW('Diploma Data Sheet'!$G$3:$G$1000)),ROW(6:6))-2,3),\"\")","v":0},null,null,null,{"$f":"IFERROR(INDEX('Diploma Data Sheet'!$G$3:$K$47,SMALL(IF('Diploma Data Sheet'!$G$3:$G$47=$E$3,ROW('Diploma Data Sheet'!$G$3:$G$47)),ROW(6:6))-2,4),\"\")","v":""},null,{"$f":"IFERROR(IF(C26=\"External\",VLOOKUP(J26,Points!$I$2:$M$36,MATCH(C26&\" \"&I26&\" GLH\",Points!$I$2:$M$2,0),FALSE),VLOOKUP(J26,Points!$A$2:$G$6,MATCH(C26&\" \"&I26&\" GLH\",Points!$A$2:$G$2,0),FALSE)),\"\")","v":""},{"$f":"IF(E26=\"\",\"\",VLOOKUP(SUM(P26,R26,T26,V26,X26),Lookup!$M$1:$N$6,2,FALSE))","v":"U"},null,null,{"$f":"IFERROR(IF(AND(C26=\"Internal\",I26=120),VLOOKUP(K26,Points!$D$2:$G$6,MATCH(\"Internal Grade\",Points!$D$2:$G$2,0),FALSE),\"\"),\"\")","v":""},null,{"$f":"IFERROR(IF(AND(C26=\"Internal\",I26=90),VLOOKUP(K26,Points!$C$2:$G$6,MATCH(\"Internal Grade\",Points!$C$2:$G$2,0),FALSE),\"\"),\"\")","v":""},{"$f":"IF(Q26=\"\",\"\",VLOOKUP(Q26,Lookup!$L$2:$M$6,2,FALSE))","v":""},{"$f":"IFERROR(IF(AND(C26=\"Internal\",I26=60),VLOOKUP(K26,Points!$B$2:$G$6,MATCH(\"Internal Grade\",Points!$B$2:$G$2,0),FALSE),\"\"),\"\")","v":""},{"$f":"IF(S26=\"\",\"\",VLOOKUP(S26,Lookup!$L$2:$M$6,2,FALSE))","v":""},{"$f":"IF(AND(C26=\"External\",I26=120),VLOOKUP(K26,Points!$M$2:$N$35,MATCH(\"120 GLH Grade\",Points!$M$2:$N$2,0),FALSE),\"No\")","v":"No"},{"$f":"IF(U26=\"\",\"\",VLOOKUP(U26,Lookup!$L$1:$M$6,2,FALSE))","v":0},{"$f":"IF(AND(C26=\"External\",I26=90),VLOOKUP(K26,Points!$J$2:$K$27,MATCH(\"90 GLH Grade\",Points!$J$2:$K$2,0),FALSE),\"No\")","v":"No"},{"$f":"IF(W26=\"\",\"\",VLOOKUP(W26,Lookup!$L$1:$M$6,2,FALSE))","v":0}]
[null,null,{"$f":"IFERROR(INDEX('Diploma Data Sheet'!$A$3:$E$59,SMALL(IF('Diploma Data Sheet'!$A$3:$A$59=$E$3,ROW('Diploma Data Sheet'!$A$3:$A$59)),ROW(19:19))-2,5),\"\")","v":""}]
[null,null,null,null,"2. Select optional units from the dropdown lists below"]
[null,"Optional",{"$f":"IFERROR(INDEX('Diploma Data Sheet'!$R$3:$R$1000,MATCH(Diploma!E29&$E$3,'Diploma Data Sheet'!$M$3:$M$1000&'Diploma Data Sheet'!$N$3:$N$1000,0)),\"\")","v":0},{"$f":"IFERROR(INDEX('Diploma Data Sheet'!$O$3:$O$1000,MATCH(Diploma!E29&$E$3,'Diploma Data Sheet'!$M$3:$M$1000&'Diploma Data Sheet'!$N$3:$N$1000,0)),\"\")","v":0},null,null,null,null,{"$f":"IFERROR(INDEX('Diploma Data Sheet'!$Q$3:$Q$1000,MATCH(Diploma!E29&$E$3,'Diploma Data Sheet'!$M$3:$M$1000&'Diploma Data Sheet'!$N$3:$N$1000,0)),\"\")","v":0},null,{"$f":"IFERROR(IF(C29=\"Internal\",VLOOKUP(J29,Points!$A$2:$C$6,MATCH(C29&\" \"&I29&\" GLH\",Points!$A$2:$C$2,0),FALSE),\"\"),\"\")","v":""},{"$f":"IF(E29=\"\",\"\",VLOOKUP(SUM(P29,R29,T29,V29,X29),Lookup!$M$1:$N$6,2,FALSE))","v":""},null,null,{"$f":"IFERROR(IF(AND(C29=\"Internal\",I29=120),VLOOKUP(K29,Points!$C$2:$G$6,MATCH(\"Internal Grade\",Points!$C$2:$G$2,0),FALSE),\"\"),\"\")","v":""},{"$f":"IF(O29=\"\",\"\",VLOOKUP(O29,Lookup!$L$2:$M$6,2,FALSE))","v":""},{"$f":"IFERROR(IF(AND(C29=\"Internal\",I29=90),VLOOKUP(K29,Points!$C$2:$G$6,MATCH(\"Internal Grade\",Points!$C$2:$G$2,0),FALSE),\"\"),\"\")","v":""},{"$f":"IF(Q29=\"\",\"\",VLOOKUP(Q29,Lookup!$L$2:$M$6,2,FALSE))","v":""},{"$f":"IFERROR(IF(AND(C29=\"Internal\",I29=60),VLOOKUP(K29,Points!$B$2:$G$6,MATCH(\"Internal Grade\",Points!$B$2:$G$2,0),FALSE),\"\"),\"\")","v":""},{"$f":"IF(S29=\"\",\"\",VLOOKUP(S29,Lookup!$L$2:$M$6,2,FALSE))","v":""},{"$f":"IF(AND(C29=\"External\",I29=120),VLOOKUP(K29,Points!$M$2:$N$35,MATCH(\"120 GLH Grade\",Points!$M$2:$N$2,0),FALSE),\"No\")","v":"No"},{"$f":"IF(U29=\"\",\"\",VLOOKUP(U29,Lookup!$L$1:$M$6,2,FALSE))","v":0},{"$f":"IF(AND(C29=\"External\",I29=90),VLOOKUP(K29,Points!$J$2:$K$27,MATCH(\"90 GLH Grade\",Points!$J$2:$K$2,0),FALSE),\"No\")","v":"No"},{"$f":"IF(W29=\"\",\"\",VLOOKUP(W29,Lookup!$L$1:$M$6,2,FALSE))","v":0}]
[null,"Optional",{"$f":"IFERROR(INDEX('Diploma Data Sheet'!$R$3:$R$1000,MATCH(Diploma!E30&$E$3,'Diploma Data Sheet'!$M$3:$M$1000&'Diploma Data Sheet'!$N$3:$N$1000,0)),\"\")","v":0},{"$f":"IFERROR(INDEX('Diploma Data Sheet'!$O$3:$O$1000,MATCH(Diploma!E30&$E$3,'Diploma Data Sheet'!$M$3:$M$1000&'Diploma Data Sheet'!$N$3:$N$1000,0)),\"\")","v":0},null,null,null,null,{"$f":"IFERROR(INDEX('Diploma Data Sheet'!$Q$3:$Q$1000,MATCH(Diploma!E30&$E$3,'Diploma Data Sheet'!$M$3:$M$1000&'Diploma Data Sheet'!$N$3:$N$1000,0)),\"\")","v":0},null,{"$f":"IFERROR(IF(C30=\"Internal\",VLOOKUP(J30,Points!$A$2:$C$6,MATCH(C30&\" \"&I30&\" GLH\",Points!$A$2:$C$2,0),FALSE),\"\"),\"\")","v":""},{"$f":"IF(E30=\"\",\"\",VLOOKUP(SUM(P30,R30,T30,V30,X30),Lookup!$M$1:$N$6,2,FALSE))","v":""},null,null,{"$f":"IFERROR(IF(AND(C30=\"Internal\",I30=120),VLOOKUP(K30,Points!$C$2:$G$6,MATCH(\"Internal Grade\",Points!$C$2:$G$2,0),FALSE),\"\"),\"\")","v":""},{"$f":"IF(O30=\"\",\"\",VLOOKUP(O30,Lookup!$L$2:$M$6,2,FALSE))","v":""},{"$f":"IFERROR(IF(AND(C30=\"Internal\",I30=90),VLOOKUP(K30,Points!$C$2:$G$6,MATCH(\"Internal Grade\",Points!$C$2:$G$2,0),FALSE),\"\"),\"\")","v":""},{"$f":"IF(Q30=\"\",\"\",VLOOKUP(Q30,Lookup!$L$2:$M$6,2,FALSE))","v":""},{"$f":"IFERROR(IF(AND(C30=\"Internal\",I30=60),VLOOKUP(K30,Points!$B$2:$G$6,MATCH(\"Internal Grade\",Points!$B$2:$G$2,0),FALSE),\"\"),\"\")","v":""},{"$f":"IF(S30=\"\",\"\",VLOOKUP(S30,Lookup!$L$2:$M$6,2,FALSE))","v":""},{"$f":"IF(AND(C30=\"External\",I30=120),VLOOKUP(K30,Points!$M$2:$N$35,MATCH(\"120 GLH Grade\",Points!$M$2:$N$2,0),FALSE),\"No\")","v":"No"},{"$f":"IF(U30=\"\",\"\",VLOOKUP(U30,Lookup!$L$1:$M$6,2,FALSE))","v":0},{"$f":"IF(AND(C30=\"External\",I30=90),VLOOKUP(K30,Points!$J$2:$K$27,MATCH(\"90 GLH Grade\",Points!$J$2:$K$2,0),FALSE),\"No\")","v":"No"},{"$f":"IF(W30=\"\",\"\",VLOOKUP(W30,Lookup!$L$1:$M$6,2,FALSE))","v":0}]
[null,"Optional",{"$f":"IFERROR(INDEX('Diploma Data Sheet'!$R$3:$R$1000,MATCH(Diploma!E31&$E$3,'Diploma Data Sheet'!$M$3:$M$1000&'Diploma Data Sheet'!$N$3:$N$1000,0)),\"\")","v":0},{"$f":"IFERROR(INDEX('Diploma Data Sheet'!$O$3:$O$1000,MATCH(Diploma!E31&$E$3,'Diploma Data Sheet'!$M$3:$M$1000&'Diploma Data Sheet'!$N$3:$N$1000,0)),\"\")","v":0},null,null,null,null,{"$f":"IFERROR(INDEX('Diploma Data Sheet'!$Q$3:$Q$1000,MATCH(Diploma!E31&$E$3,'Diploma Data Sheet'!$M$3:$M$1000&'Diploma Data Sheet'!$N$3:$N$1000,0)),\"\")","v":0},null,{"$f":"IFERROR(IF(C31=\"Internal\",VLOOKUP(J31,Points!$A$2:$C$6,MATCH(C31&\" \"&I31&\" GLH\",Points!$A$2:$C$2,0),FALSE),\"\"),\"\")","v":""},{"$f":"IF(E31=\"\",\"\",VLOOKUP(SUM(P31,R31,T31,V31,X31),Lookup!$M$1:$N$6,2,FALSE))","v":""},null,null,{"$f":"IFERROR(IF(AND(C31=\"Internal\",I31=120),VLOOKUP(K31,Points!$C$2:$G$6,MATCH(\"Internal Grade\",Points!$C$2:$G$2,0),FALSE),\"\"),\"\")","v":""},{"$f":"IF(O31=\"\",\"\",VLOOKUP(O31,Lookup!$L$2:$M$6,2,FALSE))","v":""},{"$f":"IFERROR(IF(AND(C31=\"Internal\",I31=90),VLOOKUP(K31,Points!$C$2:$G$6,MATCH(\"Internal Grade\",Points!$C$2:$G$2,0),FALSE),\"\"),\"\")","v":""},{"$f":"IF(Q31=\"\",\"\",VLOOKUP(Q31,Lookup!$L$2:$M$6,2,FALSE))","v":""},{"$f":"IFERROR(IF(AND(C31=\"Internal\",I31=60),VLOOKUP(K31,Points!$B$2:$G$6,MATCH(\"Internal Grade\",Points!$B$2:$G$2,0),FALSE),\"\"),\"\")","v":""},{"$f":"IF(S31=\"\",\"\",VLOOKUP(S31,Lookup!$L$2:$M$6,2,FALSE))","v":""},{"$f":"IF(AND(C31=\"External\",I31=120),VLOOKUP(K31,Points!$M$2:$N$35,MATCH(\"120 GLH Grade\",Points!$M$2:$N$2,0),FALSE),\"No\")","v":"No"},{"$f":"IF(U31=\"\",\"\",VLOOKUP(U31,Lookup!$L$1:$M$6,2,FALSE))","v":0},{"$f":"IF(AND(C31=\"External\",I31=90),VLOOKUP(K31,Points!$J$2:$K$27,MATCH(\"90 GLH Grade\",Points!$J$2:$K$2,0),FALSE),\"No\")","v":"No"},{"$f":"IF(W31=\"\",\"\",VLOOKUP(W31,Lookup!$L$1:$M$6,2,FALSE))","v":0}]
[null,"Optional",{"$f":"IFERROR(INDEX('Diploma Data Sheet'!$R$3:$R$1000,MATCH(Diploma!E32&$E$3,'Diploma Data Sheet'!$M$3:$M$1000&'Diploma Data Sheet'!$N$3:$N$1000,0)),\"\")","v":0},{"$f":"IFERROR(INDEX('Diploma Data Sheet'!$O$3:$O$1000,MATCH(Diploma!E32&$E$3,'Diploma Data Sheet'!$M$3:$M$1000&'Diploma Data Sheet'!$N$3:$N$1000,0)),\"\")","v":0},null,null,null,null,{"$f":"IFERROR(INDEX('Diploma Data Sheet'!$Q$3:$Q$1000,MATCH(Diploma!E32&$E$3,'Diploma Data Sheet'!$M$3:$M$1000&'Diploma Data Sheet'!$N$3:$N$1000,0)),\"\")","v":0},null,{"$f":"IFERROR(IF(C32=\"Internal\",VLOOKUP(J32,Points!$A$2:$C$6,MATCH(C32&\" \"&I32&\" GLH\",Points!$A$2:$C$2,0),FALSE),\"\"),\"\")","v":""},{"$f":"IF(E32=\"\",\"\",VLOOKUP(SUM(P32,R32,T32,V32,X32),Lookup!$M$1:$N$6,2,FALSE))","v":""},null,null,{"$f":"IFERROR(IF(AND(C32=\"Internal\",I32=120),VLOOKUP(K32,Points!$C$2:$G$6,MATCH(\"Internal Grade\",Points!$C$2:$G$2,0),FALSE),\"\"),\"\")","v":""},{"$f":"IF(O32=\"\",\"\",VLOOKUP(O32,Lookup!$L$2:$M$6,2,FALSE))","v":""},{"$f":"IFERROR(IF(AND(C32=\"Internal\",I32=90),VLOOKUP(K32,Points!$C$2:$G$6,MATCH(\"Internal Grade\",Points!$C$2:$G$2,0),FALSE),\"\"),\"\")","v":""},{"$f":"IF(Q32=\"\",\"\",VLOOKUP(Q32,Lookup!$L$2:$M$6,2,FALSE))","v":""},{"$f":"IFERROR(IF(AND(C32=\"Internal\",I32=60),VLOOKUP(K32,Points!$B$2:$G$6,MATCH(\"Internal Grade\",Points!$B$2:$G$2,0),FALSE),\"\"),\"\")","v":""},{"$f":"IF(S32=\"\",\"\",VLOOKUP(S32,Lookup!$L$2:$M$6,2,FALSE))","v":""},{"$f":"IF(AND(C32=\"External\",I32=120),VLOOKUP(K32,Points!$M$2:$N$35,MATCH(\"120 GLH Grade\",Points!$M$2:$N$2,0),FALSE),\"No\")","v":"No"},{"$f":"IF(U32=\"\",\"\",VLOOKUP(U32,Lookup!$L$1:$M$6,2,FALSE))","v":0},{"$f":"IF(AND(C32=\"External\",I32=90),VLOOKUP(K32,Points!$J$2:$K$27,MATCH(\"90 GLH Grade\",Points!$J$2:$K$2,0),FALSE),\"No\")","v":"No"},{"$f":"IF(W32=\"\",\"\",VLOOKUP(W32,Lookup!$L$1:$M$6,2,FALSE))","v":0}]
[null,"Optional",{"$f":"IFERROR(INDEX('Diploma Data Sheet'!$R$3:$R$1000,MATCH(Diploma!E33&$E$3,'Diploma Data Sheet'!$M$3:$M$1000&'Diploma Data Sheet'!$N$3:$N$1000,0)),\"\")","v":0},{"$f":"IFERROR(INDEX('Diploma Data Sheet'!$O$3:$O$1000,MATCH(Diploma!E33&$E$3,'Diploma Data Sheet'!$M$3:$M$1000&'Diploma Data Sheet'!$N$3:$N$1000,0)),\"\")","v":0},null,null,null,null,{"$f":"IFERROR(INDEX('Diploma Data Sheet'!$Q$3:$Q$1000,MATCH(Diploma!E33&$E$3,'Diploma Data Sheet'!$M$3:$M$1000&'Diploma Data Sheet'!$N$3:$N$1000,0)),\"\")","v":0},null,{"$f":"IFERROR(IF(C33=\"Internal\",VLOOKUP(J33,Points!$A$2:$C$6,MATCH(C33&\" \"&I33&\" GLH\",Points!$A$2:$C$2,0),FALSE),\"\"),\"\")","v":""},{"$f":"IF(E33=\"\",\"\",VLOOKUP(SUM(P33,R33,T33,V33,X33),Lookup!$M$1:$N$6,2,FALSE))","v":""},null,null,{"$f":"IFERROR(IF(AND(C33=\"Internal\",I33=120),VLOOKUP(K33,Points!$C$2:$G$6,MATCH(\"Internal Grade\",Points!$C$2:$G$2,0),FALSE),\"\"),\"\")","v":""},{"$f":"IF(O33=\"\",\"\",VLOOKUP(O33,Lookup!$L$2:$M$6,2,FALSE))","v":""},{"$f":"IFERROR(IF(AND(C33=\"Internal\",I33=90),VLOOKUP(K33,Points!$C$2:$G$6,MATCH(\"Internal Grade\",Points!$C$2:$G$2,0),FALSE),\"\"),\"\")","v":""},{"$f":"IF(Q33=\"\",\"\",VLOOKUP(Q33,Lookup!$L$2:$M$6,2,FALSE))","v":""},{"$f":"IFERROR(IF(AND(C33=\"Internal\",I33=60),VLOOKUP(K33,Points!$B$2:$G$6,MATCH(\"Internal Grade\",Points!$B$2:$G$2,0),FALSE),\"\"),\"\")","v":""},{"$f":"IF(S33=\"\",\"\",VLOOKUP(S33,Lookup!$L$2:$M$6,2,FALSE))","v":""},{"$f":"IF(AND(C33=\"External\",I33=120),VLOOKUP(K33,Points!$M$2:$N$35,MATCH(\"120 GLH Grade\",Points!$M$2:$N$2,0),FALSE),\"No\")","v":"No"},{"$f":"IF(U33=\"\",\"\",VLOOKUP(U33,Lookup!$L$1:$M$6,2,FALSE))","v":0},{"$f":"IF(AND(C33=\"External\",I33=90),VLOOKUP(K33,Points!$J$2:$K$27,MATCH(\"90 GLH Grade\",Points!$J$2:$K$2,0),FALSE),\"No\")","v":"No"},{"$f":"IF(W33=\"\",\"\",VLOOKUP(W33,Lookup!$L$1:$M$6,2,FALSE))","v":0}]
[null,"Optional",{"$f":"IFERROR(INDEX('Diploma Data Sheet'!$R$3:$R$1000,MATCH(Diploma!E34&$E$3,'Diploma Data Sheet'!$M$3:$M$1000&'Diploma Data Sheet'!$N$3:$N$1000,0)),\"\")","v":0},{"$f":"IFERROR(INDEX('Diploma Data Sheet'!$O$3:$O$1000,MATCH(Diploma!E34&$E$3,'Diploma Data Sheet'!$M$3:$M$1000&'Diploma Data Sheet'!$N$3:$N$1000,0)),\"\")","v":0},null,null,null,null,{"$f":"IFERROR(INDEX('Diploma Data Sheet'!$Q$3:$Q$1000,MATCH(Diploma!E34&$E$3,'Diploma Data Sheet'!$M$3:$M$1000&'Diploma Data Sheet'!$N$3:$N$1000,0)),\"\")","v":0},null,{"$f":"IFERROR(IF(C34=\"Internal\",VLOOKUP(J34,Points!$A$2:$C$6,MATCH(C34&\" \"&I34&\" GLH\",Points!$A$2:$C$2,0),FALSE),\"\"),\"\")","v":""},{"$f":"IF(E34=\"\",\"\",VLOOKUP(SUM(P34,R34,T34,V34,X34),Lookup!$M$1:$N$6,2,FALSE))","v":""},null,null,{"$f":"IFERROR(IF(AND(C34=\"Internal\",I34=120),VLOOKUP(K34,Points!$C$2:$G$6,MATCH(\"Internal Grade\",Points!$C$2:$G$2,0),FALSE),\"\"),\"\")","v":""},{"$f":"IF(O34=\"\",\"\",VLOOKUP(O34,Lookup!$L$2:$M$6,2,FALSE))","v":""},{"$f":"IFERROR(IF(AND(C34=\"Internal\",I34=90),VLOOKUP(K34,Points!$C$2:$G$6,MATCH(\"Internal Grade\",Points!$C$2:$G$2,0),FALSE),\"\"),\"\")","v":""},{"$f":"IF(Q34=\"\",\"\",VLOOKUP(Q34,Lookup!$L$2:$M$6,2,FALSE))","v":""},{"$f":"IFERROR(IF(AND(C34=\"Internal\",I34=60),VLOOKUP(K34,Points!$B$2:$G$6,MATCH(\"Internal Grade\",Points!$B$2:$G$2,0),FALSE),\"\"),\"\")","v":""},{"$f":"IF(S34=\"\",\"\",VLOOKUP(S34,Lookup!$L$2:$M$6,2,FALSE))","v":""},{"$f":"IF(AND(C34=\"External\",I34=120),VLOOKUP(K34,Points!$M$2:$N$35,MATCH(\"120 GLH Grade\",Points!$M$2:$N$2,0),FALSE),\"No\")","v":"No"},{"$f":"IF(U34=\"\",\"\",VLOOKUP(U34,Lookup!$L$1:$M$6,2,FALSE))","v":0},{"$f":"IF(AND(C34=\"External\",I34=90),VLOOKUP(K34,Points!$J$2:$K$27,MATCH(\"90 GLH Grade\",Points!$J$2:$K$2,0),FALSE),\"No\")","v":"No"},{"$f":"IF(W34=\"\",\"\",VLOOKUP(W34,Lookup!$L$1:$M$6,2,FALSE))","v":0}]
[null,null,null,null,null,null,null,null,{"$f":"SUM(I29:I34)","v":0}]
[]
[null,"Optional",{"$f":"IFERROR(INDEX('Diploma Data Sheet'!$Y$3:$Y$1000,MATCH(Diploma!E37&$E$3,'Diploma Data Sheet'!$T$3:$T$1000&'Diploma Data Sheet'!$U$3:$U$1000,0)),\"\")","v":0},{"$f":"IFERROR(INDEX('Diploma Data Sheet'!$V$3:$V$1000,MATCH(Diploma!E37&$E$3,'Diploma Data Sheet'!$T$3:$T$1000&'Diploma Data Sheet'!$U$3:$U$1000,0)),\"\")","v":0},null,null,null,null,{"$f":"IFERROR(INDEX('Diploma Data Sheet'!$X$3:$X$1000,MATCH(Diploma!E37&$E$3,'Diploma Data Sheet'!$T$3:$T$1000&'Diploma Data Sheet'!$U$3:$U$1000,0)),\"\")","v":0},null,{"$f":"IFERROR(IF(C37=\"Internal\",VLOOKUP(J37,Points!$A$2:$C$6,MATCH(C37&\" \"&I37&\" GLH\",Points!$A$2:$C$2,0),FALSE),\"\"),\"\")","v":""},{"$f":"IF(E37=\"\",\"\",VLOOKUP(SUM(P37,R37,T37,V37,X37),Lookup!$M$1:$N$6,2,FALSE))","v":""},null,null,null,{"$f":"IF(O37=\"\",\"\",VLOOKUP(O37,Lookup!$L$2:$M$6,2,FALSE))","v":""},{"$f":"IFERROR(IF(AND(C37=\"Internal\",I37=90),VLOOKUP(K37,Points!$C$2:$G$6,MATCH(\"Internal Grade\",Points!$C$2:$G$2,0),FALSE),\"\"),\"\")","v":""},{"$f":"IF(Q37=\"\",\"\",VLOOKUP(Q37,Lookup!$L$2:$M$6,2,FALSE))","v":""},{"$f":"IFERROR(IF(AND(C37=\"Internal\",I37=60),VLOOKUP(K37,Points!$B$2:$G$6,MATCH(\"Internal Grade\",Points!$B$2:$G$2,0),FALSE),\"\"),\"\")","v":""},{"$f":"IF(S37=\"\",\"\",VLOOKUP(S37,Lookup!$L$2:$M$6,2,FALSE))","v":""},{"$f":"IF(AND(C37=\"External\",I37=120),VLOOKUP(K37,Points!$M$2:$N$35,MATCH(\"120 GLH Grade\",Points!$M$2:$N$2,0),FALSE),\"No\")","v":"No"},{"$f":"IF(U37=\"\",\"\",VLOOKUP(U37,Lookup!$L$1:$M$6,2,FALSE))","v":0},{"$f":"IF(AND(C37=\"External\",I37=90),VLOOKUP(K37,Points!$J$2:$K$27,MATCH(\"90 GLH Grade\",Points!$J$2:$K$2,0),FALSE),\"No\")","v":"No"},{"$f":"IF(W37=\"\",\"\",VLOOKUP(W37,Lookup!$L$1:$M$6,2,FALSE))","v":0}]
[null,"Optional",{"$f":"IFERROR(INDEX('Diploma Data Sheet'!$Y$3:$Y$1000,MATCH(Diploma!E38&$E$3,'Diploma Data Sheet'!$T$3:$T$1000&'Diploma Data Sheet'!$U$3:$U$1000,0)),\"\")","v":0},{"$f":"IFERROR(INDEX('Diploma Data Sheet'!$V$3:$V$1000,MATCH(Diploma!E38&$E$3,'Diploma Data Sheet'!$T$3:$T$1000&'Diploma Data Sheet'!$U$3:$U$1000,0)),\"\")","v":0},null,null,null,null,{"$f":"IFERROR(INDEX('Diploma Data Sheet'!$X$3:$X$1000,MATCH(Diploma!E38&$E$3,'Diploma Data Sheet'!$T$3:$T$1000&'Diploma Data Sheet'!$U$3:$U$1000,0)),\"\")","v":0},null,{"$f":"IFERROR(IF(C38=\"Internal\",VLOOKUP(J38,Points!$A$2:$C$6,MATCH(C38&\" \"&I38&\" GLH\",Points!$A$2:$C$2,0),FALSE),\"\"),\"\")","v":""},{"$f":"IF(E38=\"\",\"\",VLOOKUP(SUM(P38,R38,T38,V38,X38),Lookup!$M$1:$N$6,2,FALSE))","v":""},null,null,null,{"$f":"IF(O38=\"\",\"\",VLOOKUP(O38,Lookup!$L$2:$M$6,2,FALSE))","v":""},{"$f":"IFERROR(IF(AND(C38=\"Internal\",I38=90),VLOOKUP(K38,Points!$C$2:$G$6,MATCH(\"Internal Grade\",Points!$C$2:$G$2,0),FALSE),\"\"),\"\")","v":""},{"$f":"IF(Q38=\"\",\"\",VLOOKUP(Q38,Lookup!$L$2:$M$6,2,FALSE))","v":""},{"$f":"IFERROR(IF(AND(C38=\"Internal\",I38=60),VLOOKUP(K38,Points!$B$2:$G$6,MATCH(\"Internal Grade\",Points!$B$2:$G$2,0),FALSE),\"\"),\"\")","v":""},{"$f":"IF(S38=\"\",\"\",VLOOKUP(S38,Lookup!$L$2:$M$6,2,FALSE))","v":""},{"$f":"IF(AND(C38=\"External\",I38=120),VLOOKUP(K38,Points!$M$2:$N$35,MATCH(\"120 GLH Grade\",Points!$M$2:$N$2,0),FALSE),\"No\")","v":"No"},{"$f":"IF(U38=\"\",\"\",VLOOKUP(U38,Lookup!$L$1:$M$6,2,FALSE))","v":0},{"$f":"IF(AND(C38=\"External\",I38=90),VLOOKUP(K38,Points!$J$2:$K$27,MATCH(\"90 GLH Grade\",Points!$J$2:$K$2,0),FALSE),\"No\")","v":"No"},{"$f":"IF(W38=\"\",\"\",VLOOKUP(W38,Lookup!$L$1:$M$6,2,FALSE))","v":0}]
[null,"Optional",{"$f":"IFERROR(INDEX('Diploma Data Sheet'!$Y$3:$Y$1000,MATCH(Diploma!E39&$E$3,'Diploma Data Sheet'!$T$3:$T$1000&'Diploma Data Sheet'!$U$3:$U$1000,0)),\"\")","v":0},{"$f":"IFERROR(INDEX('Diploma Data Sheet'!$V$3:$V$1000,MATCH(Diploma!E39&$E$3,'Diploma Data Sheet'!$T$3:$T$1000&'Diploma Data Sheet'!$U$3:$U$1000,0)),\"\")","v":0},null,null,null,null,{"$f":"IFERROR(INDEX('Diploma Data Sheet'!$X$3:$X$1000,MATCH(Diploma!E39&$E$3,'Diploma Data Sheet'!$T$3:$T$1000&'Diploma Data Sheet'!$U$3:$U$1000,0)),\"\")","v":0},null,{"$f":"IFERROR(IF(C39=\"Internal\",VLOOKUP(J39,Points!$A$2:$C$6,MATCH(C39&\" \"&I39&\" GLH\",Points!$A$2:$C$2,0),FALSE),\"\"),\"\")","v":""},{"$f":"IF(E39=\"\",\"\",VLOOKUP(SUM(P39,R39,T39,V39,X39),Lookup!$M$1:$N$6,2,FALSE))","v":""},null,null,null,{"$f":"IF(O39=\"\",\"\",VLOOKUP(O39,Lookup!$L$2:$M$6,2,FALSE))","v":""},{"$f":"IFERROR(IF(AND(C39=\"Internal\",I39=90),VLOOKUP(K39,Points!$C$2:$G$6,MATCH(\"Internal Grade\",Points!$C$2:$G$2,0),FALSE),\"\"),\"\")","v":""},{"$f":"IF(Q39=\"\",\"\",VLOOKUP(Q39,Lookup!$L$2:$M$6,2,FALSE))","v":""},{"$f":"IFERROR(IF(AND(C39=\"Internal\",I39=60),VLOOKUP(K39,Points!$B$2:$G$6,MATCH(\"Internal Grade\",Points!$B$2:$G$2,0),FALSE),\"\"),\"\")","v":""},{"$f":"IF(S39=\"\",\"\",VLOOKUP(S39,Lookup!$L$2:$M$6,2,FALSE))","v":""},{"$f":"IF(AND(C39=\"External\",I39=120),VLOOKUP(K39,Points!$M$2:$N$35,MATCH(\"120 GLH Grade\",Points!$M$2:$N$2,0),FALSE),\"No\")","v":"No"},{"$f":"IF(U39=\"\",\"\",VLOOKUP(U39,Lookup!$L$1:$M$6,2,FALSE))","v":0},{"$f":"IF(AND(C39=\"External\",I39=90),VLOOKUP(K39,Points!$J$2:$K$27,MATCH(\"90 GLH Grade\",Points!$J$2:$K$2,0),FALSE),\"No\")","v":"No"},{"$f":"IF(W39=\"\",\"\",VLOOKUP(W39,Lookup!$L$1:$M$6,2,FALSE))","v":0}]
[null,"Optional",{"$f":"IFERROR(INDEX('Diploma Data Sheet'!$Y$3:$Y$1000,MATCH(Diploma!E40&$E$3,'Diploma Data Sheet'!$T$3:$T$1000&'Diploma Data Sheet'!$U$3:$U$1000,0)),\"\")","v":0},{"$f":"IFERROR(INDEX('Diploma Data Sheet'!$V$3:$V$1000,MATCH(Diploma!E40&$E$3,'Diploma Data Sheet'!$T$3:$T$1000&'Diploma Data Sheet'!$U$3:$U$1000,0)),\"\")","v":0},null,null,null,null,{"$f":"IFERROR(INDEX('Diploma Data Sheet'!$X$3:$X$1000,MATCH(Diploma!E40&$E$3,'Diploma Data Sheet'!$T$3:$T$1000&'Diploma Data Sheet'!$U$3:$U$1000,0)),\"\")","v":0},null,{"$f":"IFERROR(IF(C40=\"Internal\",VLOOKUP(J40,Points!$A$2:$C$6,MATCH(C40&\" \"&I40&\" GLH\",Points!$A$2:$C$2,0),FALSE),\"\"),\"\")","v":""},{"$f":"IF(E40=\"\",\"\",VLOOKUP(SUM(P40,R40,T40,V40,X40),Lookup!$M$1:$N$6,2,FALSE))","v":""},null,null,null,{"$f":"IF(O40=\"\",\"\",VLOOKUP(O40,Lookup!$L$2:$M$6,2,FALSE))","v":""},{"$f":"IFERROR(IF(AND(C40=\"Internal\",I40=90),VLOOKUP(K40,Points!$C$2:$G$6,MATCH(\"Internal Grade\",Points!$C$2:$G$2,0),FALSE),\"\"),\"\")","v":""},{"$f":"IF(Q40=\"\",\"\",VLOOKUP(Q40,Lookup!$L$2:$M$6,2,FALSE))","v":""},{"$f":"IFERROR(IF(AND(C40=\"Internal\",I40=60),VLOOKUP(K40,Points!$B$2:$G$6,MATCH(\"Internal Grade\",Points!$B$2:$G$2,0),FALSE),\"\"),\"\")","v":""},{"$f":"IF(S40=\"\",\"\",VLOOKUP(S40,Lookup!$L$2:$M$6,2,FALSE))","v":""},{"$f":"IF(AND(C40=\"External\",I40=120),VLOOKUP(K40,Points!$M$2:$N$35,MATCH(\"120 GLH Grade\",Points!$M$2:$N$2,0),FALSE),\"No\")","v":"No"},{"$f":"IF(U40=\"\",\"\",VLOOKUP(U40,Lookup!$L$1:$M$6,2,FALSE))","v":0},{"$f":"IF(AND(C40=\"External\",I40=90),VLOOKUP(K40,Points!$J$2:$K$27,MATCH(\"90 GLH Grade\",Points!$J$2:$K$2,0),FALSE),\"No\")","v":"No"},{"$f":"IF(W40=\"\",\"\",VLOOKUP(W40,Lookup!$L$1:$M$6,2,FALSE))","v":0}]
[null,"Optional",{"$f":"IFERROR(INDEX('Diploma Data Sheet'!$Y$3:$Y$1000,MATCH(Diploma!E41&$E$3,'Diploma Data Sheet'!$T$3:$T$1000&'Diploma Data Sheet'!$U$3:$U$1000,0)),\"\")","v":0},{"$f":"IFERROR(INDEX('Diploma Data Sheet'!$V$3:$V$1000,MATCH(Diploma!E41&$E$3,'Diploma Data Sheet'!$T$3:$T$1000&'Diploma Data Sheet'!$U$3:$U$1000,0)),\"\")","v":0},null,null,null,null,{"$f":"IFERROR(INDEX('Diploma Data Sheet'!$X$3:$X$1000,MATCH(Diploma!E41&$E$3,'Diploma Data Sheet'!$T$3:$T$1000&'Diploma Data Sheet'!$U$3:$U$1000,0)),\"\")","v":0},null,{"$f":"IFERROR(IF(C41=\"Internal\",VLOOKUP(J41,Points!$A$2:$C$6,MATCH(C41&\" \"&I41&\" GLH\",Points!$A$2:$C$2,0),FALSE),\"\"),\"\")","v":""},{"$f":"IF(E41=\"\",\"\",VLOOKUP(SUM(P41,R41,T41,V41,X41),Lookup!$M$1:$N$6,2,FALSE))","v":""},null,null,null,{"$f":"IF(O41=\"\",\"\",VLOOKUP(O41,Lookup!$L$2:$M$6,2,FALSE))","v":""},{"$f":"IFERROR(IF(AND(C41=\"Internal\",I41=90),VLOOKUP(K41,Points!$C$2:$G$6,MATCH(\"Internal Grade\",Points!$C$2:$G$2,0),FALSE),\"\"),\"\")","v":""},{"$f":"IF(Q41=\"\",\"\",VLOOKUP(Q41,Lookup!$L$2:$M$6,2,FALSE))","v":""},{"$f":"IFERROR(IF(AND(C41=\"Internal\",I41=60),VLOOKUP(K41,Points!$B$2:$G$6,MATCH(\"Internal Grade\",Points!$B$2:$G$2,0),FALSE),\"\"),\"\")","v":""},{"$f":"IF(S41=\"\",\"\",VLOOKUP(S41,Lookup!$L$2:$M$6,2,FALSE))","v":""},{"$f":"IF(AND(C41=\"External\",I41=120),VLOOKUP(K41,Points!$M$2:$N$35,MATCH(\"120 GLH Grade\",Points!$M$2:$N$2,0),FALSE),\"No\")","v":"No"},{"$f":"IF(U41=\"\",\"\",VLOOKUP(U41,Lookup!$L$1:$M$6,2,FALSE))","v":0},{"$f":"IF(AND(C41=\"External\",I41=90),VLOOKUP(K41,Points!$J$2:$K$27,MATCH(\"90 GLH Grade\",Points!$J$2:$K$2,0),FALSE),\"No\")","v":"No"},{"$f":"IF(W41=\"\",\"\",VLOOKUP(W41,Lookup!$L$1:$M$6,2,FALSE))","v":0}]
[null,"Optional",{"$f":"IFERROR(INDEX('Diploma Data Sheet'!$Y$3:$Y$1000,MATCH(Diploma!E42&$E$3,'Diploma Data Sheet'!$T$3:$T$1000&'Diploma Data Sheet'!$U$3:$U$1000,0)),\"\")","v":0},{"$f":"IFERROR(INDEX('Diploma Data Sheet'!$V$3:$V$1000,MATCH(Diploma!E42&$E$3,'Diploma Data Sheet'!$T$3:$T$1000&'Diploma Data Sheet'!$U$3:$U$1000,0)),\"\")","v":0},null,null,null,null,{"$f":"IFERROR(INDEX('Diploma Data Sheet'!$X$3:$X$1000,MATCH(Diploma!E42&$E$3,'Diploma Data Sheet'!$T$3:$T$1000&'Diploma Data Sheet'!$U$3:$U$1000,0)),\"\")","v":0},null,{"$f":"IFERROR(IF(C42=\"Internal\",VLOOKUP(J42,Points!$A$2:$C$6,MATCH(C42&\" \"&I42&\" GLH\",Points!$A$2:$C$2,0),FALSE),\"\"),\"\")","v":""},{"$f":"IF(E42=\"\",\"\",VLOOKUP(SUM(P42,R42,T42,V42,X42),Lookup!$M$1:$N$6,2,FALSE))","v":""},null,null,null,{"$f":"IF(O42=\"\",\"\",VLOOKUP(O42,Lookup!$L$2:$M$6,2,FALSE))","v":""},{"$f":"IFERROR(IF(AND(C42=\"Internal\",I42=90),VLOOKUP(K42,Points!$C$2:$G$6,MATCH(\"Internal Grade\",Points!$C$2:$G$2,0),FALSE),\"\"),\"\")","v":""},{"$f":"IF(Q42=\"\",\"\",VLOOKUP(Q42,Lookup!$L$2:$M$6,2,FALSE))","v":""},{"$f":"IFERROR(IF(AND(C42=\"Internal\",I42=60),VLOOKUP(K42,Points!$B$2:$G$6,MATCH(\"Internal Grade\",Points!$B$2:$G$2,0),FALSE),\"\"),\"\")","v":""},{"$f":"IF(S42=\"\",\"\",VLOOKUP(S42,Lookup!$L$2:$M$6,2,FALSE))","v":""},{"$f":"IF(AND(C42=\"External\",I42=120),VLOOKUP(K42,Points!$M$2:$N$35,MATCH(\"120 GLH Grade\",Points!$M$2:$N$2,0),FALSE),\"No\")","v":"No"},{"$f":"IF(U42=\"\",\"\",VLOOKUP(U42,Lookup!$L$1:$M$6,2,FALSE))","v":0},{"$f":"IF(AND(C42=\"External\",I42=90),VLOOKUP(K42,Points!$J$2:$K$27,MATCH(\"90 GLH Grade\",Points!$J$2:$K$2,0),FALSE),\"No\")","v":"No"},{"$f":"IF(W42=\"\",\"\",VLOOKUP(W42,Lookup!$L$1:$M$6,2,FALSE))","v":0}]
[null,"Optional",{"$f":"IFERROR(INDEX('Diploma Data Sheet'!$Y$3:$Y$1000,MATCH(Diploma!E43&$E$3,'Diploma Data Sheet'!$T$3:$T$1000&'Diploma Data Sheet'!$U$3:$U$1000,0)),\"\")","v":0},{"$f":"IFERROR(INDEX('Diploma Data Sheet'!$V$3:$V$1000,MATCH(Diploma!E43&$E$3,'Diploma Data Sheet'!$T$3:$T$1000&'Diploma Data Sheet'!$U$3:$U$1000,0)),\"\")","v":0},null,null,null,null,{"$f":"IFERROR(INDEX('Diploma Data Sheet'!$X$3:$X$1000,MATCH(Diploma!E43&$E$3,'Diploma Data Sheet'!$T$3:$T$1000&'Diploma Data Sheet'!$U$3:$U$1000,0)),\"\")","v":0},null,{"$f":"IFERROR(IF(C43=\"Internal\",VLOOKUP(J43,Points!$A$2:$C$6,MATCH(C43&\" \"&I43&\" GLH\",Points!$A$2:$C$2,0),FALSE),\"\"),\"\")","v":""},{"$f":"IF(E43=\"\",\"\",VLOOKUP(SUM(P43,R43,T43,V43,X43),Lookup!$M$1:$N$6,2,FALSE))","v":""},null,null,null,{"$f":"IF(O43=\"\",\"\",VLOOKUP(O43,Lookup!$L$2:$M$6,2,FALSE))","v":""},{"$f":"IFERROR(IF(AND(C43=\"Internal\",I43=90),VLOOKUP(K43,Points!$C$2:$G$6,MATCH(\"Internal Grade\",Points!$C$2:$G$2,0),FALSE),\"\"),\"\")","v":""},{"$f":"IF(Q43=\"\",\"\",VLOOKUP(Q43,Lookup!$L$2:$M$6,2,FALSE))","v":""},{"$f":"IFERROR(IF(AND(C43=\"Internal\",I43=60),VLOOKUP(K43,Points!$B$2:$G$6,MATCH(\"Internal Grade\",Points!$B$2:$G$2,0),FALSE),\"\"),\"\")","v":""},{"$f":"IF(S43=\"\",\"\",VLOOKUP(S43,Lookup!$L$2:$M$6,2,FALSE))","v":""},{"$f":"IF(AND(C43=\"External\",I43=120),VLOOKUP(K43,Points!$M$2:$N$35,MATCH(\"120 GLH Grade\",Points!$M$2:$N$2,0),FALSE),\"No\")","v":"No"},{"$f":"IF(U43=\"\",\"\",VLOOKUP(U43,Lookup!$L$1:$M$6,2,FALSE))","v":0},{"$f":"IF(AND(C43=\"External\",I43=90),VLOOKUP(K43,Points!$J$2:$K$27,MATCH(\"90 GLH Grade\",Points!$J$2:$K$2,0),FALSE),\"No\")","v":"No"},{"$f":"IF(W43=\"\",\"\",VLOOKUP(W43,Lookup!$L$1:$M$6,2,FALSE))","v":0}]
[null,"Optional",{"$f":"IFERROR(INDEX('Diploma Data Sheet'!$Y$3:$Y$1000,MATCH(Diploma!E44&$E$3,'Diploma Data Sheet'!$T$3:$T$1000&'Diploma Data Sheet'!$U$3:$U$1000,0)),\"\")","v":0},{"$f":"IFERROR(INDEX('Diploma Data Sheet'!$V$3:$V$1000,MATCH(Diploma!E44&$E$3,'Diploma Data Sheet'!$T$3:$T$1000&'Diploma Data Sheet'!$U$3:$U$1000,0)),\"\")","v":0},null,null,null,null,{"$f":"IFERROR(INDEX('Diploma Data Sheet'!$X$3:$X$1000,MATCH(Diploma!E44&$E$3,'Diploma Data Sheet'!$T$3:$T$1000&'Diploma Data Sheet'!$U$3:$U$1000,0)),\"\")","v":0},null,{"$f":"IFERROR(IF(C44=\"Internal\",VLOOKUP(J44,Points!$A$2:$C$6,MATCH(C44&\" \"&I44&\" GLH\",Points!$A$2:$C$2,0),FALSE),\"\"),\"\")","v":""},{"$f":"IF(E44=\"\",\"\",VLOOKUP(SUM(P44,R44,T44,V44,X44),Lookup!$M$1:$N$6,2,FALSE))","v":""},null,null,null,{"$f":"IF(O44=\"\",\"\",VLOOKUP(O44,Lookup!$L$2:$M$6,2,FALSE))","v":""},{"$f":"IFERROR(IF(AND(C44=\"Internal\",I44=90),VLOOKUP(K44,Points!$C$2:$G$6,MATCH(\"Internal Grade\",Points!$C$2:$G$2,0),FALSE),\"\"),\"\")","v":""},{"$f":"IF(Q44=\"\",\"\",VLOOKUP(Q44,Lookup!$L$2:$M$6,2,FALSE))","v":""},{"$f":"IFERROR(IF(AND(C44=\"Internal\",I44=60),VLOOKUP(K44,Points!$B$2:$G$6,MATCH(\"Internal Grade\",Points!$B$2:$G$2,0),FALSE),\"\"),\"\")","v":""},{"$f":"IF(S44=\"\",\"\",VLOOKUP(S44,Lookup!$L$2:$M$6,2,FALSE))","v":""},{"$f":"IF(AND(C44=\"External\",I44=120),VLOOKUP(K44,Points!$M$2:$N$35,MATCH(\"120 GLH Grade\",Points!$M$2:$N$2,0),FALSE),\"No\")","v":"No"},{"$f":"IF(U44=\"\",\"\",VLOOKUP(U44,Lookup!$L$1:$M$6,2,FALSE))","v":0},{"$f":"IF(AND(C44=\"External\",I44=90),VLOOKUP(K44,Points!$J$2:$K$27,MATCH(\"90 GLH Grade\",Points!$J$2:$K$2,0),FALSE),\"No\")","v":"No"},{"$f":"IF(W44=\"\",\"\",VLOOKUP(W44,Lookup!$L$1:$M$6,2,FALSE))","v":0}]
[null,"Optional",{"$f":"IFERROR(INDEX('Diploma Data Sheet'!$Y$3:$Y$1000,MATCH(Diploma!E45&$E$3,'Diploma Data Sheet'!$T$3:$T$1000&'Diploma Data Sheet'!$U$3:$U$1000,0)),\"\")","v":0},{"$f":"IFERROR(INDEX('Diploma Data Sheet'!$V$3:$V$1000,MATCH(Diploma!E45&$E$3,'Diploma Data Sheet'!$T$3:$T$1000&'Diploma Data Sheet'!$U$3:$U$1000,0)),\"\")","v":0},null,null,null,null,{"$f":"IFERROR(INDEX('Diploma Data Sheet'!$X$3:$X$1000,MATCH(Diploma!E45&$E$3,'Diploma Data Sheet'!$T$3:$T$1000&'Diploma Data Sheet'!$U$3:$U$1000,0)),\"\")","v":0},null,{"$f":"IFERROR(IF(C45=\"Internal\",VLOOKUP(J45,Points!$A$2:$C$6,MATCH(C45&\" \"&I45&\" GLH\",Points!$A$2:$C$2,0),FALSE),\"\"),\"\")","v":""},{"$f":"IF(E45=\"\",\"\",VLOOKUP(SUM(P45,R45,T45,V45,X45),Lookup!$M$1:$N$6,2,FALSE))","v":""},null,null,null,{"$f":"IF(O45=\"\",\"\",VLOOKUP(O45,Lookup!$L$2:$M$6,2,FALSE))","v":""},{"$f":"IFERROR(IF(AND(C45=\"Internal\",I45=90),VLOOKUP(K45,Points!$C$2:$G$6,MATCH(\"Internal Grade\",Points!$C$2:$G$2,0),FALSE),\"\"),\"\")","v":""},{"$f":"IF(Q45=\"\",\"\",VLOOKUP(Q45,Lookup!$L$2:$M$6,2,FALSE))","v":""},{"$f":"IFERROR(IF(AND(C45=\"Internal\",I45=60),VLOOKUP(K45,Points!$B$2:$G$6,MATCH(\"Internal Grade\",Points!$B$2:$G$2,0),FALSE),\"\"),\"\")","v":""},{"$f":"IF(S45=\"\",\"\",VLOOKUP(S45,Lookup!$L$2:$M$6,2,FALSE))","v":""},{"$f":"IF(AND(C45=\"External\",I45=120),VLOOKUP(K45,Points!$M$2:$N$35,MATCH(\"120 GLH Grade\",Points!$M$2:$N$2,0),FALSE),\"No\")","v":"No"},{"$f":"IF(U45=\"\",\"\",VLOOKUP(U45,Lookup!$L$1:$M$6,2,FALSE))","v":0},{"$f":"IF(AND(C45=\"External\",I45=90),VLOOKUP(K45,Points!$J$2:$K$27,MATCH(\"90 GLH Grade\",Points!$J$2:$K$2,0),FALSE),\"No\")","v":"No"},{"$f":"IF(W45=\"\",\"\",VLOOKUP(W45,Lookup!$L$1:$M$6,2,FALSE))","v":0}]
[null,"Optional",{"$f":"IFERROR(INDEX('Diploma Data Sheet'!$Y$3:$Y$1000,MATCH(Diploma!E46&$E$3,'Diploma Data Sheet'!$T$3:$T$1000&'Diploma Data Sheet'!$U$3:$U$1000,0)),\"\")","v":0},{"$f":"IFERROR(INDEX('Diploma Data Sheet'!$V$3:$V$1000,MATCH(Diploma!E46&$E$3,'Diploma Data Sheet'!$T$3:$T$1000&'Diploma Data Sheet'!$U$3:$U$1000,0)),\"\")","v":0},null,null,null,null,{"$f":"IFERROR(INDEX('Diploma Data Sheet'!$X$3:$X$1000,MATCH(Diploma!E46&$E$3,'Diploma Data Sheet'!$T$3:$T$1000&'Diploma Data Sheet'!$U$3:$U$1000,0)),\"\")","v":0},null,{"$f":"IFERROR(IF(C46=\"Internal\",VLOOKUP(J46,Points!$A$2:$C$6,MATCH(C46&\" \"&I46&\" GLH\",Points!$A$2:$C$2,0),FALSE),\"\"),\"\")","v":""},{"$f":"IF(E46=\"\",\"\",VLOOKUP(SUM(P46,R46,T46,V46,X46),Lookup!$M$1:$N$6,2,FALSE))","v":""},null,null,null,{"$f":"IF(O46=\"\",\"\",VLOOKUP(O46,Lookup!$L$2:$M$6,2,FALSE))","v":""},{"$f":"IFERROR(IF(AND(C46=\"Internal\",I46=90),VLOOKUP(K46,Points!$C$2:$G$6,MATCH(\"Internal Grade\",Points!$C$2:$G$2,0),FALSE),\"\"),\"\")","v":""},{"$f":"IF(Q46=\"\",\"\",VLOOKUP(Q46,Lookup!$L$2:$M$6,2,FALSE))","v":""},{"$f":"IFERROR(IF(AND(C46=\"Internal\",I46=60),VLOOKUP(K46,Points!$B$2:$G$6,MATCH(\"Internal Grade\",Points!$B$2:$G$2,0),FALSE),\"\"),\"\")","v":""},{"$f":"IF(S46=\"\",\"\",VLOOKUP(S46,Lookup!$L$2:$M$6,2,FALSE))","v":""},{"$f":"IF(AND(C46=\"External\",I46=120),VLOOKUP(K46,Points!$M$2:$N$35,MATCH(\"120 GLH Grade\",Points!$M$2:$N$2,0),FALSE),\"No\")","v":"No"},{"$f":"IF(U46=\"\",\"\",VLOOKUP(U46,Lookup!$L$1:$M$6,2,FALSE))","v":0},{"$f":"IF(AND(C46=\"External\",I46=90),VLOOKUP(K46,Points!$J$2:$K$27,MATCH(\"90 GLH Grade\",Points!$J$2:$K$2,0),FALSE),\"No\")","v":"No"},{"$f":"IF(W46=\"\",\"\",VLOOKUP(W46,Lookup!$L$1:$M$6,2,FALSE))","v":0}]
[null,null,null,null,null,null,null,null,{"$f":"SUM(I37:I46)","v":0}]
[]
[null,"Optional",{"$f":"IFERROR(INDEX('Diploma Data Sheet'!$AF$3:$AF$1000,MATCH(Diploma!E49&$E$3,'Diploma Data Sheet'!$AA$3:$AA$1000&'Diploma Data Sheet'!$AB$3:$AB$1000,0)),\"\")","v":0},{"$f":"IFERROR(INDEX('Diploma Data Sheet'!$AC$3:$AC$1000,MATCH(Diploma!E49&$E$3,'Diploma Data Sheet'!$AA$3:$AA$1000&'Diploma Data Sheet'!$AB$3:$AB$1000,0)),\"\")","v":0},null,null,null,null,{"$f":"IFERROR(INDEX('Diploma Data Sheet'!$AE$3:$AE$1000,MATCH(Diploma!E49&$E$3,'Diploma Data Sheet'!$AA$3:$AA$1000&'Diploma Data Sheet'!$AB$3:$AB$1000,0)),\"\")","v":0},null,{"$f":"IFERROR(IF(C49=\"Internal\",VLOOKUP(J49,Points!$A$2:$C$6,MATCH(C49&\" \"&I49&\" GLH\",Points!$A$2:$C$2,0),FALSE),\"\"),\"\")","v":""},{"$f":"IF(E49=\"\",\"\",VLOOKUP(SUM(P49,R49,T49,V49,X49),Lookup!$M$1:$N$6,2,FALSE))","v":""},null,null,null,null,{"$f":"IFERROR(IF(AND(C49=\"Internal\",I49=90),VLOOKUP(K49,Points!$C$2:$G$6,MATCH(\"Internal Grade\",Points!$C$2:$G$2,0),FALSE),\"\"),\"\")","v":""},{"$f":"IF(Q49=\"\",\"\",VLOOKUP(Q49,Lookup!$L$2:$M$6,2,FALSE))","v":""},{"$f":"IFERROR(IF(AND(C49=\"Internal\",I49=60),VLOOKUP(K49,Points!$B$2:$G$6,MATCH(\"Internal Grade\",Points!$B$2:$G$2,0),FALSE),\"\"),\"\")","v":""},{"$f":"IF(S49=\"\",\"\",VLOOKUP(S49,Lookup!$L$2:$M$6,2,FALSE))","v":""},{"$f":"IF(AND(C49=\"External\",I49=120),VLOOKUP(K49,Points!$M$2:$N$35,MATCH(\"120 GLH Grade\",Points!$M$2:$N$2,0),FALSE),\"No\")","v":"No"},{"$f":"IF(U49=\"\",\"\",VLOOKUP(U49,Lookup!$L$1:$M$6,2,FALSE))","v":0},{"$f":"IF(AND(C49=\"External\",I49=90),VLOOKUP(K49,Points!$J$2:$K$27,MATCH(\"90 GLH Grade\",Points!$J$2:$K$2,0),FALSE),\"No\")","v":"No"},{"$f":"IF(W49=\"\",\"\",VLOOKUP(W49,Lookup!$L$1:$M$6,2,FALSE))","v":0}]
[null,"Optional",{"$f":"IFERROR(INDEX('Diploma Data Sheet'!$AF$3:$AF$1000,MATCH(Diploma!E50&$E$3,'Diploma Data Sheet'!$AA$3:$AA$1000&'Diploma Data Sheet'!$AB$3:$AB$1000,0)),\"\")","v":0},{"$f":"IFERROR(INDEX('Diploma Data Sheet'!$AC$3:$AC$1000,MATCH(Diploma!E50&$E$3,'Diploma Data Sheet'!$AA$3:$AA$1000&'Diploma Data Sheet'!$AB$3:$AB$1000,0)),\"\")","v":0},null,null,null,null,{"$f":"IFERROR(INDEX('Diploma Data Sheet'!$AE$3:$AE$1000,MATCH(Diploma!E50&$E$3,'Diploma Data Sheet'!$AA$3:$AA$1000&'Diploma Data Sheet'!$AB$3:$AB$1000,0)),\"\")","v":0},null,{"$f":"IFERROR(IF(C50=\"Internal\",VLOOKUP(J50,Points!$A$2:$C$6,MATCH(C50&\" \"&I50&\" GLH\",Points!$A$2:$C$2,0),FALSE),\"\"),\"\")","v":""},{"$f":"IF(E50=\"\",\"\",VLOOKUP(SUM(P50,R50,T50,V50,X50),Lookup!$M$1:$N$6,2,FALSE))","v":""},null,null,null,null,{"$f":"IFERROR(IF(AND(C50=\"Internal\",I50=90),VLOOKUP(K50,Points!$C$2:$G$6,MATCH(\"Internal Grade\",Points!$C$2:$G$2,0),FALSE),\"\"),\"\")","v":""},{"$f":"IF(Q50=\"\",\"\",VLOOKUP(Q50,Lookup!$L$2:$M$6,2,FALSE))","v":""},{"$f":"IFERROR(IF(AND(C50=\"Internal\",I50=60),VLOOKUP(K50,Points!$B$2:$G$6,MATCH(\"Internal Grade\",Points!$B$2:$G$2,0),FALSE),\"\"),\"\")","v":""},{"$f":"IF(S50=\"\",\"\",VLOOKUP(S50,Lookup!$L$2:$M$6,2,FALSE))","v":""},{"$f":"IF(AND(C50=\"External\",I50=120),VLOOKUP(K50,Points!$M$2:$N$35,MATCH(\"120 GLH Grade\",Points!$M$2:$N$2,0),FALSE),\"No\")","v":"No"},{"$f":"IF(U50=\"\",\"\",VLOOKUP(U50,Lookup!$L$1:$M$6,2,FALSE))","v":0},{"$f":"IF(AND(C50=\"External\",I50=90),VLOOKUP(K50,Points!$J$2:$K$27,MATCH(\"90 GLH Grade\",Points!$J$2:$K$2,0),FALSE),\"No\")","v":"No"},{"$f":"IF(W50=\"\",\"\",VLOOKUP(W50,Lookup!$L$1:$M$6,2,FALSE))","v":0}]
[null,"Optional",{"$f":"IFERROR(INDEX('Diploma Data Sheet'!$AF$3:$AF$1000,MATCH(Diploma!E51&$E$3,'Diploma Data Sheet'!$AA$3:$AA$1000&'Diploma Data Sheet'!$AB$3:$AB$1000,0)),\"\")","v":0},{"$f":"IFERROR(INDEX('Diploma Data Sheet'!$AC$3:$AC$1000,MATCH(Diploma!E51&$E$3,'Diploma Data Sheet'!$AA$3:$AA$1000&'Diploma Data Sheet'!$AB$3:$AB$1000,0)),\"\")","v":0},null,null,null,null,{"$f":"IFERROR(INDEX('Diploma Data Sheet'!$AE$3:$AE$1000,MATCH(Diploma!E51&$E$3,'Diploma Data Sheet'!$AA$3:$AA$1000&'Diploma Data Sheet'!$AB$3:$AB$1000,0)),\"\")","v":0},null,{"$f":"IFERROR(IF(C51=\"Internal\",VLOOKUP(J51,Points!$A$2:$C$6,MATCH(C51&\" \"&I51&\" GLH\",Points!$A$2:$C$2,0),FALSE),\"\"),\"\")","v":""},{"$f":"IF(E51=\"\",\"\",VLOOKUP(SUM(P51,R51,T51,V51,X51),Lookup!$M$1:$N$6,2,FALSE))","v":""},null,null,null,null,{"$f":"IFERROR(IF(AND(C51=\"Internal\",I51=90),VLOOKUP(K51,Points!$C$2:$G$6,MATCH(\"Internal Grade\",Points!$C$2:$G$2,0),FALSE),\"\"),\"\")","v":""},{"$f":"IF(Q51=\"\",\"\",VLOOKUP(Q51,Lookup!$L$2:$M$6,2,FALSE))","v":""},{"$f":"IFERROR(IF(AND(C51=\"Internal\",I51=60),VLOOKUP(K51,Points!$B$2:$G$6,MATCH(\"Internal Grade\",Points!$B$2:$G$2,0),FALSE),\"\"),\"\")","v":""},{"$f":"IF(S51=\"\",\"\",VLOOKUP(S51,Lookup!$L$2:$M$6,2,FALSE))","v":""},{"$f":"IF(AND(C51=\"External\",I51=120),VLOOKUP(K51,Points!$M$2:$N$35,MATCH(\"120 GLH Grade\",Points!$M$2:$N$2,0),FALSE),\"No\")","v":"No"},{"$f":"IF(U51=\"\",\"\",VLOOKUP(U51,Lookup!$L$1:$M$6,2,FALSE))","v":0},{"$f":"IF(AND(C51=\"External\",I51=90),VLOOKUP(K51,Points!$J$2:$K$27,MATCH(\"90 GLH Grade\",Points!$J$2:$K$2,0),FALSE),\"No\")","v":"No"},{"$f":"IF(W51=\"\",\"\",VLOOKUP(W51,Lookup!$L$1:$M$6,2,FALSE))","v":0}]
[null,"Optional",{"$f":"IFERROR(INDEX('Diploma Data Sheet'!$AF$3:$AF$1000,MATCH(Diploma!E52&$E$3,'Diploma Data Sheet'!$AA$3:$AA$1000&'Diploma Data Sheet'!$AB$3:$AB$1000,0)),\"\")","v":0},{"$f":"IFERROR(INDEX('Diploma Data Sheet'!$AC$3:$AC$1000,MATCH(Diploma!E52&$E$3,'Diploma Data Sheet'!$AA$3:$AA$1000&'Diploma Data Sheet'!$AB$3:$AB$1000,0)),\"\")","v":0},null,null,null,null,{"$f":"IFERROR(INDEX('Diploma Data Sheet'!$AE$3:$AE$1000,MATCH(Diploma!E52&$E$3,'Diploma Data Sheet'!$AA$3:$AA$1000&'Diploma Data Sheet'!$AB$3:$AB$1000,0)),\"\")","v":0},null,{"$f":"IFERROR(IF(C52=\"Internal\",VLOOKUP(J52,Points!$A$2:$C$6,MATCH(C52&\" \"&I52&\" GLH\",Points!$A$2:$C$2,0),FALSE),\"\"),\"\")","v":""},{"$f":"IF(E52=\"\",\"\",VLOOKUP(SUM(P52,R52,T52,V52,X52),Lookup!$M$1:$N$6,2,FALSE))","v":""},null,null,null,null,{"$f":"IFERROR(IF(AND(C52=\"Internal\",I52=90),VLOOKUP(K52,Points!$C$2:$G$6,MATCH(\"Internal Grade\",Points!$C$2:$G$2,0),FALSE),\"\"),\"\")","v":""},{"$f":"IF(Q52=\"\",\"\",VLOOKUP(Q52,Lookup!$L$2:$M$6,2,FALSE))","v":""},{"$f":"IFERROR(IF(AND(C52=\"Internal\",I52=60),VLOOKUP(K52,Points!$B$2:$G$6,MATCH(\"Internal Grade\",Points!$B$2:$G$2,0),FALSE),\"\"),\"\")","v":""},{"$f":"IF(S52=\"\",\"\",VLOOKUP(S52,Lookup!$L$2:$M$6,2,FALSE))","v":""},{"$f":"IF(AND(C52=\"External\",I52=120),VLOOKUP(K52,Points!$M$2:$N$35,MATCH(\"120 GLH Grade\",Points!$M$2:$N$2,0),FALSE),\"No\")","v":"No"},{"$f":"IF(U52=\"\",\"\",VLOOKUP(U52,Lookup!$L$1:$M$6,2,FALSE))","v":0},{"$f":"IF(AND(C52=\"External\",I52=90),VLOOKUP(K52,Points!$J$2:$K$27,MATCH(\"90 GLH Grade\",Points!$J$2:$K$2,0),FALSE),\"No\")","v":"No"},{"$f":"IF(W52=\"\",\"\",VLOOKUP(W52,Lookup!$L$1:$M$6,2,FALSE))","v":0}]
[null,null,null,null,null,null,null,null,{"$f":"SUM(I49:I51)","v":0},null,null,{"$f":"IF(E53=\"\",\"\",VLOOKUP(SUM(R53,T53,V53,X53),Lookup!$M$1:$N$6,2,FALSE))","v":""},null,null,null,null,{"$f":"IFERROR(IF(AND(C53=\"Internal\",I53=90),VLOOKUP(K53,Points!$C$2:$G$6,MATCH(\"Internal Grade\",Points!$C$2:$G$2,0),FALSE),\"\"),\"\")","v":""},{"$f":"IF(Q53=\"\",\"\",VLOOKUP(Q53,Lookup!$L$2:$M$6,2,FALSE))","v":""},{"$f":"IFERROR(IF(AND(C53=\"Internal\",I53=60),VLOOKUP(K53,Points!$B$2:$G$6,MATCH(\"Internal Grade\",Points!$B$2:$G$2,0),FALSE),\"\"),\"\")","v":""},{"$f":"IF(S53=\"\",\"\",VLOOKUP(S53,Lookup!$L$2:$M$6,2,FALSE))","v":""},{"$f":"IF(AND(C53=\"External\",I53=120),VLOOKUP(K53,Points!$M$2:$N$35,MATCH(\"120 GLH Grade\",Points!$M$2:$N$2,0),FALSE),\"No\")","v":"No"},{"$f":"IF(U53=\"\",\"\",VLOOKUP(U53,Lookup!$L$1:$M$6,2,FALSE))","v":0},{"$f":"IF(AND(C53=\"External\",I53=90),VLOOKUP(K53,Points!$J$2:$K$27,MATCH(\"90 GLH Grade\",Points!$J$2:$K$2,0),FALSE),\"No\")","v":"No"},{"$f":"IF(W53=\"\",\"\",VLOOKUP(W53,Lookup!$L$1:$M$6,2,FALSE))","v":0}]
[null,null,null,null,null,null,null,null,null,null,null,{"$f":"IF(E54=\"\",\"\",VLOOKUP(SUM(R54,T54,V54,X54),Lookup!$M$1:$N$6,2,FALSE))","v":""},null,null,null,null,{"$f":"IFERROR(IF(AND(C54=\"Internal\",I54=90),VLOOKUP(K54,Points!$C$2:$G$6,MATCH(\"Internal Grade\",Points!$C$2:$G$2,0),FALSE),\"\"),\"\")","v":""},{"$f":"IF(Q54=\"\",\"\",VLOOKUP(Q54,Lookup!$L$2:$M$6,2,FALSE))","v":""},{"$f":"IFERROR(IF(AND(C54=\"Internal\",I54=60),VLOOKUP(K54,Points!$B$2:$G$6,MATCH(\"Internal Grade\",Points!$B$2:$G$2,0),FALSE),\"\"),\"\")","v":""},{"$f":"IF(S54=\"\",\"\",VLOOKUP(S54,Lookup!$L$2:$M$6,2,FALSE))","v":""},{"$f":"IF(AND(C54=\"External\",I54=120),VLOOKUP(K54,Points!$M$2:$N$35,MATCH(\"120 GLH Grade\",Points!$M$2:$N$2,0),FALSE),\"No\")","v":"No"},{"$f":"IF(U54=\"\",\"\",VLOOKUP(U54,Lookup!$L$1:$M$6,2,FALSE))","v":0},{"$f":"IF(AND(C54=\"External\",I54=90),VLOOKUP(K54,Points!$J$2:$K$27,MATCH(\"90 GLH Grade\",Points!$J$2:$K$2,0),FALSE),\"No\")","v":"No"},{"$f":"IF(W54=\"\",\"\",VLOOKUP(W54,Lookup!$L$1:$M$6,2,FALSE))","v":0}]
[null,"Optional",{"$f":"IFERROR(INDEX('Diploma Data Sheet'!$AM$3:$AM$1000,MATCH(Diploma!E55&$E$3,'Diploma Data Sheet'!$AH$3:$AH$1000&'Diploma Data Sheet'!$AI$3:$AI$1000,0)),\"\")","v":0},{"$f":"IFERROR(INDEX('Diploma Data Sheet'!$AJ$3:$AJ$1000,MATCH(Diploma!E55&$E$3,'Diploma Data Sheet'!$AH$3:$AH$1000&'Diploma Data Sheet'!$AI$3:$AI$1000,0)),\"\")","v":0},null,null,null,null,{"$f":"IFERROR(INDEX('Diploma Data Sheet'!$AL$3:$AL$1000,MATCH(Diploma!E55&$E$3,'Diploma Data Sheet'!$AH$3:$AH$1000&'Diploma Data Sheet'!$AI$3:$AI$1000,0)),\"\")","v":0},null,{"$f":"IFERROR(IF(C55=\"Internal\",VLOOKUP(J55,Points!$A$2:$C$6,MATCH(C55&\" \"&I55&\" GLH\",Points!$A$2:$C$2,0),FALSE),\"\"),\"\")","v":""},{"$f":"IF(E55=\"\",\"\",VLOOKUP(SUM(P55,R55,T55,V55,X55),Lookup!$M$1:$N$6,2,FALSE))","v":""},null,null,null,null,{"$f":"IFERROR(IF(AND(C55=\"Internal\",I55=90),VLOOKUP(K55,Points!$C$2:$G$6,MATCH(\"Internal Grade\",Points!$C$2:$G$2,0),FALSE),\"\"),\"\")","v":""},{"$f":"IF(Q55=\"\",\"\",VLOOKUP(Q55,Lookup!$L$2:$M$6,2,FALSE))","v":""},{"$f":"IFERROR(IF(AND(C55=\"Internal\",I55=60),VLOOKUP(K55,Points!$B$2:$G$6,MATCH(\"Internal Grade\",Points!$B$2:$G$2,0),FALSE),\"\"),\"\")","v":""},{"$f":"IF(S55=\"\",\"\",VLOOKUP(S55,Lookup!$L$2:$M$6,2,FALSE))","v":""},{"$f":"IF(AND(C55=\"External\",I55=120),VLOOKUP(K55,Points!$M$2:$N$35,MATCH(\"120 GLH Grade\",Points!$M$2:$N$2,0),FALSE),\"No\")","v":"No"},{"$f":"IF(U55=\"\",\"\",VLOOKUP(U55,Lookup!$L$1:$M$6,2,FALSE))","v":0},{"$f":"IF(AND(C55=\"External\",I55=90),VLOOKUP(K55,Points!$J$2:$K$27,MATCH(\"90 GLH Grade\",Points!$J$2:$K$2,0),FALSE),\"No\")","v":"No"},{"$f":"IF(W55=\"\",\"\",VLOOKUP(W55,Lookup!$L$1:$M$6,2,FALSE))","v":0}]
[null,"Optional",{"$f":"IFERROR(INDEX('Diploma Data Sheet'!$AM$3:$AM$1000,MATCH(Diploma!E56&$E$3,'Diploma Data Sheet'!$AH$3:$AH$1000&'Diploma Data Sheet'!$AI$3:$AI$1000,0)),\"\")","v":0},{"$f":"IFERROR(INDEX('Diploma Data Sheet'!$AJ$3:$AJ$1000,MATCH(Diploma!E56&$E$3,'Diploma Data Sheet'!$AH$3:$AH$1000&'Diploma Data Sheet'!$AI$3:$AI$1000,0)),\"\")","v":0},null,null,null,null,{"$f":"IFERROR(INDEX('Diploma Data Sheet'!$AL$3:$AL$1000,MATCH(Diploma!E56&$E$3,'Diploma Data Sheet'!$AH$3:$AH$1000&'Diploma Data Sheet'!$AI$3:$AI$1000,0)),\"\")","v":0},null,{"$f":"IFERROR(IF(C56=\"Internal\",VLOOKUP(J56,Points!$A$2:$C$6,MATCH(C56&\" \"&I56&\" GLH\",Points!$A$2:$C$2,0),FALSE),\"\"),\"\")","v":""},{"$f":"IF(E56=\"\",\"\",VLOOKUP(SUM(P56,R56,T56,V56,X56),Lookup!$M$1:$N$6,2,FALSE))","v":""},null,null,null,null,{"$f":"IFERROR(IF(AND(C56=\"Internal\",I56=90),VLOOKUP(K56,Points!$C$2:$G$6,MATCH(\"Internal Grade\",Points!$C$2:$G$2,0),FALSE),\"\"),\"\")","v":""},{"$f":"IF(Q56=\"\",\"\",VLOOKUP(Q56,Lookup!$L$2:$M$6,2,FALSE))","v":""},{"$f":"IFERROR(IF(AND(C56=\"Internal\",I56=60),VLOOKUP(K56,Points!$B$2:$G$6,MATCH(\"Internal Grade\",Points!$B$2:$G$2,0),FALSE),\"\"),\"\")","v":""},{"$f":"IF(S56=\"\",\"\",VLOOKUP(S56,Lookup!$L$2:$M$6,2,FALSE))","v":""},{"$f":"IF(AND(C56=\"External\",I56=120),VLOOKUP(K56,Points!$M$2:$N$35,MATCH(\"120 GLH Grade\",Points!$M$2:$N$2,0),FALSE),\"No\")","v":"No"},{"$f":"IF(U56=\"\",\"\",VLOOKUP(U56,Lookup!$L$1:$M$6,2,FALSE))","v":0},{"$f":"IF(AND(C56=\"External\",I56=90),VLOOKUP(K56,Points!$J$2:$K$27,MATCH(\"90 GLH Grade\",Points!$J$2:$K$2,0),FALSE),\"No\")","v":"No"},{"$f":"IF(W56=\"\",\"\",VLOOKUP(W56,Lookup!$L$1:$M$6,2,FALSE))","v":0}]
[null,"Optional",{"$f":"IFERROR(INDEX('Diploma Data Sheet'!$AM$3:$AM$1000,MATCH(Diploma!E57&$E$3,'Diploma Data Sheet'!$AH$3:$AH$1000&'Diploma Data Sheet'!$AI$3:$AI$1000,0)),\"\")","v":0},{"$f":"IFERROR(INDEX('Diploma Data Sheet'!$AJ$3:$AJ$1000,MATCH(Diploma!E57&$E$3,'Diploma Data Sheet'!$AH$3:$AH$1000&'Diploma Data Sheet'!$AI$3:$AI$1000,0)),\"\")","v":0},null,null,null,null,{"$f":"IFERROR(INDEX('Diploma Data Sheet'!$AL$3:$AL$1000,MATCH(Diploma!E57&$E$3,'Diploma Data Sheet'!$AH$3:$AH$1000&'Diploma Data Sheet'!$AI$3:$AI$1000,0)),\"\")","v":0},null,{"$f":"IFERROR(IF(C57=\"Internal\",VLOOKUP(J57,Points!$A$2:$C$6,MATCH(C57&\" \"&I57&\" GLH\",Points!$A$2:$C$2,0),FALSE),\"\"),\"\")","v":""},{"$f":"IF(E57=\"\",\"\",VLOOKUP(SUM(P57,R57,T57,V57,X57),Lookup!$M$1:$N$6,2,FALSE))","v":""},null,null,null,null,{"$f":"IFERROR(IF(AND(C57=\"Internal\",I57=90),VLOOKUP(K57,Points!$C$2:$G$6,MATCH(\"Internal Grade\",Points!$C$2:$G$2,0),FALSE),\"\"),\"\")","v":""},{"$f":"IF(Q57=\"\",\"\",VLOOKUP(Q57,Lookup!$L$2:$M$6,2,FALSE))","v":""},{"$f":"IFERROR(IF(AND(C57=\"Internal\",I57=60),VLOOKUP(K57,Points!$B$2:$G$6,MATCH(\"Internal Grade\",Points!$B$2:$G$2,0),FALSE),\"\"),\"\")","v":""},{"$f":"IF(S57=\"\",\"\",VLOOKUP(S57,Lookup!$L$2:$M$6,2,FALSE))","v":""},{"$f":"IF(AND(C57=\"External\",I57=120),VLOOKUP(K57,Points!$M$2:$N$35,MATCH(\"120 GLH Grade\",Points!$M$2:$N$2,0),FALSE),\"No\")","v":"No"},{"$f":"IF(U57=\"\",\"\",VLOOKUP(U57,Lookup!$L$1:$M$6,2,FALSE))","v":0},{"$f":"IF(AND(C57=\"External\",I57=90),VLOOKUP(K57,Points!$J$2:$K$27,MATCH(\"90 GLH Grade\",Points!$J$2:$K$2,0),FALSE),\"No\")","v":"No"},{"$f":"IF(W57=\"\",\"\",VLOOKUP(W57,Lookup!$L$1:$M$6,2,FALSE))","v":0}]
[null,"Optional",{"$f":"IFERROR(INDEX('Diploma Data Sheet'!$AM$3:$AM$1000,MATCH(Diploma!E58&$E$3,'Diploma Data Sheet'!$AH$3:$AH$1000&'Diploma Data Sheet'!$AI$3:$AI$1000,0)),\"\")","v":0},{"$f":"IFERROR(INDEX('Diploma Data Sheet'!$AJ$3:$AJ$1000,MATCH(Diploma!E58&$E$3,'Diploma Data Sheet'!$AH$3:$AH$1000&'Diploma Data Sheet'!$AI$3:$AI$1000,0)),\"\")","v":0},null,null,null,null,{"$f":"IFERROR(INDEX('Diploma Data Sheet'!$AL$3:$AL$1000,MATCH(Diploma!E58&$E$3,'Diploma Data Sheet'!$AH$3:$AH$1000&'Diploma Data Sheet'!$AI$3:$AI$1000,0)),\"\")","v":0},null,{"$f":"IFERROR(IF(C58=\"Internal\",VLOOKUP(J58,Points!$A$2:$C$6,MATCH(C58&\" \"&I58&\" GLH\",Points!$A$2:$C$2,0),FALSE),\"\"),\"\")","v":""},{"$f":"IF(E58=\"\",\"\",VLOOKUP(SUM(P58,R58,T58,V58,X58),Lookup!$M$1:$N$6,2,FALSE))","v":""},null,null,null,null,{"$f":"IFERROR(IF(AND(C58=\"Internal\",I58=90),VLOOKUP(K58,Points!$C$2:$G$6,MATCH(\"Internal Grade\",Points!$C$2:$G$2,0),FALSE),\"\"),\"\")","v":""},{"$f":"IF(Q58=\"\",\"\",VLOOKUP(Q58,Lookup!$L$2:$M$6,2,FALSE))","v":""},{"$f":"IFERROR(IF(AND(C58=\"Internal\",I58=60),VLOOKUP(K58,Points!$B$2:$G$6,MATCH(\"Internal Grade\",Points!$B$2:$G$2,0),FALSE),\"\"),\"\")","v":""},{"$f":"IF(S58=\"\",\"\",VLOOKUP(S58,Lookup!$L$2:$M$6,2,FALSE))","v":""},{"$f":"IF(AND(C58=\"External\",I58=120),VLOOKUP(K58,Points!$M$2:$N$35,MATCH(\"120 GLH Grade\",Points!$M$2:$N$2,0),FALSE),\"No\")","v":"No"},{"$f":"IF(U58=\"\",\"\",VLOOKUP(U58,Lookup!$L$1:$M$6,2,FALSE))","v":0},{"$f":"IF(AND(C58=\"External\",I58=90),VLOOKUP(K58,Points!$J$2:$K$27,MATCH(\"90 GLH Grade\",Points!$J$2:$K$2,0),FALSE),\"No\")","v":"No"},{"$f":"IF(W58=\"\",\"\",VLOOKUP(W58,Lookup!$L$1:$M$6,2,FALSE))","v":0}]
[null,"Optional",{"$f":"IFERROR(INDEX('Diploma Data Sheet'!$AM$3:$AM$1000,MATCH(Diploma!E59&$E$3,'Diploma Data Sheet'!$AH$3:$AH$1000&'Diploma Data Sheet'!$AI$3:$AI$1000,0)),\"\")","v":0},{"$f":"IFERROR(INDEX('Diploma Data Sheet'!$AJ$3:$AJ$1000,MATCH(Diploma!E59&$E$3,'Diploma Data Sheet'!$AH$3:$AH$1000&'Diploma Data Sheet'!$AI$3:$AI$1000,0)),\"\")","v":0},null,null,null,null,{"$f":"IFERROR(INDEX('Diploma Data Sheet'!$AL$3:$AL$1000,MATCH(Diploma!E59&$E$3,'Diploma Data Sheet'!$AH$3:$AH$1000&'Diploma Data Sheet'!$AI$3:$AI$1000,0)),\"\")","v":0},null,{"$f":"IFERROR(IF(C59=\"Internal\",VLOOKUP(J59,Points!$A$2:$C$6,MATCH(C59&\" \"&I59&\" GLH\",Points!$A$2:$C$2,0),FALSE),\"\"),\"\")","v":""},{"$f":"IF(E59=\"\",\"\",VLOOKUP(SUM(P59,R59,T59,V59,X59),Lookup!$M$1:$N$6,2,FALSE))","v":""},null,null,null,null,{"$f":"IFERROR(IF(AND(C59=\"Internal\",I59=90),VLOOKUP(K59,Points!$C$2:$G$6,MATCH(\"Internal Grade\",Points!$C$2:$G$2,0),FALSE),\"\"),\"\")","v":""},{"$f":"IF(Q59=\"\",\"\",VLOOKUP(Q59,Lookup!$L$2:$M$6,2,FALSE))","v":""},{"$f":"IFERROR(IF(AND(C59=\"Internal\",I59=60),VLOOKUP(K59,Points!$B$2:$G$6,MATCH(\"Internal Grade\",Points!$B$2:$G$2,0),FALSE),\"\"),\"\")","v":""},{"$f":"IF(S59=\"\",\"\",VLOOKUP(S59,Lookup!$L$2:$M$6,2,FALSE))","v":""},{"$f":"IF(AND(C59=\"External\",I59=120),VLOOKUP(K59,Points!$M$2:$N$35,MATCH(\"120 GLH Grade\",Points!$M$2:$N$2,0),FALSE),\"No\")","v":"No"},{"$f":"IF(U59=\"\",\"\",VLOOKUP(U59,Lookup!$L$1:$M$6,2,FALSE))","v":0},{"$f":"IF(AND(C59=\"External\",I59=90),VLOOKUP(K59,Points!$J$2:$K$27,MATCH(\"90 GLH Grade\",Points!$J$2:$K$2,0),FALSE),\"No\")","v":"No"},{"$f":"IF(W59=\"\",\"\",VLOOKUP(W59,Lookup!$L$1:$M$6,2,FALSE))","v":0}]
[null,"Optional",{"$f":"IFERROR(INDEX('Diploma Data Sheet'!$AM$3:$AM$1000,MATCH(Diploma!E60&$E$3,'Diploma Data Sheet'!$AH$3:$AH$1000&'Diploma Data Sheet'!$AI$3:$AI$1000,0)),\"\")","v":0},{"$f":"IFERROR(INDEX('Diploma Data Sheet'!$AJ$3:$AJ$1000,MATCH(Diploma!E60&$E$3,'Diploma Data Sheet'!$AH$3:$AH$1000&'Diploma Data Sheet'!$AI$3:$AI$1000,0)),\"\")","v":0},null,null,null,null,{"$f":"IFERROR(INDEX('Diploma Data Sheet'!$AL$3:$AL$1000,MATCH(Diploma!E60&$E$3,'Diploma Data Sheet'!$AH$3:$AH$1000&'Diploma Data Sheet'!$AI$3:$AI$1000,0)),\"\")","v":0},null,{"$f":"IFERROR(IF(C60=\"Internal\",VLOOKUP(J60,Points!$A$2:$C$6,MATCH(C60&\" \"&I60&\" GLH\",Points!$A$2:$C$2,0),FALSE),\"\"),\"\")","v":""},{"$f":"IF(E60=\"\",\"\",VLOOKUP(SUM(P60,R60,T60,V60,X60),Lookup!$M$1:$N$6,2,FALSE))","v":""},null,null,null,null,{"$f":"IFERROR(IF(AND(C60=\"Internal\",I60=90),VLOOKUP(K60,Points!$C$2:$G$6,MATCH(\"Internal Grade\",Points!$C$2:$G$2,0),FALSE),\"\"),\"\")","v":""},{"$f":"IF(Q60=\"\",\"\",VLOOKUP(Q60,Lookup!$L$2:$M$6,2,FALSE))","v":""},{"$f":"IFERROR(IF(AND(C60=\"Internal\",I60=60),VLOOKUP(K60,Points!$B$2:$G$6,MATCH(\"Internal Grade\",Points!$B$2:$G$2,0),FALSE),\"\"),\"\")","v":""},{"$f":"IF(S60=\"\",\"\",VLOOKUP(S60,Lookup!$L$2:$M$6,2,FALSE))","v":""},{"$f":"IF(AND(C60=\"External\",I60=120),VLOOKUP(K60,Points!$M$2:$N$35,MATCH(\"120 GLH Grade\",Points!$M$2:$N$2,0),FALSE),\"No\")","v":"No"},{"$f":"IF(U60=\"\",\"\",VLOOKUP(U60,Lookup!$L$1:$M$6,2,FALSE))","v":0},{"$f":"IF(AND(C60=\"External\",I60=90),VLOOKUP(K60,Points!$J$2:$K$27,MATCH(\"90 GLH Grade\",Points!$J$2:$K$2,0),FALSE),\"No\")","v":"No"},{"$f":"IF(W60=\"\",\"\",VLOOKUP(W60,Lookup!$L$1:$M$6,2,FALSE))","v":0}]
[null,null,null,null,null,null,null,null,{"$f":"SUM(I55:I60)","v":0}]
[null,null,null,null,null,null,null,null,{"$f":"SUM(I9:I60)-(I35+I47+I53)","v":0}]
[null,null,null,null,null,null,null,null,{"$f":"SUMIFS(I21:I60,L21:L60,\"U\")","v":0},"Overall Grade",{"$f":"SUM(K9:K60)","v":0},{"$f":"IF(E3=\"CPLD\",HLOOKUP(E3,$Q$65:$U$66,2,FALSE),IF(E3=\"Information Technology\",HLOOKUP(E3,$Q$65:$U$66,2,FALSE),Q66))","v":"U"},null,null,null,null,{"$f":"COUNTIF(L9:L60,\"U\")","v":16}]
[null,null,null,null,null,null,null,null,{"$f":"SUMIFS(I9:I18,L9:L18,\"U\")","v":0},"Points",null,{"$f":"K63","v":0}]
[null,null,null,null,null,null,null,null,{"$f":"I62-I63-I64","v":0},null,null,null,null,null,null,null,"AG","TL","CPLD","Information Technology"]
[null,null,null,null,null,null,null,null,{"$f":"SUMIFS(I21:I26,L21:L26,\"U\")","v":0},null,null,null,null,null,null,null,{"$f":"IFERROR(IF(OR($I$65<600,I64:I64>0),\"U\",VLOOKUP($K$63,Points!$W$2:$X$13,MATCH(\"Dip Grade\",Points!$W$2:$X$2,0),TRUE)),\"\")","v":"U"},{"$f":"IFERROR(IF(OR($I$65<600,I64:I64>0),\"U\",VLOOKUP($K$63,Points!$W$2:$X$13,MATCH(\"Dip Grade\",Points!$W$2:$X$2,0),TRUE)),\"\")","v":"U"},{"$f":"IFERROR(IF(OR(COUNTIF($L$9:$L$18,\"U\"),COUNTIF($L$9:$L$18,\"N\")),\"U\",VLOOKUP($K$63,Points!$W$2:$X$13,MATCH(\"Dip Grade\",Points!$W$2:$X$2,0),TRUE)),\"\")","v":"U"},{"$f":"IFERROR(IF(OR($I$65<600,I64:I64>0,I66>90),\"U\",VLOOKUP($K$63,Points!$W$2:$X$13,MATCH(\"Dip Grade\",Points!$W$2:$X$2,0),TRUE)),\"\")","v":"U"}]
[null,null,null,null,null,null,null,null,null,"Calculate an estimate of the externally assessed unit grades needed to reach a qualification grade based on the internally assessed unit grades. You must enter all internally assessed grades and may enter any externally assessed grades already known, then select an overall qualification grade below."]
[]
[]
[null,null,null,null,null,null,null,null,null,"Qualification Grade",null,null,null,null,null,null,null,null,null,null,null,null,null,null,null,null,null,null,null,{"$f":"COUNTIF(L4:L21,\"#N/A\")","v":0}]
[null,null,null,null,null,null,null,null,null,"Bottom Grade point total",null,{"$f":"IF($L$70=\"\",0,VLOOKUP($L$70,'Points Contingency'!$Q$2:$S$9,2,FALSE))","v":0}]
[null,null,null,null,null,null,null,null,null,"Top Grade point total",null,{"$f":"IF($L$70=\"\",0,VLOOKUP($L$70,'Points Contingency'!$Q$2:$S$9,3,FALSE))","v":0}]
[null,null,null,null,null,null,null,null,null,"Points for externals",null,{"$f":"IF(L71-L64<0,L72-L64,L71-L64)","v":0}]
[null,null,null,null,null,null,null,null,null,"No. of 90 GLH externals",null,{"$f":"COUNTIFS($C$9:$C$60,\"External\",$I$9:I$60,90,$L$9:$L$60,\"U\")","v":0}]
[null,null,null,null,null,null,null,null,null,"No. of 120 GLH externals",null,{"$f":"COUNTIFS($C$9:$C$60,\"External\",$I$9:I$60,120,$L$9:$L$60,\"U\")","v":0}]
[null,null,null,null,null,null,null,null,null,"Total GLH external",null,{"$f":"(L74*90)+(L75*120)","v":0}]
[null,null,null,null,null,null,null,null,null,"Scale for 90 GLH",null,{"$f":"IFERROR(L74*90/L76,\"\")","v":""}]
[null,null,null,null,null,null,null,null,null,"Scale for 120 GLH",null,{"$f":"IFERROR(L75*120/L76,\"\")","v":""}]
[null,null,null,null,null,null,null,null,null,"Total points for externals",null,{"$f":"MAX(L73,L84)","v":0},null,null,null,null,null,null,null,null,null,null,null,null,null,null,null,null,null,23]
[null,null,null,null,null,null,null,null,null,"Points per 90 GLH external",null,{"$f":"IFERROR((L79*L77)/L74,\"\")","v":""}]
[null,null,null,null,null,null,null,null,null,"Points per 120 GLH external",null,23]
[null,null,null,null,null,null,null,null,null,"90GLH points",null,{"$f":"IFERROR(ROUND(L80,0),\"\")","v":""}]
[null,null,null,null,null,null,null,null,null,"120GLH points",null,{"$f":"ROUND(L81,0)","v":23}]
[null,null,null,null,null,null,null,null,null,"Points to N",null,{"$f":"(L74*AE5)+(L75*AF5)","v":0}]
[null,null,null,null,null,null,null,null,null,"Total points external min",null,{"$f":"MIN(L73,L84)","v":0}]

{"sheet":"Extended Diploma","index":9,"n_rows":90,"n_cols":41,"rows_kept":90,"cut":false,"hidden":false,"merged":[[2,4,2,7],[6,4,6,7],[1,31,1,33],[1,35,1,38],[71,9,73,11]]}
[null,null,null,null,null,null,null,null,null,null,null,null,null,null,null,null,null,null,null,{"$f":"IF(E3=\"\",\"\",VLOOKUP(E3,Sectors!$F$1:$G$9,2,FALSE))","v":""}]
[null,null,null,null,null,null,null,null,null,null,null,null,null,null,null,null,null,null,null,null,null,null,null,null,null,null,null,null,null,null,null,"Grade boundaries for External Units",null,null,null,"Points for Internal Units"]
[null,null,"Select Sector","Start →",null,null,null,null,null,null,null,null,null,null,null,null,null,null,null,null,{"$f":"IF(L10=\"No\",REPLACE(\"No\",1,2,\"U\"),\"\")","v":""},null,null,null,null,null,null,null,null,null,null,null,"90 GLH","120 GLH",null,null,"60 GLH","90 GLH","120 GLH","150 GLH","180 GLH"]
[null,null,null,null,"1. Select your sector from the dropdown list in the cell above",null,null,null,null,null,null,null,null,null,null,null,null,null,null,null,null,null,null,null,null,null,null,null,null,null,null,"U","0","0",null,"U","0","0","0","0","0"]
[null,null,null,null,null,null,null,null,null,null,null,null,null,null,null,null,null,null,null,null,null,null,null,null,null,null,null,null,null,null,null,"N",6,8,null,"P",6,9,12,15,18]
[null,null,null,null,null,null,null,null,null,null,null,null,null,null,null,null,null,null,null,null,null,null,null,null,null,null,null,null,null,null,null,"P",9,12,null,"M",10,15,20,25,30]
[null,null,"Assessment Type","Unit Number","Unit Name",null,null,null,"GLH","Unit Points/Grade","Points","Unit Grade","Internal 180 GLH",null,"Internal 150 GLH Grade",null,"Internal 120 GLH Grade",null,"Internal 90 GLH Grade",null,"Internal 60 GLH Grade",null,"External 120 GLH Grade",null,"External 90 GLH Grade",null,null,null,null,null,null,"M",15,20,null,"D",16,24,32,40,48]
[null,"Group A mandatory units must be passed",null,null,null,null,null,null,null,"3. Enter the points or grade for the units below",null,null,null,null,null,null,null,null,null,null,null,null,null,null,null,null,null,null,null,null,null,"D",24,32]
[null,"Mandatory",{"$f":"IFERROR(INDEX('Extended Diploma Data Sheet'!$A$3:$E$499,SMALL(IF('Extended Diploma Data Sheet'!$A$3:$A$499=$E$3,ROW('Extended Diploma Data Sheet'!$A$3:$A$499)),ROW(1:1))-2,5),\"\")","v":0},{"$f":"IFERROR(INDEX('Extended Diploma Data Sheet'!$A$3:$E$499,SMALL(IF('Extended Diploma Data Sheet'!$A$3:$A$499=$E$3,ROW('Extended Diploma Data Sheet'!$A$3:$A$499)),ROW(1:1))-2,2),\"\")","v":0},{"$f":"IFERROR(INDEX('Extended Diploma Data Sheet'!$A$3:$E$499,SMALL(IF('Extended Diploma Data Sheet'!$A$3:$A$499=$E$3,ROW('Extended Diploma Data Sheet'!$A$3:$A$499)),ROW(1:1))-2,3),\"\")","v":0},null,null,null,{"$f":"IFERROR(INDEX('Extended Diploma Data Sheet'!$A$3:$E$499,SMALL(IF('Extended Diploma Data Sheet'!$A$3:$A$499=$E$3,ROW('Extended Diploma Data Sheet'!$A$3:$A$499)),ROW(1:1))-2,4),\"\")","v":0},null,{"$f":"IFERROR(IF(C9=\"External\",VLOOKUP(J9,Points!$I$2:$M$36,MATCH(C9&\" \"&I9&\" GLH\",Points!$I$2:$M$2,0),FALSE),VLOOKUP(J9,Points!$A$2:$G$6,MATCH(C9&\" \"&I9&\" GLH\",Points!$A$2:$G$2,0),FALSE)),\"\")","v":""},{"$f":"IF(E9=\"\",\"\",VLOOKUP(SUM(N9,P9,R9,T9,V9,X9,Z9),Lookup!$M$1:$N$6,2,FALSE))","v":"U"},{"$f":"IFERROR(IF(AND(C9=\"Internal\",I9=180),VLOOKUP(K9,Points!$F$2:$G$6,MATCH(\"Internal Grade\",Points!$F$2:$G$2,0),FALSE),\"\"),\"\")","v":""},{"$f":"IF(M9=\"\",\"\",VLOOKUP(M9,Lookup!$L$2:$M$6,2,FALSE))","v":""},{"$f":"IFERROR(IF(AND(C9=\"Internal\",I9=150),VLOOKUP(K9,Points!$E$2:$G$6,MATCH(\"Internal Grade\",Points!$E$2:$G$2,0),FALSE),\"\"),\"\")","v":""},{"$f":"IF(O9=\"\",\"\",VLOOKUP(O9,Lookup!$L$2:$M$6,2,FALSE))","v":""},{"$f":"IFERROR(IF(AND(C9=\"Internal\",I9=120),VLOOKUP(K9,Points!$D$2:$G$6,MATCH(\"Internal Grade\",Points!$D$2:$G$2,0),FALSE),\"\"),\"\")","v":""},{"$f":"IF(Q9=\"\",\"\",VLOOKUP(Q9,Lookup!$L$2:$M$6,2,FALSE))","v":""},{"$f":"IFERROR(IF(AND(C9=\"Internal\",I9=90),VLOOKUP(K9,Points!$C$2:$G$6,MATCH(\"Internal Grade\",Points!$C$2:$G$2,0),FALSE),\"\"),\"\")","v":""},{"$f":"IF(S9=\"\",\"\",VLOOKUP(S9,Lookup!$L$2:$M$6,2,FALSE))","v":""},{"$f":"IFERROR(IF(AND(C9=\"Internal\",I9=60),VLOOKUP(K9,Points!$B$2:$G$6,MATCH(\"Internal Grade\",Points!$B$2:$G$2,0),FALSE),\"\"),\"\")","v":""},{"$f":"IF(U9=\"\",\"\",VLOOKUP(U9,Lookup!$L$2:$M$6,2,FALSE))","v":""},{"$f":"IF(AND(C9=\"External\",I9=120),VLOOKUP(K9,Points!$M$2:$N$35,MATCH(\"120 GLH Grade\",Points!$M$2:$N$2,0),FALSE),\"No\")","v":"No"},{"$f":"IF(W9=\"\",\"\",VLOOKUP(W9,Lookup!$L$1:$M$6,2,FALSE))","v":0},{"$f":"IF(AND(C9=\"External\",I9=90),VLOOKUP(K9,Points!$J$2:$K$27,MATCH(\"90 GLH Grade\",Points!$J$2:$K$2,0),FALSE),\"No\")","v":"No"},{"$f":"IF(Y9=\"\",\"\",VLOOKUP(Y9,Lookup!$L$1:$M$6,2,FALSE))","v":0}]
[null,"Mandatory",{"$f":"IFERROR(INDEX('Extended Diploma Data Sheet'!$A$3:$E$499,SMALL(IF('Extended Diploma Data Sheet'!$A$3:$A$499=$E$3,ROW('Extended Diploma Data Sheet'!$A$3:$A$499)),ROW(2:2))-2,5),\"\")","v":0},{"$f":"IFERROR(INDEX('Extended Diploma Data Sheet'!$A$3:$E$499,SMALL(IF('Extended Diploma Data Sheet'!$A$3:$A$499=$E$3,ROW('Extended Diploma Data Sheet'!$A$3:$A$499)),ROW(2:2))-2,2),\"\")","v":0},{"$f":"IFERROR(INDEX('Extended Diploma Data Sheet'!$A$3:$E$499,SMALL(IF('Extended Diploma Data Sheet'!$A$3:$A$499=$E$3,ROW('Extended Diploma Data Sheet'!$A$3:$A$499)),ROW(2:2))-2,3),\"\")","v":0},null,null,null,{"$f":"IFERROR(INDEX('Extended Diploma Data Sheet'!$A$3:$E$499,SMALL(IF('Extended Diploma Data Sheet'!$A$3:$A$499=$E$3,ROW('Extended Diploma Data Sheet'!$A$3:$A$499)),ROW(2:2))-2,4),\"\")","v":0},null,{"$f":"IFERROR(IF(C10=\"External\",VLOOKUP(J10,Points!$I$2:$M$36,MATCH(C10&\" \"&I10&\" GLH\",Points!$I$2:$M$2,0),FALSE),VLOOKUP(J10,Points!$A$2:$G$6,MATCH(C10&\" \"&I10&\" GLH\",Points!$A$2:$G$2,0),FALSE)),\"\")","v":""},{"$f":"IF(E10=\"\",\"\",VLOOKUP(SUM(N10,P10,R10,T10,V10,X10,Z10),Lookup!$M$1:$N$6,2,FALSE))","v":"U"},{"$f":"IFERROR(IF(AND(C10=\"Internal\",I10=180),VLOOKUP(K10,Points!$F$2:$G$6,MATCH(\"Internal Grade\",Points!$F$2:$G$2,0),FALSE),\"\"),\"\")","v":""},{"$f":"IF(M10=\"\",\"\",VLOOKUP(M10,Lookup!$L$2:$M$6,2,FALSE))","v":""},{"$f":"IFERROR(IF(AND(C10=\"Internal\",I10=150),VLOOKUP(K10,Points!$E$2:$G$6,MATCH(\"Internal Grade\",Points!$E$2:$G$2,0),FALSE),\"\"),\"\")","v":""},{"$f":"IF(O10=\"\",\"\",VLOOKUP(O10,Lookup!$L$2:$M$6,2,FALSE))","v":""},{"$f":"IFERROR(IF(AND(C10=\"Internal\",I10=120),VLOOKUP(K10,Points!$D$2:$G$6,MATCH(\"Internal Grade\",Points!$D$2:$G$2,0),FALSE),\"\"),\"\")","v":""},{"$f":"IF(Q10=\"\",\"\",VLOOKUP(Q10,Lookup!$L$2:$M$6,2,FALSE))","v":""},{"$f":"IFERROR(IF(AND(C10=\"Internal\",I10=90),VLOOKUP(K10,Points!$C$2:$G$6,MATCH(\"Internal Grade\",Points!$C$2:$G$2,0),FALSE),\"\"),\"\")","v":""},{"$f":"IF(S10=\"\",\"\",VLOOKUP(S10,Lookup!$L$2:$M$6,2,FALSE))","v":""},{"$f":"IFERROR(IF(AND(C10=\"Internal\",I10=60),VLOOKUP(K10,Points!$B$2:$G$6,MATCH(\"Internal Grade\",Points!$B$2:$G$2,0),FALSE),\"\"),\"\")","v":""},{"$f":"IF(U10=\"\",\"\",VLOOKUP(U10,Lookup!$L$2:$M$6,2,FALSE))","v":""},{"$f":"IF(AND(C10=\"External\",I10=120),VLOOKUP(K10,Points!$M$2:$N$35,MATCH(\"120 GLH Grade\",Points!$M$2:$N$2,0),FALSE),\"No\")","v":"No"},{"$f":"IF(W10=\"\",\"\",VLOOKUP(W10,Lookup!$L$1:$M$6,2,FALSE))","v":0},{"$f":"IF(AND(C10=\"External\",I10=90),VLOOKUP(K10,Points!$J$2:$K$27,MATCH(\"90 GLH Grade\",Points!$J$2:$K$2,0),FALSE),\"No\")","v":"No"},{"$f":"IF(Y10=\"\",\"\",VLOOKUP(Y10,Lookup!$L$1:$M$6,2,FALSE))","v":0}]
[null,"Mandatory",{"$f":"IFERROR(INDEX('Extended Diploma Data Sheet'!$A$3:$E$499,SMALL(IF('Extended Diploma Data Sheet'!$A$3:$A$499=$E$3,ROW('Extended Diploma Data Sheet'!$A$3:$A$499)),ROW(3:3))-2,5),\"\")","v":0},{"$f":"IFERROR(INDEX('Extended Diploma Data Sheet'!$A$3:$E$499,SMALL(IF('Extended Diploma Data Sheet'!$A$3:$A$499=$E$3,ROW('Extended Diploma Data Sheet'!$A$3:$A$499)),ROW(3:3))-2,2),\"\")","v":0},{"$f":"IFERROR(INDEX('Extended Diploma Data Sheet'!$A$3:$E$499,SMALL(IF('Extended Diploma Data Sheet'!$A$3:$A$499=$E$3,ROW('Extended Diploma Data Sheet'!$A$3:$A$499)),ROW(3:3))-2,3),\"\")","v":0},null,null,null,{"$f":"IFERROR(INDEX('Extended Diploma Data Sheet'!$A$3:$E$499,SMALL(IF('Extended Diploma Data Sheet'!$A$3:$A$499=$E$3,ROW('Extended Diploma Data Sheet'!$A$3:$A$499)),ROW(3:3))-2,4),\"\")","v":0},null,{"$f":"IFERROR(IF(C11=\"External\",VLOOKUP(J11,Points!$I$2:$M$36,MATCH(C11&\" \"&I11&\" GLH\",Points!$I$2:$M$2,0),FALSE),VLOOKUP(J11,Points!$A$2:$G$6,MATCH(C11&\" \"&I11&\" GLH\",Points!$A$2:$G$2,0),FALSE)),\"\")","v":""},{"$f":"IF(E11=\"\",\"\",VLOOKUP(SUM(N11,P11,R11,T11,V11,X11,Z11),Lookup!$M$1:$N$6,2,FALSE))","v":"U"},{"$f":"IFERROR(IF(AND(C11=\"Internal\",I11=180),VLOOKUP(K11,Points!$F$2:$G$6,MATCH(\"Internal Grade\",Points!$F$2:$G$2,0),FALSE),\"\"),\"\")","v":""},{"$f":"IF(M11=\"\",\"\",VLOOKUP(M11,Lookup!$L$2:$M$6,2,FALSE))","v":""},{"$f":"IFERROR(IF(AND(C11=\"Internal\",I11=150),VLOOKUP(K11,Points!$E$2:$G$6,MATCH(\"Internal Grade\",Points!$E$2:$G$2,0),FALSE),\"\"),\"\")","v":""},{"$f":"IF(O11=\"\",\"\",VLOOKUP(O11,Lookup!$L$2:$M$6,2,FALSE))","v":""},{"$f":"IFERROR(IF(AND(C11=\"Internal\",I11=120),VLOOKUP(K11,Points!$D$2:$G$6,MATCH(\"Internal Grade\",Points!$D$2:$G$2,0),FALSE),\"\"),\"\")","v":""},{"$f":"IF(Q11=\"\",\"\",VLOOKUP(Q11,Lookup!$L$2:$M$6,2,FALSE))","v":""},{"$f":"IFERROR(IF(AND(C11=\"Internal\",I11=90),VLOOKUP(K11,Points!$C$2:$G$6,MATCH(\"Internal Grade\",Points!$C$2:$G$2,0),FALSE),\"\"),\"\")","v":""},{"$f":"IF(S11=\"\",\"\",VLOOKUP(S11,Lookup!$L$2:$M$6,2,FALSE))","v":""},{"$f":"IFERROR(IF(AND(C11=\"Internal\",I11=60),VLOOKUP(K11,Points!$B$2:$G$6,MATCH(\"Internal Grade\",Points!$B$2:$G$2,0),FALSE),\"\"),\"\")","v":""},{"$f":"IF(U11=\"\",\"\",VLOOKUP(U11,Lookup!$L$2:$M$6,2,FALSE))","v":""},{"$f":"IF(AND(C11=\"External\",I11=120),VLOOKUP(K11,Points!$M$2:$N$35,MATCH(\"120 GLH Grade\",Points!$M$2:$N$2,0),FALSE),\"No\")","v":"No"},{"$f":"IF(W11=\"\",\"\",VLOOKUP(W11,Lookup!$L$1:$M$6,2,FALSE))","v":0},{"$f":"IF(AND(C11=\"External\",I11=90),VLOOKUP(K11,Points!$J$2:$K$27,MATCH(\"90 GLH Grade\",Points!$J$2:$K$2,0),FALSE),\"No\")","v":"No"},{"$f":"IF(Y11=\"\",\"\",VLOOKUP(Y11,Lookup!$L$1:$M$6,2,FALSE))","v":0}]
[null,"Mandatory",{"$f":"IFERROR(INDEX('Extended Diploma Data Sheet'!$A$3:$E$499,SMALL(IF('Extended Diploma Data Sheet'!$A$3:$A$499=$E$3,ROW('Extended Diploma Data Sheet'!$A$3:$A$499)),ROW(4:4))-2,5),\"\")","v":0},{"$f":"IFERROR(INDEX('Extended Diploma Data Sheet'!$A$3:$E$499,SMALL(IF('Extended Diploma Data Sheet'!$A$3:$A$499=$E$3,ROW('Extended Diploma Data Sheet'!$A$3:$A$499)),ROW(4:4))-2,2),\"\")","v":0},{"$f":"IFERROR(INDEX('Extended Diploma Data Sheet'!$A$3:$E$499,SMALL(IF('Extended Diploma Data Sheet'!$A$3:$A$499=$E$3,ROW('Extended Diploma Data Sheet'!$A$3:$A$499)),ROW(4:4))-2,3),\"\")","v":0},null,null,null,{"$f":"IFERROR(INDEX('Extended Diploma Data Sheet'!$A$3:$E$499,SMALL(IF('Extended Diploma Data Sheet'!$A$3:$A$499=$E$3,ROW('Extended Diploma Data Sheet'!$A$3:$A$499)),ROW(4:4))-2,4),\"\")","v":0},null,{"$f":"IFERROR(IF(C12=\"External\",VLOOKUP(J12,Points!$I$2:$M$36,MATCH(C12&\" \"&I12&\" GLH\",Points!$I$2:$M$2,0),FALSE),VLOOKUP(J12,Points!$A$2:$G$6,MATCH(C12&\" \"&I12&\" GLH\",Points!$A$2:$G$2,0),FALSE)),\"\")","v":""},{"$f":"IF(E12=\"\",\"\",VLOOKUP(SUM(N12,P12,R12,T12,V12,X12,Z12),Lookup!$M$1:$N$6,2,FALSE))","v":"U"},{"$f":"IFERROR(IF(AND(C12=\"Internal\",I12=180),VLOOKUP(K12,Points!$F$2:$G$6,MATCH(\"Internal Grade\",Points!$F$2:$G$2,0),FALSE),\"\"),\"\")","v":""},{"$f":"IF(M12=\"\",\"\",VLOOKUP(M12,Lookup!$L$2:$M$6,2,FALSE))","v":""},{"$f":"IFERROR(IF(AND(C12=\"Internal\",I12=150),VLOOKUP(K12,Points!$E$2:$G$6,MATCH(\"Internal Grade\",Points!$E$2:$G$2,0),FALSE),\"\"),\"\")","v":""},{"$f":"IF(O12=\"\",\"\",VLOOKUP(O12,Lookup!$L$2:$M$6,2,FALSE))","v":""},{"$f":"IFERROR(IF(AND(C12=\"Internal\",I12=120),VLOOKUP(K12,Points!$D$2:$G$6,MATCH(\"Internal Grade\",Points!$D$2:$G$2,0),FALSE),\"\"),\"\")","v":""},{"$f":"IF(Q12=\"\",\"\",VLOOKUP(Q12,Lookup!$L$2:$M$6,2,FALSE))","v":""},{"$f":"IFERROR(IF(AND(C12=\"Internal\",I12=90),VLOOKUP(K12,Points!$C$2:$G$6,MATCH(\"Internal Grade\",Points!$C$2:$G$2,0),FALSE),\"\"),\"\")","v":""},{"$f":"IF(S12=\"\",\"\",VLOOKUP(S12,Lookup!$L$2:$M$6,2,FALSE))","v":""},{"$f":"IFERROR(IF(AND(C12=\"Internal\",I12=60),VLOOKUP(K12,Points!$B$2:$G$6,MATCH(\"Internal Grade\",Points!$B$2:$G$2,0),FALSE),\"\"),\"\")","v":""},{"$f":"IF(U12=\"\",\"\",VLOOKUP(U12,Lookup!$L$2:$M$6,2,FALSE))","v":""},{"$f":"IF(AND(C12=\"External\",I12=120),VLOOKUP(K12,Points!$M$2:$N$35,MATCH(\"120 GLH Grade\",Points!$M$2:$N$2,0),FALSE),\"No\")","v":"No"},{"$f":"IF(W12=\"\",\"\",VLOOKUP(W12,Lookup!$L$1:$M$6,2,FALSE))","v":0},{"$f":"IF(AND(C12=\"External\",I12=90),VLOOKUP(K12,Points!$J$2:$K$27,MATCH(\"90 GLH Grade\",Points!$J$2:$K$2,0),FALSE),\"No\")","v":"No"},{"$f":"IF(Y12=\"\",\"\",VLOOKUP(Y12,Lookup!$L$1:$M$6,2,FALSE))","v":0}]
[null,"Mandatory",{"$f":"IFERROR(INDEX('Extended Diploma Data Sheet'!$A$3:$E$499,SMALL(IF('Extended Diploma Data Sheet'!$A$3:$A$499=$E$3,ROW('Extended Diploma Data Sheet'!$A$3:$A$499)),ROW(5:5))-2,5),\"\")","v":0},{"$f":"IFERROR(INDEX('Extended Diploma Data Sheet'!$A$3:$E$499,SMALL(IF('Extended Diploma Data Sheet'!$A$3:$A$499=$E$3,ROW('Extended Diploma Data Sheet'!$A$3:$A$499)),ROW(5:5))-2,2),\"\")","v":0},{"$f":"IFERROR(INDEX('Extended Diploma Data Sheet'!$A$3:$E$499,SMALL(IF('Extended Diploma Data Sheet'!$A$3:$A$499=$E$3,ROW('Extended Diploma Data Sheet'!$A$3:$A$499)),ROW(5:5))-2,3),\"\")","v":0},null,null,null,{"$f":"IFERROR(INDEX('Extended Diploma Data Sheet'!$A$3:$E$499,SMALL(IF('Extended Diploma Data Sheet'!$A$3:$A$499=$E$3,ROW('Extended Diploma Data Sheet'!$A$3:$A$499)),ROW(5:5))-2,4),\"\")","v":0},null,{"$f":"IFERROR(IF(C13=\"External\",VLOOKUP(J13,Points!$I$2:$M$36,MATCH(C13&\" \"&I13&\" GLH\",Points!$I$2:$M$2,0),FALSE),VLOOKUP(J13,Points!$A$2:$G$6,MATCH(C13&\" \"&I13&\" GLH\",Points!$A$2:$G$2,0),FALSE)),\"\")","v":""},{"$f":"IF(E13=\"\",\"\",VLOOKUP(SUM(N13,P13,R13,T13,V13,X13,Z13),Lookup!$M$1:$N$6,2,FALSE))","v":"U"},{"$f":"IFERROR(IF(AND(C13=\"Internal\",I13=180),VLOOKUP(K13,Points!$F$2:$G$6,MATCH(\"Internal Grade\",Points!$F$2:$G$2,0),FALSE),\"\"),\"\")","v":""},{"$f":"IF(M13=\"\",\"\",VLOOKUP(M13,Lookup!$L$2:$M$6,2,FALSE))","v":""},{"$f":"IFERROR(IF(AND(C13=\"Internal\",I13=150),VLOOKUP(K13,Points!$E$2:$G$6,MATCH(\"Internal Grade\",Points!$E$2:$G$2,0),FALSE),\"\"),\"\")","v":""},{"$f":"IF(O13=\"\",\"\",VLOOKUP(O13,Lookup!$L$2:$M$6,2,FALSE))","v":""},{"$f":"IFERROR(IF(AND(C13=\"Internal\",I13=120),VLOOKUP(K13,Points!$D$2:$G$6,MATCH(\"Internal Grade\",Points!$D$2:$G$2,0),FALSE),\"\"),\"\")","v":""},{"$f":"IF(Q13=\"\",\"\",VLOOKUP(Q13,Lookup!$L$2:$M$6,2,FALSE))","v":""},{"$f":"IFERROR(IF(AND(C13=\"Internal\",I13=90),VLOOKUP(K13,Points!$C$2:$G$6,MATCH(\"Internal Grade\",Points!$C$2:$G$2,0),FALSE),\"\"),\"\")","v":""},{"$f":"IF(S13=\"\",\"\",VLOOKUP(S13,Lookup!$L$2:$M$6,2,FALSE))","v":""},{"$f":"IFERROR(IF(AND(C13=\"Internal\",I13=60),VLOOKUP(K13,Points!$B$2:$G$6,MATCH(\"Internal Grade\",Points!$B$2:$G$2,0),FALSE),\"\"),\"\")","v":""},{"$f":"IF(U13=\"\",\"\",VLOOKUP(U13,Lookup!$L$2:$M$6,2,FALSE))","v":""},{"$f":"IF(AND(C13=\"External\",I13=120),VLOOKUP(K13,Points!$M$2:$N$35,MATCH(\"120 GLH Grade\",Points!$M$2:$N$2,0),FALSE),\"No\")","v":"No"},{"$f":"IF(W13=\"\",\"\",VLOOKUP(W13,Lookup!$L$1:$M$6,2,FALSE))","v":0},{"$f":"IF(AND(C13=\"External\",I13=90),VLOOKUP(K13,Points!$J$2:$K$27,MATCH(\"90 GLH Grade\",Points!$J$2:$K$2,0),FALSE),\"No\")","v":"No"},{"$f":"IF(Y13=\"\",\"\",VLOOKUP(Y13,Lookup!$L$1:$M$6,2,FALSE))","v":0}]
[null,"Mandatory",{"$f":"IFERROR(INDEX('Extended Diploma Data Sheet'!$A$3:$E$499,SMALL(IF('Extended Diploma Data Sheet'!$A$3:$A$499=$E$3,ROW('Extended Diploma Data Sheet'!$A$3:$A$499)),ROW(6:6))-2,5),\"\")","v":0},{"$f":"IFERROR(INDEX('Extended Diploma Data Sheet'!$A$3:$E$499,SMALL(IF('Extended Diploma Data Sheet'!$A$3:$A$499=$E$3,ROW('Extended Diploma Data Sheet'!$A$3:$A$499)),ROW(6:6))-2,2),\"\")","v":0},{"$f":"IFERROR(INDEX('Extended Diploma Data Sheet'!$A$3:$E$499,SMALL(IF('Extended Diploma Data Sheet'!$A$3:$A$499=$E$3,ROW('Extended Diploma Data Sheet'!$A$3:$A$499)),ROW(6:6))-2,3),\"\")","v":0},null,null,null,{"$f":"IFERROR(INDEX('Extended Diploma Data Sheet'!$A$3:$E$499,SMALL(IF('Extended Diploma Data Sheet'!$A$3:$A$499=$E$3,ROW('Extended Diploma Data Sheet'!$A$3:$A$499)),ROW(6:6))-2,4),\"\")","v":0},null,{"$f":"IFERROR(IF(C14=\"External\",VLOOKUP(J14,Points!$I$2:$M$36,MATCH(C14&\" \"&I14&\" GLH\",Points!$I$2:$M$2,0),FALSE),VLOOKUP(J14,Points!$A$2:$G$6,MATCH(C14&\" \"&I14&\" GLH\",Points!$A$2:$G$2,0),FALSE)),\"\")","v":""},{"$f":"IF(E14=\"\",\"\",VLOOKUP(SUM(N14,P14,R14,T14,V14,X14,Z14),Lookup!$M$1:$N$6,2,FALSE))","v":"U"},{"$f":"IFERROR(IF(AND(C14=\"Internal\",I14=180),VLOOKUP(K14,Points!$F$2:$G$6,MATCH(\"Internal Grade\",Points!$F$2:$G$2,0),FALSE),\"\"),\"\")","v":""},{"$f":"IF(M14=\"\",\"\",VLOOKUP(M14,Lookup!$L$2:$M$6,2,FALSE))","v":""},{"$f":"IFERROR(IF(AND(C14=\"Internal\",I14=150),VLOOKUP(K14,Points!$E$2:$G$6,MATCH(\"Internal Grade\",Points!$E$2:$G$2,0),FALSE),\"\"),\"\")","v":""},{"$f":"IF(O14=\"\",\"\",VLOOKUP(O14,Lookup!$L$2:$M$6,2,FALSE))","v":""},{"$f":"IFERROR(IF(AND(C14=\"Internal\",I14=120),VLOOKUP(K14,Points!$D$2:$G$6,MATCH(\"Internal Grade\",Points!$D$2:$G$2,0),FALSE),\"\"),\"\")","v":""},{"$f":"IF(Q14=\"\",\"\",VLOOKUP(Q14,Lookup!$L$2:$M$6,2,FALSE))","v":""},{"$f":"IFERROR(IF(AND(C14=\"Internal\",I14=90),VLOOKUP(K14,Points!$C$2:$G$6,MATCH(\"Internal Grade\",Points!$C$2:$G$2,0),FALSE),\"\"),\"\")","v":""},{"$f":"IF(S14=\"\",\"\",VLOOKUP(S14,Lookup!$L$2:$M$6,2,FALSE))","v":""},{"$f":"IFERROR(IF(AND(C14=\"Internal\",I14=60),VLOOKUP(K14,Points!$B$2:$G$6,MATCH(\"Internal Grade\",Points!$B$2:$G$2,0),FALSE),\"\"),\"\")","v":""},{"$f":"IF(U14=\"\",\"\",VLOOKUP(U14,Lookup!$L$2:$M$6,2,FALSE))","v":""},{"$f":"IF(AND(C14=\"External\",I14=120),VLOOKUP(K14,Points!$M$2:$N$35,MATCH(\"120 GLH Grade\",Points!$M$2:$N$2,0),FALSE),\"No\")","v":"No"},{"$f":"IF(W14=\"\",\"\",VLOOKUP(W14,Lookup!$L$1:$M$6,2,FALSE))","v":0},{"$f":"IF(AND(C14=\"External\",I14=90),VLOOKUP(K14,Points!$J$2:$K$27,MATCH(\"90 GLH Grade\",Points!$J$2:$K$2,0),FALSE),\"No\")","v":"No"},{"$f":"IF(Y14=\"\",\"\",VLOOKUP(Y14,Lookup!$L$1:$M$6,2,FALSE))","v":0}]
[null,"Mandatory",{"$f":"IFERROR(INDEX('Extended Diploma Data Sheet'!$A$3:$E$499,SMALL(IF('Extended Diploma Data Sheet'!$A$3:$A$499=$E$3,ROW('Extended Diploma Data Sheet'!$A$3:$A$499)),ROW(7:7))-2,5),\"\")","v":0},{"$f":"IFERROR(INDEX('Extended Diploma Data Sheet'!$A$3:$E$499,SMALL(IF('Extended Diploma Data Sheet'!$A$3:$A$499=$E$3,ROW('Extended Diploma Data Sheet'!$A$3:$A$499)),ROW(7:7))-2,2),\"\")","v":0},{"$f":"IFERROR(INDEX('Extended Diploma Data Sheet'!$A$3:$E$499,SMALL(IF('Extended Diploma Data Sheet'!$A$3:$A$499=$E$3,ROW('Extended Diploma Data Sheet'!$A$3:$A$499)),ROW(7:7))-2,3),\"\")","v":0},null,null,null,{"$f":"IFERROR(INDEX('Extended Diploma Data Sheet'!$A$3:$E$499,SMALL(IF('Extended Diploma Data Sheet'!$A$3:$A$499=$E$3,ROW('Extended Diploma Data Sheet'!$A$3:$A$499)),ROW(7:7))-2,4),\"\")","v":0},null,{"$f":"IFERROR(IF(C15=\"External\",VLOOKUP(J15,Points!$I$2:$M$36,MATCH(C15&\" \"&I15&\" GLH\",Points!$I$2:$M$2,0),FALSE),VLOOKUP(J15,Points!$A$2:$G$6,MATCH(C15&\" \"&I15&\" GLH\",Points!$A$2:$G$2,0),FALSE)),\"\")","v":""},{"$f":"IF(E15=\"\",\"\",VLOOKUP(SUM(N15,P15,R15,T15,V15,X15,Z15),Lookup!$M$1:$N$6,2,FALSE))","v":"U"},{"$f":"IFERROR(IF(AND(C15=\"Internal\",I15=180),VLOOKUP(K15,Points!$F$2:$G$6,MATCH(\"Internal Grade\",Points!$F$2:$G$2,0),FALSE),\"\"),\"\")","v":""},{"$f":"IF(M15=\"\",\"\",VLOOKUP(M15,Lookup!$L$2:$M$6,2,FALSE))","v":""},{"$f":"IFERROR(IF(AND(C15=\"Internal\",I15=150),VLOOKUP(K15,Points!$E$2:$G$6,MATCH(\"Internal Grade\",Points!$E$2:$G$2,0),FALSE),\"\"),\"\")","v":""},{"$f":"IF(O15=\"\",\"\",VLOOKUP(O15,Lookup!$L$2:$M$6,2,FALSE))","v":""},{"$f":"IFERROR(IF(AND(C15=\"Internal\",I15=120),VLOOKUP(K15,Points!$D$2:$G$6,MATCH(\"Internal Grade\",Points!$D$2:$G$2,0),FALSE),\"\"),\"\")","v":""},{"$f":"IF(Q15=\"\",\"\",VLOOKUP(Q15,Lookup!$L$2:$M$6,2,FALSE))","v":""},{"$f":"IFERROR(IF(AND(C15=\"Internal\",I15=90),VLOOKUP(K15,Points!$C$2:$G$6,MATCH(\"Internal Grade\",Points!$C$2:$G$2,0),FALSE),\"\"),\"\")","v":""},{"$f":"IF(S15=\"\",\"\",VLOOKUP(S15,Lookup!$L$2:$M$6,2,FALSE))","v":""},{"$f":"IFERROR(IF(AND(C15=\"Internal\",I15=60),VLOOKUP(K15,Points!$B$2:$G$6,MATCH(\"Internal Grade\",Points!$B$2:$G$2,0),FALSE),\"\"),\"\")","v":""},{"$f":"IF(U15=\"\",\"\",VLOOKUP(U15,Lookup!$L$2:$M$6,2,FALSE))","v":""},{"$f":"IF(AND(C15=\"External\",I15=120),VLOOKUP(K15,Points!$M$2:$N$35,MATCH(\"120 GLH Grade\",Points!$M$2:$N$2,0),FALSE),\"No\")","v":"No"},{"$f":"IF(W15=\"\",\"\",VLOOKUP(W15,Lookup!$L$1:$M$6,2,FALSE))","v":0},{"$f":"IF(AND(C15=\"External\",I15=90),VLOOKUP(K15,Points!$J$2:$K$27,MATCH(\"90 GLH Grade\",Points!$J$2:$K$2,0),FALSE),\"No\")","v":"No"},{"$f":"IF(Y15=\"\",\"\",VLOOKUP(Y15,Lookup!$L$1:$M$6,2,FALSE))","v":0}]
[null,"Mandatory",{"$f":"IFERROR(INDEX('Extended Diploma Data Sheet'!$A$3:$E$499,SMALL(IF('Extended Diploma Data Sheet'!$A$3:$A$499=$E$3,ROW('Extended Diploma Data Sheet'!$A$3:$A$499)),ROW(8:8))-2,5),\"\")","v":0},{"$f":"IFERROR(INDEX('Extended Diploma Data Sheet'!$A$3:$E$499,SMALL(IF('Extended Diploma Data Sheet'!$A$3:$A$499=$E$3,ROW('Extended Diploma Data Sheet'!$A$3:$A$499)),ROW(8:8))-2,2),\"\")","v":0},{"$f":"IFERROR(INDEX('Extended Diploma Data Sheet'!$A$3:$E$499,SMALL(IF('Extended Diploma Data Sheet'!$A$3:$A$499=$E$3,ROW('Extended Diploma Data Sheet'!$A$3:$A$499)),ROW(8:8))-2,3),\"\")","v":0},null,null,null,{"$f":"IFERROR(INDEX('Extended Diploma Data Sheet'!$A$3:$E$499,SMALL(IF('Extended Diploma Data Sheet'!$A$3:$A$499=$E$3,ROW('Extended Diploma Data Sheet'!$A$3:$A$499)),ROW(8:8))-2,4),\"\")","v":0},null,{"$f":"IFERROR(IF(C16=\"External\",VLOOKUP(J16,Points!$I$2:$M$36,MATCH(C16&\" \"&I16&\" GLH\",Points!$I$2:$M$2,0),FALSE),VLOOKUP(J16,Points!$A$2:$C$6,MATCH(C16&\" \"&I16&\" GLH\",Points!$A$2:$C$2,0),FALSE)),\"\")","v":""},{"$f":"IF(E16=\"\",\"\",VLOOKUP(SUM(N16,P16,R16,T16,V16,X16,Z16),Lookup!$M$1:$N$6,2,FALSE))","v":"U"},{"$f":"IFERROR(IF(AND(C16=\"Internal\",I16=180),VLOOKUP(K16,Points!$F$2:$G$6,MATCH(\"Internal Grade\",Points!$F$2:$G$2,0),FALSE),\"\"),\"\")","v":""},{"$f":"IF(M16=\"\",\"\",VLOOKUP(M16,Lookup!$L$2:$M$6,2,FALSE))","v":""},{"$f":"IFERROR(IF(AND(C16=\"Internal\",I16=150),VLOOKUP(K16,Points!$E$2:$G$6,MATCH(\"Internal Grade\",Points!$E$2:$G$2,0),FALSE),\"\"),\"\")","v":""},{"$f":"IF(O16=\"\",\"\",VLOOKUP(O16,Lookup!$L$2:$M$6,2,FALSE))","v":""},{"$f":"IFERROR(IF(AND(C16=\"Internal\",I16=120),VLOOKUP(K16,Points!$D$2:$G$6,MATCH(\"Internal Grade\",Points!$D$2:$G$2,0),FALSE),\"\"),\"\")","v":""},null,{"$f":"IFERROR(IF(AND(C16=\"Internal\",I16=90),VLOOKUP(K16,Points!$C$2:$G$6,MATCH(\"Internal Grade\",Points!$C$2:$G$2,0),FALSE),\"\"),\"\")","v":""},{"$f":"IF(S16=\"\",\"\",VLOOKUP(S16,Lookup!$L$2:$M$6,2,FALSE))","v":""},{"$f":"IFERROR(IF(AND(C16=\"Internal\",I16=60),VLOOKUP(K16,Points!$B$2:$G$6,MATCH(\"Internal Grade\",Points!$B$2:$G$2,0),FALSE),\"\"),\"\")","v":""},{"$f":"IF(U16=\"\",\"\",VLOOKUP(U16,Lookup!$L$2:$M$6,2,FALSE))","v":""},{"$f":"IF(AND(C16=\"External\",I16=120),VLOOKUP(K16,Points!$M$2:$N$35,MATCH(\"120 GLH Grade\",Points!$M$2:$N$2,0),FALSE),\"No\")","v":"No"},{"$f":"IF(W16=\"\",\"\",VLOOKUP(W16,Lookup!$L$1:$M$6,2,FALSE))","v":0},{"$f":"IF(AND(C16=\"External\",I16=90),VLOOKUP(K16,Points!$J$2:$K$27,MATCH(\"90 GLH Grade\",Points!$J$2:$K$2,0),FALSE),\"No\")","v":"No"},{"$f":"IF(Y16=\"\",\"\",VLOOKUP(Y16,Lookup!$L$1:$M$6,2,FALSE))","v":0}]
[null,"Mandatory",{"$f":"IFERROR(INDEX('Extended Diploma Data Sheet'!$A$3:$E$499,SMALL(IF('Extended Diploma Data Sheet'!$A$3:$A$499=$E$3,ROW('Extended Diploma Data Sheet'!$A$3:$A$499)),ROW(9:9))-2,5),\"\")","v":0},{"$f":"IFERROR(INDEX('Extended Diploma Data Sheet'!$A$3:$E$499,SMALL(IF('Extended Diploma Data Sheet'!$A$3:$A$499=$E$3,ROW('Extended Diploma Data Sheet'!$A$3:$A$499)),ROW(9:9))-2,2),\"\")","v":0},{"$f":"IFERROR(INDEX('Extended Diploma Data Sheet'!$A$3:$E$499,SMALL(IF('Extended Diploma Data Sheet'!$A$3:$A$499=$E$3,ROW('Extended Diploma Data Sheet'!$A$3:$A$499)),ROW(9:9))-2,3),\"\")","v":0},null,null,null,{"$f":"IFERROR(INDEX('Extended Diploma Data Sheet'!$A$3:$E$499,SMALL(IF('Extended Diploma Data Sheet'!$A$3:$A$499=$E$3,ROW('Extended Diploma Data Sheet'!$A$3:$A$499)),ROW(9:9))-2,4),\"\")","v":0},null,{"$f":"IFERROR(IF(C17=\"External\",VLOOKUP(J17,Points!$I$2:$M$36,MATCH(C17&\" \"&I17&\" GLH\",Points!$I$2:$M$2,0),FALSE),VLOOKUP(J17,Points!$A$2:$C$6,MATCH(C17&\" \"&I17&\" GLH\",Points!$A$2:$C$2,0),FALSE)),\"\")","v":""},{"$f":"IF(E17=\"\",\"\",VLOOKUP(SUM(N17,P17,R17,T17,V17,X17,Z17),Lookup!$M$1:$N$6,2,FALSE))","v":"U"},{"$f":"IFERROR(IF(AND(C17=\"Internal\",I17=180),VLOOKUP(K17,Points!$F$2:$G$6,MATCH(\"Internal Grade\",Points!$F$2:$G$2,0),FALSE),\"\"),\"\")","v":""},{"$f":"IF(M17=\"\",\"\",VLOOKUP(M17,Lookup!$L$2:$M$6,2,FALSE))","v":""},{"$f":"IFERROR(IF(AND(C17=\"Internal\",I17=150),VLOOKUP(K17,Points!$E$2:$G$6,MATCH(\"Internal Grade\",Points!$E$2:$G$2,0),FALSE),\"\"),\"\")","v":""},{"$f":"IF(O17=\"\",\"\",VLOOKUP(O17,Lookup!$L$2:$M$6,2,FALSE))","v":""},{"$f":"IFERROR(IF(AND(C17=\"Internal\",I17=120),VLOOKUP(K17,Points!$D$2:$G$6,MATCH(\"Internal Grade\",Points!$D$2:$G$2,0),FALSE),\"\"),\"\")","v":""},null,{"$f":"IFERROR(IF(AND(C17=\"Internal\",I17=90),VLOOKUP(K17,Points!$C$2:$G$6,MATCH(\"Internal Grade\",Points!$C$2:$G$2,0),FALSE),\"\"),\"\")","v":""},{"$f":"IF(S17=\"\",\"\",VLOOKUP(S17,Lookup!$L$2:$M$6,2,FALSE))","v":""},{"$f":"IFERROR(IF(AND(C17=\"Internal\",I17=60),VLOOKUP(K17,Points!$B$2:$G$6,MATCH(\"Internal Grade\",Points!$B$2:$G$2,0),FALSE),\"\"),\"\")","v":""},{"$f":"IF(U17=\"\",\"\",VLOOKUP(U17,Lookup!$L$2:$M$6,2,FALSE))","v":""},{"$f":"IF(AND(C17=\"External\",I17=120),VLOOKUP(K17,Points!$M$2:$N$35,MATCH(\"120 GLH Grade\",Points!$M$2:$N$2,0),FALSE),\"No\")","v":"No"},{"$f":"IF(W17=\"\",\"\",VLOOKUP(W17,Lookup!$L$1:$M$6,2,FALSE))","v":0},{"$f":"IF(AND(C17=\"External\",I17=90),VLOOKUP(K17,Points!$J$2:$K$27,MATCH(\"90 GLH Grade\",Points!$J$2:$K$2,0),FALSE),\"No\")","v":"No"},{"$f":"IF(Y17=\"\",\"\",VLOOKUP(Y17,Lookup!$L$1:$M$6,2,FALSE))","v":0}]
[null,"Mandatory",{"$f":"IFERROR(INDEX('Extended Diploma Data Sheet'!$A$3:$E$499,SMALL(IF('Extended Diploma Data Sheet'!$A$3:$A$499=$E$3,ROW('Extended Diploma Data Sheet'!$A$3:$A$499)),ROW(10:10))-2,5),\"\")","v":0},{"$f":"IFERROR(INDEX('Extended Diploma Data Sheet'!$A$3:$E$499,SMALL(IF('Extended Diploma Data Sheet'!$A$3:$A$499=$E$3,ROW('Extended Diploma Data Sheet'!$A$3:$A$499)),ROW(10:10))-2,2),\"\")","v":0},{"$f":"IFERROR(INDEX('Extended Diploma Data Sheet'!$A$3:$E$499,SMALL(IF('Extended Diploma Data Sheet'!$A$3:$A$499=$E$3,ROW('Extended Diploma Data Sheet'!$A$3:$A$499)),ROW(10:10))-2,3),\"\")","v":0},null,null,null,{"$f":"IFERROR(INDEX('Extended Diploma Data Sheet'!$A$3:$E$499,SMALL(IF('Extended Diploma Data Sheet'!$A$3:$A$499=$E$3,ROW('Extended Diploma Data Sheet'!$A$3:$A$499)),ROW(10:10))-2,4),\"\")","v":0},null,{"$f":"IFERROR(IF(C18=\"External\",VLOOKUP(J18,Points!$I$2:$M$36,MATCH(C18&\" \"&I18&\" GLH\",Points!$I$2:$M$2,0),FALSE),VLOOKUP(J18,Points!$A$2:$C$6,MATCH(C18&\" \"&I18&\" GLH\",Points!$A$2:$C$2,0),FALSE)),\"\")","v":""},{"$f":"IF(E18=\"\",\"\",VLOOKUP(SUM(N18,P18,R18,T18,V18,X18,Z18),Lookup!$M$1:$N$6,2,FALSE))","v":"U"},{"$f":"IFERROR(IF(AND(C18=\"Internal\",I18=180),VLOOKUP(K18,Points!$F$2:$G$6,MATCH(\"Internal Grade\",Points!$F$2:$G$2,0),FALSE),\"\"),\"\")","v":""},{"$f":"IF(M18=\"\",\"\",VLOOKUP(M18,Lookup!$L$2:$M$6,2,FALSE))","v":""},{"$f":"IFERROR(IF(AND(C18=\"Internal\",I18=150),VLOOKUP(K18,Points!$E$2:$G$6,MATCH(\"Internal Grade\",Points!$E$2:$G$2,0),FALSE),\"\"),\"\")","v":""},{"$f":"IF(O18=\"\",\"\",VLOOKUP(O18,Lookup!$L$2:$M$6,2,FALSE))","v":""},{"$f":"IFERROR(IF(AND(C18=\"Internal\",I18=120),VLOOKUP(K18,Points!$D$2:$G$6,MATCH(\"Internal Grade\",Points!$D$2:$G$2,0),FALSE),\"\"),\"\")","v":""},null,{"$f":"IFERROR(IF(AND(C18=\"Internal\",I18=90),VLOOKUP(K18,Points!$C$2:$G$6,MATCH(\"Internal Grade\",Points!$C$2:$G$2,0),FALSE),\"\"),\"\")","v":""},{"$f":"IF(S18=\"\",\"\",VLOOKUP(S18,Lookup!$L$2:$M$6,2,FALSE))","v":""},{"$f":"IFERROR(IF(AND(C18=\"Internal\",I18=60),VLOOKUP(K18,Points!$B$2:$G$6,MATCH(\"Internal Grade\",Points!$B$2:$G$2,0),FALSE),\"\"),\"\")","v":""},{"$f":"IF(U18=\"\",\"\",VLOOKUP(U18,Lookup!$L$2:$M$6,2,FALSE))","v":""},{"$f":"IF(AND(C18=\"External\",I18=120),VLOOKUP(K18,Points!$M$2:$N$35,MATCH(\"120 GLH Grade\",Points!$M$2:$N$2,0),FALSE),\"No\")","v":"No"},{"$f":"IF(W18=\"\",\"\",VLOOKUP(W18,Lookup!$L$1:$M$6,2,FALSE))","v":0},{"$f":"IF(AND(C18=\"External\",I18=90),VLOOKUP(K18,Points!$J$2:$K$27,MATCH(\"90 GLH Grade\",Points!$J$2:$K$2,0),FALSE),\"No\")","v":"No"},{"$f":"IF(Y18=\"\",\"\",VLOOKUP(Y18,Lookup!$L$1:$M$6,2,FALSE))","v":0}]
[null,null,{"$f":"IFERROR(INDEX('Extended Diploma Data Sheet'!$A$3:$E$59,SMALL(IF('Extended Diploma Data Sheet'!$A$3:$A$59=$E$3,ROW('Extended Diploma Data Sheet'!$A$3:$A$59)),ROW(11:11))-2,5),\"\")","v":""},null,null,null,null,null,null,null,{"$f":"IFERROR(IF(C19=\"External\",VLOOKUP(J19,Points!$I$2:$M$36,MATCH(C19&\" \"&I19&\" GLH\",Points!$I$2:$M$2,0),FALSE),VLOOKUP(J19,Points!$A$2:$C$6,MATCH(C19&\" \"&I19&\" GLH\",Points!$A$2:$C$2,0),FALSE)),\"\")","v":""}]
[null,"Group B mandatory units must be completed and a grade reported",null,null,null,null,null,null,null,null,{"$f":"IFERROR(IF(C20=\"External\",VLOOKUP(J20,Points!$I$2:$M$36,MATCH(C20&\" \"&I20&\" GLH\",Points!$I$2:$M$2,0),FALSE),VLOOKUP(J20,Points!$A$2:$C$6,MATCH(C20&\" \"&I20&\" GLH\",Points!$A$2:$C$2,0),FALSE)),\"\")","v":""}]
[null,"Mandatory",{"$f":"IFERROR(INDEX('Extended Diploma Data Sheet'!$G$3:$K$499,SMALL(IF('Extended Diploma Data Sheet'!$G$3:$G$499=$E$3,ROW('Extended Diploma Data Sheet'!$G$3:$G$499)),ROW(1:1))-2,5),\"\")","v":0},{"$f":"IFERROR(INDEX('Extended Diploma Data Sheet'!$G$3:$K$499,SMALL(IF('Extended Diploma Data Sheet'!$G$3:$G$499=$E$3,ROW('Extended Diploma Data Sheet'!$G$3:$G$499)),ROW(1:1))-2,2),\"\")","v":0},{"$f":"IFERROR(INDEX('Extended Diploma Data Sheet'!$G$3:$K$499,SMALL(IF('Extended Diploma Data Sheet'!$G$3:$G$499=$E$3,ROW('Extended Diploma Data Sheet'!$G$3:$G$499)),ROW(1:1))-2,3),\"\")","v":0},null,null,null,{"$f":"IFERROR(INDEX('Extended Diploma Data Sheet'!$G$3:$K$499,SMALL(IF('Extended Diploma Data Sheet'!$G$3:$G$499=$E$3,ROW('Extended Diploma Data Sheet'!$G$3:$G$499)),ROW(1:1))-2,4),\"\")","v":0},null,{"$f":"IFERROR(IF(C21=\"External\",VLOOKUP(J21,Points!$I$2:$M$36,MATCH(C21&\" \"&I21&\" GLH\",Points!$I$2:$M$2,0),FALSE),VLOOKUP(J21,Points!$A$2:$C$6,MATCH(C21&\" \"&I21&\" GLH\",Points!$A$2:$C$2,0),FALSE)),\"\")","v":""},{"$f":"IF(E21=\"\",\"\",VLOOKUP(SUM(R21,T21,V21,X21,Z21),Lookup!$M$1:$N$6,2,FALSE))","v":"U"},null,null,{"$f":"IFERROR(IF(AND(C21=\"Internal\",I21=150),VLOOKUP(K21,Points!$E$2:$G$6,MATCH(\"Internal Grade\",Points!$E$2:$G$2,0),FALSE),\"\"),\"\")","v":""},{"$f":"IF(O21=\"\",\"\",VLOOKUP(O21,Lookup!$L$2:$M$6,2,FALSE))","v":""},{"$f":"IFERROR(IF(AND(C21=\"Internal\",I21=120),VLOOKUP(K21,Points!$D$2:$G$6,MATCH(\"Internal Grade\",Points!$D$2:$G$2,0),FALSE),\"\"),\"\")","v":""},null,{"$f":"IFERROR(IF(AND(C21=\"Internal\",I21=90),VLOOKUP(K21,Points!$C$2:$G$6,MATCH(\"Internal Grade\",Points!$C$2:$G$2,0),FALSE),\"\"),\"\")","v":""},{"$f":"IF(S21=\"\",\"\",VLOOKUP(S21,Lookup!$L$2:$M$6,2,FALSE))","v":""},{"$f":"IFERROR(IF(AND(C21=\"Internal\",I21=60),VLOOKUP(K21,Points!$B$2:$G$6,MATCH(\"Internal Grade\",Points!$B$2:$G$2,0),FALSE),\"\"),\"\")","v":""},{"$f":"IF(U21=\"\",\"\",VLOOKUP(U21,Lookup!$L$2:$M$6,2,FALSE))","v":""},{"$f":"IF(AND(C21=\"External\",I21=120),VLOOKUP(K21,Points!$M$2:$N$35,MATCH(\"120 GLH Grade\",Points!$M$2:$N$2,0),FALSE),\"No\")","v":"No"},{"$f":"IF(W21=\"\",\"\",VLOOKUP(W21,Lookup!$L$1:$M$6,2,FALSE))","v":0},{"$f":"IF(AND(C21=\"External\",I21=90),VLOOKUP(K21,Points!$J$2:$K$27,MATCH(\"90 GLH Grade\",Points!$J$2:$K$2,0),FALSE),\"No\")","v":"No"},{"$f":"IF(Y21=\"\",\"\",VLOOKUP(Y21,Lookup!$L$1:$M$6,2,FALSE))","v":0}]
[null,"Mandatory",{"$f":"IFERROR(INDEX('Extended Diploma Data Sheet'!$G$3:$K$499,SMALL(IF('Extended Diploma Data Sheet'!$G$3:$G$499=$E$3,ROW('Extended Diploma Data Sheet'!$G$3:$G$499)),ROW(2:2))-2,5),\"\")","v":0},{"$f":"IFERROR(INDEX('Extended Diploma Data Sheet'!$G$3:$K$499,SMALL(IF('Extended Diploma Data Sheet'!$G$3:$G$499=$E$3,ROW('Extended Diploma Data Sheet'!$G$3:$G$499)),ROW(2:2))-2,2),\"\")","v":0},{"$f":"IFERROR(INDEX('Extended Diploma Data Sheet'!$G$3:$K$499,SMALL(IF('Extended Diploma Data Sheet'!$G$3:$G$499=$E$3,ROW('Extended Diploma Data Sheet'!$G$3:$G$499)),ROW(2:2))-2,3),\"\")","v":0},null,null,null,{"$f":"IFERROR(INDEX('Extended Diploma Data Sheet'!$G$3:$K$499,SMALL(IF('Extended Diploma Data Sheet'!$G$3:$G$499=$E$3,ROW('Extended Diploma Data Sheet'!$G$3:$G$499)),ROW(2:2))-2,4),\"\")","v":0},null,{"$f":"IFERROR(IF(C22=\"External\",VLOOKUP(J22,Points!$I$2:$M$36,MATCH(C22&\" \"&I22&\" GLH\",Points!$I$2:$M$2,0),FALSE),VLOOKUP(J22,Points!$A$2:$C$6,MATCH(C22&\" \"&I22&\" GLH\",Points!$A$2:$C$2,0),FALSE)),\"\")","v":""},{"$f":"IF(E22=\"\",\"\",VLOOKUP(SUM(R22,T22,V22,X22,Z22),Lookup!$M$1:$N$6,2,FALSE))","v":"U"},null,null,{"$f":"IFERROR(IF(AND(C22=\"Internal\",I22=150),VLOOKUP(K22,Points!$E$2:$G$6,MATCH(\"Internal Grade\",Points!$E$2:$G$2,0),FALSE),\"\"),\"\")","v":""},{"$f":"IF(O22=\"\",\"\",VLOOKUP(O22,Lookup!$L$2:$M$6,2,FALSE))","v":""},{"$f":"IFERROR(IF(AND(C22=\"Internal\",I22=120),VLOOKUP(K22,Points!$D$2:$G$6,MATCH(\"Internal Grade\",Points!$D$2:$G$2,0),FALSE),\"\"),\"\")","v":""},null,{"$f":"IFERROR(IF(AND(C22=\"Internal\",I22=90),VLOOKUP(K22,Points!$C$2:$G$6,MATCH(\"Internal Grade\",Points!$C$2:$G$2,0),FALSE),\"\"),\"\")","v":""},{"$f":"IF(S22=\"\",\"\",VLOOKUP(S22,Lookup!$L$2:$M$6,2,FALSE))","v":""},{"$f":"IFERROR(IF(AND(C22=\"Internal\",I22=60),VLOOKUP(K22,Points!$B$2:$G$6,MATCH(\"Internal Grade\",Points!$B$2:$G$2,0),FALSE),\"\"),\"\")","v":""},{"$f":"IF(U22=\"\",\"\",VLOOKUP(U22,Lookup!$L$2:$M$6,2,FALSE))","v":""},{"$f":"IF(AND(C22=\"External\",I22=120),VLOOKUP(K22,Points!$M$2:$N$35,MATCH(\"120 GLH Grade\",Points!$M$2:$N$2,0),FALSE),\"No\")","v":"No"},{"$f":"IF(W22=\"\",\"\",VLOOKUP(W22,Lookup!$L$1:$M$6,2,FALSE))","v":0},{"$f":"IF(AND(C22=\"External\",I22=90),VLOOKUP(K22,Points!$J$2:$K$27,MATCH(\"90 GLH Grade\",Points!$J$2:$K$2,0),FALSE),\"No\")","v":"No"},{"$f":"IF(Y22=\"\",\"\",VLOOKUP(Y22,Lookup!$L$1:$M$6,2,FALSE))","v":0}]
[null,"Mandatory",{"$f":"IFERROR(INDEX('Extended Diploma Data Sheet'!$G$3:$K$499,SMALL(IF('Extended Diploma Data Sheet'!$G$3:$G$499=$E$3,ROW('Extended Diploma Data Sheet'!$G$3:$G$499)),ROW(3:3))-2,5),\"\")","v":0},{"$f":"IFERROR(INDEX('Extended Diploma Data Sheet'!$G$3:$K$499,SMALL(IF('Extended Diploma Data Sheet'!$G$3:$G$499=$E$3,ROW('Extended Diploma Data Sheet'!$G$3:$G$499)),ROW(3:3))-2,2),\"\")","v":0},{"$f":"IFERROR(INDEX('Extended Diploma Data Sheet'!$G$3:$K$499,SMALL(IF('Extended Diploma Data Sheet'!$G$3:$G$499=$E$3,ROW('Extended Diploma Data Sheet'!$G$3:$G$499)),ROW(3:3))-2,3),\"\")","v":0},null,null,null,{"$f":"IFERROR(INDEX('Extended Diploma Data Sheet'!$G$3:$K$499,SMALL(IF('Extended Diploma Data Sheet'!$G$3:$G$499=$E$3,ROW('Extended Diploma Data Sheet'!$G$3:$G$499)),ROW(3:3))-2,4),\"\")","v":0},null,{"$f":"IFERROR(IF(C23=\"External\",VLOOKUP(J23,Points!$I$2:$M$36,MATCH(C23&\" \"&I23&\" GLH\",Points!$I$2:$M$2,0),FALSE),VLOOKUP(J23,Points!$A$2:$C$6,MATCH(C23&\" \"&I23&\" GLH\",Points!$A$2:$C$2,0),FALSE)),\"\")","v":""},{"$f":"IF(E23=\"\",\"\",VLOOKUP(SUM(R23,T23,V23,X23,Z23),Lookup!$M$1:$N$6,2,FALSE))","v":"U"},null,null,{"$f":"IFERROR(IF(AND(C23=\"Internal\",I23=150),VLOOKUP(K23,Points!$E$2:$G$6,MATCH(\"Internal Grade\",Points!$E$2:$G$2,0),FALSE),\"\"),\"\")","v":""},{"$f":"IF(O23=\"\",\"\",VLOOKUP(O23,Lookup!$L$2:$M$6,2,FALSE))","v":""},{"$f":"IFERROR(IF(AND(C23=\"Internal\",I23=120),VLOOKUP(K23,Points!$D$2:$G$6,MATCH(\"Internal Grade\",Points!$D$2:$G$2,0),FALSE),\"\"),\"\")","v":""},null,{"$f":"IFERROR(IF(AND(C23=\"Internal\",I23=90),VLOOKUP(K23,Points!$C$2:$G$6,MATCH(\"Internal Grade\",Points!$C$2:$G$2,0),FALSE),\"\"),\"\")","v":""},{"$f":"IF(S23=\"\",\"\",VLOOKUP(S23,Lookup!$L$2:$M$6,2,FALSE))","v":""},{"$f":"IFERROR(IF(AND(C23=\"Internal\",I23=60),VLOOKUP(K23,Points!$B$2:$G$6,MATCH(\"Internal Grade\",Points!$B$2:$G$2,0),FALSE),\"\"),\"\")","v":""},{"$f":"IF(U23=\"\",\"\",VLOOKUP(U23,Lookup!$L$2:$M$6,2,FALSE))","v":""},{"$f":"IF(AND(C23=\"External\",I23=120),VLOOKUP(K23,Points!$M$2:$N$35,MATCH(\"120 GLH Grade\",Points!$M$2:$N$2,0),FALSE),\"No\")","v":"No"},{"$f":"IF(W23=\"\",\"\",VLOOKUP(W23,Lookup!$L$1:$M$6,2,FALSE))","v":0},{"$f":"IF(AND(C23=\"External\",I23=90),VLOOKUP(K23,Points!$J$2:$K$27,MATCH(\"90 GLH Grade\",Points!$J$2:$K$2,0),FALSE),\"No\")","v":"No"},{"$f":"IF(Y23=\"\",\"\",VLOOKUP(Y23,Lookup!$L$1:$M$6,2,FALSE))","v":0}]
[null,"Mandatory",{"$f":"IFERROR(INDEX('Extended Diploma Data Sheet'!$G$3:$K$499,SMALL(IF('Extended Diploma Data Sheet'!$G$3:$G$499=$E$3,ROW('Extended Diploma Data Sheet'!$G$3:$G$499)),ROW(4:4))-2,5),\"\")","v":0},{"$f":"IFERROR(INDEX('Extended Diploma Data Sheet'!$G$3:$K$499,SMALL(IF('Extended Diploma Data Sheet'!$G$3:$G$499=$E$3,ROW('Extended Diploma Data Sheet'!$G$3:$G$499)),ROW(4:4))-2,2),\"\")","v":0},{"$f":"IFERROR(INDEX('Extended Diploma Data Sheet'!$G$3:$K$499,SMALL(IF('Extended Diploma Data Sheet'!$G$3:$G$499=$E$3,ROW('Extended Diploma Data Sheet'!$G$3:$G$499)),ROW(4:4))-2,3),\"\")","v":0},null,null,null,{"$f":"IFERROR(INDEX('Extended Diploma Data Sheet'!$G$3:$K$499,SMALL(IF('Extended Diploma Data Sheet'!$G$3:$G$499=$E$3,ROW('Extended Diploma Data Sheet'!$G$3:$G$499)),ROW(4:4))-2,4),\"\")","v":0},null,{"$f":"IFERROR(IF(C24=\"External\",VLOOKUP(J24,Points!$I$2:$M$36,MATCH(C24&\" \"&I24&\" GLH\",Points!$I$2:$M$2,0),FALSE),VLOOKUP(J24,Points!$A$2:$C$6,MATCH(C24&\" \"&I24&\" GLH\",Points!$A$2:$C$2,0),FALSE)),\"\")","v":""},{"$f":"IF(E24=\"\",\"\",VLOOKUP(SUM(R24,T24,V24,X24,Z24),Lookup!$M$1:$N$6,2,FALSE))","v":"U"},null,null,{"$f":"IFERROR(IF(AND(C24=\"Internal\",I24=150),VLOOKUP(K24,Points!$E$2:$G$6,MATCH(\"Internal Grade\",Points!$E$2:$G$2,0),FALSE),\"\"),\"\")","v":""},{"$f":"IF(O24=\"\",\"\",VLOOKUP(O24,Lookup!$L$2:$M$6,2,FALSE))","v":""},{"$f":"IFERROR(IF(AND(C24=\"Internal\",I24=120),VLOOKUP(K24,Points!$D$2:$G$6,MATCH(\"Internal Grade\",Points!$D$2:$G$2,0),FALSE),\"\"),\"\")","v":""},null,{"$f":"IFERROR(IF(AND(C24=\"Internal\",I24=90),VLOOKUP(K24,Points!$C$2:$G$6,MATCH(\"Internal Grade\",Points!$C$2:$G$2,0),FALSE),\"\"),\"\")","v":""},{"$f":"IF(S24=\"\",\"\",VLOOKUP(S24,Lookup!$L$2:$M$6,2,FALSE))","v":""},{"$f":"IFERROR(IF(AND(C24=\"Internal\",I24=60),VLOOKUP(K24,Points!$B$2:$G$6,MATCH(\"Internal Grade\",Points!$B$2:$G$2,0),FALSE),\"\"),\"\")","v":""},{"$f":"IF(U24=\"\",\"\",VLOOKUP(U24,Lookup!$L$2:$M$6,2,FALSE))","v":""},{"$f":"IF(AND(C24=\"External\",I24=120),VLOOKUP(K24,Points!$M$2:$N$35,MATCH(\"120 GLH Grade\",Points!$M$2:$N$2,0),FALSE),\"No\")","v":"No"},{"$f":"IF(W24=\"\",\"\",VLOOKUP(W24,Lookup!$L$1:$M$6,2,FALSE))","v":0},{"$f":"IF(AND(C24=\"External\",I24=90),VLOOKUP(K24,Points!$J$2:$K$27,MATCH(\"90 GLH Grade\",Points!$J$2:$K$2,0),FALSE),\"No\")","v":"No"},{"$f":"IF(Y24=\"\",\"\",VLOOKUP(Y24,Lookup!$L$1:$M$6,2,FALSE))","v":0}]
[null,"Mandatory",{"$f":"IFERROR(INDEX('Extended Diploma Data Sheet'!$G$3:$K$499,SMALL(IF('Extended Diploma Data Sheet'!$G$3:$G$499=$E$3,ROW('Extended Diploma Data Sheet'!$G$3:$G$499)),ROW(5:5))-2,5),\"\")","v":0},{"$f":"IFERROR(INDEX('Extended Diploma Data Sheet'!$G$3:$K$499,SMALL(IF('Extended Diploma Data Sheet'!$G$3:$G$499=$E$3,ROW('Extended Diploma Data Sheet'!$G$3:$G$499)),ROW(5:5))-2,2),\"\")","v":0},{"$f":"IFERROR(INDEX('Extended Diploma Data Sheet'!$G$3:$K$499,SMALL(IF('Extended Diploma Data Sheet'!$G$3:$G$499=$E$3,ROW('Extended Diploma Data Sheet'!$G$3:$G$499)),ROW(5:5))-2,3),\"\")","v":0},null,null,null,{"$f":"IFERROR(INDEX('Extended Diploma Data Sheet'!$G$3:$K$499,SMALL(IF('Extended Diploma Data Sheet'!$G$3:$G$499=$E$3,ROW('Extended Diploma Data Sheet'!$G$3:$G$499)),ROW(5:5))-2,4),\"\")","v":0},null,{"$f":"IFERROR(IF(C25=\"External\",VLOOKUP(J25,Points!$I$2:$M$36,MATCH(C25&\" \"&I25&\" GLH\",Points!$I$2:$M$2,0),FALSE),VLOOKUP(J25,Points!$A$2:$C$6,MATCH(C25&\" \"&I25&\" GLH\",Points!$A$2:$C$2,0),FALSE)),\"\")","v":""},{"$f":"IF(E25=\"\",\"\",VLOOKUP(SUM(R25,T25,V25,X25,Z25),Lookup!$M$1:$N$6,2,FALSE))","v":"U"},null,null,{"$f":"IFERROR(IF(AND(C25=\"Internal\",I25=150),VLOOKUP(K25,Points!$E$2:$G$6,MATCH(\"Internal Grade\",Points!$E$2:$G$2,0),FALSE),\"\"),\"\")","v":""},{"$f":"IF(O25=\"\",\"\",VLOOKUP(O25,Lookup!$L$2:$M$6,2,FALSE))","v":""},{"$f":"IFERROR(IF(AND(C25=\"Internal\",I25=120),VLOOKUP(K25,Points!$D$2:$G$6,MATCH(\"Internal Grade\",Points!$D$2:$G$2,0),FALSE),\"\"),\"\")","v":""},null,{"$f":"IFERROR(IF(AND(C25=\"Internal\",I25=90),VLOOKUP(K25,Points!$C$2:$G$6,MATCH(\"Internal Grade\",Points!$C$2:$G$2,0),FALSE),\"\"),\"\")","v":""},{"$f":"IF(S25=\"\",\"\",VLOOKUP(S25,Lookup!$L$2:$M$6,2,FALSE))","v":""},{"$f":"IFERROR(IF(AND(C25=\"Internal\",I25=60),VLOOKUP(K25,Points!$B$2:$G$6,MATCH(\"Internal Grade\",Points!$B$2:$G$2,0),FALSE),\"\"),\"\")","v":""},{"$f":"IF(U25=\"\",\"\",VLOOKUP(U25,Lookup!$L$2:$M$6,2,FALSE))","v":""},{"$f":"IF(AND(C25=\"External\",I25=120),VLOOKUP(K25,Points!$M$2:$N$35,MATCH(\"120 GLH Grade\",Points!$M$2:$N$2,0),FALSE),\"No\")","v":"No"},{"$f":"IF(W25=\"\",\"\",VLOOKUP(W25,Lookup!$L$1:$M$6,2,FALSE))","v":0},{"$f":"IF(AND(C25=\"External\",I25=90),VLOOKUP(K25,Points!$J$2:$K$27,MATCH(\"90 GLH Grade\",Points!$J$2:$K$2,0),FALSE),\"No\")","v":"No"},{"$f":"IF(Y25=\"\",\"\",VLOOKUP(Y25,Lookup!$L$1:$M$6,2,FALSE))","v":0}]
[null,"Mandatory",{"$f":"IFERROR(INDEX('Extended Diploma Data Sheet'!$G$3:$K$499,SMALL(IF('Extended Diploma Data Sheet'!$G$3:$G$499=$E$3,ROW('Extended Diploma Data Sheet'!$G$3:$G$499)),ROW(6:6))-2,5),\"\")","v":0},{"$f":"IFERROR(INDEX('Extended Diploma Data Sheet'!$G$3:$K$499,SMALL(IF('Extended Diploma Data Sheet'!$G$3:$G$499=$E$3,ROW('Extended Diploma Data Sheet'!$G$3:$G$499)),ROW(6:6))-2,2),\"\")","v":0},{"$f":"IFERROR(INDEX('Extended Diploma Data Sheet'!$G$3:$K$499,SMALL(IF('Extended Diploma Data Sheet'!$G$3:$G$499=$E$3,ROW('Extended Diploma Data Sheet'!$G$3:$G$499)),ROW(6:6))-2,3),\"\")","v":0},null,null,null,{"$f":"IFERROR(INDEX('Extended Diploma Data Sheet'!$G$3:$K$499,SMALL(IF('Extended Diploma Data Sheet'!$G$3:$G$499=$E$3,ROW('Extended Diploma Data Sheet'!$G$3:$G$499)),ROW(6:6))-2,4),\"\")","v":0},null,{"$f":"IFERROR(IF(C26=\"External\",VLOOKUP(J26,Points!$I$2:$M$36,MATCH(C26&\" \"&I26&\" GLH\",Points!$I$2:$M$2,0),FALSE),VLOOKUP(J26,Points!$A$2:$C$6,MATCH(C26&\" \"&I26&\" GLH\",Points!$A$2:$C$2,0),FALSE)),\"\")","v":""},{"$f":"IF(E26=\"\",\"\",VLOOKUP(SUM(R26,T26,V26,X26,Z26),Lookup!$M$1:$N$6,2,FALSE))","v":"U"},null,null,{"$f":"IFERROR(IF(AND(C26=\"Internal\",I26=150),VLOOKUP(K26,Points!$E$2:$G$6,MATCH(\"Internal Grade\",Points!$E$2:$G$2,0),FALSE),\"\"),\"\")","v":""},{"$f":"IF(O26=\"\",\"\",VLOOKUP(O26,Lookup!$L$2:$M$6,2,FALSE))","v":""},{"$f":"IFERROR(IF(AND(C26=\"Internal\",I26=120),VLOOKUP(K26,Points!$D$2:$G$6,MATCH(\"Internal Grade\",Points!$D$2:$G$2,0),FALSE),\"\"),\"\")","v":""},null,{"$f":"IFERROR(IF(AND(C26=\"Internal\",I26=90),VLOOKUP(K26,Points!$C$2:$G$6,MATCH(\"Internal Grade\",Points!$C$2:$G$2,0),FALSE),\"\"),\"\")","v":""},{"$f":"IF(S26=\"\",\"\",VLOOKUP(S26,Lookup!$L$2:$M$6,2,FALSE))","v":""},{"$f":"IFERROR(IF(AND(C26=\"Internal\",I26=60),VLOOKUP(K26,Points!$B$2:$G$6,MATCH(\"Internal Grade\",Points!$B$2:$G$2,0),FALSE),\"\"),\"\")","v":""},{"$f":"IF(U26=\"\",\"\",VLOOKUP(U26,Lookup!$L$2:$M$6,2,FALSE))","v":""},{"$f":"IF(AND(C26=\"External\",I26=120),VLOOKUP(K26,Points!$M$2:$N$35,MATCH(\"120 GLH Grade\",Points!$M$2:$N$2,0),FALSE),\"No\")","v":"No"},{"$f":"IF(W26=\"\",\"\",VLOOKUP(W26,Lookup!$L$1:$M$6,2,FALSE))","v":0},{"$f":"IF(AND(C26=\"External\",I26=90),VLOOKUP(K26,Points!$J$2:$K$27,MATCH(\"90 GLH Grade\",Points!$J$2:$K$2,0),FALSE),\"No\")","v":"No"},{"$f":"IF(Y26=\"\",\"\",VLOOKUP(Y26,Lookup!$L$1:$M$6,2,FALSE))","v":0}]
[null,null,{"$f":"IFERROR(INDEX('Extended Diploma Data Sheet'!$A$3:$E$59,SMALL(IF('Extended Diploma Data Sheet'!$A$3:$A$59=$E$3,ROW('Extended Diploma Data Sheet'!$A$3:$A$59)),ROW(19:19))-2,5),\"\")","v":""},null,"2. Select optional units from the dropdown lists below"]
[]
[null,"Optional",{"$f":"IFERROR(INDEX('Extended Diploma Data Sheet'!$R$3:$R$999,MATCH('Extended Diploma'!E29&$E$3,'Extended Diploma Data Sheet'!$M$3:$M$999&'Extended Diploma Data Sheet'!$N$3:$N$999,0)),\"\")","v":0},{"$f":"IFERROR(INDEX('Extended Diploma Data Sheet'!$O$3:$O$999,MATCH('Extended Diploma'!E29&$E$3,'Extended Diploma Data Sheet'!$M$3:$M$999&'Extended Diploma Data Sheet'!$N$3:$N$999,0)),\"\")","v":0},null,null,null,null,{"$f":"IFERROR(INDEX('Extended Diploma Data Sheet'!$Q$3:$Q$999,MATCH('Extended Diploma'!E29&$E$3,'Extended Diploma Data Sheet'!$M$3:$M$999&'Extended Diploma Data Sheet'!$N$3:$N$999,0)),\"\")","v":0},null,{"$f":"IFERROR(IF(C29=\"Internal\",VLOOKUP(J29,Points!$A$2:$G$6,MATCH(C29&\" \"&I29&\" GLH\",Points!$A$2:$G$2,0),FALSE),\"\"),\"\")","v":""},{"$f":"IF(E29=\"\",\"\",VLOOKUP(SUM(P29,N29,R29,T29,V29,X29,Z29),Lookup!$M$1:$N$6,2,FALSE))","v":""},{"$f":"IFERROR(IF(AND(C29=\"Internal\",I29=180),VLOOKUP(K29,Points!$F$2:$G$6,MATCH(\"Internal Grade\",Points!$F$2:$G$2,0),FALSE),\"\"),\"\")","v":""},{"$f":"IF(M29=\"\",\"\",VLOOKUP(M29,Lookup!$L$2:$M$6,2,FALSE))","v":""},null,null,{"$f":"IFERROR(IF(AND(C29=\"Internal\",I29=120),VLOOKUP(K29,Points!$C$2:$G$6,MATCH(\"Internal Grade\",Points!$C$2:$G$2,0),FALSE),\"\"),\"\")","v":""},{"$f":"IF(Q29=\"\",\"\",VLOOKUP(Q29,Lookup!$L$2:$M$6,2,FALSE))","v":""},{"$f":"IFERROR(IF(AND(C29=\"Internal\",I29=90),VLOOKUP(K29,Points!$C$2:$G$6,MATCH(\"Internal Grade\",Points!$C$2:$G$2,0),FALSE),\"\"),\"\")","v":""},{"$f":"IF(S29=\"\",\"\",VLOOKUP(S29,Lookup!$L$2:$M$6,2,FALSE))","v":""},{"$f":"IFERROR(IF(AND(C29=\"Internal\",I29=60),VLOOKUP(K29,Points!$B$2:$G$6,MATCH(\"Internal Grade\",Points!$B$2:$G$2,0),FALSE),\"\"),\"\")","v":""},{"$f":"IF(U29=\"\",\"\",VLOOKUP(U29,Lookup!$L$2:$M$6,2,FALSE))","v":""},{"$f":"IF(AND(C29=\"External\",I29=120),VLOOKUP(K29,Points!$M$2:$N$35,MATCH(\"120 GLH Grade\",Points!$M$2:$N$2,0),FALSE),\"No\")","v":"No"},{"$f":"IF(W29=\"\",\"\",VLOOKUP(W29,Lookup!$L$1:$M$6,2,FALSE))","v":0},{"$f":"IF(AND(C29=\"External\",I29=90),VLOOKUP(K29,Points!$J$2:$K$27,MATCH(\"90 GLH Grade\",Points!$J$2:$K$2,0),FALSE),\"No\")","v":"No"},{"$f":"IF(Y29=\"\",\"\",VLOOKUP(Y29,Lookup!$L$1:$M$6,2,FALSE))","v":0}]
[null,"Optional",{"$f":"IFERROR(INDEX('Extended Diploma Data Sheet'!$R$3:$R$999,MATCH('Extended Diploma'!E30&$E$3,'Extended Diploma Data Sheet'!$M$3:$M$999&'Extended Diploma Data Sheet'!$N$3:$N$999,0)),\"\")","v":0},{"$f":"IFERROR(INDEX('Extended Diploma Data Sheet'!$O$3:$O$999,MATCH('Extended Diploma'!E30&$E$3,'Extended Diploma Data Sheet'!$M$3:$M$999&'Extended Diploma Data Sheet'!$N$3:$N$999,0)),\"\")","v":0},null,null,null,null,{"$f":"IFERROR(INDEX('Extended Diploma Data Sheet'!$Q$3:$Q$999,MATCH('Extended Diploma'!E30&$E$3,'Extended Diploma Data Sheet'!$M$3:$M$999&'Extended Diploma Data Sheet'!$N$3:$N$999,0)),\"\")","v":0},null,{"$f":"IFERROR(IF(C30=\"Internal\",VLOOKUP(J30,Points!$A$2:$G$6,MATCH(C30&\" \"&I30&\" GLH\",Points!$A$2:$G$2,0),FALSE),\"\"),\"\")","v":""},{"$f":"IF(E30=\"\",\"\",VLOOKUP(SUM(P30,N30,R30,T30,V30,X30,Z30),Lookup!$M$1:$N$6,2,FALSE))","v":""},{"$f":"IFERROR(IF(AND(C30=\"Internal\",I30=180),VLOOKUP(K30,Points!$F$2:$G$6,MATCH(\"Internal Grade\",Points!$F$2:$G$2,0),FALSE),\"\"),\"\")","v":""},{"$f":"IF(M30=\"\",\"\",VLOOKUP(M30,Lookup!$L$2:$M$6,2,FALSE))","v":""},null,null,{"$f":"IFERROR(IF(AND(C30=\"Internal\",I30=120),VLOOKUP(K30,Points!$C$2:$G$6,MATCH(\"Internal Grade\",Points!$C$2:$G$2,0),FALSE),\"\"),\"\")","v":""},{"$f":"IF(Q30=\"\",\"\",VLOOKUP(Q30,Lookup!$L$2:$M$6,2,FALSE))","v":""},{"$f":"IFERROR(IF(AND(C30=\"Internal\",I30=90),VLOOKUP(K30,Points!$C$2:$G$6,MATCH(\"Internal Grade\",Points!$C$2:$G$2,0),FALSE),\"\"),\"\")","v":""},{"$f":"IF(S30=\"\",\"\",VLOOKUP(S30,Lookup!$L$2:$M$6,2,FALSE))","v":""},{"$f":"IFERROR(IF(AND(C30=\"Internal\",I30=60),VLOOKUP(K30,Points!$B$2:$G$6,MATCH(\"Internal Grade\",Points!$B$2:$G$2,0),FALSE),\"\"),\"\")","v":""},{"$f":"IF(U30=\"\",\"\",VLOOKUP(U30,Lookup!$L$2:$M$6,2,FALSE))","v":""},{"$f":"IF(AND(C30=\"External\",I30=120),VLOOKUP(K30,Points!$M$2:$N$35,MATCH(\"120 GLH Grade\",Points!$M$2:$N$2,0),FALSE),\"No\")","v":"No"},{"$f":"IF(W30=\"\",\"\",VLOOKUP(W30,Lookup!$L$1:$M$6,2,FALSE))","v":0},{"$f":"IF(AND(C30=\"External\",I30=90),VLOOKUP(K30,Points!$J$2:$K$27,MATCH(\"90 GLH Grade\",Points!$J$2:$K$2,0),FALSE),\"No\")","v":"No"},{"$f":"IF(Y30=\"\",\"\",VLOOKUP(Y30,Lookup!$L$1:$M$6,2,FALSE))","v":0}]
[null,"Optional",{"$f":"IFERROR(INDEX('Extended Diploma Data Sheet'!$R$3:$R$999,MATCH('Extended Diploma'!E31&$E$3,'Extended Diploma Data Sheet'!$M$3:$M$999&'Extended Diploma Data Sheet'!$N$3:$N$999,0)),\"\")","v":0},{"$f":"IFERROR(INDEX('Extended Diploma Data Sheet'!$O$3:$O$999,MATCH('Extended Diploma'!E31&$E$3,'Extended Diploma Data Sheet'!$M$3:$M$999&'Extended Diploma Data Sheet'!$N$3:$N$999,0)),\"\")","v":0},null,null,null,null,{"$f":"IFERROR(INDEX('Extended Diploma Data Sheet'!$Q$3:$Q$999,MATCH('Extended Diploma'!E31&$E$3,'Extended Diploma Data Sheet'!$M$3:$M$999&'Extended Diploma Data Sheet'!$N$3:$N$999,0)),\"\")","v":0},null,{"$f":"IFERROR(IF(C31=\"Internal\",VLOOKUP(J31,Points!$A$2:$G$6,MATCH(C31&\" \"&I31&\" GLH\",Points!$A$2:$G$2,0),FALSE),\"\"),\"\")","v":""},{"$f":"IF(E31=\"\",\"\",VLOOKUP(SUM(P31,N31,R31,T31,V31,X31,Z31),Lookup!$M$1:$N$6,2,FALSE))","v":""},{"$f":"IFERROR(IF(AND(C31=\"Internal\",I31=180),VLOOKUP(K31,Points!$F$2:$G$6,MATCH(\"Internal Grade\",Points!$F$2:$G$2,0),FALSE),\"\"),\"\")","v":""},{"$f":"IF(M31=\"\",\"\",VLOOKUP(M31,Lookup!$L$2:$M$6,2,FALSE))","v":""},null,null,{"$f":"IFERROR(IF(AND(C31=\"Internal\",I31=120),VLOOKUP(K31,Points!$C$2:$G$6,MATCH(\"Internal Grade\",Points!$C$2:$G$2,0),FALSE),\"\"),\"\")","v":""},{"$f":"IF(Q31=\"\",\"\",VLOOKUP(Q31,Lookup!$L$2:$M$6,2,FALSE))","v":""},{"$f":"IFERROR(IF(AND(C31=\"Internal\",I31=90),VLOOKUP(K31,Points!$C$2:$G$6,MATCH(\"Internal Grade\",Points!$C$2:$G$2,0),FALSE),\"\"),\"\")","v":""},{"$f":"IF(S31=\"\",\"\",VLOOKUP(S31,Lookup!$L$2:$M$6,2,FALSE))","v":""},{"$f":"IFERROR(IF(AND(C31=\"Internal\",I31=60),VLOOKUP(K31,Points!$B$2:$G$6,MATCH(\"Internal Grade\",Points!$B$2:$G$2,0),FALSE),\"\"),\"\")","v":""},{"$f":"IF(U31=\"\",\"\",VLOOKUP(U31,Lookup!$L$2:$M$6,2,FALSE))","v":""},{"$f":"IF(AND(C31=\"External\",I31=120),VLOOKUP(K31,Points!$M$2:$N$35,MATCH(\"120 GLH Grade\",Points!$M$2:$N$2,0),FALSE),\"No\")","v":"No"},{"$f":"IF(W31=\"\",\"\",VLOOKUP(W31,Lookup!$L$1:$M$6,2,FALSE))","v":0},{"$f":"IF(AND(C31=\"External\",I31=90),VLOOKUP(K31,Points!$J$2:$K$27,MATCH(\"90 GLH Grade\",Points!$J$2:$K$2,0),FALSE),\"No\")","v":"No"},{"$f":"IF(Y31=\"\",\"\",VLOOKUP(Y31,Lookup!$L$1:$M$6,2,FALSE))","v":0}]
[null,"Optional",{"$f":"IFERROR(INDEX('Extended Diploma Data Sheet'!$R$3:$R$999,MATCH('Extended Diploma'!E32&$E$3,'Extended Diploma Data Sheet'!$M$3:$M$999&'Extended Diploma Data Sheet'!$N$3:$N$999,0)),\"\")","v":0},{"$f":"IFERROR(INDEX('Extended Diploma Data Sheet'!$O$3:$O$999,MATCH('Extended Diploma'!E32&$E$3,'Extended Diploma Data Sheet'!$M$3:$M$999&'Extended Diploma Data Sheet'!$N$3:$N$999,0)),\"\")","v":0},null,null,null,null,{"$f":"IFERROR(INDEX('Extended Diploma Data Sheet'!$Q$3:$Q$999,MATCH('Extended Diploma'!E32&$E$3,'Extended Diploma Data Sheet'!$M$3:$M$999&'Extended Diploma Data Sheet'!$N$3:$N$999,0)),\"\")","v":0},null,{"$f":"IFERROR(IF(C32=\"Internal\",VLOOKUP(J32,Points!$A$2:$G$6,MATCH(C32&\" \"&I32&\" GLH\",Points!$A$2:$G$2,0),FALSE),\"\"),\"\")","v":""},{"$f":"IF(E32=\"\",\"\",VLOOKUP(SUM(P32,N32,R32,T32,V32,X32,Z32),Lookup!$M$1:$N$6,2,FALSE))","v":""},{"$f":"IFERROR(IF(AND(C32=\"Internal\",I32=180),VLOOKUP(K32,Points!$F$2:$G$6,MATCH(\"Internal Grade\",Points!$F$2:$G$2,0),FALSE),\"\"),\"\")","v":""},{"$f":"IF(M32=\"\",\"\",VLOOKUP(M32,Lookup!$L$2:$M$6,2,FALSE))","v":""},null,null,{"$f":"IFERROR(IF(AND(C32=\"Internal\",I32=120),VLOOKUP(K32,Points!$C$2:$G$6,MATCH(\"Internal Grade\",Points!$C$2:$G$2,0),FALSE),\"\"),\"\")","v":""},{"$f":"IF(Q32=\"\",\"\",VLOOKUP(Q32,Lookup!$L$2:$M$6,2,FALSE))","v":""},{"$f":"IFERROR(IF(AND(C32=\"Internal\",I32=90),VLOOKUP(K32,Points!$C$2:$G$6,MATCH(\"Internal Grade\",Points!$C$2:$G$2,0),FALSE),\"\"),\"\")","v":""},{"$f":"IF(S32=\"\",\"\",VLOOKUP(S32,Lookup!$L$2:$M$6,2,FALSE))","v":""},{"$f":"IFERROR(IF(AND(C32=\"Internal\",I32=60),VLOOKUP(K32,Points!$B$2:$G$6,MATCH(\"Internal Grade\",Points!$B$2:$G$2,0),FALSE),\"\"),\"\")","v":""},{"$f":"IF(U32=\"\",\"\",VLOOKUP(U32,Lookup!$L$2:$M$6,2,FALSE))","v":""},{"$f":"IF(AND(C32=\"External\",I32=120),VLOOKUP(K32,Points!$M$2:$N$35,MATCH(\"120 GLH Grade\",Points!$M$2:$N$2,0),FALSE),\"No\")","v":"No"},{"$f":"IF(W32=\"\",\"\",VLOOKUP(W32,Lookup!$L$1:$M$6,2,FALSE))","v":0},{"$f":"IF(AND(C32=\"External\",I32=90),VLOOKUP(K32,Points!$J$2:$K$27,MATCH(\"90 GLH Grade\",Points!$J$2:$K$2,0),FALSE),\"No\")","v":"No"},{"$f":"IF(Y32=\"\",\"\",VLOOKUP(Y32,Lookup!$L$1:$M$6,2,FALSE))","v":0}]
[null,"Optional",{"$f":"IFERROR(INDEX('Extended Diploma Data Sheet'!$R$3:$R$999,MATCH('Extended Diploma'!E33&$E$3,'Extended Diploma Data Sheet'!$M$3:$M$999&'Extended Diploma Data Sheet'!$N$3:$N$999,0)),\"\")","v":0},{"$f":"IFERROR(INDEX('Extended Diploma Data Sheet'!$O$3:$O$999,MATCH('Extended Diploma'!E33&$E$3,'Extended Diploma Data Sheet'!$M$3:$M$999&'Extended Diploma Data Sheet'!$N$3:$N$999,0)),\"\")","v":0},null,null,null,null,{"$f":"IFERROR(INDEX('Extended Diploma Data Sheet'!$Q$3:$Q$999,MATCH('Extended Diploma'!E33&$E$3,'Extended Diploma Data Sheet'!$M$3:$M$999&'Extended Diploma Data Sheet'!$N$3:$N$999,0)),\"\")","v":0},null,{"$f":"IFERROR(IF(C33=\"Internal\",VLOOKUP(J33,Points!$A$2:$G$6,MATCH(C33&\" \"&I33&\" GLH\",Points!$A$2:$G$2,0),FALSE),\"\"),\"\")","v":""},{"$f":"IF(E33=\"\",\"\",VLOOKUP(SUM(P33,N33,R33,T33,V33,X33,Z33),Lookup!$M$1:$N$6,2,FALSE))","v":""},{"$f":"IFERROR(IF(AND(C33=\"Internal\",I33=180),VLOOKUP(K33,Points!$F$2:$G$6,MATCH(\"Internal Grade\",Points!$F$2:$G$2,0),FALSE),\"\"),\"\")","v":""},{"$f":"IF(M33=\"\",\"\",VLOOKUP(M33,Lookup!$L$2:$M$6,2,FALSE))","v":""},null,null,{"$f":"IFERROR(IF(AND(C33=\"Internal\",I33=120),VLOOKUP(K33,Points!$C$2:$G$6,MATCH(\"Internal Grade\",Points!$C$2:$G$2,0),FALSE),\"\"),\"\")","v":""},{"$f":"IF(Q33=\"\",\"\",VLOOKUP(Q33,Lookup!$L$2:$M$6,2,FALSE))","v":""},{"$f":"IFERROR(IF(AND(C33=\"Internal\",I33=90),VLOOKUP(K33,Points!$C$2:$G$6,MATCH(\"Internal Grade\",Points!$C$2:$G$2,0),FALSE),\"\"),\"\")","v":""},{"$f":"IF(S33=\"\",\"\",VLOOKUP(S33,Lookup!$L$2:$M$6,2,FALSE))","v":""},{"$f":"IFERROR(IF(AND(C33=\"Internal\",I33=60),VLOOKUP(K33,Points!$B$2:$G$6,MATCH(\"Internal Grade\",Points!$B$2:$G$2,0),FALSE),\"\"),\"\")","v":""},{"$f":"IF(U33=\"\",\"\",VLOOKUP(U33,Lookup!$L$2:$M$6,2,FALSE))","v":""},{"$f":"IF(AND(C33=\"External\",I33=120),VLOOKUP(K33,Points!$M$2:$N$35,MATCH(\"120 GLH Grade\",Points!$M$2:$N$2,0),FALSE),\"No\")","v":"No"},{"$f":"IF(W33=\"\",\"\",VLOOKUP(W33,Lookup!$L$1:$M$6,2,FALSE))","v":0},{"$f":"IF(AND(C33=\"External\",I33=90),VLOOKUP(K33,Points!$J$2:$K$27,MATCH(\"90 GLH Grade\",Points!$J$2:$K$2,0),FALSE),\"No\")","v":"No"},{"$f":"IF(Y33=\"\",\"\",VLOOKUP(Y33,Lookup!$L$1:$M$6,2,FALSE))","v":0}]
[null,"Optional",{"$f":"IFERROR(INDEX('Extended Diploma Data Sheet'!$R$3:$R$999,MATCH('Extended Diploma'!E34&$E$3,'Extended Diploma Data Sheet'!$M$3:$M$999&'Extended Diploma Data Sheet'!$N$3:$N$999,0)),\"\")","v":0},{"$f":"IFERROR(INDEX('Extended Diploma Data Sheet'!$O$3:$O$999,MATCH('Extended Diploma'!E34&$E$3,'Extended Diploma Data Sheet'!$M$3:$M$999&'Extended Diploma Data Sheet'!$N$3:$N$999,0)),\"\")","v":0},null,null,null,null,{"$f":"IFERROR(INDEX('Extended Diploma Data Sheet'!$Q$3:$Q$999,MATCH('Extended Diploma'!E34&$E$3,'Extended Diploma Data Sheet'!$M$3:$M$999&'Extended Diploma Data Sheet'!$N$3:$N$999,0)),\"\")","v":0},null,{"$f":"IFERROR(IF(C34=\"Internal\",VLOOKUP(J34,Points!$A$2:$G$6,MATCH(C34&\" \"&I34&\" GLH\",Points!$A$2:$G$2,0),FALSE),\"\"),\"\")","v":""},{"$f":"IF(E34=\"\",\"\",VLOOKUP(SUM(P34,N34,R34,T34,V34,X34,Z34),Lookup!$M$1:$N$6,2,FALSE))","v":""},{"$f":"IFERROR(IF(AND(C34=\"Internal\",I34=180),VLOOKUP(K34,Points!$F$2:$G$6,MATCH(\"Internal Grade\",Points!$F$2:$G$2,0),FALSE),\"\"),\"\")","v":""},{"$f":"IF(M34=\"\",\"\",VLOOKUP(M34,Lookup!$L$2:$M$6,2,FALSE))","v":""},null,null,{"$f":"IFERROR(IF(AND(C34=\"Internal\",I34=120),VLOOKUP(K34,Points!$C$2:$G$6,MATCH(\"Internal Grade\",Points!$C$2:$G$2,0),FALSE),\"\"),\"\")","v":""},{"$f":"IF(Q34=\"\",\"\",VLOOKUP(Q34,Lookup!$L$2:$M$6,2,FALSE))","v":""},{"$f":"IFERROR(IF(AND(C34=\"Internal\",I34=90),VLOOKUP(K34,Points!$C$2:$G$6,MATCH(\"Internal Grade\",Points!$C$2:$G$2,0),FALSE),\"\"),\"\")","v":""},{"$f":"IF(S34=\"\",\"\",VLOOKUP(S34,Lookup!$L$2:$M$6,2,FALSE))","v":""},{"$f":"IFERROR(IF(AND(C34=\"Internal\",I34=60),VLOOKUP(K34,Points!$B$2:$G$6,MATCH(\"Internal Grade\",Points!$B$2:$G$2,0),FALSE),\"\"),\"\")","v":""},{"$f":"IF(U34=\"\",\"\",VLOOKUP(U34,Lookup!$L$2:$M$6,2,FALSE))","v":""},{"$f":"IF(AND(C34=\"External\",I34=120),VLOOKUP(K34,Points!$M$2:$N$35,MATCH(\"120 GLH Grade\",Points!$M$2:$N$2,0),FALSE),\"No\")","v":"No"},{"$f":"IF(W34=\"\",\"\",VLOOKUP(W34,Lookup!$L$1:$M$6,2,FALSE))","v":0},{"$f":"IF(AND(C34=\"External\",I34=90),VLOOKUP(K34,Points!$J$2:$K$27,MATCH(\"90 GLH Grade\",Points!$J$2:$K$2,0),FALSE),\"No\")","v":"No"},{"$f":"IF(Y34=\"\",\"\",VLOOKUP(Y34,Lookup!$L$1:$M$6,2,FALSE))","v":0}]
[null,null,null,null,null,null,null,null,{"$f":"SUM(I29:I34)","v":0}]
[]
[null,"Optional",{"$f":"IFERROR(INDEX('Extended Diploma Data Sheet'!$Y$3:$Y$999,MATCH('Extended Diploma'!E37&$E$3,'Extended Diploma Data Sheet'!$T$3:$T$999&'Extended Diploma Data Sheet'!$U$3:$U$999,0)),\"\")","v":0},{"$f":"IFERROR(INDEX('Extended Diploma Data Sheet'!$V$3:$V$999,MATCH('Extended Diploma'!E37&$E$3,'Extended Diploma Data Sheet'!$T$3:$T$999&'Extended Diploma Data Sheet'!$U$3:$U$999,0)),\"\")","v":0},null,null,null,null,{"$f":"IFERROR(INDEX('Extended Diploma Data Sheet'!$X$3:$X$999,MATCH('Extended Diploma'!E37&$E$3,'Extended Diploma Data Sheet'!$T$3:$T$999&'Extended Diploma Data Sheet'!$U$3:$U$999,0)),\"\")","v":0},null,{"$f":"IFERROR(IF(C37=\"Internal\",VLOOKUP(J37,Points!$A$2:$C$6,MATCH(C37&\" \"&I37&\" GLH\",Points!$A$2:$C$2,0),FALSE),\"\"),\"\")","v":""},{"$f":"IF(E37=\"\",\"\",VLOOKUP(SUM(R37,T37,V37,X37,Z37),Lookup!$M$1:$N$6,2,FALSE))","v":""},null,null,null,null,null,{"$f":"IF(Q37=\"\",\"\",VLOOKUP(Q37,Lookup!$L$2:$M$6,2,FALSE))","v":""},{"$f":"IFERROR(IF(AND(C37=\"Internal\",I37=90),VLOOKUP(K37,Points!$C$2:$G$6,MATCH(\"Internal Grade\",Points!$C$2:$G$2,0),FALSE),\"\"),\"\")","v":""},{"$f":"IF(S37=\"\",\"\",VLOOKUP(S37,Lookup!$L$2:$M$6,2,FALSE))","v":""},{"$f":"IFERROR(IF(AND(C37=\"Internal\",I37=60),VLOOKUP(K37,Points!$B$2:$G$6,MATCH(\"Internal Grade\",Points!$B$2:$G$2,0),FALSE),\"\"),\"\")","v":""},{"$f":"IF(U37=\"\",\"\",VLOOKUP(U37,Lookup!$L$2:$M$6,2,FALSE))","v":""},{"$f":"IF(AND(C37=\"External\",I37=120),VLOOKUP(K37,Points!$M$2:$N$35,MATCH(\"120 GLH Grade\",Points!$M$2:$N$2,0),FALSE),\"No\")","v":"No"},{"$f":"IF(W37=\"\",\"\",VLOOKUP(W37,Lookup!$L$1:$M$6,2,FALSE))","v":0},{"$f":"IF(AND(C37=\"External\",I37=90),VLOOKUP(K37,Points!$J$2:$K$27,MATCH(\"90 GLH Grade\",Points!$J$2:$K$2,0),FALSE),\"No\")","v":"No"},{"$f":"IF(Y37=\"\",\"\",VLOOKUP(Y37,Lookup!$L$1:$M$6,2,FALSE))","v":0}]
[null,"Optional",{"$f":"IFERROR(INDEX('Extended Diploma Data Sheet'!$Y$3:$Y$999,MATCH('Extended Diploma'!E38&$E$3,'Extended Diploma Data Sheet'!$T$3:$T$999&'Extended Diploma Data Sheet'!$U$3:$U$999,0)),\"\")","v":0},{"$f":"IFERROR(INDEX('Extended Diploma Data Sheet'!$V$3:$V$999,MATCH('Extended Diploma'!E38&$E$3,'Extended Diploma Data Sheet'!$T$3:$T$999&'Extended Diploma Data Sheet'!$U$3:$U$999,0)),\"\")","v":0},null,null,null,null,{"$f":"IFERROR(INDEX('Extended Diploma Data Sheet'!$X$3:$X$999,MATCH('Extended Diploma'!E38&$E$3,'Extended Diploma Data Sheet'!$T$3:$T$999&'Extended Diploma Data Sheet'!$U$3:$U$999,0)),\"\")","v":0},null,{"$f":"IFERROR(IF(C38=\"Internal\",VLOOKUP(J38,Points!$A$2:$C$6,MATCH(C38&\" \"&I38&\" GLH\",Points!$A$2:$C$2,0),FALSE),\"\"),\"\")","v":""},{"$f":"IF(E38=\"\",\"\",VLOOKUP(SUM(R38,T38,V38,X38,Z38),Lookup!$M$1:$N$6,2,FALSE))","v":""},null,null,null,null,null,{"$f":"IF(Q38=\"\",\"\",VLOOKUP(Q38,Lookup!$L$2:$M$6,2,FALSE))","v":""},{"$f":"IFERROR(IF(AND(C38=\"Internal\",I38=90),VLOOKUP(K38,Points!$C$2:$G$6,MATCH(\"Internal Grade\",Points!$C$2:$G$2,0),FALSE),\"\"),\"\")","v":""},{"$f":"IF(S38=\"\",\"\",VLOOKUP(S38,Lookup!$L$2:$M$6,2,FALSE))","v":""},{"$f":"IFERROR(IF(AND(C38=\"Internal\",I38=60),VLOOKUP(K38,Points!$B$2:$G$6,MATCH(\"Internal Grade\",Points!$B$2:$G$2,0),FALSE),\"\"),\"\")","v":""},{"$f":"IF(U38=\"\",\"\",VLOOKUP(U38,Lookup!$L$2:$M$6,2,FALSE))","v":""},{"$f":"IF(AND(C38=\"External\",I38=120),VLOOKUP(K38,Points!$M$2:$N$35,MATCH(\"120 GLH Grade\",Points!$M$2:$N$2,0),FALSE),\"No\")","v":"No"},{"$f":"IF(W38=\"\",\"\",VLOOKUP(W38,Lookup!$L$1:$M$6,2,FALSE))","v":0},{"$f":"IF(AND(C38=\"External\",I38=90),VLOOKUP(K38,Points!$J$2:$K$27,MATCH(\"90 GLH Grade\",Points!$J$2:$K$2,0),FALSE),\"No\")","v":"No"},{"$f":"IF(Y38=\"\",\"\",VLOOKUP(Y38,Lookup!$L$1:$M$6,2,FALSE))","v":0}]
[null,"Optional",{"$f":"IFERROR(INDEX('Extended Diploma Data Sheet'!$Y$3:$Y$999,MATCH('Extended Diploma'!E39&$E$3,'Extended Diploma Data Sheet'!$T$3:$T$999&'Extended Diploma Data Sheet'!$U$3:$U$999,0)),\"\")","v":0},{"$f":"IFERROR(INDEX('Extended Diploma Data Sheet'!$V$3:$V$999,MATCH('Extended Diploma'!E39&$E$3,'Extended Diploma Data Sheet'!$T$3:$T$999&'Extended Diploma Data Sheet'!$U$3:$U$999,0)),\"\")","v":0},null,null,null,null,{"$f":"IFERROR(INDEX('Extended Diploma Data Sheet'!$X$3:$X$999,MATCH('Extended Diploma'!E39&$E$3,'Extended Diploma Data Sheet'!$T$3:$T$999&'Extended Diploma Data Sheet'!$U$3:$U$999,0)),\"\")","v":0},null,{"$f":"IFERROR(IF(C39=\"Internal\",VLOOKUP(J39,Points!$A$2:$C$6,MATCH(C39&\" \"&I39&\" GLH\",Points!$A$2:$C$2,0),FALSE),\"\"),\"\")","v":""},{"$f":"IF(E39=\"\",\"\",VLOOKUP(SUM(R39,T39,V39,X39,Z39),Lookup!$M$1:$N$6,2,FALSE))","v":""},null,null,null,null,null,{"$f":"IF(Q39=\"\",\"\",VLOOKUP(Q39,Lookup!$L$2:$M$6,2,FALSE))","v":""},{"$f":"IFERROR(IF(AND(C39=\"Internal\",I39=90),VLOOKUP(K39,Points!$C$2:$G$6,MATCH(\"Internal Grade\",Points!$C$2:$G$2,0),FALSE),\"\"),\"\")","v":""},{"$f":"IF(S39=\"\",\"\",VLOOKUP(S39,Lookup!$L$2:$M$6,2,FALSE))","v":""},{"$f":"IFERROR(IF(AND(C39=\"Internal\",I39=60),VLOOKUP(K39,Points!$B$2:$G$6,MATCH(\"Internal Grade\",Points!$B$2:$G$2,0),FALSE),\"\"),\"\")","v":""},{"$f":"IF(U39=\"\",\"\",VLOOKUP(U39,Lookup!$L$2:$M$6,2,FALSE))","v":""},{"$f":"IF(AND(C39=\"External\",I39=120),VLOOKUP(K39,Points!$M$2:$N$35,MATCH(\"120 GLH Grade\",Points!$M$2:$N$2,0),FALSE),\"No\")","v":"No"},{"$f":"IF(W39=\"\",\"\",VLOOKUP(W39,Lookup!$L$1:$M$6,2,FALSE))","v":0},{"$f":"IF(AND(C39=\"External\",I39=90),VLOOKUP(K39,Points!$J$2:$K$27,MATCH(\"90 GLH Grade\",Points!$J$2:$K$2,0),FALSE),\"No\")","v":"No"},{"$f":"IF(Y39=\"\",\"\",VLOOKUP(Y39,Lookup!$L$1:$M$6,2,FALSE))","v":0}]
[null,"Optional",{"$f":"IFERROR(INDEX('Extended Diploma Data Sheet'!$Y$3:$Y$999,MATCH('Extended Diploma'!E40&$E$3,'Extended Diploma Data Sheet'!$T$3:$T$999&'Extended Diploma Data Sheet'!$U$3:$U$999,0)),\"\")","v":0},{"$f":"IFERROR(INDEX('Extended Diploma Data Sheet'!$V$3:$V$999,MATCH('Extended Diploma'!E40&$E$3,'Extended Diploma Data Sheet'!$T$3:$T$999&'Extended Diploma Data Sheet'!$U$3:$U$999,0)),\"\")","v":0},null,null,null,null,{"$f":"IFERROR(INDEX('Extended Diploma Data Sheet'!$X$3:$X$999,MATCH('Extended Diploma'!E40&$E$3,'Extended Diploma Data Sheet'!$T$3:$T$999&'Extended Diploma Data Sheet'!$U$3:$U$999,0)),\"\")","v":0},null,{"$f":"IFERROR(IF(C40=\"Internal\",VLOOKUP(J40,Points!$A$2:$C$6,MATCH(C40&\" \"&I40&\" GLH\",Points!$A$2:$C$2,0),FALSE),\"\"),\"\")","v":""},{"$f":"IF(E40=\"\",\"\",VLOOKUP(SUM(R40,T40,V40,X40,Z40),Lookup!$M$1:$N$6,2,FALSE))","v":""},null,null,null,null,null,{"$f":"IF(Q40=\"\",\"\",VLOOKUP(Q40,Lookup!$L$2:$M$6,2,FALSE))","v":""},{"$f":"IFERROR(IF(AND(C40=\"Internal\",I40=90),VLOOKUP(K40,Points!$C$2:$G$6,MATCH(\"Internal Grade\",Points!$C$2:$G$2,0),FALSE),\"\"),\"\")","v":""},{"$f":"IF(S40=\"\",\"\",VLOOKUP(S40,Lookup!$L$2:$M$6,2,FALSE))","v":""},{"$f":"IFERROR(IF(AND(C40=\"Internal\",I40=60),VLOOKUP(K40,Points!$B$2:$G$6,MATCH(\"Internal Grade\",Points!$B$2:$G$2,0),FALSE),\"\"),\"\")","v":""},{"$f":"IF(U40=\"\",\"\",VLOOKUP(U40,Lookup!$L$2:$M$6,2,FALSE))","v":""},{"$f":"IF(AND(C40=\"External\",I40=120),VLOOKUP(K40,Points!$M$2:$N$35,MATCH(\"120 GLH Grade\",Points!$M$2:$N$2,0),FALSE),\"No\")","v":"No"},{"$f":"IF(W40=\"\",\"\",VLOOKUP(W40,Lookup!$L$1:$M$6,2,FALSE))","v":0},{"$f":"IF(AND(C40=\"External\",I40=90),VLOOKUP(K40,Points!$J$2:$K$27,MATCH(\"90 GLH Grade\",Points!$J$2:$K$2,0),FALSE),\"No\")","v":"No"},{"$f":"IF(Y40=\"\",\"\",VLOOKUP(Y40,Lookup!$L$1:$M$6,2,FALSE))","v":0}]
[null,"Optional",{"$f":"IFERROR(INDEX('Extended Diploma Data Sheet'!$Y$3:$Y$999,MATCH('Extended Diploma'!E41&$E$3,'Extended Diploma Data Sheet'!$T$3:$T$999&'Extended Diploma Data Sheet'!$U$3:$U$999,0)),\"\")","v":0},{"$f":"IFERROR(INDEX('Extended Diploma Data Sheet'!$V$3:$V$999,MATCH('Extended Diploma'!E41&$E$3,'Extended Diploma Data Sheet'!$T$3:$T$999&'Extended Diploma Data Sheet'!$U$3:$U$999,0)),\"\")","v":0},null,null,null,null,{"$f":"IFERROR(INDEX('Extended Diploma Data Sheet'!$X$3:$X$999,MATCH('Extended Diploma'!E41&$E$3,'Extended Diploma Data Sheet'!$T$3:$T$999&'Extended Diploma Data Sheet'!$U$3:$U$999,0)),\"\")","v":0},null,{"$f":"IFERROR(IF(C41=\"Internal\",VLOOKUP(J41,Points!$A$2:$C$6,MATCH(C41&\" \"&I41&\" GLH\",Points!$A$2:$C$2,0),FALSE),\"\"),\"\")","v":""},{"$f":"IF(E41=\"\",\"\",VLOOKUP(SUM(R41,T41,V41,X41,Z41),Lookup!$M$1:$N$6,2,FALSE))","v":""},null,null,null,null,null,{"$f":"IF(Q41=\"\",\"\",VLOOKUP(Q41,Lookup!$L$2:$M$6,2,FALSE))","v":""},{"$f":"IFERROR(IF(AND(C41=\"Internal\",I41=90),VLOOKUP(K41,Points!$C$2:$G$6,MATCH(\"Internal Grade\",Points!$C$2:$G$2,0),FALSE),\"\"),\"\")","v":""},{"$f":"IF(S41=\"\",\"\",VLOOKUP(S41,Lookup!$L$2:$M$6,2,FALSE))","v":""},{"$f":"IFERROR(IF(AND(C41=\"Internal\",I41=60),VLOOKUP(K41,Points!$B$2:$G$6,MATCH(\"Internal Grade\",Points!$B$2:$G$2,0),FALSE),\"\"),\"\")","v":""},{"$f":"IF(U41=\"\",\"\",VLOOKUP(U41,Lookup!$L$2:$M$6,2,FALSE))","v":""},{"$f":"IF(AND(C41=\"External\",I41=120),VLOOKUP(K41,Points!$M$2:$N$35,MATCH(\"120 GLH Grade\",Points!$M$2:$N$2,0),FALSE),\"No\")","v":"No"},{"$f":"IF(W41=\"\",\"\",VLOOKUP(W41,Lookup!$L$1:$M$6,2,FALSE))","v":0},{"$f":"IF(AND(C41=\"External\",I41=90),VLOOKUP(K41,Points!$J$2:$K$27,MATCH(\"90 GLH Grade\",Points!$J$2:$K$2,0),FALSE),\"No\")","v":"No"},{"$f":"IF(Y41=\"\",\"\",VLOOKUP(Y41,Lookup!$L$1:$M$6,2,FALSE))","v":0}]
[null,"Optional",{"$f":"IFERROR(INDEX('Extended Diploma Data Sheet'!$Y$3:$Y$999,MATCH('Extended Diploma'!E42&$E$3,'Extended Diploma Data Sheet'!$T$3:$T$999&'Extended Diploma Data Sheet'!$U$3:$U$999,0)),\"\")","v":0},{"$f":"IFERROR(INDEX('Extended Diploma Data Sheet'!$V$3:$V$999,MATCH('Extended Diploma'!E42&$E$3,'Extended Diploma Data Sheet'!$T$3:$T$999&'Extended Diploma Data Sheet'!$U$3:$U$999,0)),\"\")","v":0},null,null,null,null,{"$f":"IFERROR(INDEX('Extended Diploma Data Sheet'!$X$3:$X$999,MATCH('Extended Diploma'!E42&$E$3,'Extended Diploma Data Sheet'!$T$3:$T$999&'Extended Diploma Data Sheet'!$U$3:$U$999,0)),\"\")","v":0},null,{"$f":"IFERROR(IF(C42=\"Internal\",VLOOKUP(J42,Points!$A$2:$C$6,MATCH(C42&\" \"&I42&\" GLH\",Points!$A$2:$C$2,0),FALSE),\"\"),\"\")","v":""},{"$f":"IF(E42=\"\",\"\",VLOOKUP(SUM(R42,T42,V42,X42,Z42),Lookup!$M$1:$N$6,2,FALSE))","v":""},null,null,null,null,null,{"$f":"IF(Q42=\"\",\"\",VLOOKUP(Q42,Lookup!$L$2:$M$6,2,FALSE))","v":""},{"$f":"IFERROR(IF(AND(C42=\"Internal\",I42=90),VLOOKUP(K42,Points!$C$2:$G$6,MATCH(\"Internal Grade\",Points!$C$2:$G$2,0),FALSE),\"\"),\"\")","v":""},{"$f":"IF(S42=\"\",\"\",VLOOKUP(S42,Lookup!$L$2:$M$6,2,FALSE))","v":""},{"$f":"IFERROR(IF(AND(C42=\"Internal\",I42=60),VLOOKUP(K42,Points!$B$2:$G$6,MATCH(\"Internal Grade\",Points!$B$2:$G$2,0),FALSE),\"\"),\"\")","v":""},{"$f":"IF(U42=\"\",\"\",VLOOKUP(U42,Lookup!$L$2:$M$6,2,FALSE))","v":""},{"$f":"IF(AND(C42=\"External\",I42=120),VLOOKUP(K42,Points!$M$2:$N$35,MATCH(\"120 GLH Grade\",Points!$M$2:$N$2,0),FALSE),\"No\")","v":"No"},{"$f":"IF(W42=\"\",\"\",VLOOKUP(W42,Lookup!$L$1:$M$6,2,FALSE))","v":0},{"$f":"IF(AND(C42=\"External\",I42=90),VLOOKUP(K42,Points!$J$2:$K$27,MATCH(\"90 GLH Grade\",Points!$J$2:$K$2,0),FALSE),\"No\")","v":"No"},{"$f":"IF(Y42=\"\",\"\",VLOOKUP(Y42,Lookup!$L$1:$M$6,2,FALSE))","v":0}]
[null,"Optional",{"$f":"IFERROR(INDEX('Extended Diploma Data Sheet'!$Y$3:$Y$999,MATCH('Extended Diploma'!E43&$E$3,'Extended Diploma Data Sheet'!$T$3:$T$999&'Extended Diploma Data Sheet'!$U$3:$U$999,0)),\"\")","v":0},{"$f":"IFERROR(INDEX('Extended Diploma Data Sheet'!$V$3:$V$999,MATCH('Extended Diploma'!E43&$E$3,'Extended Diploma Data Sheet'!$T$3:$T$999&'Extended Diploma Data Sheet'!$U$3:$U$999,0)),\"\")","v":0},null,null,null,null,{"$f":"IFERROR(INDEX('Extended Diploma Data Sheet'!$X$3:$X$999,MATCH('Extended Diploma'!E43&$E$3,'Extended Diploma Data Sheet'!$T$3:$T$999&'Extended Diploma Data Sheet'!$U$3:$U$999,0)),\"\")","v":0},null,{"$f":"IFERROR(IF(C43=\"Internal\",VLOOKUP(J43,Points!$A$2:$C$6,MATCH(C43&\" \"&I43&\" GLH\",Points!$A$2:$C$2,0),FALSE),\"\"),\"\")","v":""},{"$f":"IF(E43=\"\",\"\",VLOOKUP(SUM(R43,T43,V43,X43,Z43),Lookup!$M$1:$N$6,2,FALSE))","v":""},null,null,null,null,null,{"$f":"IF(Q43=\"\",\"\",VLOOKUP(Q43,Lookup!$L$2:$M$6,2,FALSE))","v":""},{"$f":"IFERROR(IF(AND(C43=\"Internal\",I43=90),VLOOKUP(K43,Points!$C$2:$G$6,MATCH(\"Internal Grade\",Points!$C$2:$G$2,0),FALSE),\"\"),\"\")","v":""},{"$f":"IF(S43=\"\",\"\",VLOOKUP(S43,Lookup!$L$2:$M$6,2,FALSE))","v":""},{"$f":"IFERROR(IF(AND(C43=\"Internal\",I43=60),VLOOKUP(K43,Points!$B$2:$G$6,MATCH(\"Internal Grade\",Points!$B$2:$G$2,0),FALSE),\"\"),\"\")","v":""},{"$f":"IF(U43=\"\",\"\",VLOOKUP(U43,Lookup!$L$2:$M$6,2,FALSE))","v":""},{"$f":"IF(AND(C43=\"External\",I43=120),VLOOKUP(K43,Points!$M$2:$N$35,MATCH(\"120 GLH Grade\",Points!$M$2:$N$2,0),FALSE),\"No\")","v":"No"},{"$f":"IF(W43=\"\",\"\",VLOOKUP(W43,Lookup!$L$1:$M$6,2,FALSE))","v":0},{"$f":"IF(AND(C43=\"External\",I43=90),VLOOKUP(K43,Points!$J$2:$K$27,MATCH(\"90 GLH Grade\",Points!$J$2:$K$2,0),FALSE),\"No\")","v":"No"},{"$f":"IF(Y43=\"\",\"\",VLOOKUP(Y43,Lookup!$L$1:$M$6,2,FALSE))","v":0}]
[null,"Optional",{"$f":"IFERROR(INDEX('Extended Diploma Data Sheet'!$Y$3:$Y$999,MATCH('Extended Diploma'!E44&$E$3,'Extended Diploma Data Sheet'!$T$3:$T$999&'Extended Diploma Data Sheet'!$U$3:$U$999,0)),\"\")","v":0},{"$f":"IFERROR(INDEX('Extended Diploma Data Sheet'!$V$3:$V$999,MATCH('Extended Diploma'!E44&$E$3,'Extended Diploma Data Sheet'!$T$3:$T$999&'Extended Diploma Data Sheet'!$U$3:$U$999,0)),\"\")","v":0},null,null,null,null,{"$f":"IFERROR(INDEX('Extended Diploma Data Sheet'!$X$3:$X$999,MATCH('Extended Diploma'!E44&$E$3,'Extended Diploma Data Sheet'!$T$3:$T$999&'Extended Diploma Data Sheet'!$U$3:$U$999,0)),\"\")","v":0},null,{"$f":"IFERROR(IF(C44=\"Internal\",VLOOKUP(J44,Points!$A$2:$C$6,MATCH(C44&\" \"&I44&\" GLH\",Points!$A$2:$C$2,0),FALSE),\"\"),\"\")","v":""},{"$f":"IF(E44=\"\",\"\",VLOOKUP(SUM(R44,T44,V44,X44,Z44),Lookup!$M$1:$N$6,2,FALSE))","v":""},null,null,null,null,null,{"$f":"IF(Q44=\"\",\"\",VLOOKUP(Q44,Lookup!$L$2:$M$6,2,FALSE))","v":""},{"$f":"IFERROR(IF(AND(C44=\"Internal\",I44=90),VLOOKUP(K44,Points!$C$2:$G$6,MATCH(\"Internal Grade\",Points!$C$2:$G$2,0),FALSE),\"\"),\"\")","v":""},{"$f":"IF(S44=\"\",\"\",VLOOKUP(S44,Lookup!$L$2:$M$6,2,FALSE))","v":""},{"$f":"IFERROR(IF(AND(C44=\"Internal\",I44=60),VLOOKUP(K44,Points!$B$2:$G$6,MATCH(\"Internal Grade\",Points!$B$2:$G$2,0),FALSE),\"\"),\"\")","v":""},{"$f":"IF(U44=\"\",\"\",VLOOKUP(U44,Lookup!$L$2:$M$6,2,FALSE))","v":""},{"$f":"IF(AND(C44=\"External\",I44=120),VLOOKUP(K44,Points!$M$2:$N$35,MATCH(\"120 GLH Grade\",Points!$M$2:$N$2,0),FALSE),\"No\")","v":"No"},{"$f":"IF(W44=\"\",\"\",VLOOKUP(W44,Lookup!$L$1:$M$6,2,FALSE))","v":0},{"$f":"IF(AND(C44=\"External\",I44=90),VLOOKUP(K44,Points!$J$2:$K$27,MATCH(\"90 GLH Grade\",Points!$J$2:$K$2,0),FALSE),\"No\")","v":"No"},{"$f":"IF(Y44=\"\",\"\",VLOOKUP(Y44,Lookup!$L$1:$M$6,2,FALSE))","v":0}]
[null,"Optional",{"$f":"IFERROR(INDEX('Extended Diploma Data Sheet'!$Y$3:$Y$999,MATCH('Extended Diploma'!E45&$E$3,'Extended Diploma Data Sheet'!$T$3:$T$999&'Extended Diploma Data Sheet'!$U$3:$U$999,0)),\"\")","v":0},{"$f":"IFERROR(INDEX('Extended Diploma Data Sheet'!$V$3:$V$999,MATCH('Extended Diploma'!E45&$E$3,'Extended Diploma Data Sheet'!$T$3:$T$999&'Extended Diploma Data Sheet'!$U$3:$U$999,0)),\"\")","v":0},null,null,null,null,{"$f":"IFERROR(INDEX('Extended Diploma Data Sheet'!$X$3:$X$999,MATCH('Extended Diploma'!E45&$E$3,'Extended Diploma Data Sheet'!$T$3:$T$999&'Extended Diploma Data Sheet'!$U$3:$U$999,0)),\"\")","v":0},null,{"$f":"IFERROR(IF(C45=\"Internal\",VLOOKUP(J45,Points!$A$2:$C$6,MATCH(C45&\" \"&I45&\" GLH\",Points!$A$2:$C$2,0),FALSE),\"\"),\"\")","v":""},{"$f":"IF(E45=\"\",\"\",VLOOKUP(SUM(R45,T45,V45,X45,Z45),Lookup!$M$1:$N$6,2,FALSE))","v":""},null,null,null,null,null,{"$f":"IF(Q45=\"\",\"\",VLOOKUP(Q45,Lookup!$L$2:$M$6,2,FALSE))","v":""},{"$f":"IFERROR(IF(AND(C45=\"Internal\",I45=90),VLOOKUP(K45,Points!$C$2:$G$6,MATCH(\"Internal Grade\",Points!$C$2:$G$2,0),FALSE),\"\"),\"\")","v":""},{"$f":"IF(S45=\"\",\"\",VLOOKUP(S45,Lookup!$L$2:$M$6,2,FALSE))","v":""},{"$f":"IFERROR(IF(AND(C45=\"Internal\",I45=60),VLOOKUP(K45,Points!$B$2:$G$6,MATCH(\"Internal Grade\",Points!$B$2:$G$2,0),FALSE),\"\"),\"\")","v":""},{"$f":"IF(U45=\"\",\"\",VLOOKUP(U45,Lookup!$L$2:$M$6,2,FALSE))","v":""},{"$f":"IF(AND(C45=\"External\",I45=120),VLOOKUP(K45,Points!$M$2:$N$35,MATCH(\"120 GLH Grade\",Points!$M$2:$N$2,0),FALSE),\"No\")","v":"No"},{"$f":"IF(W45=\"\",\"\",VLOOKUP(W45,Lookup!$L$1:$M$6,2,FALSE))","v":0},{"$f":"IF(AND(C45=\"External\",I45=90),VLOOKUP(K45,Points!$J$2:$K$27,MATCH(\"90 GLH Grade\",Points!$J$2:$K$2,0),FALSE),\"No\")","v":"No"},{"$f":"IF(Y45=\"\",\"\",VLOOKUP(Y45,Lookup!$L$1:$M$6,2,FALSE))","v":0}]
[null,"Optional",{"$f":"IFERROR(INDEX('Extended Diploma Data Sheet'!$Y$3:$Y$999,MATCH('Extended Diploma'!E46&$E$3,'Extended Diploma Data Sheet'!$T$3:$T$999&'Extended Diploma Data Sheet'!$U$3:$U$999,0)),\"\")","v":0},{"$f":"IFERROR(INDEX('Extended Diploma Data Sheet'!$V$3:$V$999,MATCH('Extended Diploma'!E46&$E$3,'Extended Diploma Data Sheet'!$T$3:$T$999&'Extended Diploma Data Sheet'!$U$3:$U$999,0)),\"\")","v":0},null,null,null,null,{"$f":"IFERROR(INDEX('Extended Diploma Data Sheet'!$X$3:$X$999,MATCH('Extended Diploma'!E46&$E$3,'Extended Diploma Data Sheet'!$T$3:$T$999&'Extended Diploma Data Sheet'!$U$3:$U$999,0)),\"\")","v":0},null,{"$f":"IFERROR(IF(C46=\"Internal\",VLOOKUP(J46,Points!$A$2:$C$6,MATCH(C46&\" \"&I46&\" GLH\",Points!$A$2:$C$2,0),FALSE),\"\"),\"\")","v":""},{"$f":"IF(E46=\"\",\"\",VLOOKUP(SUM(R46,T46,V46,X46,Z46),Lookup!$M$1:$N$6,2,FALSE))","v":""},null,null,null,null,null,{"$f":"IF(Q46=\"\",\"\",VLOOKUP(Q46,Lookup!$L$2:$M$6,2,FALSE))","v":""},{"$f":"IFERROR(IF(AND(C46=\"Internal\",I46=90),VLOOKUP(K46,Points!$C$2:$G$6,MATCH(\"Internal Grade\",Points!$C$2:$G$2,0),FALSE),\"\"),\"\")","v":""},{"$f":"IF(S46=\"\",\"\",VLOOKUP(S46,Lookup!$L$2:$M$6,2,FALSE))","v":""},{"$f":"IFERROR(IF(AND(C46=\"Internal\",I46=60),VLOOKUP(K46,Points!$B$2:$G$6,MATCH(\"Internal Grade\",Points!$B$2:$G$2,0),FALSE),\"\"),\"\")","v":""},{"$f":"IF(U46=\"\",\"\",VLOOKUP(U46,Lookup!$L$2:$M$6,2,FALSE))","v":""},{"$f":"IF(AND(C46=\"External\",I46=120),VLOOKUP(K46,Points!$M$2:$N$35,MATCH(\"120 GLH Grade\",Points!$M$2:$N$2,0),FALSE),\"No\")","v":"No"},{"$f":"IF(W46=\"\",\"\",VLOOKUP(W46,Lookup!$L$1:$M$6,2,FALSE))","v":0},{"$f":"IF(AND(C46=\"External\",I46=90),VLOOKUP(K46,Points!$J$2:$K$27,MATCH(\"90 GLH Grade\",Points!$J$2:$K$2,0),FALSE),\"No\")","v":"No"},{"$f":"IF(Y46=\"\",\"\",VLOOKUP(Y46,Lookup!$L$1:$M$6,2,FALSE))","v":0}]
[null,null,null,null,null,null,null,null,{"$f":"SUM(I37:I46)","v":0}]
[]
[null,"Optional",{"$f":"IFERROR(INDEX('Extended Diploma Data Sheet'!$AF$3:$AF$999,MATCH('Extended Diploma'!E49&$E$3,'Extended Diploma Data Sheet'!$AA$3:$AA$999&'Extended Diploma Data Sheet'!$AB$3:$AB$999,0)),\"\")","v":0},{"$f":"IFERROR(INDEX('Extended Diploma Data Sheet'!$AC$3:$AC$999,MATCH('Extended Diploma'!E49&$E$3,'Extended Diploma Data Sheet'!$AA$3:$AA$999&'Extended Diploma Data Sheet'!$AB$3:$AB$999,0)),\"\")","v":0},null,null,null,null,{"$f":"IFERROR(INDEX('Extended Diploma Data Sheet'!$AE$3:$AE$999,MATCH('Extended Diploma'!E49&$E$3,'Extended Diploma Data Sheet'!$AA$3:$AA$999&'Extended Diploma Data Sheet'!$AB$3:$AB$999,0)),\"\")","v":0},null,{"$f":"IFERROR(IF(C49=\"Internal\",VLOOKUP(J49,Points!$A$2:$C$6,MATCH(C49&\" \"&I49&\" GLH\",Points!$A$2:$C$2,0),FALSE),\"\"),\"\")","v":""},{"$f":"IF(E49=\"\",\"\",VLOOKUP(SUM(R49,T49,V49,X49,Z49),Lookup!$M$1:$N$6,2,FALSE))","v":""},null,null,null,null,null,null,{"$f":"IFERROR(IF(AND(C49=\"Internal\",I49=90),VLOOKUP(K49,Points!$C$2:$G$6,MATCH(\"Internal Grade\",Points!$C$2:$G$2,0),FALSE),\"\"),\"\")","v":""},{"$f":"IF(S49=\"\",\"\",VLOOKUP(S49,Lookup!$L$2:$M$6,2,FALSE))","v":""},{"$f":"IFERROR(IF(AND(C49=\"Internal\",I49=60),VLOOKUP(K49,Points!$B$2:$G$6,MATCH(\"Internal Grade\",Points!$B$2:$G$2,0),FALSE),\"\"),\"\")","v":""},{"$f":"IF(U49=\"\",\"\",VLOOKUP(U49,Lookup!$L$2:$M$6,2,FALSE))","v":""},{"$f":"IF(AND(C49=\"External\",I49=120),VLOOKUP(K49,Points!$M$2:$N$35,MATCH(\"120 GLH Grade\",Points!$M$2:$N$2,0),FALSE),\"No\")","v":"No"},{"$f":"IF(W49=\"\",\"\",VLOOKUP(W49,Lookup!$L$1:$M$6,2,FALSE))","v":0},{"$f":"IF(AND(C49=\"External\",I49=90),VLOOKUP(K49,Points!$J$2:$K$27,MATCH(\"90 GLH Grade\",Points!$J$2:$K$2,0),FALSE),\"No\")","v":"No"},{"$f":"IF(Y49=\"\",\"\",VLOOKUP(Y49,Lookup!$L$1:$M$6,2,FALSE))","v":0}]
[null,"Optional",{"$f":"IFERROR(INDEX('Extended Diploma Data Sheet'!$AF$3:$AF$999,MATCH('Extended Diploma'!E50&$E$3,'Extended Diploma Data Sheet'!$AA$3:$AA$999&'Extended Diploma Data Sheet'!$AB$3:$AB$999,0)),\"\")","v":0},{"$f":"IFERROR(INDEX('Extended Diploma Data Sheet'!$AC$3:$AC$999,MATCH('Extended Diploma'!E50&$E$3,'Extended Diploma Data Sheet'!$AA$3:$AA$999&'Extended Diploma Data Sheet'!$AB$3:$AB$999,0)),\"\")","v":0},null,null,null,null,{"$f":"IFERROR(INDEX('Extended Diploma Data Sheet'!$AE$3:$AE$999,MATCH('Extended Diploma'!E50&$E$3,'Extended Diploma Data Sheet'!$AA$3:$AA$999&'Extended Diploma Data Sheet'!$AB$3:$AB$999,0)),\"\")","v":0},null,{"$f":"IFERROR(IF(C50=\"Internal\",VLOOKUP(J50,Points!$A$2:$C$6,MATCH(C50&\" \"&I50&\" GLH\",Points!$A$2:$C$2,0),FALSE),\"\"),\"\")","v":""},{"$f":"IF(E50=\"\",\"\",VLOOKUP(SUM(R50,T50,V50,X50,Z50),Lookup!$M$1:$N$6,2,FALSE))","v":""},null,null,null,null,null,null,{"$f":"IFERROR(IF(AND(C50=\"Internal\",I50=90),VLOOKUP(K50,Points!$C$2:$G$6,MATCH(\"Internal Grade\",Points!$C$2:$G$2,0),FALSE),\"\"),\"\")","v":""},{"$f":"IF(S50=\"\",\"\",VLOOKUP(S50,Lookup!$L$2:$M$6,2,FALSE))","v":""},{"$f":"IFERROR(IF(AND(C50=\"Internal\",I50=60),VLOOKUP(K50,Points!$B$2:$G$6,MATCH(\"Internal Grade\",Points!$B$2:$G$2,0),FALSE),\"\"),\"\")","v":""},{"$f":"IF(U50=\"\",\"\",VLOOKUP(U50,Lookup!$L$2:$M$6,2,FALSE))","v":""},{"$f":"IF(AND(C50=\"External\",I50=120),VLOOKUP(K50,Points!$M$2:$N$35,MATCH(\"120 GLH Grade\",Points!$M$2:$N$2,0),FALSE),\"No\")","v":"No"},{"$f":"IF(W50=\"\",\"\",VLOOKUP(W50,Lookup!$L$1:$M$6,2,FALSE))","v":0},{"$f":"IF(AND(C50=\"External\",I50=90),VLOOKUP(K50,Points!$J$2:$K$27,MATCH(\"90 GLH Grade\",Points!$J$2:$K$2,0),FALSE),\"No\")","v":"No"},{"$f":"IF(Y50=\"\",\"\",VLOOKUP(Y50,Lookup!$L$1:$M$6,2,FALSE))","v":0}]
[null,"Optional",{"$f":"IFERROR(INDEX('Extended Diploma Data Sheet'!$AF$3:$AF$999,MATCH('Extended Diploma'!E51&$E$3,'Extended Diploma Data Sheet'!$AA$3:$AA$999&'Extended Diploma Data Sheet'!$AB$3:$AB$999,0)),\"\")","v":0},{"$f":"IFERROR(INDEX('Extended Diploma Data Sheet'!$AC$3:$AC$999,MATCH('Extended Diploma'!E51&$E$3,'Extended Diploma Data Sheet'!$AA$3:$AA$999&'Extended Diploma Data Sheet'!$AB$3:$AB$999,0)),\"\")","v":0},null,null,null,null,{"$f":"IFERROR(INDEX('Extended Diploma Data Sheet'!$AE$3:$AE$999,MATCH('Extended Diploma'!E51&$E$3,'Extended Diploma Data Sheet'!$AA$3:$AA$999&'Extended Diploma Data Sheet'!$AB$3:$AB$999,0)),\"\")","v":0},null,{"$f":"IFERROR(IF(C51=\"Internal\",VLOOKUP(J51,Points!$A$2:$C$6,MATCH(C51&\" \"&I51&\" GLH\",Points!$A$2:$C$2,0),FALSE),\"\"),\"\")","v":""},{"$f":"IF(E51=\"\",\"\",VLOOKUP(SUM(R51,T51,V51,X51,Z51),Lookup!$M$1:$N$6,2,FALSE))","v":""},null,null,null,null,null,null,{"$f":"IFERROR(IF(AND(C51=\"Internal\",I51=90),VLOOKUP(K51,Points!$C$2:$G$6,MATCH(\"Internal Grade\",Points!$C$2:$G$2,0),FALSE),\"\"),\"\")","v":""},{"$f":"IF(S51=\"\",\"\",VLOOKUP(S51,Lookup!$L$2:$M$6,2,FALSE))","v":""},{"$f":"IFERROR(IF(AND(C51=\"Internal\",I51=60),VLOOKUP(K51,Points!$B$2:$G$6,MATCH(\"Internal Grade\",Points!$B$2:$G$2,0),FALSE),\"\"),\"\")","v":""},{"$f":"IF(U51=\"\",\"\",VLOOKUP(U51,Lookup!$L$2:$M$6,2,FALSE))","v":""},{"$f":"IF(AND(C51=\"External\",I51=120),VLOOKUP(K51,Points!$M$2:$N$35,MATCH(\"120 GLH Grade\",Points!$M$2:$N$2,0),FALSE),\"No\")","v":"No"},{"$f":"IF(W51=\"\",\"\",VLOOKUP(W51,Lookup!$L$1:$M$6,2,FALSE))","v":0},{"$f":"IF(AND(C51=\"External\",I51=90),VLOOKUP(K51,Points!$J$2:$K$27,MATCH(\"90 GLH Grade\",Points!$J$2:$K$2,0),FALSE),\"No\")","v":"No"},{"$f":"IF(Y51=\"\",\"\",VLOOKUP(Y51,Lookup!$L$1:$M$6,2,FALSE))","v":0}]
[null,"Optional",{"$f":"IFERROR(INDEX('Extended Diploma Data Sheet'!$AF$3:$AF$999,MATCH('Extended Diploma'!E52&$E$3,'Extended Diploma Data Sheet'!$AA$3:$AA$999&'Extended Diploma Data Sheet'!$AB$3:$AB$999,0)),\"\")","v":0},{"$f":"IFERROR(INDEX('Extended Diploma Data Sheet'!$AC$3:$AC$999,MATCH('Extended Diploma'!E52&$E$3,'Extended Diploma Data Sheet'!$AA$3:$AA$999&'Extended Diploma Data Sheet'!$AB$3:$AB$999,0)),\"\")","v":0},null,null,null,null,{"$f":"IFERROR(INDEX('Extended Diploma Data Sheet'!$AE$3:$AE$999,MATCH('Extended Diploma'!E52&$E$3,'Extended Diploma Data Sheet'!$AA$3:$AA$999&'Extended Diploma Data Sheet'!$AB$3:$AB$999,0)),\"\")","v":0},null,{"$f":"IFERROR(IF(C52=\"Internal\",VLOOKUP(J52,Points!$A$2:$C$6,MATCH(C52&\" \"&I52&\" GLH\",Points!$A$2:$C$2,0),FALSE),\"\"),\"\")","v":""},{"$f":"IF(E52=\"\",\"\",VLOOKUP(SUM(R52,T52,V52,X52,Z52),Lookup!$M$1:$N$6,2,FALSE))","v":""},null,null,null,null,null,null,{"$f":"IFERROR(IF(AND(C52=\"Internal\",I52=90),VLOOKUP(K52,Points!$C$2:$G$6,MATCH(\"Internal Grade\",Points!$C$2:$G$2,0),FALSE),\"\"),\"\")","v":""},{"$f":"IF(S52=\"\",\"\",VLOOKUP(S52,Lookup!$L$2:$M$6,2,FALSE))","v":""},{"$f":"IFERROR(IF(AND(C52=\"Internal\",I52=60),VLOOKUP(K52,Points!$B$2:$G$6,MATCH(\"Internal Grade\",Points!$B$2:$G$2,0),FALSE),\"\"),\"\")","v":""},{"$f":"IF(U52=\"\",\"\",VLOOKUP(U52,Lookup!$L$2:$M$6,2,FALSE))","v":""},{"$f":"IF(AND(C52=\"External\",I52=120),VLOOKUP(K52,Points!$M$2:$N$35,MATCH(\"120 GLH Grade\",Points!$M$2:$N$2,0),FALSE),\"No\")","v":"No"},{"$f":"IF(W52=\"\",\"\",VLOOKUP(W52,Lookup!$L$1:$M$6,2,FALSE))","v":0},{"$f":"IF(AND(C52=\"External\",I52=90),VLOOKUP(K52,Points!$J$2:$K$27,MATCH(\"90 GLH Grade\",Points!$J$2:$K$2,0),FALSE),\"No\")","v":"No"},{"$f":"IF(Y52=\"\",\"\",VLOOKUP(Y52,Lookup!$L$1:$M$6,2,FALSE))","v":0}]
[null,null,null,null,null,null,null,null,{"$f":"SUM(I49:I51)","v":0},null,null,{"$f":"IF(E53=\"\",\"\",VLOOKUP(SUM(T53,V53,X53,Z53),Lookup!$M$1:$N$6,2,FALSE))","v":""},null,null,null,null,null,null,{"$f":"IFERROR(IF(AND(C53=\"Internal\",I53=90),VLOOKUP(K53,Points!$C$2:$G$6,MATCH(\"Internal Grade\",Points!$C$2:$G$2,0),FALSE),\"\"),\"\")","v":""},{"$f":"IF(S53=\"\",\"\",VLOOKUP(S53,Lookup!$L$2:$M$6,2,FALSE))","v":""},{"$f":"IFERROR(IF(AND(C53=\"Internal\",I53=60),VLOOKUP(K53,Points!$B$2:$G$6,MATCH(\"Internal Grade\",Points!$B$2:$G$2,0),FALSE),\"\"),\"\")","v":""},{"$f":"IF(U53=\"\",\"\",VLOOKUP(U53,Lookup!$L$2:$M$6,2,FALSE))","v":""},{"$f":"IF(AND(C53=\"External\",I53=120),VLOOKUP(K53,Points!$M$2:$N$35,MATCH(\"120 GLH Grade\",Points!$M$2:$N$2,0),FALSE),\"No\")","v":"No"},{"$f":"IF(W53=\"\",\"\",VLOOKUP(W53,Lookup!$L$1:$M$6,2,FALSE))","v":0},{"$f":"IF(AND(C53=\"External\",I53=90),VLOOKUP(K53,Points!$J$2:$K$27,MATCH(\"90 GLH Grade\",Points!$J$2:$K$2,0),FALSE),\"No\")","v":"No"},{"$f":"IF(Y53=\"\",\"\",VLOOKUP(Y53,Lookup!$L$1:$M$6,2,FALSE))","v":0}]
[null,null,null,null,null,null,null,null,null,null,null,{"$f":"IF(E54=\"\",\"\",VLOOKUP(SUM(T54,V54,X54,Z54),Lookup!$M$1:$N$6,2,FALSE))","v":""},null,null,null,null,null,null,{"$f":"IFERROR(IF(AND(C54=\"Internal\",I54=90),VLOOKUP(K54,Points!$C$2:$G$6,MATCH(\"Internal Grade\",Points!$C$2:$G$2,0),FALSE),\"\"),\"\")","v":""},{"$f":"IF(S54=\"\",\"\",VLOOKUP(S54,Lookup!$L$2:$M$6,2,FALSE))","v":""},{"$f":"IFERROR(IF(AND(C54=\"Internal\",I54=60),VLOOKUP(K54,Points!$B$2:$G$6,MATCH(\"Internal Grade\",Points!$B$2:$G$2,0),FALSE),\"\"),\"\")","v":""},{"$f":"IF(U54=\"\",\"\",VLOOKUP(U54,Lookup!$L$2:$M$6,2,FALSE))","v":""},{"$f":"IF(AND(C54=\"External\",I54=120),VLOOKUP(K54,Points!$M$2:$N$35,MATCH(\"120 GLH Grade\",Points!$M$2:$N$2,0),FALSE),\"No\")","v":"No"},{"$f":"IF(W54=\"\",\"\",VLOOKUP(W54,Lookup!$L$1:$M$6,2,FALSE))","v":0},{"$f":"IF(AND(C54=\"External\",I54=90),VLOOKUP(K54,Points!$J$2:$K$27,MATCH(\"90 GLH Grade\",Points!$J$2:$K$2,0),FALSE),\"No\")","v":"No"},{"$f":"IF(Y54=\"\",\"\",VLOOKUP(Y54,Lookup!$L$1:$M$6,2,FALSE))","v":0}]
[null,"Optional",{"$f":"IFERROR(INDEX('Extended Diploma Data Sheet'!$AM$3:$AM$999,MATCH('Extended Diploma'!E55&$E$3,'Extended Diploma Data Sheet'!$AH$3:$AH$999&'Extended Diploma Data Sheet'!$AI$3:$AI$999,0)),\"\")","v":0},{"$f":"IFERROR(INDEX('Extended Diploma Data Sheet'!$AJ$3:$AJ$999,MATCH('Extended Diploma'!E55&$E$3,'Extended Diploma Data Sheet'!$AH$3:$AH$999&'Extended Diploma Data Sheet'!$AI$3:$AI$999,0)),\"\")","v":0},null,null,null,null,{"$f":"IFERROR(INDEX('Extended Diploma Data Sheet'!$AL$3:$AL$999,MATCH('Extended Diploma'!E55&$E$3,'Extended Diploma Data Sheet'!$AH$3:$AH$999&'Extended Diploma Data Sheet'!$AI$3:$AI$999,0)),\"\")","v":0},null,{"$f":"IFERROR(IF(C55=\"Internal\",VLOOKUP(J55,Points!$A$2:$C$6,MATCH(C55&\" \"&I55&\" GLH\",Points!$A$2:$C$2,0),FALSE),\"\"),\"\")","v":""},{"$f":"IF(E55=\"\",\"\",VLOOKUP(SUM(R55,T55,V55,X55,Z55),Lookup!$M$1:$N$6,2,FALSE))","v":""},null,null,null,null,null,null,{"$f":"IFERROR(IF(AND(C55=\"Internal\",I55=90),VLOOKUP(K55,Points!$C$2:$G$6,MATCH(\"Internal Grade\",Points!$C$2:$G$2,0),FALSE),\"\"),\"\")","v":""},{"$f":"IF(S55=\"\",\"\",VLOOKUP(S55,Lookup!$L$2:$M$6,2,FALSE))","v":""},{"$f":"IFERROR(IF(AND(C55=\"Internal\",I55=60),VLOOKUP(K55,Points!$B$2:$G$6,MATCH(\"Internal Grade\",Points!$B$2:$G$2,0),FALSE),\"\"),\"\")","v":""},{"$f":"IF(U55=\"\",\"\",VLOOKUP(U55,Lookup!$L$2:$M$6,2,FALSE))","v":""},{"$f":"IF(AND(C55=\"External\",I55=120),VLOOKUP(K55,Points!$M$2:$N$35,MATCH(\"120 GLH Grade\",Points!$M$2:$N$2,0),FALSE),\"No\")","v":"No"},{"$f":"IF(W55=\"\",\"\",VLOOKUP(W55,Lookup!$L$1:$M$6,2,FALSE))","v":0},{"$f":"IF(AND(C55=\"External\",I55=90),VLOOKUP(K55,Points!$J$2:$K$27,MATCH(\"90 GLH Grade\",Points!$J$2:$K$2,0),FALSE),\"No\")","v":"No"},{"$f":"IF(Y55=\"\",\"\",VLOOKUP(Y55,Lookup!$L$1:$M$6,2,FALSE))","v":0}]
[null,"Optional",{"$f":"IFERROR(INDEX('Extended Diploma Data Sheet'!$AM$3:$AM$999,MATCH('Extended Diploma'!E56&$E$3,'Extended Diploma Data Sheet'!$AH$3:$AH$999&'Extended Diploma Data Sheet'!$AI$3:$AI$999,0)),\"\")","v":0},{"$f":"IFERROR(INDEX('Extended Diploma Data Sheet'!$AJ$3:$AJ$999,MATCH('Extended Diploma'!E56&$E$3,'Extended Diploma Data Sheet'!$AH$3:$AH$999&'Extended Diploma Data Sheet'!$AI$3:$AI$999,0)),\"\")","v":0},null,null,null,null,{"$f":"IFERROR(INDEX('Extended Diploma Data Sheet'!$AL$3:$AL$999,MATCH('Extended Diploma'!E56&$E$3,'Extended Diploma Data Sheet'!$AH$3:$AH$999&'Extended Diploma Data Sheet'!$AI$3:$AI$999,0)),\"\")","v":0},null,{"$f":"IFERROR(IF(C56=\"Internal\",VLOOKUP(J56,Points!$A$2:$C$6,MATCH(C56&\" \"&I56&\" GLH\",Points!$A$2:$C$2,0),FALSE),\"\"),\"\")","v":""},{"$f":"IF(E56=\"\",\"\",VLOOKUP(SUM(R56,T56,V56,X56,Z56),Lookup!$M$1:$N$6,2,FALSE))","v":""},null,null,null,null,null,null,{"$f":"IFERROR(IF(AND(C56=\"Internal\",I56=90),VLOOKUP(K56,Points!$C$2:$G$6,MATCH(\"Internal Grade\",Points!$C$2:$G$2,0),FALSE),\"\"),\"\")","v":""},{"$f":"IF(S56=\"\",\"\",VLOOKUP(S56,Lookup!$L$2:$M$6,2,FALSE))","v":""},{"$f":"IFERROR(IF(AND(C56=\"Internal\",I56=60),VLOOKUP(K56,Points!$B$2:$G$6,MATCH(\"Internal Grade\",Points!$B$2:$G$2,0),FALSE),\"\"),\"\")","v":""},{"$f":"IF(U56=\"\",\"\",VLOOKUP(U56,Lookup!$L$2:$M$6,2,FALSE))","v":""},{"$f":"IF(AND(C56=\"External\",I56=120),VLOOKUP(K56,Points!$M$2:$N$35,MATCH(\"120 GLH Grade\",Points!$M$2:$N$2,0),FALSE),\"No\")","v":"No"},{"$f":"IF(W56=\"\",\"\",VLOOKUP(W56,Lookup!$L$1:$M$6,2,FALSE))","v":0},{"$f":"IF(AND(C56=\"External\",I56=90),VLOOKUP(K56,Points!$J$2:$K$27,MATCH(\"90 GLH Grade\",Points!$J$2:$K$2,0),FALSE),\"No\")","v":"No"},{"$f":"IF(Y56=\"\",\"\",VLOOKUP(Y56,Lookup!$L$1:$M$6,2,FALSE))","v":0}]
[null,"Optional",{"$f":"IFERROR(INDEX('Extended Diploma Data Sheet'!$AM$3:$AM$999,MATCH('Extended Diploma'!E57&$E$3,'Extended Diploma Data Sheet'!$AH$3:$AH$999&'Extended Diploma Data Sheet'!$AI$3:$AI$999,0)),\"\")","v":0},{"$f":"IFERROR(INDEX('Extended Diploma Data Sheet'!$AJ$3:$AJ$999,MATCH('Extended Diploma'!E57&$E$3,'Extended Diploma Data Sheet'!$AH$3:$AH$999&'Extended Diploma Data Sheet'!$AI$3:$AI$999,0)),\"\")","v":0},null,null,null,null,{"$f":"IFERROR(INDEX('Extended Diploma Data Sheet'!$AL$3:$AL$999,MATCH('Extended Diploma'!E57&$E$3,'Extended Diploma Data Sheet'!$AH$3:$AH$999&'Extended Diploma Data Sheet'!$AI$3:$AI$999,0)),\"\")","v":0},null,{"$f":"IFERROR(IF(C57=\"Internal\",VLOOKUP(J57,Points!$A$2:$C$6,MATCH(C57&\" \"&I57&\" GLH\",Points!$A$2:$C$2,0),FALSE),\"\"),\"\")","v":""},{"$f":"IF(E57=\"\",\"\",VLOOKUP(SUM(R57,T57,V57,X57,Z57),Lookup!$M$1:$N$6,2,FALSE))","v":""},null,null,null,null,null,null,{"$f":"IFERROR(IF(AND(C57=\"Internal\",I57=90),VLOOKUP(K57,Points!$C$2:$G$6,MATCH(\"Internal Grade\",Points!$C$2:$G$2,0),FALSE),\"\"),\"\")","v":""},{"$f":"IF(S57=\"\",\"\",VLOOKUP(S57,Lookup!$L$2:$M$6,2,FALSE))","v":""},{"$f":"IFERROR(IF(AND(C57=\"Internal\",I57=60),VLOOKUP(K57,Points!$B$2:$G$6,MATCH(\"Internal Grade\",Points!$B$2:$G$2,0),FALSE),\"\"),\"\")","v":""},{"$f":"IF(U57=\"\",\"\",VLOOKUP(U57,Lookup!$L$2:$M$6,2,FALSE))","v":""},{"$f":"IF(AND(C57=\"External\",I57=120),VLOOKUP(K57,Points!$M$2:$N$35,MATCH(\"120 GLH Grade\",Points!$M$2:$N$2,0),FALSE),\"No\")","v":"No"},{"$f":"IF(W57=\"\",\"\",VLOOKUP(W57,Lookup!$L$1:$M$6,2,FALSE))","v":0},{"$f":"IF(AND(C57=\"External\",I57=90),VLOOKUP(K57,Points!$J$2:$K$27,MATCH(\"90 GLH Grade\",Points!$J$2:$K$2,0),FALSE),\"No\")","v":"No"},{"$f":"IF(Y57=\"\",\"\",VLOOKUP(Y57,Lookup!$L$1:$M$6,2,FALSE))","v":0}]
[null,"Optional",{"$f":"IFERROR(INDEX('Extended Diploma Data Sheet'!$AM$3:$AM$999,MATCH('Extended Diploma'!E58&$E$3,'Extended Diploma Data Sheet'!$AH$3:$AH$999&'Extended Diploma Data Sheet'!$AI$3:$AI$999,0)),\"\")","v":0},{"$f":"IFERROR(INDEX('Extended Diploma Data Sheet'!$AJ$3:$AJ$999,MATCH('Extended Diploma'!E58&$E$3,'Extended Diploma Data Sheet'!$AH$3:$AH$999&'Extended Diploma Data Sheet'!$AI$3:$AI$999,0)),\"\")","v":0},null,null,null,null,{"$f":"IFERROR(INDEX('Extended Diploma Data Sheet'!$AL$3:$AL$999,MATCH('Extended Diploma'!E58&$E$3,'Extended Diploma Data Sheet'!$AH$3:$AH$999&'Extended Diploma Data Sheet'!$AI$3:$AI$999,0)),\"\")","v":0},null,{"$f":"IFERROR(IF(C58=\"Internal\",VLOOKUP(J58,Points!$A$2:$C$6,MATCH(C58&\" \"&I58&\" GLH\",Points!$A$2:$C$2,0),FALSE),\"\"),\"\")","v":""},{"$f":"IF(E58=\"\",\"\",VLOOKUP(SUM(R58,T58,V58,X58,Z58),Lookup!$M$1:$N$6,2,FALSE))","v":""},null,null,null,null,null,null,{"$f":"IFERROR(IF(AND(C58=\"Internal\",I58=90),VLOOKUP(K58,Points!$C$2:$G$6,MATCH(\"Internal Grade\",Points!$C$2:$G$2,0),FALSE),\"\"),\"\")","v":""},{"$f":"IF(S58=\"\",\"\",VLOOKUP(S58,Lookup!$L$2:$M$6,2,FALSE))","v":""},{"$f":"IFERROR(IF(AND(C58=\"Internal\",I58=60),VLOOKUP(K58,Points!$B$2:$G$6,MATCH(\"Internal Grade\",Points!$B$2:$G$2,0),FALSE),\"\"),\"\")","v":""},{"$f":"IF(U58=\"\",\"\",VLOOKUP(U58,Lookup!$L$2:$M$6,2,FALSE))","v":""},{"$f":"IF(AND(C58=\"External\",I58=120),VLOOKUP(K58,Points!$M$2:$N$35,MATCH(\"120 GLH Grade\",Points!$M$2:$N$2,0),FALSE),\"No\")","v":"No"},{"$f":"IF(W58=\"\",\"\",VLOOKUP(W58,Lookup!$L$1:$M$6,2,FALSE))","v":0},{"$f":"IF(AND(C58=\"External\",I58=90),VLOOKUP(K58,Points!$J$2:$K$27,MATCH(\"90 GLH Grade\",Points!$J$2:$K$2,0),FALSE),\"No\")","v":"No"},{"$f":"IF(Y58=\"\",\"\",VLOOKUP(Y58,Lookup!$L$1:$M$6,2,FALSE))","v":0}]
[null,"Optional",{"$f":"IFERROR(INDEX('Extended Diploma Data Sheet'!$AM$3:$AM$999,MATCH('Extended Diploma'!E59&$E$3,'Extended Diploma Data Sheet'!$AH$3:$AH$999&'Extended Diploma Data Sheet'!$AI$3:$AI$999,0)),\"\")","v":0},{"$f":"IFERROR(INDEX('Extended Diploma Data Sheet'!$AJ$3:$AJ$999,MATCH('Extended Diploma'!E59&$E$3,'Extended Diploma Data Sheet'!$AH$3:$AH$999&'Extended Diploma Data Sheet'!$AI$3:$AI$999,0)),\"\")","v":0},null,null,null,null,{"$f":"IFERROR(INDEX('Extended Diploma Data Sheet'!$AL$3:$AL$999,MATCH('Extended Diploma'!E59&$E$3,'Extended Diploma Data Sheet'!$AH$3:$AH$999&'Extended Diploma Data Sheet'!$AI$3:$AI$999,0)),\"\")","v":0},null,{"$f":"IFERROR(IF(C59=\"Internal\",VLOOKUP(J59,Points!$A$2:$C$6,MATCH(C59&\" \"&I59&\" GLH\",Points!$A$2:$C$2,0),FALSE),\"\"),\"\")","v":""},{"$f":"IF(E59=\"\",\"\",VLOOKUP(SUM(R59,T59,V59,X59,Z59),Lookup!$M$1:$N$6,2,FALSE))","v":""},null,null,null,null,null,null,{"$f":"IFERROR(IF(AND(C59=\"Internal\",I59=90),VLOOKUP(K59,Points!$C$2:$G$6,MATCH(\"Internal Grade\",Points!$C$2:$G$2,0),FALSE),\"\"),\"\")","v":""},{"$f":"IF(S59=\"\",\"\",VLOOKUP(S59,Lookup!$L$2:$M$6,2,FALSE))","v":""},{"$f":"IFERROR(IF(AND(C59=\"Internal\",I59=60),VLOOKUP(K59,Points!$B$2:$G$6,MATCH(\"Internal Grade\",Points!$B$2:$G$2,0),FALSE),\"\"),\"\")","v":""},{"$f":"IF(U59=\"\",\"\",VLOOKUP(U59,Lookup!$L$2:$M$6,2,FALSE))","v":""},{"$f":"IF(AND(C59=\"External\",I59=120),VLOOKUP(K59,Points!$M$2:$N$35,MATCH(\"120 GLH Grade\",Points!$M$2:$N$2,0),FALSE),\"No\")","v":"No"},{"$f":"IF(W59=\"\",\"\",VLOOKUP(W59,Lookup!$L$1:$M$6,2,FALSE))","v":0},{"$f":"IF(AND(C59=\"External\",I59=90),VLOOKUP(K59,Points!$J$2:$K$27,MATCH(\"90 GLH Grade\",Points!$J$2:$K$2,0),FALSE),\"No\")","v":"No"},{"$f":"IF(Y59=\"\",\"\",VLOOKUP(Y59,Lookup!$L$1:$M$6,2,FALSE))","v":0}]
[null,"Optional",{"$f":"IFERROR(INDEX('Extended Diploma Data Sheet'!$AM$3:$AM$999,MATCH('Extended Diploma'!E60&$E$3,'Extended Diploma Data Sheet'!$AH$3:$AH$999&'Extended Diploma Data Sheet'!$AI$3:$AI$999,0)),\"\")","v":0},{"$f":"IFERROR(INDEX('Extended Diploma Data Sheet'!$AJ$3:$AJ$999,MATCH('Extended Diploma'!E60&$E$3,'Extended Diploma Data Sheet'!$AH$3:$AH$999&'Extended Diploma Data Sheet'!$AI$3:$AI$999,0)),\"\")","v":0},null,null,null,null,{"$f":"IFERROR(INDEX('Extended Diploma Data Sheet'!$AL$3:$AL$999,MATCH('Extended Diploma'!E60&$E$3,'Extended Diploma Data Sheet'!$AH$3:$AH$999&'Extended Diploma Data Sheet'!$AI$3:$AI$999,0)),\"\")","v":0},null,{"$f":"IFERROR(IF(C60=\"Internal\",VLOOKUP(J60,Points!$A$2:$C$6,MATCH(C60&\" \"&I60&\" GLH\",Points!$A$2:$C$2,0),FALSE),\"\"),\"\")","v":""},{"$f":"IF(E60=\"\",\"\",VLOOKUP(SUM(R60,T60,V60,X60,Z60),Lookup!$M$1:$N$6,2,FALSE))","v":""},null,null,null,null,null,null,{"$f":"IFERROR(IF(AND(C60=\"Internal\",I60=90),VLOOKUP(K60,Points!$C$2:$G$6,MATCH(\"Internal Grade\",Points!$C$2:$G$2,0),FALSE),\"\"),\"\")","v":""},{"$f":"IF(S60=\"\",\"\",VLOOKUP(S60,Lookup!$L$2:$M$6,2,FALSE))","v":""},{"$f":"IFERROR(IF(AND(C60=\"Internal\",I60=60),VLOOKUP(K60,Points!$B$2:$G$6,MATCH(\"Internal Grade\",Points!$B$2:$G$2,0),FALSE),\"\"),\"\")","v":""},{"$f":"IF(U60=\"\",\"\",VLOOKUP(U60,Lookup!$L$2:$M$6,2,FALSE))","v":""},{"$f":"IF(AND(C60=\"External\",I60=120),VLOOKUP(K60,Points!$M$2:$N$35,MATCH(\"120 GLH Grade\",Points!$M$2:$N$2,0),FALSE),\"No\")","v":"No"},{"$f":"IF(W60=\"\",\"\",VLOOKUP(W60,Lookup!$L$1:$M$6,2,FALSE))","v":0},{"$f":"IF(AND(C60=\"External\",I60=90),VLOOKUP(K60,Points!$J$2:$K$27,MATCH(\"90 GLH Grade\",Points!$J$2:$K$2,0),FALSE),\"No\")","v":"No"},{"$f":"IF(Y60=\"\",\"\",VLOOKUP(Y60,Lookup!$L$1:$M$6,2,FALSE))","v":0}]
[null,null,null,null,null,null,null,null,{"$f":"SUM(I55:I60)","v":0}]
[null,null,null,null,null,null,null,null,{"$f":"SUM(I9:I60)-(I35+I47+I53)","v":0}]
[null,null,null,null,null,null,null,null,{"$f":"SUMIFS(I21:I60,L21:L60,\"U\")","v":0},"Overall Grade",{"$f":"SUM(K9:K60)","v":0},{"$f":"IF(OR(E3=\"CPLD\",E3=\"Enterprise and Entrepreneurship\",E3=\"Sport\",E3=\"Agriculture\",E3=\"Horticulture\",E3=\"Music\",E3=\"Music (Production)\",E3=\"Performing Arts Practice\",E3=\"Performing Arts Practice (Acting)\",E3=\"Performing Arts Practice (Dance)\",E3=\"Performing Arts Practice (Musical Theatre)\",E3=\"Performing Arts Practice (Circus)\",E3=\"Production Arts Practice\",E3=\"Production Arts Practice (Design)\",E3=\"Production Arts Practice (Technical)\",E3=\"Production Arts Practice (Management)\",E3=\"Production Arts Practice (Make Up)\"),HLOOKUP(E3,$S$65:$AF$66,2,FALSE),S66)","v":"U"},null,null,null,null,null,null,{"$f":"COUNTIF(L9:L60,\"U\")","v":16}]
[null,null,null,null,null,null,null,null,{"$f":"SUMIFS(I9:I18,L9:L18,\"U\")","v":0},"Points",null,{"$f":"K63","v":0}]
[null,null,null,null,null,null,null,null,{"$f":"I62-I63-I64","v":0},null,null,null,null,null,null,null,null,null,"AG","TL","CPLD","Enterprise and Entrepreneurship","Sport","Agriculture","Horticulture","Music","Music (Production)","Performing Arts Practice","Performing Arts Practice (Acting)","Performing Arts Practice (Dance)","Performing Arts Practice (Musical Theatre)","Performing Arts Practice (Circus)","Production Arts Practice","Production Arts Practice (Deisgn)","Production Arts Practice (Deisgn)"]
[null,null,null,null,null,null,null,null,{"$f":"SUMIFS(I21:I26,L21:L26,\"U\")","v":0},null,null,null,null,null,null,null,null,null,{"$f":"IFERROR(IF(OR($I$65<900,I64:I64>0),\"U\",VLOOKUP($K$63,Points!$Y$2:$Z$13,MATCH(\"Ext Dip Grade\",Points!$Y$2:$Z$2,0),TRUE)),\"\")","v":"U"},{"$f":"IFERROR(IF(OR($I$65<900,I64:I64>0),\"U\",VLOOKUP($K$63,Points!$Y$2:$Z$13,MATCH(\"Ext Dip Grade\",Points!$Y$2:$Z$2,0),TRUE)),\"\")","v":"U"},{"$f":"IFERROR(IF(OR(COUNTIF($L$9:$L$18,\"U\"),COUNTIF($L$9:$L$18,\"N\")),\"U\",VLOOKUP($K$63,Points!$Y$2:$Z$13,MATCH(\"Ext Dip Grade\",Points!$Y$2:$Z$2,0),TRUE)),\"\")","v":"U"},{"$f":"IFERROR(IF(OR($I$65<900,$I$64>0,$I$67>=180),\"U\",VLOOKUP($K$63,Points!$Y$2:$Z$13,MATCH(\"Ext Dip Grade\",Points!$Y$2:$Z$2,0),TRUE)),\"\")","v":"U"},{"$f":"IFERROR(IF(OR($I$65<900,$I$64>0,$I$67>=180),\"U\",VLOOKUP($K$63,Points!$Y$2:$Z$13,MATCH(\"Ext Dip Grade\",Points!$Y$2:$Z$2,0),TRUE)),\"\")","v":"U"},{"$f":"IFERROR(IF(OR($I$65<900,$I$64>0,$I$67>180),\"U\",VLOOKUP($K$63,Points!$Y$2:$Z$13,MATCH(\"Ext Dip Grade\",Points!$Y$2:$Z$2,0),TRUE)),\"\")","v":"U"},{"$f":"IFERROR(IF(OR($I$65<900,$I$64>0,$I$67>240),\"U\",VLOOKUP($K$63,Points!$Y$2:$Z$13,MATCH(\"Ext Dip Grade\",Points!$Y$2:$Z$2,0),TRUE)),\"\")","v":"U"},{"$f":"IF(OR(AND($I$67>=0,$I$68>450),($I$67>0),$L$68>0),\"U\",VLOOKUP($K$63,Points!$Y$2:$Z$13,MATCH(\"Ext Dip Grade\",Points!$Y$2:$Z$2,0),TRUE))","v":"U"},{"$f":"IF(OR(AND($I$67>=0,$I$68>450),($I$67>0),$L$68>0),\"U\",VLOOKUP($K$63,Points!$Y$2:$Z$13,MATCH(\"Ext Dip Grade\",Points!$Y$2:$Z$2,0),TRUE))","v":"U"},{"$f":"IF(OR(AND($I$67>=0,$I$68>450),($I$67>0),$L$68>0),\"U\",VLOOKUP($K$63,Points!$Y$2:$Z$13,MATCH(\"Ext Dip Grade\",Points!$Y$2:$Z$2,0),TRUE))","v":"U"},{"$f":"IF(OR(AND($I$67>=0,$I$68>450),($I$67>0),$L$68>0),\"U\",VLOOKUP($K$63,Points!$Y$2:$Z$13,MATCH(\"Ext Dip Grade\",Points!$Y$2:$Z$2,0),TRUE))","v":"U"},{"$f":"IF(OR(AND($I$67>=0,$I$68>450),($I$67>0),$L$68>0),\"U\",VLOOKUP($K$63,Points!$Y$2:$Z$13,MATCH(\"Ext Dip Grade\",Points!$Y$2:$Z$2,0),TRUE))","v":"U"},{"$f":"IF(OR(AND($I$67>=0,$I$68>450),($I$67>0),$L$68>0),\"U\",VLOOKUP($K$63,Points!$Y$2:$Z$13,MATCH(\"Ext Dip Grade\",Points!$Y$2:$Z$2,0),TRUE))","v":"U"},{"$f":"IF(OR(AND($I$67>=0,$I$68>450),($I$67>0),$L$68>0),\"U\",VLOOKUP($K$63,Points!$Y$2:$Z$13,MATCH(\"Ext Dip Grade\",Points!$Y$2:$Z$2,0),TRUE))","v":"U"},{"$f":"IF(OR(AND($I$67>=0,$I$68>450),($I$67>0),$L$68>0),\"U\",VLOOKUP($K$63,Points!$Y$2:$Z$13,MATCH(\"Ext Dip Grade\",Points!$Y$2:$Z$2,0),TRUE))","v":"U"},{"$f":"IF(OR(AND($I$67>=0,$I$68>450),($I$67>0),$L$68>0),\"U\",VLOOKUP($K$63,Points!$Y$2:$Z$13,MATCH(\"Ext Dip Grade\",Points!$Y$2:$Z$2,0),TRUE))","v":"U"},{"$f":"IF(OR(AND($I$67>=0,$I$68>450),($I$67>0),$L$68>0),\"U\",VLOOKUP($K$63,Points!$Y$2:$Z$13,MATCH(\"Ext Dip Grade\",Points!$Y$2:$Z$2,0),TRUE))","v":"U"}]
[null,null,null,null,null,null,null,null,{"$f":"SUMIFS(I9:I11,L9:L11,\"U\")+SUMIFS(I18,L18,\"U\")","v":0}]
[null,null,null,null,null,null,null,null,{"$f":"SUMIFS(I12:I17,L12:L17,\"U\")","v":0},null,null,{"$f":"COUNTIF(L9:L11,\"U\")+COUNTIF(L18,\"U\")","v":4}]
[]
[]
[]
[null,null,null,null,null,null,null,null,null,"Calculate an estimate of the externally assessed unit grades needed to reach a qualification grade based on the internally assessed unit grades. You must enter all internally assessed grades and may enter any externally assessed grades already known, then select an overall qualification grade below."]
[]
[]
[null,null,null,null,null,null,null,null,null,"Qualification Grade",null,null,null,null,null,null,null,null,null,null,null,null,null,null,null,null,null,null,null,{"$f":"COUNTIF(L9:L26,\"#N/A\")","v":0}]
[null,null,null,null,null,null,null,null,null,"Bottom Grade point total",null,{"$f":"IF($L$75=\"\",0,VLOOKUP($L$75,'Points Contingency'!$U$2:$W$12,2,FALSE))","v":0}]
[null,null,null,null,null,null,null,null,null,"Top Grade point total",null,{"$f":"IF($L$75=\"\",0,VLOOKUP($L$75,'Points Contingency'!$U$2:$W$12,3,FALSE))","v":0}]
[null,null,null,null,null,null,null,null,null,"Points for externals",null,{"$f":"IF(L76-L64<0,L77-L64,L76-L64)","v":0}]
[null,null,null,null,null,null,null,null,null,"No. of 90 GLH externals",null,{"$f":"COUNTIFS($C$9:$C$60,\"External\",$I$9:I$60,90,$L$9:$L$60,\"U\")","v":0}]
[null,null,null,null,null,null,null,null,null,"No. of 120 GLH externals",null,{"$f":"COUNTIFS($C$9:$C$60,\"External\",$I$9:I$60,120,$L$9:$L$60,\"U\")","v":0}]
[null,null,null,null,null,null,null,null,null,"Total GLH external",null,{"$f":"(L79*90)+(L80*120)","v":0}]
[null,null,null,null,null,null,null,null,null,"Scale for 90 GLH",null,{"$f":"IFERROR(L79*90/L81,\"\")","v":""}]
[null,null,null,null,null,null,null,null,null,"Scale for 120 GLH",null,{"$f":"IFERROR(L80*120/L81,\"\")","v":""}]
[null,null,null,null,null,null,null,null,null,"Total points for externals",null,{"$f":"MAX(L78,L89)","v":0},null,null,null,null,null,null,null,null,null,null,null,null,null,null,null,null,null,9]
[null,null,null,null,null,null,null,null,null,"Points per 90 GLH external",null,{"$f":"IFERROR((L84*L82)/L79,\"\")","v":""}]
[null,null,null,null,null,null,null,null,null,"Points per 120 GLH external",null,9]
[null,null,null,null,null,null,null,null,null,"90GLH points",null,{"$f":"IFERROR(ROUND(L85,0),\"\")","v":""}]
[null,null,null,null,null,null,null,null,null,"120GLH points",null,{"$f":"ROUND(L86,0)","v":9}]
[null,null,null,null,null,null,null,null,null,"Points to N",null,{"$f":"(L79*AG5)+(L80*AH5)","v":0}]
[null,null,null,null,null,null,null,null,null,"Total points external min",null,{"$f":"MIN(L78,L89)","v":0}]

{"sheet":"ADMP Extended Diploma","index":10,"n_rows":37,"n_cols":20,"rows_kept":37,"cut":false,"hidden":false,"merged":[[2,4,2,7],[6,4,6,7],[7,1,7,8],[0,17,0,19]]}
[null,null,null,null,null,null,null,null,null,null,null,null,null,null,null,null,null,"Points for each criterion in units"]
[null,null,null,null,null,null,null,null,null,null,null,null,null,null,null,null,null,null,"A1,A2 & B1","B2"]
[null,null,"Select Sector","Start →",null,null,null,null,null,null,null,null,null,null,null,null,null,"U",0,0]
[null,null,null,null,"1. Select your sector from the dropdown list in the cell above",null,null,null,null,null,null,null,null,null,null,null,null,"Pass",1,3]
[null,null,null,null,null,null,null,null,null,null,null,null,null,null,null,null,null,"Merit",2,6]
[null,null,null,null,null,null,null,null,null,null,null,null,null,null,null,null,null,"Distinction",3,9]
[null,null,"Assessment Type","Unit Number","Unit Name",null,null,null,"GLH","Unit Points/Grade","Points","Unit Grade"]
[null,"Learners must achieve\na Pass or above in all assessment criteria for all assessment units",null,null,null,null,null,null,null,"3. Enter the points or grade for the units below"]
[null,null,null,{"$f":"IFERROR(INDEX('Extended Diploma Data Sheet'!$A$3:$E$999,SMALL(IF('Extended Diploma Data Sheet'!$A$3:$A$999=$E$3,ROW('Extended Diploma Data Sheet'!$A$3:$A$999)),ROW(1:1))-2,2),\"\")","v":0},{"$f":"IFERROR(INDEX('Extended Diploma Data Sheet'!$A$3:$E$999,SMALL(IF('Extended Diploma Data Sheet'!$A$3:$A$999=$E$3,ROW('Extended Diploma Data Sheet'!$A$3:$A$999)),ROW(1:1))-2,3),\"\")","v":0},null,null,null,{"$f":"IFERROR(INDEX('Extended Diploma Data Sheet'!$A$3:$E$999,SMALL(IF('Extended Diploma Data Sheet'!$A$3:$A$999=$E$3,ROW('Extended Diploma Data Sheet'!$A$3:$A$999)),ROW(1:1))-2,4),\"\")","v":0}]
[null,null,null,{"$f":"IFERROR(INDEX('Extended Diploma Data Sheet'!$A$3:$E$999,SMALL(IF('Extended Diploma Data Sheet'!$A$3:$A$999=$E$3,ROW('Extended Diploma Data Sheet'!$A$3:$A$999)),ROW(2:2))-2,2),\"\")","v":0},{"$f":"IFERROR(INDEX('Extended Diploma Data Sheet'!$A$3:$E$999,SMALL(IF('Extended Diploma Data Sheet'!$A$3:$A$999=$E$3,ROW('Extended Diploma Data Sheet'!$A$3:$A$999)),ROW(2:2))-2,3),\"\")","v":0},null,null,null,{"$f":"IFERROR(INDEX('Extended Diploma Data Sheet'!$A$3:$E$999,SMALL(IF('Extended Diploma Data Sheet'!$A$3:$A$999=$E$3,ROW('Extended Diploma Data Sheet'!$A$3:$A$999)),ROW(2:2))-2,4),\"\")","v":0},null,{"$f":"SUM(K11:K15)","v":0}]
[null,"Mandatory",{"$f":"IFERROR(INDEX('Extended Diploma Data Sheet'!$A$3:$E$999,SMALL(IF('Extended Diploma Data Sheet'!$A$3:$A$999=$E$3,ROW('Extended Diploma Data Sheet'!$A$3:$A$999)),ROW(3:3))-2,5),\"\")","v":0},{"$f":"IFERROR(INDEX('Extended Diploma Data Sheet'!$A$3:$E$999,SMALL(IF('Extended Diploma Data Sheet'!$A$3:$A$999=$E$3,ROW('Extended Diploma Data Sheet'!$A$3:$A$999)),ROW(3:3))-2,2),\"\")","v":0},{"$f":"IFERROR(INDEX('Extended Diploma Data Sheet'!$A$3:$E$999,SMALL(IF('Extended Diploma Data Sheet'!$A$3:$A$999=$E$3,ROW('Extended Diploma Data Sheet'!$A$3:$A$999)),ROW(3:3))-2,3),\"\")","v":0},null,null,null,{"$f":"IFERROR(INDEX('Extended Diploma Data Sheet'!$A$3:$E$999,SMALL(IF('Extended Diploma Data Sheet'!$A$3:$A$999=$E$3,ROW('Extended Diploma Data Sheet'!$A$3:$A$999)),ROW(3:3))-2,4),\"\")","v":0},null,{"$f":"IFERROR(IF(C11=\"External\",VLOOKUP(J11,Points!$I$2:$M$36,MATCH(C11&\" \"&I11&\" GLH\",Points!$I$2:$M$2,0),FALSE),VLOOKUP(J11,Points!$A$8:$C$12,MATCH(C11&\" \"&I11&\" GLH\",Points!$A$8:$D$8,0),FALSE)),\"\")","v":""},{"$f":"IF(E11=\"\",\"\",VLOOKUP(SUM(N11,P11,R11,T11,V11,X11,Z11),Lookup!$M$1:$N$6,2,FALSE))","v":"U"},{"$f":"IFERROR(IF(AND(C11=\"Internal\",I11=81),VLOOKUP(K11,Points!$B$8:$D$12,MATCH(\"Internal Grade\",Points!$B$8:$D$8,0),FALSE),\"\"),\"\")","v":""},{"$f":"IF(M11=\"\",\"\",VLOOKUP(M11,Lookup!$L$2:$M$6,2,FALSE))","v":""},{"$f":"IFERROR(IF(AND(C11=\"Internal\",I11=27),VLOOKUP(K11,Points!$C$8:$D$12,MATCH(\"Internal Grade\",Points!$C$8:$D$8,0),FALSE),\"\"),\"\")","v":""},{"$f":"IF(O11=\"\",\"\",VLOOKUP(O11,Lookup!$L$2:$M$6,2,FALSE))","v":""}]
[null,"Mandatory",{"$f":"IFERROR(INDEX('Extended Diploma Data Sheet'!$A$3:$E$999,SMALL(IF('Extended Diploma Data Sheet'!$A$3:$A$999=$E$3,ROW('Extended Diploma Data Sheet'!$A$3:$A$999)),ROW(4:4))-2,5),\"\")","v":0},{"$f":"IFERROR(INDEX('Extended Diploma Data Sheet'!$A$3:$E$999,SMALL(IF('Extended Diploma Data Sheet'!$A$3:$A$999=$E$3,ROW('Extended Diploma Data Sheet'!$A$3:$A$999)),ROW(4:4))-2,2),\"\")","v":0},{"$f":"IFERROR(INDEX('Extended Diploma Data Sheet'!$A$3:$E$999,SMALL(IF('Extended Diploma Data Sheet'!$A$3:$A$999=$E$3,ROW('Extended Diploma Data Sheet'!$A$3:$A$999)),ROW(4:4))-2,3),\"\")","v":0},null,null,null,{"$f":"IFERROR(INDEX('Extended Diploma Data Sheet'!$A$3:$E$999,SMALL(IF('Extended Diploma Data Sheet'!$A$3:$A$999=$E$3,ROW('Extended Diploma Data Sheet'!$A$3:$A$999)),ROW(4:4))-2,4),\"\")","v":0},null,{"$f":"IFERROR(IF(C12=\"External\",VLOOKUP(J12,Points!$I$2:$M$36,MATCH(C12&\" \"&I12&\" GLH\",Points!$I$2:$M$2,0),FALSE),VLOOKUP(J12,Points!$A$8:$C$12,MATCH(C12&\" \"&I12&\" GLH\",Points!$A$8:$D$8,0),FALSE)),\"\")","v":""},{"$f":"IF(E12=\"\",\"\",VLOOKUP(SUM(N12,P12,R12,T12,V12,X12,Z12),Lookup!$M$1:$N$6,2,FALSE))","v":"U"},{"$f":"IFERROR(IF(AND(C12=\"Internal\",I12=81),VLOOKUP(K12,Points!$B$8:$D$12,MATCH(\"Internal Grade\",Points!$B$8:$D$8,0),FALSE),\"\"),\"\")","v":""},{"$f":"IF(M12=\"\",\"\",VLOOKUP(M12,Lookup!$L$2:$M$6,2,FALSE))","v":""},{"$f":"IFERROR(IF(AND(C12=\"Internal\",I12=27),VLOOKUP(K12,Points!$C$8:$D$12,MATCH(\"Internal Grade\",Points!$C$8:$D$8,0),FALSE),\"\"),\"\")","v":""},{"$f":"IF(O12=\"\",\"\",VLOOKUP(O12,Lookup!$L$2:$M$6,2,FALSE))","v":""}]
[null,"Mandatory",{"$f":"IFERROR(INDEX('Extended Diploma Data Sheet'!$A$3:$E$999,SMALL(IF('Extended Diploma Data Sheet'!$A$3:$A$999=$E$3,ROW('Extended Diploma Data Sheet'!$A$3:$A$999)),ROW(5:5))-2,5),\"\")","v":0},{"$f":"IFERROR(INDEX('Extended Diploma Data Sheet'!$A$3:$E$999,SMALL(IF('Extended Diploma Data Sheet'!$A$3:$A$999=$E$3,ROW('Extended Diploma Data Sheet'!$A$3:$A$999)),ROW(5:5))-2,2),\"\")","v":0},{"$f":"IFERROR(INDEX('Extended Diploma Data Sheet'!$A$3:$E$999,SMALL(IF('Extended Diploma Data Sheet'!$A$3:$A$999=$E$3,ROW('Extended Diploma Data Sheet'!$A$3:$A$999)),ROW(5:5))-2,3),\"\")","v":0},null,null,null,{"$f":"IFERROR(INDEX('Extended Diploma Data Sheet'!$A$3:$E$999,SMALL(IF('Extended Diploma Data Sheet'!$A$3:$A$999=$E$3,ROW('Extended Diploma Data Sheet'!$A$3:$A$999)),ROW(5:5))-2,4),\"\")","v":0},null,{"$f":"IFERROR(IF(C13=\"External\",VLOOKUP(J13,Points!$I$2:$M$36,MATCH(C13&\" \"&I13&\" GLH\",Points!$I$2:$M$2,0),FALSE),VLOOKUP(J13,Points!$A$8:$C$12,MATCH(C13&\" \"&I13&\" GLH\",Points!$A$8:$D$8,0),FALSE)),\"\")","v":""},{"$f":"IF(E13=\"\",\"\",VLOOKUP(SUM(N13,P13,R13,T13,V13,X13,Z13),Lookup!$M$1:$N$6,2,FALSE))","v":"U"},{"$f":"IFERROR(IF(AND(C13=\"Internal\",I13=81),VLOOKUP(K13,Points!$B$8:$D$12,MATCH(\"Internal Grade\",Points!$B$8:$D$8,0),FALSE),\"\"),\"\")","v":""},{"$f":"IF(M13=\"\",\"\",VLOOKUP(M13,Lookup!$L$2:$M$6,2,FALSE))","v":""},{"$f":"IFERROR(IF(AND(C13=\"Internal\",I13=27),VLOOKUP(K13,Points!$C$8:$D$12,MATCH(\"Internal Grade\",Points!$C$8:$D$8,0),FALSE),\"\"),\"\")","v":""},{"$f":"IF(O13=\"\",\"\",VLOOKUP(O13,Lookup!$L$2:$M$6,2,FALSE))","v":""}]
[null,"Mandatory",{"$f":"IFERROR(INDEX('Extended Diploma Data Sheet'!$A$3:$E$999,SMALL(IF('Extended Diploma Data Sheet'!$A$3:$A$999=$E$3,ROW('Extended Diploma Data Sheet'!$A$3:$A$999)),ROW(6:6))-2,5),\"\")","v":0},{"$f":"IFERROR(INDEX('Extended Diploma Data Sheet'!$A$3:$E$999,SMALL(IF('Extended Diploma Data Sheet'!$A$3:$A$999=$E$3,ROW('Extended Diploma Data Sheet'!$A$3:$A$999)),ROW(6:6))-2,2),\"\")","v":0},{"$f":"IFERROR(INDEX('Extended Diploma Data Sheet'!$A$3:$E$999,SMALL(IF('Extended Diploma Data Sheet'!$A$3:$A$999=$E$3,ROW('Extended Diploma Data Sheet'!$A$3:$A$999)),ROW(6:6))-2,3),\"\")","v":0},null,null,null,{"$f":"IFERROR(INDEX('Extended Diploma Data Sheet'!$A$3:$E$999,SMALL(IF('Extended Diploma Data Sheet'!$A$3:$A$999=$E$3,ROW('Extended Diploma Data Sheet'!$A$3:$A$999)),ROW(6:6))-2,4),\"\")","v":0},null,{"$f":"IFERROR(IF(C14=\"External\",VLOOKUP(J14,Points!$I$2:$M$36,MATCH(C14&\" \"&I14&\" GLH\",Points!$I$2:$M$2,0),FALSE),VLOOKUP(J14,Points!$A$8:$C$12,MATCH(C14&\" \"&I14&\" GLH\",Points!$A$8:$D$8,0),FALSE)),\"\")","v":""},{"$f":"IF(E14=\"\",\"\",VLOOKUP(SUM(N14,P14,R14,T14,V14,X14,Z14),Lookup!$M$1:$N$6,2,FALSE))","v":"U"},{"$f":"IFERROR(IF(AND(C14=\"Internal\",I14=81),VLOOKUP(K14,Points!$B$8:$D$12,MATCH(\"Internal Grade\",Points!$B$8:$D$8,0),FALSE),\"\"),\"\")","v":""},{"$f":"IF(M14=\"\",\"\",VLOOKUP(M14,Lookup!$L$2:$M$6,2,FALSE))","v":""},{"$f":"IFERROR(IF(AND(C14=\"Internal\",I14=27),VLOOKUP(K14,Points!$C$8:$D$12,MATCH(\"Internal Grade\",Points!$C$8:$D$8,0),FALSE),\"\"),\"\")","v":""},{"$f":"IF(O14=\"\",\"\",VLOOKUP(O14,Lookup!$L$2:$M$6,2,FALSE))","v":""}]
[null,"Mandatory",{"$f":"IFERROR(INDEX('Extended Diploma Data Sheet'!$A$3:$E$999,SMALL(IF('Extended Diploma Data Sheet'!$A$3:$A$999=$E$3,ROW('Extended Diploma Data Sheet'!$A$3:$A$999)),ROW(7:7))-2,5),\"\")","v":0},{"$f":"IFERROR(INDEX('Extended Diploma Data Sheet'!$A$3:$E$999,SMALL(IF('Extended Diploma Data Sheet'!$A$3:$A$999=$E$3,ROW('Extended Diploma Data Sheet'!$A$3:$A$999)),ROW(7:7))-2,2),\"\")","v":0},{"$f":"IFERROR(INDEX('Extended Diploma Data Sheet'!$A$3:$E$999,SMALL(IF('Extended Diploma Data Sheet'!$A$3:$A$999=$E$3,ROW('Extended Diploma Data Sheet'!$A$3:$A$999)),ROW(7:7))-2,3),\"\")","v":0},null,null,null,{"$f":"IFERROR(INDEX('Extended Diploma Data Sheet'!$A$3:$E$999,SMALL(IF('Extended Diploma Data Sheet'!$A$3:$A$999=$E$3,ROW('Extended Diploma Data Sheet'!$A$3:$A$999)),ROW(7:7))-2,4),\"\")","v":0},null,{"$f":"IFERROR(IF(C15=\"External\",VLOOKUP(J15,Points!$I$2:$M$36,MATCH(C15&\" \"&I15&\" GLH\",Points!$I$2:$M$2,0),FALSE),VLOOKUP(J15,Points!$A$8:$C$12,MATCH(C15&\" \"&I15&\" GLH\",Points!$A$8:$D$8,0),FALSE)),\"\")","v":""},{"$f":"IF(E15=\"\",\"\",VLOOKUP(SUM(N15,P15,R15,T15,V15,X15,Z15),Lookup!$M$1:$N$6,2,FALSE))","v":"U"},{"$f":"IFERROR(IF(AND(C15=\"Internal\",I15=81),VLOOKUP(K15,Points!$B$8:$D$12,MATCH(\"Internal Grade\",Points!$B$8:$D$8,0),FALSE),\"\"),\"\")","v":""},{"$f":"IF(M15=\"\",\"\",VLOOKUP(M15,Lookup!$L$2:$M$6,2,FALSE))","v":""},{"$f":"IFERROR(IF(AND(C15=\"Internal\",I15=27),VLOOKUP(K15,Points!$C$8:$D$12,MATCH(\"Internal Grade\",Points!$C$8:$D$8,0),FALSE),\"\"),\"\")","v":""},{"$f":"IF(O15=\"\",\"\",VLOOKUP(O15,Lookup!$L$2:$M$6,2,FALSE))","v":""}]
[null,null,null,{"$f":"IFERROR(INDEX('Extended Diploma Data Sheet'!$A$3:$E$999,SMALL(IF('Extended Diploma Data Sheet'!$A$3:$A$999=$E$3,ROW('Extended Diploma Data Sheet'!$A$3:$A$999)),ROW(8:8))-2,2),\"\")","v":0},{"$f":"IFERROR(INDEX('Extended Diploma Data Sheet'!$A$3:$E$999,SMALL(IF('Extended Diploma Data Sheet'!$A$3:$A$999=$E$3,ROW('Extended Diploma Data Sheet'!$A$3:$A$999)),ROW(8:8))-2,3),\"\")","v":0},null,null,null,{"$f":"IFERROR(INDEX('Extended Diploma Data Sheet'!$A$3:$E$999,SMALL(IF('Extended Diploma Data Sheet'!$A$3:$A$999=$E$3,ROW('Extended Diploma Data Sheet'!$A$3:$A$999)),ROW(8:8))-2,4),\"\")","v":0},null,{"$f":"SUM(K17:K21)","v":0}]
[null,"Mandatory",{"$f":"IFERROR(INDEX('Extended Diploma Data Sheet'!$A$3:$E$999,SMALL(IF('Extended Diploma Data Sheet'!$A$3:$A$999=$E$3,ROW('Extended Diploma Data Sheet'!$A$3:$A$999)),ROW(9:9))-2,5),\"\")","v":0},{"$f":"IFERROR(INDEX('Extended Diploma Data Sheet'!$A$3:$E$999,SMALL(IF('Extended Diploma Data Sheet'!$A$3:$A$999=$E$3,ROW('Extended Diploma Data Sheet'!$A$3:$A$999)),ROW(9:9))-2,2),\"\")","v":0},{"$f":"IFERROR(INDEX('Extended Diploma Data Sheet'!$A$3:$E$999,SMALL(IF('Extended Diploma Data Sheet'!$A$3:$A$999=$E$3,ROW('Extended Diploma Data Sheet'!$A$3:$A$999)),ROW(9:9))-2,3),\"\")","v":0},null,null,null,{"$f":"IFERROR(INDEX('Extended Diploma Data Sheet'!$A$3:$E$999,SMALL(IF('Extended Diploma Data Sheet'!$A$3:$A$999=$E$3,ROW('Extended Diploma Data Sheet'!$A$3:$A$999)),ROW(9:9))-2,4),\"\")","v":0},null,{"$f":"IFERROR(IF(C17=\"External\",VLOOKUP(J17,Points!$I$2:$M$36,MATCH(C17&\" \"&I17&\" GLH\",Points!$I$2:$M$2,0),FALSE),VLOOKUP(J17,Points!$A$8:$C$12,MATCH(C17&\" \"&I17&\" GLH\",Points!$A$8:$D$8,0),FALSE)),\"\")","v":""},{"$f":"IF(E17=\"\",\"\",VLOOKUP(SUM(N17,P17,R17,T17,V17,X17,Z17),Lookup!$M$1:$N$6,2,FALSE))","v":"U"},{"$f":"IFERROR(IF(AND(C17=\"Internal\",I17=81),VLOOKUP(K17,Points!$B$8:$D$12,MATCH(\"Internal Grade\",Points!$B$8:$D$8,0),FALSE),\"\"),\"\")","v":""},{"$f":"IF(M17=\"\",\"\",VLOOKUP(M17,Lookup!$L$2:$M$6,2,FALSE))","v":""},{"$f":"IFERROR(IF(AND(C17=\"Internal\",I17=27),VLOOKUP(K17,Points!$C$8:$D$12,MATCH(\"Internal Grade\",Points!$C$8:$D$8,0),FALSE),\"\"),\"\")","v":""},{"$f":"IF(O17=\"\",\"\",VLOOKUP(O17,Lookup!$L$2:$M$6,2,FALSE))","v":""}]
[null,"Mandatory",{"$f":"IFERROR(INDEX('Extended Diploma Data Sheet'!$A$3:$E$999,SMALL(IF('Extended Diploma Data Sheet'!$A$3:$A$999=$E$3,ROW('Extended Diploma Data Sheet'!$A$3:$A$999)),ROW(10:10))-2,5),\"\")","v":0},{"$f":"IFERROR(INDEX('Extended Diploma Data Sheet'!$A$3:$E$999,SMALL(IF('Extended Diploma Data Sheet'!$A$3:$A$999=$E$3,ROW('Extended Diploma Data Sheet'!$A$3:$A$999)),ROW(10:10))-2,2),\"\")","v":0},{"$f":"IFERROR(INDEX('Extended Diploma Data Sheet'!$A$3:$E$999,SMALL(IF('Extended Diploma Data Sheet'!$A$3:$A$999=$E$3,ROW('Extended Diploma Data Sheet'!$A$3:$A$999)),ROW(10:10))-2,3),\"\")","v":0},null,null,null,{"$f":"IFERROR(INDEX('Extended Diploma Data Sheet'!$A$3:$E$999,SMALL(IF('Extended Diploma Data Sheet'!$A$3:$A$999=$E$3,ROW('Extended Diploma Data Sheet'!$A$3:$A$999)),ROW(10:10))-2,4),\"\")","v":0},null,{"$f":"IFERROR(IF(C18=\"External\",VLOOKUP(J18,Points!$I$2:$M$36,MATCH(C18&\" \"&I18&\" GLH\",Points!$I$2:$M$2,0),FALSE),VLOOKUP(J18,Points!$A$8:$C$12,MATCH(C18&\" \"&I18&\" GLH\",Points!$A$8:$D$8,0),FALSE)),\"\")","v":""},{"$f":"IF(E18=\"\",\"\",VLOOKUP(SUM(N18,P18,R18,T18,V18,X18,Z18),Lookup!$M$1:$N$6,2,FALSE))","v":"U"},{"$f":"IFERROR(IF(AND(C18=\"Internal\",I18=81),VLOOKUP(K18,Points!$B$8:$D$12,MATCH(\"Internal Grade\",Points!$B$8:$D$8,0),FALSE),\"\"),\"\")","v":""},{"$f":"IF(M18=\"\",\"\",VLOOKUP(M18,Lookup!$L$2:$M$6,2,FALSE))","v":""},{"$f":"IFERROR(IF(AND(C18=\"Internal\",I18=27),VLOOKUP(K18,Points!$C$8:$D$12,MATCH(\"Internal Grade\",Points!$C$8:$D$8,0),FALSE),\"\"),\"\")","v":""},{"$f":"IF(O18=\"\",\"\",VLOOKUP(O18,Lookup!$L$2:$M$6,2,FALSE))","v":""}]
[null,"Mandatory",{"$f":"IFERROR(INDEX('Extended Diploma Data Sheet'!$A$3:$E$999,SMALL(IF('Extended Diploma Data Sheet'!$A$3:$A$999=$E$3,ROW('Extended Diploma Data Sheet'!$A$3:$A$999)),ROW(11:11))-2,5),\"\")","v":0},{"$f":"IFERROR(INDEX('Extended Diploma Data Sheet'!$A$3:$E$999,SMALL(IF('Extended Diploma Data Sheet'!$A$3:$A$999=$E$3,ROW('Extended Diploma Data Sheet'!$A$3:$A$999)),ROW(11:11))-2,2),\"\")","v":0},{"$f":"IFERROR(INDEX('Extended Diploma Data Sheet'!$A$3:$E$999,SMALL(IF('Extended Diploma Data Sheet'!$A$3:$A$999=$E$3,ROW('Extended Diploma Data Sheet'!$A$3:$A$999)),ROW(11:11))-2,3),\"\")","v":0},null,null,null,{"$f":"IFERROR(INDEX('Extended Diploma Data Sheet'!$A$3:$E$999,SMALL(IF('Extended Diploma Data Sheet'!$A$3:$A$999=$E$3,ROW('Extended Diploma Data Sheet'!$A$3:$A$999)),ROW(11:11))-2,4),\"\")","v":0},null,{"$f":"IFERROR(IF(C19=\"External\",VLOOKUP(J19,Points!$I$2:$M$36,MATCH(C19&\" \"&I19&\" GLH\",Points!$I$2:$M$2,0),FALSE),VLOOKUP(J19,Points!$A$8:$C$12,MATCH(C19&\" \"&I19&\" GLH\",Points!$A$8:$D$8,0),FALSE)),\"\")","v":""},{"$f":"IF(E19=\"\",\"\",VLOOKUP(SUM(N19,P19,R19,T19,V19,X19,Z19),Lookup!$M$1:$N$6,2,FALSE))","v":"U"},{"$f":"IFERROR(IF(AND(C19=\"Internal\",I19=81),VLOOKUP(K19,Points!$B$8:$D$12,MATCH(\"Internal Grade\",Points!$B$8:$D$8,0),FALSE),\"\"),\"\")","v":""},{"$f":"IF(M19=\"\",\"\",VLOOKUP(M19,Lookup!$L$2:$M$6,2,FALSE))","v":""},{"$f":"IFERROR(IF(AND(C19=\"Internal\",I19=27),VLOOKUP(K19,Points!$C$8:$D$12,MATCH(\"Internal Grade\",Points!$C$8:$D$8,0),FALSE),\"\"),\"\")","v":""},{"$f":"IF(O19=\"\",\"\",VLOOKUP(O19,Lookup!$L$2:$M$6,2,FALSE))","v":""}]
[null,"Mandatory",{"$f":"IFERROR(INDEX('Extended Diploma Data Sheet'!$A$3:$E$999,SMALL(IF('Extended Diploma Data Sheet'!$A$3:$A$999=$E$3,ROW('Extended Diploma Data Sheet'!$A$3:$A$999)),ROW(12:12))-2,5),\"\")","v":0},{"$f":"IFERROR(INDEX('Extended Diploma Data Sheet'!$A$3:$E$999,SMALL(IF('Extended Diploma Data Sheet'!$A$3:$A$999=$E$3,ROW('Extended Diploma Data Sheet'!$A$3:$A$999)),ROW(12:12))-2,2),\"\")","v":0},{"$f":"IFERROR(INDEX('Extended Diploma Data Sheet'!$A$3:$E$999,SMALL(IF('Extended Diploma Data Sheet'!$A$3:$A$999=$E$3,ROW('Extended Diploma Data Sheet'!$A$3:$A$999)),ROW(12:12))-2,3),\"\")","v":0},null,null,null,{"$f":"IFERROR(INDEX('Extended Diploma Data Sheet'!$A$3:$E$999,SMALL(IF('Extended Diploma Data Sheet'!$A$3:$A$999=$E$3,ROW('Extended Diploma Data Sheet'!$A$3:$A$999)),ROW(12:12))-2,4),\"\")","v":0},null,{"$f":"IFERROR(IF(C20=\"External\",VLOOKUP(J20,Points!$I$2:$M$36,MATCH(C20&\" \"&I20&\" GLH\",Points!$I$2:$M$2,0),FALSE),VLOOKUP(J20,Points!$A$8:$C$12,MATCH(C20&\" \"&I20&\" GLH\",Points!$A$8:$D$8,0),FALSE)),\"\")","v":""},{"$f":"IF(E20=\"\",\"\",VLOOKUP(SUM(N20,P20,R20,T20,V20,X20,Z20),Lookup!$M$1:$N$6,2,FALSE))","v":"U"},{"$f":"IFERROR(IF(AND(C20=\"Internal\",I20=81),VLOOKUP(K20,Points!$B$8:$D$12,MATCH(\"Internal Grade\",Points!$B$8:$D$8,0),FALSE),\"\"),\"\")","v":""},{"$f":"IF(M20=\"\",\"\",VLOOKUP(M20,Lookup!$L$2:$M$6,2,FALSE))","v":""},{"$f":"IFERROR(IF(AND(C20=\"Internal\",I20=27),VLOOKUP(K20,Points!$C$8:$D$12,MATCH(\"Internal Grade\",Points!$C$8:$D$8,0),FALSE),\"\"),\"\")","v":""},{"$f":"IF(O20=\"\",\"\",VLOOKUP(O20,Lookup!$L$2:$M$6,2,FALSE))","v":""}]
[null,"Mandatory",{"$f":"IFERROR(INDEX('Extended Diploma Data Sheet'!$A$3:$E$999,SMALL(IF('Extended Diploma Data Sheet'!$A$3:$A$999=$E$3,ROW('Extended Diploma Data Sheet'!$A$3:$A$999)),ROW(13:13))-2,5),\"\")","v":0},{"$f":"IFERROR(INDEX('Extended Diploma Data Sheet'!$A$3:$E$999,SMALL(IF('Extended Diploma Data Sheet'!$A$3:$A$999=$E$3,ROW('Extended Diploma Data Sheet'!$A$3:$A$999)),ROW(13:13))-2,2),\"\")","v":0},{"$f":"IFERROR(INDEX('Extended Diploma Data Sheet'!$A$3:$E$999,SMALL(IF('Extended Diploma Data Sheet'!$A$3:$A$999=$E$3,ROW('Extended Diploma Data Sheet'!$A$3:$A$999)),ROW(13:13))-2,3),\"\")","v":0},null,null,null,{"$f":"IFERROR(INDEX('Extended Diploma Data Sheet'!$A$3:$E$999,SMALL(IF('Extended Diploma Data Sheet'!$A$3:$A$999=$E$3,ROW('Extended Diploma Data Sheet'!$A$3:$A$999)),ROW(13:13))-2,4),\"\")","v":0},null,{"$f":"IFERROR(IF(C21=\"External\",VLOOKUP(J21,Points!$I$2:$M$36,MATCH(C21&\" \"&I21&\" GLH\",Points!$I$2:$M$2,0),FALSE),VLOOKUP(J21,Points!$A$8:$C$12,MATCH(C21&\" \"&I21&\" GLH\",Points!$A$8:$D$8,0),FALSE)),\"\")","v":""},{"$f":"IF(E21=\"\",\"\",VLOOKUP(SUM(N21,P21,R21,T21,V21,X21,Z21),Lookup!$M$1:$N$6,2,FALSE))","v":"U"},{"$f":"IFERROR(IF(AND(C21=\"Internal\",I21=81),VLOOKUP(K21,Points!$B$8:$D$12,MATCH(\"Internal Grade\",Points!$B$8:$D$8,0),FALSE),\"\"),\"\")","v":""},{"$f":"IF(M21=\"\",\"\",VLOOKUP(M21,Lookup!$L$2:$M$6,2,FALSE))","v":""},{"$f":"IFERROR(IF(AND(C21=\"Internal\",I21=27),VLOOKUP(K21,Points!$C$8:$D$12,MATCH(\"Internal Grade\",Points!$C$8:$D$8,0),FALSE),\"\"),\"\")","v":""},{"$f":"IF(O21=\"\",\"\",VLOOKUP(O21,Lookup!$L$2:$M$6,2,FALSE))","v":""}]
[null,null,null,{"$f":"IFERROR(INDEX('Extended Diploma Data Sheet'!$A$3:$E$999,SMALL(IF('Extended Diploma Data Sheet'!$A$3:$A$999=$E$3,ROW('Extended Diploma Data Sheet'!$A$3:$A$999)),ROW(14:14))-2,2),\"\")","v":0},{"$f":"IFERROR(INDEX('Extended Diploma Data Sheet'!$A$3:$E$999,SMALL(IF('Extended Diploma Data Sheet'!$A$3:$A$999=$E$3,ROW('Extended Diploma Data Sheet'!$A$3:$A$999)),ROW(14:14))-2,3),\"\")","v":0},null,null,null,{"$f":"IFERROR(INDEX('Extended Diploma Data Sheet'!$A$3:$E$999,SMALL(IF('Extended Diploma Data Sheet'!$A$3:$A$999=$E$3,ROW('Extended Diploma Data Sheet'!$A$3:$A$999)),ROW(14:14))-2,4),\"\")","v":0}]
[null,null,null,{"$f":"IFERROR(INDEX('Extended Diploma Data Sheet'!$A$3:$E$999,SMALL(IF('Extended Diploma Data Sheet'!$A$3:$A$999=$E$3,ROW('Extended Diploma Data Sheet'!$A$3:$A$999)),ROW(15:15))-2,2),\"\")","v":0},{"$f":"IFERROR(INDEX('Extended Diploma Data Sheet'!$A$3:$E$999,SMALL(IF('Extended Diploma Data Sheet'!$A$3:$A$999=$E$3,ROW('Extended Diploma Data Sheet'!$A$3:$A$999)),ROW(15:15))-2,3),\"\")","v":0},null,null,null,{"$f":"IFERROR(INDEX('Extended Diploma Data Sheet'!$A$3:$E$999,SMALL(IF('Extended Diploma Data Sheet'!$A$3:$A$999=$E$3,ROW('Extended Diploma Data Sheet'!$A$3:$A$999)),ROW(15:15))-2,4),\"\")","v":0},null,{"$f":"SUM(K24:K28)","v":0}]
[null,"Mandatory",{"$f":"IFERROR(INDEX('Extended Diploma Data Sheet'!$A$3:$E$999,SMALL(IF('Extended Diploma Data Sheet'!$A$3:$A$999=$E$3,ROW('Extended Diploma Data Sheet'!$A$3:$A$999)),ROW(16:16))-2,5),\"\")","v":0},{"$f":"IFERROR(INDEX('Extended Diploma Data Sheet'!$A$3:$E$999,SMALL(IF('Extended Diploma Data Sheet'!$A$3:$A$999=$E$3,ROW('Extended Diploma Data Sheet'!$A$3:$A$999)),ROW(16:16))-2,2),\"\")","v":0},{"$f":"IFERROR(INDEX('Extended Diploma Data Sheet'!$A$3:$E$999,SMALL(IF('Extended Diploma Data Sheet'!$A$3:$A$999=$E$3,ROW('Extended Diploma Data Sheet'!$A$3:$A$999)),ROW(16:16))-2,3),\"\")","v":0},null,null,null,{"$f":"IFERROR(INDEX('Extended Diploma Data Sheet'!$A$3:$E$999,SMALL(IF('Extended Diploma Data Sheet'!$A$3:$A$999=$E$3,ROW('Extended Diploma Data Sheet'!$A$3:$A$999)),ROW(16:16))-2,4),\"\")","v":0},null,{"$f":"IFERROR(IF(C24=\"External\",VLOOKUP(J24,Points!$I$2:$M$36,MATCH(C24&\" \"&I24&\" GLH\",Points!$I$2:$M$2,0),FALSE),VLOOKUP(J24,Points!$A$8:$C$12,MATCH(C24&\" \"&I24&\" GLH\",Points!$A$8:$D$8,0),FALSE)),\"\")","v":""},{"$f":"IF(E24=\"\",\"\",VLOOKUP(SUM(N24,P24,R24,T24,V24,X24,Z24),Lookup!$M$1:$N$6,2,FALSE))","v":"U"},{"$f":"IFERROR(IF(AND(C24=\"Internal\",I24=81),VLOOKUP(K24,Points!$B$8:$D$12,MATCH(\"Internal Grade\",Points!$B$8:$D$8,0),FALSE),\"\"),\"\")","v":""},{"$f":"IF(M24=\"\",\"\",VLOOKUP(M24,Lookup!$L$2:$M$6,2,FALSE))","v":""},{"$f":"IFERROR(IF(AND(C24=\"Internal\",I24=27),VLOOKUP(K24,Points!$C$8:$D$12,MATCH(\"Internal Grade\",Points!$C$8:$D$8,0),FALSE),\"\"),\"\")","v":""},{"$f":"IF(O24=\"\",\"\",VLOOKUP(O24,Lookup!$L$2:$M$6,2,FALSE))","v":""}]
[null,"Mandatory",{"$f":"IFERROR(INDEX('Extended Diploma Data Sheet'!$A$3:$E$999,SMALL(IF('Extended Diploma Data Sheet'!$A$3:$A$999=$E$3,ROW('Extended Diploma Data Sheet'!$A$3:$A$999)),ROW(17:17))-2,5),\"\")","v":0},{"$f":"IFERROR(INDEX('Extended Diploma Data Sheet'!$A$3:$E$999,SMALL(IF('Extended Diploma Data Sheet'!$A$3:$A$999=$E$3,ROW('Extended Diploma Data Sheet'!$A$3:$A$999)),ROW(17:17))-2,2),\"\")","v":0},{"$f":"IFERROR(INDEX('Extended Diploma Data Sheet'!$A$3:$E$999,SMALL(IF('Extended Diploma Data Sheet'!$A$3:$A$999=$E$3,ROW('Extended Diploma Data Sheet'!$A$3:$A$999)),ROW(17:17))-2,3),\"\")","v":0},null,null,null,{"$f":"IFERROR(INDEX('Extended Diploma Data Sheet'!$A$3:$E$999,SMALL(IF('Extended Diploma Data Sheet'!$A$3:$A$999=$E$3,ROW('Extended Diploma Data Sheet'!$A$3:$A$999)),ROW(17:17))-2,4),\"\")","v":0},null,{"$f":"IFERROR(IF(C25=\"External\",VLOOKUP(J25,Points!$I$2:$M$36,MATCH(C25&\" \"&I25&\" GLH\",Points!$I$2:$M$2,0),FALSE),VLOOKUP(J25,Points!$A$8:$C$12,MATCH(C25&\" \"&I25&\" GLH\",Points!$A$8:$D$8,0),FALSE)),\"\")","v":""},{"$f":"IF(E25=\"\",\"\",VLOOKUP(SUM(N25,P25,R25,T25,V25,X25,Z25),Lookup!$M$1:$N$6,2,FALSE))","v":"U"},{"$f":"IFERROR(IF(AND(C25=\"Internal\",I25=81),VLOOKUP(K25,Points!$B$8:$D$12,MATCH(\"Internal Grade\",Points!$B$8:$D$8,0),FALSE),\"\"),\"\")","v":""},{"$f":"IF(M25=\"\",\"\",VLOOKUP(M25,Lookup!$L$2:$M$6,2,FALSE))","v":""},{"$f":"IFERROR(IF(AND(C25=\"Internal\",I25=27),VLOOKUP(K25,Points!$C$8:$D$12,MATCH(\"Internal Grade\",Points!$C$8:$D$8,0),FALSE),\"\"),\"\")","v":""},{"$f":"IF(O25=\"\",\"\",VLOOKUP(O25,Lookup!$L$2:$M$6,2,FALSE))","v":""}]
[null,"Mandatory",{"$f":"IFERROR(INDEX('Extended Diploma Data Sheet'!$A$3:$E$999,SMALL(IF('Extended Diploma Data Sheet'!$A$3:$A$999=$E$3,ROW('Extended Diploma Data Sheet'!$A$3:$A$999)),ROW(18:18))-2,5),\"\")","v":0},{"$f":"IFERROR(INDEX('Extended Diploma Data Sheet'!$A$3:$E$999,SMALL(IF('Extended Diploma Data Sheet'!$A$3:$A$999=$E$3,ROW('Extended Diploma Data Sheet'!$A$3:$A$999)),ROW(18:18))-2,2),\"\")","v":0},{"$f":"IFERROR(INDEX('Extended Diploma Data Sheet'!$A$3:$E$999,SMALL(IF('Extended Diploma Data Sheet'!$A$3:$A$999=$E$3,ROW('Extended Diploma Data Sheet'!$A$3:$A$999)),ROW(18:18))-2,3),\"\")","v":0},null,null,null,{"$f":"IFERROR(INDEX('Extended Diploma Data Sheet'!$A$3:$E$999,SMALL(IF('Extended Diploma Data Sheet'!$A$3:$A$999=$E$3,ROW('Extended Diploma Data Sheet'!$A$3:$A$999)),ROW(18:18))-2,4),\"\")","v":0},null,{"$f":"IFERROR(IF(C26=\"External\",VLOOKUP(J26,Points!$I$2:$M$36,MATCH(C26&\" \"&I26&\" GLH\",Points!$I$2:$M$2,0),FALSE),VLOOKUP(J26,Points!$A$8:$C$12,MATCH(C26&\" \"&I26&\" GLH\",Points!$A$8:$D$8,0),FALSE)),\"\")","v":""},{"$f":"IF(E26=\"\",\"\",VLOOKUP(SUM(N26,P26,R26,T26,V26,X26,Z26),Lookup!$M$1:$N$6,2,FALSE))","v":"U"},{"$f":"IFERROR(IF(AND(C26=\"Internal\",I26=81),VLOOKUP(K26,Points!$B$8:$D$12,MATCH(\"Internal Grade\",Points!$B$8:$D$8,0),FALSE),\"\"),\"\")","v":""},{"$f":"IF(M26=\"\",\"\",VLOOKUP(M26,Lookup!$L$2:$M$6,2,FALSE))","v":""},{"$f":"IFERROR(IF(AND(C26=\"Internal\",I26=27),VLOOKUP(K26,Points!$C$8:$D$12,MATCH(\"Internal Grade\",Points!$C$8:$D$8,0),FALSE),\"\"),\"\")","v":""},{"$f":"IF(O26=\"\",\"\",VLOOKUP(O26,Lookup!$L$2:$M$6,2,FALSE))","v":""}]
[null,"Mandatory",{"$f":"IFERROR(INDEX('Extended Diploma Data Sheet'!$A$3:$E$999,SMALL(IF('Extended Diploma Data Sheet'!$A$3:$A$999=$E$3,ROW('Extended Diploma Data Sheet'!$A$3:$A$999)),ROW(19:19))-2,5),\"\")","v":0},{"$f":"IFERROR(INDEX('Extended Diploma Data Sheet'!$A$3:$E$999,SMALL(IF('Extended Diploma Data Sheet'!$A$3:$A$999=$E$3,ROW('Extended Diploma Data Sheet'!$A$3:$A$999)),ROW(19:19))-2,2),\"\")","v":0},{"$f":"IFERROR(INDEX('Extended Diploma Data Sheet'!$A$3:$E$999,SMALL(IF('Extended Diploma Data Sheet'!$A$3:$A$999=$E$3,ROW('Extended Diploma Data Sheet'!$A$3:$A$999)),ROW(19:19))-2,3),\"\")","v":0},null,null,null,{"$f":"IFERROR(INDEX('Extended Diploma Data Sheet'!$A$3:$E$999,SMALL(IF('Extended Diploma Data Sheet'!$A$3:$A$999=$E$3,ROW('Extended Diploma Data Sheet'!$A$3:$A$999)),ROW(19:19))-2,4),\"\")","v":0},null,{"$f":"IFERROR(IF(C27=\"External\",VLOOKUP(J27,Points!$I$2:$M$36,MATCH(C27&\" \"&I27&\" GLH\",Points!$I$2:$M$2,0),FALSE),VLOOKUP(J27,Points!$A$8:$C$12,MATCH(C27&\" \"&I27&\" GLH\",Points!$A$8:$D$8,0),FALSE)),\"\")","v":""},{"$f":"IF(E27=\"\",\"\",VLOOKUP(SUM(N27,P27,R27,T27,V27,X27,Z27),Lookup!$M$1:$N$6,2,FALSE))","v":"U"},{"$f":"IFERROR(IF(AND(C27=\"Internal\",I27=81),VLOOKUP(K27,Points!$B$8:$D$12,MATCH(\"Internal Grade\",Points!$B$8:$D$8,0),FALSE),\"\"),\"\")","v":""},{"$f":"IF(M27=\"\",\"\",VLOOKUP(M27,Lookup!$L$2:$M$6,2,FALSE))","v":""},{"$f":"IFERROR(IF(AND(C27=\"Internal\",I27=27),VLOOKUP(K27,Points!$C$8:$D$12,MATCH(\"Internal Grade\",Points!$C$8:$D$8,0),FALSE),\"\"),\"\")","v":""},{"$f":"IF(O27=\"\",\"\",VLOOKUP(O27,Lookup!$L$2:$M$6,2,FALSE))","v":""}]
[null,"Mandatory",{"$f":"IFERROR(INDEX('Extended Diploma Data Sheet'!$A$3:$E$999,SMALL(IF('Extended Diploma Data Sheet'!$A$3:$A$999=$E$3,ROW('Extended Diploma Data Sheet'!$A$3:$A$999)),ROW(20:20))-2,5),\"\")","v":0},{"$f":"IFERROR(INDEX('Extended Diploma Data Sheet'!$A$3:$E$999,SMALL(IF('Extended Diploma Data Sheet'!$A$3:$A$999=$E$3,ROW('Extended Diploma Data Sheet'!$A$3:$A$999)),ROW(20:20))-2,2),\"\")","v":0},{"$f":"IFERROR(INDEX('Extended Diploma Data Sheet'!$A$3:$E$999,SMALL(IF('Extended Diploma Data Sheet'!$A$3:$A$999=$E$3,ROW('Extended Diploma Data Sheet'!$A$3:$A$999)),ROW(20:20))-2,3),\"\")","v":0},null,null,null,{"$f":"IFERROR(INDEX('Extended Diploma Data Sheet'!$A$3:$E$999,SMALL(IF('Extended Diploma Data Sheet'!$A$3:$A$999=$E$3,ROW('Extended Diploma Data Sheet'!$A$3:$A$999)),ROW(20:20))-2,4),\"\")","v":0},null,{"$f":"IFERROR(IF(C28=\"External\",VLOOKUP(J28,Points!$I$2:$M$36,MATCH(C28&\" \"&I28&\" GLH\",Points!$I$2:$M$2,0),FALSE),VLOOKUP(J28,Points!$A$8:$C$12,MATCH(C28&\" \"&I28&\" GLH\",Points!$A$8:$D$8,0),FALSE)),\"\")","v":""},{"$f":"IF(E28=\"\",\"\",VLOOKUP(SUM(N28,P28,R28,T28,V28,X28,Z28),Lookup!$M$1:$N$6,2,FALSE))","v":"U"},{"$f":"IFERROR(IF(AND(C28=\"Internal\",I28=81),VLOOKUP(K28,Points!$B$8:$D$12,MATCH(\"Internal Grade\",Points!$B$8:$D$8,0),FALSE),\"\"),\"\")","v":""},{"$f":"IF(M28=\"\",\"\",VLOOKUP(M28,Lookup!$L$2:$M$6,2,FALSE))","v":""},{"$f":"IFERROR(IF(AND(C28=\"Internal\",I28=27),VLOOKUP(K28,Points!$C$8:$D$12,MATCH(\"Internal Grade\",Points!$C$8:$D$8,0),FALSE),\"\"),\"\")","v":""},{"$f":"IF(O28=\"\",\"\",VLOOKUP(O28,Lookup!$L$2:$M$6,2,FALSE))","v":""}]
[null,null,null,{"$f":"IFERROR(INDEX('Extended Diploma Data Sheet'!$A$3:$E$999,SMALL(IF('Extended Diploma Data Sheet'!$A$3:$A$999=$E$3,ROW('Extended Diploma Data Sheet'!$A$3:$A$999)),ROW(21:21))-2,2),\"\")","v":0},{"$f":"IFERROR(INDEX('Extended Diploma Data Sheet'!$A$3:$E$999,SMALL(IF('Extended Diploma Data Sheet'!$A$3:$A$999=$E$3,ROW('Extended Diploma Data Sheet'!$A$3:$A$999)),ROW(21:21))-2,3),\"\")","v":0},null,null,null,{"$f":"IFERROR(INDEX('Extended Diploma Data Sheet'!$A$3:$E$999,SMALL(IF('Extended Diploma Data Sheet'!$A$3:$A$999=$E$3,ROW('Extended Diploma Data Sheet'!$A$3:$A$999)),ROW(21:21))-2,4),\"\")","v":0},null,{"$f":"SUM(K30:K34)","v":0}]
[null,"Mandatory",{"$f":"IFERROR(INDEX('Extended Diploma Data Sheet'!$A$3:$E$999,SMALL(IF('Extended Diploma Data Sheet'!$A$3:$A$999=$E$3,ROW('Extended Diploma Data Sheet'!$A$3:$A$999)),ROW(22:22))-2,5),\"\")","v":0},{"$f":"IFERROR(INDEX('Extended Diploma Data Sheet'!$A$3:$E$999,SMALL(IF('Extended Diploma Data Sheet'!$A$3:$A$999=$E$3,ROW('Extended Diploma Data Sheet'!$A$3:$A$999)),ROW(22:22))-2,2),\"\")","v":0},{"$f":"IFERROR(INDEX('Extended Diploma Data Sheet'!$A$3:$E$999,SMALL(IF('Extended Diploma Data Sheet'!$A$3:$A$999=$E$3,ROW('Extended Diploma Data Sheet'!$A$3:$A$999)),ROW(22:22))-2,3),\"\")","v":0},null,null,null,{"$f":"IFERROR(INDEX('Extended Diploma Data Sheet'!$A$3:$E$999,SMALL(IF('Extended Diploma Data Sheet'!$A$3:$A$999=$E$3,ROW('Extended Diploma Data Sheet'!$A$3:$A$999)),ROW(22:22))-2,4),\"\")","v":0},null,{"$f":"IFERROR(IF(C30=\"External\",VLOOKUP(J30,Points!$I$2:$M$36,MATCH(C30&\" \"&I30&\" GLH\",Points!$I$2:$M$2,0),FALSE),VLOOKUP(J30,Points!$A$8:$C$12,MATCH(C30&\" \"&I30&\" GLH\",Points!$A$8:$D$8,0),FALSE)),\"\")","v":""},{"$f":"IF(E30=\"\",\"\",VLOOKUP(SUM(N30,P30,R30,T30,V30,X30,Z30),Lookup!$M$1:$N$6,2,FALSE))","v":"U"},{"$f":"IFERROR(IF(AND(C30=\"Internal\",I30=81),VLOOKUP(K30,Points!$B$8:$D$12,MATCH(\"Internal Grade\",Points!$B$8:$D$8,0),FALSE),\"\"),\"\")","v":""},{"$f":"IF(M30=\"\",\"\",VLOOKUP(M30,Lookup!$L$2:$M$6,2,FALSE))","v":""},{"$f":"IFERROR(IF(AND(C30=\"Internal\",I30=27),VLOOKUP(K30,Points!$C$8:$D$12,MATCH(\"Internal Grade\",Points!$C$8:$D$8,0),FALSE),\"\"),\"\")","v":""},{"$f":"IF(O30=\"\",\"\",VLOOKUP(O30,Lookup!$L$2:$M$6,2,FALSE))","v":""}]
[null,"Mandatory",{"$f":"IFERROR(INDEX('Extended Diploma Data Sheet'!$A$3:$E$999,SMALL(IF('Extended Diploma Data Sheet'!$A$3:$A$999=$E$3,ROW('Extended Diploma Data Sheet'!$A$3:$A$999)),ROW(23:23))-2,5),\"\")","v":0},{"$f":"IFERROR(INDEX('Extended Diploma Data Sheet'!$A$3:$E$999,SMALL(IF('Extended Diploma Data Sheet'!$A$3:$A$999=$E$3,ROW('Extended Diploma Data Sheet'!$A$3:$A$999)),ROW(23:23))-2,2),\"\")","v":0},{"$f":"IFERROR(INDEX('Extended Diploma Data Sheet'!$A$3:$E$999,SMALL(IF('Extended Diploma Data Sheet'!$A$3:$A$999=$E$3,ROW('Extended Diploma Data Sheet'!$A$3:$A$999)),ROW(23:23))-2,3),\"\")","v":0},null,null,null,{"$f":"IFERROR(INDEX('Extended Diploma Data Sheet'!$A$3:$E$999,SMALL(IF('Extended Diploma Data Sheet'!$A$3:$A$999=$E$3,ROW('Extended Diploma Data Sheet'!$A$3:$A$999)),ROW(23:23))-2,4),\"\")","v":0},null,{"$f":"IFERROR(IF(C31=\"External\",VLOOKUP(J31,Points!$I$2:$M$36,MATCH(C31&\" \"&I31&\" GLH\",Points!$I$2:$M$2,0),FALSE),VLOOKUP(J31,Points!$A$8:$C$12,MATCH(C31&\" \"&I31&\" GLH\",Points!$A$8:$D$8,0),FALSE)),\"\")","v":""},{"$f":"IF(E31=\"\",\"\",VLOOKUP(SUM(N31,P31,R31,T31,V31,X31,Z31),Lookup!$M$1:$N$6,2,FALSE))","v":"U"},{"$f":"IFERROR(IF(AND(C31=\"Internal\",I31=81),VLOOKUP(K31,Points!$B$8:$D$12,MATCH(\"Internal Grade\",Points!$B$8:$D$8,0),FALSE),\"\"),\"\")","v":""},{"$f":"IF(M31=\"\",\"\",VLOOKUP(M31,Lookup!$L$2:$M$6,2,FALSE))","v":""},{"$f":"IFERROR(IF(AND(C31=\"Internal\",I31=27),VLOOKUP(K31,Points!$C$8:$D$12,MATCH(\"Internal Grade\",Points!$C$8:$D$8,0),FALSE),\"\"),\"\")","v":""},{"$f":"IF(O31=\"\",\"\",VLOOKUP(O31,Lookup!$L$2:$M$6,2,FALSE))","v":""}]
[null,"Mandatory",{"$f":"IFERROR(INDEX('Extended Diploma Data Sheet'!$A$3:$E$999,SMALL(IF('Extended Diploma Data Sheet'!$A$3:$A$999=$E$3,ROW('Extended Diploma Data Sheet'!$A$3:$A$999)),ROW(24:24))-2,5),\"\")","v":0},{"$f":"IFERROR(INDEX('Extended Diploma Data Sheet'!$A$3:$E$999,SMALL(IF('Extended Diploma Data Sheet'!$A$3:$A$999=$E$3,ROW('Extended Diploma Data Sheet'!$A$3:$A$999)),ROW(24:24))-2,2),\"\")","v":0},{"$f":"IFERROR(INDEX('Extended Diploma Data Sheet'!$A$3:$E$999,SMALL(IF('Extended Diploma Data Sheet'!$A$3:$A$999=$E$3,ROW('Extended Diploma Data Sheet'!$A$3:$A$999)),ROW(24:24))-2,3),\"\")","v":0},null,null,null,{"$f":"IFERROR(INDEX('Extended Diploma Data Sheet'!$A$3:$E$999,SMALL(IF('Extended Diploma Data Sheet'!$A$3:$A$999=$E$3,ROW('Extended Diploma Data Sheet'!$A$3:$A$999)),ROW(24:24))-2,4),\"\")","v":0},null,{"$f":"IFERROR(IF(C32=\"External\",VLOOKUP(J32,Points!$I$2:$M$36,MATCH(C32&\" \"&I32&\" GLH\",Points!$I$2:$M$2,0),FALSE),VLOOKUP(J32,Points!$A$8:$C$12,MATCH(C32&\" \"&I32&\" GLH\",Points!$A$8:$D$8,0),FALSE)),\"\")","v":""},{"$f":"IF(E32=\"\",\"\",VLOOKUP(SUM(N32,P32,R32,T32,V32,X32,Z32),Lookup!$M$1:$N$6,2,FALSE))","v":"U"},{"$f":"IFERROR(IF(AND(C32=\"Internal\",I32=81),VLOOKUP(K32,Points!$B$8:$D$12,MATCH(\"Internal Grade\",Points!$B$8:$D$8,0),FALSE),\"\"),\"\")","v":""},{"$f":"IF(M32=\"\",\"\",VLOOKUP(M32,Lookup!$L$2:$M$6,2,FALSE))","v":""},{"$f":"IFERROR(IF(AND(C32=\"Internal\",I32=27),VLOOKUP(K32,Points!$C$8:$D$12,MATCH(\"Internal Grade\",Points!$C$8:$D$8,0),FALSE),\"\"),\"\")","v":""},{"$f":"IF(O32=\"\",\"\",VLOOKUP(O32,Lookup!$L$2:$M$6,2,FALSE))","v":""}]
[null,"Mandatory",{"$f":"IFERROR(INDEX('Extended Diploma Data Sheet'!$A$3:$E$999,SMALL(IF('Extended Diploma Data Sheet'!$A$3:$A$999=$E$3,ROW('Extended Diploma Data Sheet'!$A$3:$A$999)),ROW(25:25))-2,5),\"\")","v":0},{"$f":"IFERROR(INDEX('Extended Diploma Data Sheet'!$A$3:$E$999,SMALL(IF('Extended Diploma Data Sheet'!$A$3:$A$999=$E$3,ROW('Extended Diploma Data Sheet'!$A$3:$A$999)),ROW(25:25))-2,2),\"\")","v":0},{"$f":"IFERROR(INDEX('Extended Diploma Data Sheet'!$A$3:$E$999,SMALL(IF('Extended Diploma Data Sheet'!$A$3:$A$999=$E$3,ROW('Extended Diploma Data Sheet'!$A$3:$A$999)),ROW(25:25))-2,3),\"\")","v":0},null,null,null,{"$f":"IFERROR(INDEX('Extended Diploma Data Sheet'!$A$3:$E$999,SMALL(IF('Extended Diploma Data Sheet'!$A$3:$A$999=$E$3,ROW('Extended Diploma Data Sheet'!$A$3:$A$999)),ROW(25:25))-2,4),\"\")","v":0},null,{"$f":"IFERROR(IF(C33=\"External\",VLOOKUP(J33,Points!$I$2:$M$36,MATCH(C33&\" \"&I33&\" GLH\",Points!$I$2:$M$2,0),FALSE),VLOOKUP(J33,Points!$A$8:$C$12,MATCH(C33&\" \"&I33&\" GLH\",Points!$A$8:$D$8,0),FALSE)),\"\")","v":""},{"$f":"IF(E33=\"\",\"\",VLOOKUP(SUM(N33,P33,R33,T33,V33,X33,Z33),Lookup!$M$1:$N$6,2,FALSE))","v":"U"},{"$f":"IFERROR(IF(AND(C33=\"Internal\",I33=81),VLOOKUP(K33,Points!$B$8:$D$12,MATCH(\"Internal Grade\",Points!$B$8:$D$8,0),FALSE),\"\"),\"\")","v":""},{"$f":"IF(M33=\"\",\"\",VLOOKUP(M33,Lookup!$L$2:$M$6,2,FALSE))","v":""},{"$f":"IFERROR(IF(AND(C33=\"Internal\",I33=27),VLOOKUP(K33,Points!$C$8:$D$12,MATCH(\"Internal Grade\",Points!$C$8:$D$8,0),FALSE),\"\"),\"\")","v":""},{"$f":"IF(O33=\"\",\"\",VLOOKUP(O33,Lookup!$L$2:$M$6,2,FALSE))","v":""}]
[null,"Mandatory",{"$f":"IFERROR(INDEX('Extended Diploma Data Sheet'!$A$3:$E$999,SMALL(IF('Extended Diploma Data Sheet'!$A$3:$A$999=$E$3,ROW('Extended Diploma Data Sheet'!$A$3:$A$999)),ROW(26:26))-2,5),\"\")","v":0},{"$f":"IFERROR(INDEX('Extended Diploma Data Sheet'!$A$3:$E$999,SMALL(IF('Extended Diploma Data Sheet'!$A$3:$A$999=$E$3,ROW('Extended Diploma Data Sheet'!$A$3:$A$999)),ROW(26:26))-2,2),\"\")","v":0},{"$f":"IFERROR(INDEX('Extended Diploma Data Sheet'!$A$3:$E$999,SMALL(IF('Extended Diploma Data Sheet'!$A$3:$A$999=$E$3,ROW('Extended Diploma Data Sheet'!$A$3:$A$999)),ROW(26:26))-2,3),\"\")","v":0},null,null,null,{"$f":"IFERROR(INDEX('Extended Diploma Data Sheet'!$A$3:$E$999,SMALL(IF('Extended Diploma Data Sheet'!$A$3:$A$999=$E$3,ROW('Extended Diploma Data Sheet'!$A$3:$A$999)),ROW(26:26))-2,4),\"\")","v":0},null,{"$f":"IFERROR(IF(C34=\"External\",VLOOKUP(J34,Points!$I$2:$M$36,MATCH(C34&\" \"&I34&\" GLH\",Points!$I$2:$M$2,0),FALSE),VLOOKUP(J34,Points!$A$8:$C$12,MATCH(C34&\" \"&I34&\" GLH\",Points!$A$8:$D$8,0),FALSE)),\"\")","v":""},{"$f":"IF(E34=\"\",\"\",VLOOKUP(SUM(N34,P34,R34,T34,V34,X34,Z34),Lookup!$M$1:$N$6,2,FALSE))","v":"U"},{"$f":"IFERROR(IF(AND(C34=\"Internal\",I34=81),VLOOKUP(K34,Points!$B$8:$D$12,MATCH(\"Internal Grade\",Points!$B$8:$D$8,0),FALSE),\"\"),\"\")","v":""},{"$f":"IF(M34=\"\",\"\",VLOOKUP(M34,Lookup!$L$2:$M$6,2,FALSE))","v":""},{"$f":"IFERROR(IF(AND(C34=\"Internal\",I34=27),VLOOKUP(K34,Points!$C$8:$D$12,MATCH(\"Internal Grade\",Points!$C$8:$D$8,0),FALSE),\"\"),\"\")","v":""},{"$f":"IF(O34=\"\",\"\",VLOOKUP(O34,Lookup!$L$2:$M$6,2,FALSE))","v":""}]
[null,null,null,null,null,null,null,null,{"$f":"SUMIFS(I11:I34,L11:L34,\"U\")","v":0}]
[null,null,null,null,null,null,null,null,null,"Overall Grade",{"$f":"SUM(K11:K15,K17:K21,K24:K28,K29*3)","v":0},{"$f":"N36","v":"U"},null,{"$f":"IFERROR(IF(I35>0,\"U\",VLOOKUP($K$36,Points!$G$8:$H$19,MATCH(\"ADM Ext Dip Grade\",Points!$G$8:$H$8,0),TRUE)),\"\")","v":"U"}]
[null,null,null,null,null,null,null,null,null,"Points",null,{"$f":"K36","v":0}]

{"sheet":"F Diploma 510 Dropdown","index":11,"n_rows":21,"n_cols":63,"rows_kept":21,"cut":false,"hidden":true,"merged":[]}
["Applied Science Group A",null,null,null,"Art and Design Group A",null,null,null,"Business Group A",null,null,null,"Computing Group A",null,null,null,"Computing Group B",null,null,null,"Computing Group C",null,null,null,"Computing Group D",null,null,null,"Creative Digital Media Production Group A",null,null,null,"Enterprise and Entrepreneurship Group A",null,null,null,"Forensic Investigation Group A",null,null,null,"Health and Social Care Group A",null,null,null,"Information Technology Group A",null,null,null,"Performing Arts Group A",null,null,null,"Sport and Exercise Science Group A",null,null,null,"Travel and Tourism Group A",null,null,null,"UPS Group A"]
["Physiology of Human Body Systems",{"$f":"IF(COUNTIF('Foundation Diploma 510'!$E$29:$E$70,A2)>=1,\"\",ROW())","v":2},{"$f":"IF(ROW(A2)-ROW(A$2)+1>COUNT(B$2:B$17),\"\",INDEX(A:A,SMALL(B$2:B$17,1+ROW(A2)-ROW(A$2))))","v":"Physiology of Human Body Systems"},null,"Photographic Materials, Techniques and Processes",{"$f":"IF(COUNTIF('Foundation Diploma 510'!$E$29:$E$70,E2)>=1,\"\",ROW())","v":2},{"$f":"IF(ROW(E2)-ROW(E$2)+1>COUNT(F$2:F$17),\"\",INDEX(E:E,SMALL(F$2:F$17,1+ROW(E2)-ROW(E$2))))","v":"Photographic Materials, Techniques and Processes"},null,"Recruitment and Selection Process",{"$f":"IF(COUNTIF('Foundation Diploma 510'!$E$29:$E$70,I2)>=1,\"\",ROW())","v":2},{"$f":"IF(ROW(I2)-ROW(I$2)+1>COUNT(J$2:J$17),\"\",INDEX(I:I,SMALL(J$2:J$17,1+ROW(I2)-ROW(I$2))))","v":"Recruitment and Selection Process"},null,"Human-computer Interaction",{"$f":"IF(COUNTIF('Foundation Diploma 510'!$E$29:$E$70,M2)>=1,\"\",ROW())","v":2},{"$f":"IF(ROW(M2)-ROW(M$2)+1>COUNT(N$2:N$17),\"\",INDEX(M:M,SMALL(N$2:N$17,1+ROW(M2)-ROW(M$2))))","v":"Human-computer Interaction"},null,"Website Development",{"$f":"IF(COUNTIF('Foundation Diploma 510'!$E$29:$E$70,Q2)>=1,\"\",ROW())","v":2},{"$f":"IF(ROW(Q2)-ROW(Q$2)+1>COUNT(R$2:R$17),\"\",INDEX(Q:Q,SMALL(R$2:R$17,1+ROW(Q2)-ROW(Q$2))))","v":"Website Development"},null,"Managing and Supporting Systems",{"$f":"IF(COUNTIF('Foundation Diploma 510'!$E$29:$E$70,U2)>=1,\"\",ROW())","v":2},{"$f":"IF(ROW(U2)-ROW(U$2)+1>COUNT(V$2:V$17),\"\",INDEX(U:U,SMALL(V$2:V$17,1+ROW(U2)-ROW(U$2))))","v":"Managing and Supporting Systems"},null,"Systems Analysis and Design",{"$f":"IF(COUNTIF('Foundation Diploma 510'!$E$29:$E$70,Y2)>=1,\"\",ROW())","v":2},{"$f":"IF(ROW(Y2)-ROW(Y$2)+1>COUNT(Z$2:Z$17),\"\",INDEX(Y:Y,SMALL(Z$2:Z$17,1+ROW(Y2)-ROW(Y$2))))","v":"Systems Analysis and Design"},null,"App Production",{"$f":"IF(COUNTIF('Foundation Diploma 510'!$E$29:$E$70,AC2)>=1,\"\",ROW())","v":2},{"$f":"IF(ROW(AC2)-ROW(AC$2)+1>COUNT(AD$2:AD$17),\"\",INDEX(AC:AC,SMALL(AD$2:AD$17,1+ROW(AC2)-ROW(AC$2))))","v":"App Production"},null,"Social Enterprise",{"$f":"IF(COUNTIF('Foundation Diploma 510'!$E$29:$E$70,AG2)>=1,\"\",ROW())","v":2},{"$f":"IF(ROW(AG2)-ROW(AG$2)+1>COUNT(AH$2:AH$17),\"\",INDEX(AG:AG,SMALL(AH$2:AH$17,1+ROW(AG2)-ROW(AG$2))))","v":"Social Enterprise"},null,"Physiology of Human Body Systems",{"$f":"IF(COUNTIF('Foundation Diploma 510'!$E$29:$E$70,AK2)>=1,\"\",ROW())","v":2},{"$f":"IF(ROW(AK2)-ROW(AK$2)+1>COUNT(AL$2:AL$17),\"\",INDEX(AK:AK,SMALL(AL$2:AL$17,1+ROW(AK2)-ROW(AK$2))))","v":"Physiology of Human Body Systems"},null,"Work Experience in Health and Social Care",{"$f":"IF(COUNTIF('Foundation Diploma 510'!$E$29:$E$70,AO2)>=1,\"\",ROW())","v":2},{"$f":"IF(ROW(AO2)-ROW(AO$2)+1>COUNT(AP$2:AP$17),\"\",INDEX(AO:AO,SMALL(AP$2:AP$17,1+ROW(AO2)-ROW(AO$2))))","v":"Work Experience in Health and Social Care"},null,"Data Modelling",{"$f":"IF(COUNTIF('Foundation Diploma 510'!$E$29:$E$70,AS2)>=1,\"\",ROW())","v":2},{"$f":"IF(ROW(AS2)-ROW(AS$2)+1>COUNT(AT$2:AT$17),\"\",INDEX(AS:AS,SMALL(AT$2:AT$17,1+ROW(AS2)-ROW(AS$2))))","v":"Data Modelling"},null,"Classical Ballet Technique",{"$f":"IF(COUNTIF('Foundation Diploma 510'!$E$29:$E$70,AW2)>=1,\"\",ROW())","v":2},{"$f":"IF(ROW(AW2)-ROW(AW$2)+1>COUNT(AX$2:AX$40),\"\",INDEX(AW:AW,SMALL(AX$2:AX$40,1+ROW(AW2)-ROW(AW$2))))","v":"Classical Ballet Technique"},null,"Biomechanics in Sport and Exercise Science",{"$f":"IF(COUNTIF('Foundation Diploma 510'!$E$29:$E$70,BA2)>=1,\"\",ROW())","v":2},{"$f":"IF(ROW(BA2)-ROW(BA$2)+1>COUNT(BB$2:BB$40),\"\",INDEX(BA:BA,SMALL(BB$2:BB$40,1+ROW(BA2)-ROW(BA$2))))","v":"Biomechanics in Sport and Exercise Science"},null,"Specialist Tourism",{"$f":"IF(COUNTIF('Foundation Diploma 510'!$E$29:$E$70,BE2)>=1,\"\",ROW())","v":2},{"$f":"IF(ROW(BE2)-ROW(BE$2)+1>COUNT(BF$2:BF$40),\"\",INDEX(BE:BE,SMALL(BF$2:BF$40,1+ROW(BE2)-ROW(BE$2))))","v":"Specialist Tourism"},null,"Custodial Care",{"$f":"IF(COUNTIF('Foundation Diploma 510'!$E$29:$E$70,BI2)>=1,\"\",ROW())","v":2},{"$f":"IF(ROW(BI2)-ROW(BI$2)+1>COUNT(BJ$2:BJ$40),\"\",INDEX(BI:BI,SMALL(BJ$2:BJ$40,1+ROW(BI2)-ROW(BI$2))))","v":"Custodial Care"}]
["Human Regulation and Reproduction",{"$f":"IF(COUNTIF('Foundation Diploma 510'!$E$29:$E$70,A3)>=1,\"\",ROW())","v":3},{"$f":"IF(ROW(A3)-ROW(A$2)+1>COUNT(B$2:B$17),\"\",INDEX(A:A,SMALL(B$2:B$17,1+ROW(A3)-ROW(A$2))))","v":"Human Regulation and Reproduction"},null,"Graphic Materials, Techniques and Processes",{"$f":"IF(COUNTIF('Foundation Diploma 510'!$E$29:$E$70,E3)>=1,\"\",ROW())","v":3},{"$f":"IF(ROW(E3)-ROW(E$2)+1>COUNT(F$2:F$17),\"\",INDEX(E:E,SMALL(F$2:F$17,1+ROW(E3)-ROW(E$2))))","v":"Graphic Materials, Techniques and Processes"},null,"Recording Financial Transactions",{"$f":"IF(COUNTIF('Foundation Diploma 510'!$E$29:$E$70,I3)>=1,\"\",ROW())","v":3},{"$f":"IF(ROW(I3)-ROW(I$2)+1>COUNT(J$2:J$17),\"\",INDEX(I:I,SMALL(J$2:J$17,1+ROW(I3)-ROW(I$2))))","v":"Recording Financial Transactions"},null,"Digital Graphics and Animation",{"$f":"IF(COUNTIF('Foundation Diploma 510'!$E$29:$E$70,M3)>=1,\"\",ROW())","v":3},{"$f":"IF(ROW(M3)-ROW(M$2)+1>COUNT(N$2:N$17),\"\",INDEX(M:M,SMALL(N$2:N$17,1+ROW(M3)-ROW(M$2))))","v":"Digital Graphics and Animation"},null,"Mobile Apps Development",{"$f":"IF(COUNTIF('Foundation Diploma 510'!$E$29:$E$70,Q3)>=1,\"\",ROW())","v":3},{"$f":"IF(ROW(Q3)-ROW(Q$2)+1>COUNT(R$2:R$17),\"\",INDEX(Q:Q,SMALL(R$2:R$17,1+ROW(Q3)-ROW(Q$2))))","v":"Mobile Apps Development"},null,null,null,null,null,null,null,null,null,"Film Production – Fiction",{"$f":"IF(COUNTIF('Foundation Diploma 510'!$E$29:$E$70,AC3)>=1,\"\",ROW())","v":3},{"$f":"IF(ROW(AC3)-ROW(AC$2)+1>COUNT(AD$2:AD$17),\"\",INDEX(AC:AC,SMALL(AD$2:AD$17,1+ROW(AC3)-ROW(AC$2))))","v":"Film Production – Fiction"},null,"Entrepreneurship and Intrapreneurship in Practice",{"$f":"IF(COUNTIF('Foundation Diploma 510'!$E$29:$E$70,AG3)>=1,\"\",ROW())","v":3},{"$f":"IF(ROW(AG3)-ROW(AG$2)+1>COUNT(AH$2:AH$17),\"\",INDEX(AG:AG,SMALL(AH$2:AH$17,1+ROW(AG3)-ROW(AG$2))))","v":"Entrepreneurship and Intrapreneurship in Practice"},null,"Environmental Forensics",{"$f":"IF(COUNTIF('Foundation Diploma 510'!$E$29:$E$70,AK3)>=1,\"\",ROW())","v":3},"Environmental Forensics",null,"Sociological Perspectives",{"$f":"IF(COUNTIF('Foundation Diploma 510'!$E$29:$E$70,AO3)>=1,\"\",ROW())","v":3},"Sociological Perspectives",null,"Website Development",{"$f":"IF(COUNTIF('Foundation Diploma 510'!$E$29:$E$70,AS3)>=1,\"\",ROW())","v":3},{"$f":"IF(ROW(AS3)-ROW(AS$2)+1>COUNT(AT$2:AT$17),\"\",INDEX(AS:AS,SMALL(AT$2:AT$17,1+ROW(AS3)-ROW(AS$2))))","v":"Website Development"},null,"Tap Dance Technique",{"$f":"IF(COUNTIF('Foundation Diploma 510'!$E$29:$E$70,AW3)>=1,\"\",ROW())","v":3},{"$f":"IF(ROW(AW3)-ROW(AW$2)+1>COUNT(AX$2:AX$40),\"\",INDEX(AW:AW,SMALL(AX$2:AX$40,1+ROW(AW3)-ROW(AW$2))))","v":"Tap Dance Technique"},null,"Specialised Fitness Training",{"$f":"IF(COUNTIF('Foundation Diploma 510'!$E$29:$E$70,BA3)>=1,\"\",ROW())","v":3},"Specialised Fitness Training",null,"Sustainable Tourism",{"$f":"IF(COUNTIF('Foundation Diploma 510'!$E$29:$E$70,BE3)>=1,\"\",ROW())","v":3},{"$f":"IF(ROW(BE3)-ROW(BE$2)+1>COUNT(BF$2:BF$40),\"\",INDEX(BE:BE,SMALL(BF$2:BF$40,1+ROW(BE3)-ROW(BE$2))))","v":"Sustainable Tourism"},null,"Sociological Perspectives",{"$f":"IF(COUNTIF('Foundation Diploma 510'!$E$29:$E$70,BI3)>=1,\"\",ROW())","v":3},{"$f":"IF(ROW(BI3)-ROW(BI$2)+1>COUNT(BJ$2:BJ$40),\"\",INDEX(BI:BI,SMALL(BJ$2:BJ$40,1+ROW(BI3)-ROW(BI$2))))","v":"Sociological Perspectives"}]
["Biological Molecules and Metabolic Pathways",{"$f":"IF(COUNTIF('Foundation Diploma 510'!$E$29:$E$70,A4)>=1,\"\",ROW())","v":4},"Biological Molecules and Metabolic Pathways",null,"Interactive Design Materials, Techniques and Processes",{"$f":"IF(COUNTIF('Foundation Diploma 510'!$E$29:$E$70,E4)>=1,\"\",ROW())","v":4},"Interactive Design Materials, Techniques and Processes",null,"Cost and Management Accounting",{"$f":"IF(COUNTIF('Foundation Diploma 510'!$E$29:$E$70,I4)>=1,\"\",ROW())","v":4},"Cost and Management Accounting",null,"Computer Games Development",{"$f":"IF(COUNTIF('Foundation Diploma 510'!$E$29:$E$70,M4)>=1,\"\",ROW())","v":4},{"$f":"IF(ROW(M4)-ROW(M$2)+1>COUNT(N$2:N$17),\"\",INDEX(M:M,SMALL(N$2:N$17,1+ROW(M4)-ROW(M$2))))","v":"Computer Games Development"},null,null,null,null,null,null,null,null,null,null,null,null,null,"Radio Production – Fiction",{"$f":"IF(COUNTIF('Foundation Diploma 510'!$E$29:$E$70,AC4)>=1,\"\",ROW())","v":4},"Radio Production – Fiction",null,"Innovation and Enterprises",{"$f":"IF(COUNTIF('Foundation Diploma 510'!$E$29:$E$70,AG4)>=1,\"\",ROW())","v":4},{"$f":"IF(ROW(AG4)-ROW(AG$2)+1>COUNT(AH$2:AH$17),\"\",INDEX(AG:AG,SMALL(AH$2:AH$17,1+ROW(AG4)-ROW(AG$2))))","v":"Innovation and Enterprises"},null,"Forensic Fire Investigation",{"$f":"IF(COUNTIF('Foundation Diploma 510'!$E$29:$E$70,AK4)>=1,\"\",ROW())","v":4},"Forensic Fire Investigation",null,"Psychological Perspectives",{"$f":"IF(COUNTIF('Foundation Diploma 510'!$E$29:$E$70,AO4)>=1,\"\",ROW())","v":4},"Psychological Perspectives",null,"Mobile Apps Development",{"$f":"IF(COUNTIF('Foundation Diploma 510'!$E$29:$E$70,AS4)>=1,\"\",ROW())","v":4},{"$f":"IF(ROW(AS4)-ROW(AS$2)+1>COUNT(AT$2:AT$17),\"\",INDEX(AS:AS,SMALL(AT$2:AT$17,1+ROW(AS4)-ROW(AS$2))))","v":"Mobile Apps Development"},null,"Jazz Dance Technique",{"$f":"IF(COUNTIF('Foundation Diploma 510'!$E$29:$E$70,AW4)>=1,\"\",ROW())","v":4},"Jazz Dance Technique",null,"Research Project in Sport and Exercise Science",{"$f":"IF(COUNTIF('Foundation Diploma 510'!$E$29:$E$70,BA4)>=1,\"\",ROW())","v":4},"Research Project in Sport and Exercise Science",null,"The Airport Experience",{"$f":"IF(COUNTIF('Foundation Diploma 510'!$E$29:$E$70,BE4)>=1,\"\",ROW())","v":4},"The Airport Experience",null,"Skills for Outdoor Activities and the Uniformed Protective Services",{"$f":"IF(COUNTIF('Foundation Diploma 510'!$E$29:$E$70,BI4)>=1,\"\",ROW())","v":4},"Skills for Outdoor Activities and the Uniformed Protective Services"]
["Genetics and Genetic Engineering",{"$f":"IF(COUNTIF('Foundation Diploma 510'!$E$29:$E$70,A5)>=1,\"\",ROW())","v":5},"Genetics and Genetic Engineering",null,"Fine Art Materials, Techniques and Processes",{"$f":"IF(COUNTIF('Foundation Diploma 510'!$E$29:$E$70,E5)>=1,\"\",ROW())","v":5},"Fine Art Materials, Techniques and Processes",null,"Investigating Customer Service",{"$f":"IF(COUNTIF('Foundation Diploma 510'!$E$29:$E$70,I5)>=1,\"\",ROW())","v":5},"Investigating Customer Service",null,null,null,null,null,null,null,null,null,null,null,null,null,null,null,null,null,"Website Production",{"$f":"IF(COUNTIF('Foundation Diploma 510'!$E$29:$E$70,AC5)>=1,\"\",ROW())","v":5},"Website Production",null,null,null,null,null,"Forensic Traffic Collision Investigation",{"$f":"IF(COUNTIF('Foundation Diploma 510'!$E$29:$E$70,AK5)>=1,\"\",ROW())","v":5},"Forensic Traffic Collision Investigation",null,"Supporting Individuals with Additional Needs",{"$f":"IF(COUNTIF('Foundation Diploma 510'!$E$29:$E$70,AO5)>=1,\"\",ROW())","v":5},"Supporting Individuals with Additional Needs",null,"Computer Games Development",{"$f":"IF(COUNTIF('Foundation Diploma 510'!$E$29:$E$70,AS5)>=1,\"\",ROW())","v":5},{"$f":"IF(ROW(AS5)-ROW(AS$2)+1>COUNT(AT$2:AT$17),\"\",INDEX(AS:AS,SMALL(AT$2:AT$17,1+ROW(AS5)-ROW(AS$2))))","v":"Computer Games Development"},null,"Street Dance Technique",{"$f":"IF(COUNTIF('Foundation Diploma 510'!$E$29:$E$70,AW5)>=1,\"\",ROW())","v":5},"Street Dance Technique",null,"Physical Activity for Individual and Group-based Exercise",{"$f":"IF(COUNTIF('Foundation Diploma 510'!$E$29:$E$70,BA5)>=1,\"\",ROW())","v":5},"Physical Activity for Individual and Group-based Exercise",null,"Visitor Attractions",{"$f":"IF(COUNTIF('Foundation Diploma 510'!$E$29:$E$70,BE5)>=1,\"\",ROW())","v":5},"Visitor Attractions",null,"Expedition Skills",{"$f":"IF(COUNTIF('Foundation Diploma 510'!$E$29:$E$70,BI5)>=1,\"\",ROW())","v":5},"Expedition Skills"]
["Diseases and Infections",{"$f":"IF(COUNTIF('Foundation Diploma 510'!$E$29:$E$70,A6)>=1,\"\",ROW())","v":6},"Diseases and Infections",null,"3D Design Materials, Techniques and Processes",{"$f":"IF(COUNTIF('Foundation Diploma 510'!$E$29:$E$70,E6)>=1,\"\",ROW())","v":6},"3D Design Materials, Techniques and Processes",null,"Investigating Retail Business",{"$f":"IF(COUNTIF('Foundation Diploma 510'!$E$29:$E$70,I7)>=1,\"\",ROW())","v":6},"Investigating Retail Business",null,null,null,null,null,null,null,null,null,null,null,null,null,null,null,null,null,"Digital Games Production",{"$f":"IF(COUNTIF('Foundation Diploma 510'!$E$29:$E$70,AC6)>=1,\"\",ROW())","v":6},"Digital Games Production",null,null,null,null,null,"Forensic Photography",{"$f":"IF(COUNTIF('Foundation Diploma 510'!$E$29:$E$70,AK6)>=1,\"\",ROW())","v":6},"Forensic Photography",null,"Physiological Disorders and their Care",{"$f":"IF(COUNTIF('Foundation Diploma 510'!$E$29:$E$70,AO6)>=1,\"\",ROW())","v":6},"Physiological Disorders and their Care",null,null,null,null,null,"Contemporary Dance Technique",{"$f":"IF(COUNTIF('Foundation Diploma 510'!$E$29:$E$70,AW6)>=1,\"\",ROW())","v":6},"Contemporary Dance Technique",null,"Sports Massage",{"$f":"IF(COUNTIF('Foundation Diploma 510'!$E$29:$E$70,BA6)>=1,\"\",ROW())","v":6},"Sports Massage",null,"Passenger Transport",{"$f":"IF(COUNTIF('Foundation Diploma 510'!$E$29:$E$70,BE6)>=1,\"\",ROW())","v":6},"Passenger Transport",null,"Developing Personal Fitness Programmes",{"$f":"IF(COUNTIF('Foundation Diploma 510'!$E$29:$E$70,BI6)>=1,\"\",ROW())","v":6},"Developing Personal Fitness Programmes"]
["Applications of Inorganic Chemistry",{"$f":"IF(COUNTIF('Foundation Diploma 510'!$E$29:$E$70,A7)>=1,\"\",ROW())","v":7},"Applications of Inorganic Chemistry",null,"Textiles Materials, Techniques and Processes",{"$f":"IF(COUNTIF('Foundation Diploma 510'!$E$29:$E$70,E7)>=1,\"\",ROW())","v":7},"Textiles Materials, Techniques and Processes",null,"Visual Merchandising",{"$f":"IF(COUNTIF('Foundation Diploma 510'!$E$29:$E$70,I8)>=1,\"\",ROW())","v":7},"Visual Merchandising",null,null,null,null,null,null,null,null,null,null,null,null,null,null,null,null,null,"Digital Magazine Production",{"$f":"IF(COUNTIF('Foundation Diploma 510'!$E$29:$E$70,AC7)>=1,\"\",ROW())","v":7},"Digital Magazine Production",null,null,null,null,null,"Forensic Genetics",{"$f":"IF(COUNTIF('Foundation Diploma 510'!$E$29:$E$70,AK7)>=1,\"\",ROW())","v":7},"Forensic Genetics",null,"Nutritional Health",{"$f":"IF(COUNTIF('Foundation Diploma 510'!$E$29:$E$70,AO7)>=1,\"\",ROW())","v":7},"Nutritional Health",null,null,null,null,null,"Healthy Dancer",{"$f":"IF(COUNTIF('Foundation Diploma 510'!$E$29:$E$70,AW7)>=1,\"\",ROW())","v":7},"Healthy Dancer",null,"Sociocultural Issues in Sport and Exercise",{"$f":"IF(COUNTIF('Foundation Diploma 510'!$E$29:$E$70,BA7)>=1,\"\",ROW())","v":7},"Sociocultural Issues in Sport and Exercise",null,"Events, Conferences and Exhibitions",{"$f":"IF(COUNTIF('Foundation Diploma 510'!$E$29:$E$70,BE7)>=1,\"\",ROW())","v":7},"Events, Conferences and Exhibitions",null,"Introduction to Criminology",{"$f":"IF(COUNTIF('Foundation Diploma 510'!$E$29:$E$70,BI7)>=1,\"\",ROW())","v":7},"Introduction to Criminology"]
["Applications of Organic Chemistry",{"$f":"IF(COUNTIF('Foundation Diploma 510'!$E$29:$E$70,A8)>=1,\"\",ROW())","v":8},"Applications of Organic Chemistry",null,"Fashion Materials, Techniques and Processes",{"$f":"IF(COUNTIF('Foundation Diploma 510'!$E$29:$E$70,E8)>=1,\"\",ROW())","v":8},"Fashion Materials, Techniques and Processes",null,"Digital Marketing",{"$f":"IF(COUNTIF('Foundation Diploma 510'!$E$29:$E$70,I9)>=1,\"\",ROW())","v":8},"Digital Marketing",null,null,null,null,null,null,null,null,null,null,null,null,null,null,null,null,null,"Advertising Production",{"$f":"IF(COUNTIF('Foundation Diploma 510'!$E$29:$E$70,AC8)>=1,\"\",ROW())","v":8},"Advertising Production",null,null,null,null,null,null,null,null,null,null,null,null,null,null,null,null,null,"Choreography for Live Performance",{"$f":"IF(COUNTIF('Foundation Diploma 510'!$E$29:$E$70,AW8)>=1,\"\",ROW())","v":8},"Choreography for Live Performance",null,null,null,null,null,"Working Overseas",{"$f":"IF(COUNTIF('Foundation Diploma 510'!$E$29:$E$70,BE8)>=1,\"\",ROW())","v":8},"Working Overseas",null,"Police Powers and the Law",{"$f":"IF(COUNTIF('Foundation Diploma 510'!$E$29:$E$70,BI8)>=1,\"\",ROW())","v":8},"Police Powers and the Law"]
["Electrical Circuits and their Application",{"$f":"IF(COUNTIF('Foundation Diploma 510'!$E$29:$E$70,A9)>=1,\"\",ROW())","v":9},"Electrical Circuits and their Application",null,"3D Design Craft Materials, Techniques and Processes",{"$f":"IF(COUNTIF('Foundation Diploma 510'!$E$29:$E$70,E9)>=1,\"\",ROW())","v":9},"3D Design Craft Materials, Techniques and Processes",null,"Pitching for a New Business",{"$f":"IF(COUNTIF('Foundation Diploma 510'!$E$29:$E$70,I11)>=1,\"\",ROW())","v":9},"Pitching for a New Business",null,null,null,null,null,null,null,null,null,null,null,null,null,null,null,null,null,"Factual Production",{"$f":"IF(COUNTIF('Foundation Diploma 510'!$E$29:$E$70,AC9)>=1,\"\",ROW())","v":9},"Factual Production",null,null,null,null,null,null,null,null,null,null,null,null,null,null,null,null,null,"Theatre Directing",{"$f":"IF(COUNTIF('Foundation Diploma 510'!$E$29:$E$70,AW9)>=1,\"\",ROW())","v":9},"Theatre Directing",null,null,null,null,null,"Work Experience in Travel and Tourism",{"$f":"IF(COUNTIF('Foundation Diploma 510'!$E$29:$E$70,BE9)>=1,\"\",ROW())","v":9},"Work Experience in Travel and Tourism",null,"Professional Development in the Uniformed Protective Services",{"$f":"IF(COUNTIF('Foundation Diploma 510'!$E$29:$E$70,BI9)>=1,\"\",ROW())","v":9},"Professional Development in the Uniformed Protective Services"]
["Astronomy and Space Science",{"$f":"IF(COUNTIF('Foundation Diploma 510'!$E$29:$E$70,A10)>=1,\"\",ROW())","v":10},"Astronomy and Space Science",null,null,null,null,null,"Training and Development",{"$f":"IF(COUNTIF('Foundation Diploma 510'!$E$29:$E$70,I12)>=1,\"\",ROW())","v":10},"Training and Development",null,null,null,null,null,null,null,null,null,null,null,null,null,null,null,null,null,"News Production",{"$f":"IF(COUNTIF('Foundation Diploma 510'!$E$29:$E$70,AC10)>=1,\"\",ROW())","v":10},"News Production",null,null,null,null,null,null,null,null,null,null,null,null,null,null,null,null,null,"Writing for Performance",{"$f":"IF(COUNTIF('Foundation Diploma 510'!$E$29:$E$70,AW10)>=1,\"\",ROW())","v":10},"Writing for Performance"]
["Microbiology and Microbiological Techniques",{"$f":"IF(COUNTIF('Foundation Diploma 510'!$E$29:$E$70,A11)>=1,\"\",ROW())","v":11},"Microbiology and Microbiological Techniques",null,null,null,null,null,"Market Research",{"$f":"IF(COUNTIF('Foundation Diploma 510'!$E$29:$E$70,I13)>=1,\"\",ROW())","v":11},"Market Research",null,null,null,null,null,null,null,null,null,null,null,null,null,null,null,null,null,null,null,null,null,null,null,null,null,null,null,null,null,null,null,null,null,null,null,null,null,"Interpreting Classical Text for Performance",{"$f":"IF(COUNTIF('Foundation Diploma 510'!$E$29:$E$70,AW11)>=1,\"\",ROW())","v":11},"Interpreting Classical Text for Performance"]
["Industrial Chemical Reactions",{"$f":"IF(COUNTIF('Foundation Diploma 510'!$E$29:$E$70,A12)>=1,\"\",ROW())","v":12},"Industrial Chemical Reactions",null,null,null,null,null,"The English Legal System",{"$f":"IF(COUNTIF('Foundation Diploma 510'!$E$29:$E$70,I14)>=1,\"\",ROW())","v":12},"The English Legal System",null,null,null,null,null,null,null,null,null,null,null,null,null,null,null,null,null,null,null,null,null,null,null,null,null,null,null,null,null,null,null,null,null,null,null,null,null,"Acting Styles",{"$f":"IF(COUNTIF('Foundation Diploma 510'!$E$29:$E$70,AW12)>=1,\"\",ROW())","v":12},"Acting Styles"]
["Practical Chemical Analysis",{"$f":"IF(COUNTIF('Foundation Diploma 510'!$E$29:$E$70,A13)>=1,\"\",ROW())","v":13},"Practical Chemical Analysis",null,null,null,null,null,"Employment Law",{"$f":"IF(COUNTIF('Foundation Diploma 510'!$E$29:$E$70,I15)>=1,\"\",ROW())","v":13},"Employment Law",null,null,null,null,null,null,null,null,null,null,null,null,null,null,null,null,null,null,null,null,null,null,null,null,null,null,null,null,null,null,null,null,null,null,null,null,null,"Developing the Voice for Performance",{"$f":"IF(COUNTIF('Foundation Diploma 510'!$E$29:$E$70,AW13)>=1,\"\",ROW())","v":13},"Developing the Voice for Performance"]
[null,null,null,null,null,null,null,null,"Work Experience in Business",{"$f":"IF(COUNTIF('Foundation Diploma 510'!$E$29:$E$70,I16)>=1,\"\",ROW())","v":14},"Work Experience in Business",null,null,null,null,null,null,null,null,null,null,null,null,null,null,null,null,null,null,null,null,null,null,null,null,null,null,null,null,null,null,null,null,null,null,null,null,null,"Improvisation",{"$f":"IF(COUNTIF('Foundation Diploma 510'!$E$29:$E$70,AW14)>=1,\"\",ROW())","v":14},"Improvisation"]
[null,null,null,null,null,null,null,null,"Effective Management of Personal Debt",{"$f":"IF(COUNTIF('Foundation Diploma 510'!$E$29:$E$70,I17)>=1,\"\",ROW())","v":15},"Effective Management of Personal Debt",null,null,null,null,null,null,null,null,null,null,null,null,null,null,null,null,null,null,null,null,null,null,null,null,null,null,null,null,null,null,null,null,null,null,null,null,null,"Movement in Performance",{"$f":"IF(COUNTIF('Foundation Diploma 510'!$E$29:$E$70,AW15)>=1,\"\",ROW())","v":15},"Movement in Performance"]
[null,null,null,null,null,null,null,null,"Supply Chain Operations",{"$f":"IF(COUNTIF('Foundation Diploma 510'!$E$29:$E$70,I18)>=1,\"\",ROW())","v":16},"Supply Chain Operations",null,null,null,null,null,null,null,null,null,null,null,null,null,null,null,null,null,null,null,null,null,null,null,null,null,null,null,null,null,null,null,null,null,null,null,null,null,"Singing Techniques for Performers",{"$f":"IF(COUNTIF('Foundation Diploma 510'!$E$29:$E$70,AW16)>=1,\"\",ROW())","v":16},"Singing Techniques for Performers"]
[null,null,null,null,null,null,null,null,null,null,null,null,null,null,null,null,null,null,null,null,null,null,null,null,null,null,null,null,null,null,null,null,null,null,null,null,null,null,null,null,null,null,null,null,null,null,null,null,"Physical Theatre Techniques",{"$f":"IF(COUNTIF('Foundation Diploma 510'!$E$29:$E$70,AW17)>=1,\"\",ROW())","v":17},"Physical Theatre Techniques"]
[null,null,null,null,null,null,null,null,null,null,null,null,null,null,null,null,null,null,null,null,null,null,null,null,null,null,null,null,null,null,null,null,null,null,null,null,null,null,null,null,null,null,null,null,null,null,null,null,"Musical Theatre Techniques",{"$f":"IF(COUNTIF('Foundation Diploma 510'!$E$29:$E$70,AW18)>=1,\"\",ROW())","v":18},"Musical Theatre Techniques"]
[null,null,null,null,null,null,null,null,null,null,null,null,null,null,null,null,null,null,null,null,null,null,null,null,null,null,null,null,null,null,null,null,null,null,null,null,null,null,null,null,null,null,null,null,null,null,null,null,"Variety Performance",{"$f":"IF(COUNTIF('Foundation Diploma 510'!$E$29:$E$70,AW19)>=1,\"\",ROW())","v":19},"Variety Performance"]
[null,null,null,null,null,null,null,null,null,null,null,null,null,null,null,null,null,null,null,null,null,null,null,null,null,null,null,null,null,null,null,null,null,null,null,null,null,null,null,null,null,null,null,null,null,null,null,null,"Storytelling",{"$f":"IF(COUNTIF('Foundation Diploma 510'!$E$29:$E$70,AW20)>=1,\"\",ROW())","v":20},"Storytelling"]
[null,null,null,null,null,null,null,null,null,null,null,null,null,null,null,null,null,null,null,null,null,null,null,null,null,null,null,null,null,null,null,null,null,null,null,null,null,null,null,null,null,null,null,null,null,null,null,null,"Stand-up Comedy Technique",{"$f":"IF(COUNTIF('Foundation Diploma 510'!$E$29:$E$70,AW21)>=1,\"\",ROW())","v":21},"Stand-up Comedy Technique"]

{"sheet":"F Diploma 510 Data Sheet","index":12,"n_rows":110,"n_cols":39,"rows_kept":110,"cut":false,"hidden":true,"merged":[]}
["Mandatory units",null,null,null,null,null,null,null,null,null,null,null,null,"optional Units A",null,null,null,null,null,null,"optional Units B",null,null,null,null,null,null,"optional Units C",null,null,null,null,null,null,"optional Units D"]
["Sector","Unit number","Unit Name","GLH","Assessment type",null,null,null,null,null,null,null,null,"Sector","Unit Number","Unit Name","GLH","Assessment type",null,null,"Sector","Unit Number","Unit Name","GLH","Assessment type",null,null,"Sector","Unit Number","Unit Name","GLH","Assessment type",null,null,"Sector","Unit Number","Unit Name","GLH","Assessment type"]
["Applied Science",1,"Principles and Applications of Science I",90,"External",null,null,null,null,null,null,null,"Physiology of Human Body Systems","Applied Science",8,"Physiology of Human Body Systems",60,"Internal",null,"Website Development","Computing",15,"Website Development",60,"Internal",null,"Managing and Supporting Systems","Computing",20,"Managing and Supporting Systems",60,"Internal",null,"Systems Analysis and Design","Computing",22,"Systems Analysis and Design",60,"Internal"]
["Applied Science",2,"Practical Scientific Procedures and Techniques",90,"Internal",null,null,null,null,null,null,null,"Human Regulation and Reproduction","Applied Science",9,"Human Regulation and Reproduction",60,"Internal",null,"Mobile Apps Development","Computing",17,"Mobile Apps Development",60,"Internal"]
["Applied Science",3,"Science Investigation Skills",120,"External",null,null,null,null,null,null,null,"Biological Molecules and Metabolic Pathways","Applied Science",10,"Biological Molecules and Metabolic Pathways",60,"Internal"]
["Applied Science",4,"Laboratory Techniques and their Application",90,"Internal",null,null,null,null,null,null,null,"Genetics and Genetic Engineering","Applied Science",11,"Genetics and Genetic Engineering",60,"Internal"]
["Art and Design",1,"Visual Recording and Communication",120,"External",null,null,null,null,null,null,null,"Diseases and Infections","Applied Science",12,"Diseases and Infections",60,"Internal"]
["Art and Design",2,"Critical and Contextual Studies in Art and Design",90,"External",null,null,null,null,null,null,null,"Applications of Inorganic Chemistry","Applied Science",13,"Applications of Inorganic Chemistry",60,"Internal"]
["Art and Design",3,"The Creative Process",90,"Internal",null,null,null,null,null,null,null,"Applications of Organic Chemistry","Applied Science",14,"Applications of Organic Chemistry",60,"Internal"]
["Art and Design",4,"Materials, Techniques and Process in Art and Design",90,"Internal",null,null,null,null,null,null,null,"Electrical Circuits and their Application","Applied Science",15,"Electrical Circuits and their Application",60,"Internal"]
["Business",1,"Exploring Business",90,"Internal",null,null,null,null,null,null,null,"Astronomy and Space Science","Applied Science",16,"Astronomy and Space Science",60,"Internal"]
["Business",2,"Developing a Marketing Campaign",90,"External",null,null,null,null,null,null,null,"Microbiology and Microbiological Techniques","Applied Science",17,"Microbiology and Microbiological Techniques",60,"Internal"]
["Business",3,"Personal and Business Finance",120,"External",null,null,null,null,null,null,null,"Industrial Chemical Reactions","Applied Science",18,"Industrial Chemical Reactions",60,"Internal"]
["Business",4,"Managing an Event",90,"Internal",null,null,null,null,null,null,null,"Practical Chemical Analysis","Applied Science",19,"Practical Chemical Analysis",60,"Internal"]
["Computing",1,"Principles of Computer Science",120,"External",null,null,null,null,null,null,null,"Photographic Materials, Techniques and Processes","Art and Design",9,"Photographic Materials, Techniques and Processes",60,"Internal"]
["Computing",2,"Fundamentals of Computer Systems",90,"External",null,null,null,null,null,null,null,"Graphic Materials, Techniques and Processes","Art and Design",10,"Graphic Materials, Techniques and Processes",60,"Internal"]
["Computing",7,"IT Systems Security and Encryption",90,"Internal",null,null,null,null,null,null,null,"Interactive Design Materials, Techniques and Processes","Art and Design",11,"Interactive Design Materials, Techniques and Processes",60,"Internal"]
["Computing",8,"Business Applications of Social Media",90,"Internal",null,null,null,null,null,null,null,"Fine Art Materials, Techniques and Processes","Art and Design",12,"Fine Art Materials, Techniques and Processes",60,"Internal"]
["Creative Digital Media Production",1,"Media Representations",90,"External",null,null,null,null,null,null,null,"3D Design Materials, Techniques and Processes","Art and Design",13,"3D Design Materials, Techniques and Processes",60,"Internal"]
["Creative Digital Media Production",4,"Pre-production Portfolio",90,"Internal",null,null,null,null,null,null,null,"Textiles Materials, Techniques and Processes","Art and Design",14,"Textiles Materials, Techniques and Processes",60,"Internal"]
["Creative Digital Media Production",6,"Media Campaigns",90,"Internal",null,null,null,null,null,null,null,"Fashion Materials, Techniques and Processes","Art and Design",15,"Fashion Materials, Techniques and Processes",60,"Internal"]
["Creative Digital Media Production",8,"Responding to a Commission",120,"External",null,null,null,null,null,null,null,"3D Design Craft Materials, Techniques and Processes","Art and Design",16,"3D Design Craft Materials, Techniques and Processes",60,"Internal"]
["Enterprise and Entrepreneurship",1,"Enterprise and Entrepreneurs",90,"Internal",null,null,null,null,null,null,null,"Recruitment and Selection Process","Business",8,"Recruitment and Selection Process",60,"Internal"]
["Enterprise and Entrepreneurship",2,"Developing a Marketing Campaign",90,"External",null,null,null,null,null,null,null,"Recording Financial Transactions","Business",10,"Recording Financial Transactions",60,"Internal"]
["Enterprise and Entrepreneurship",3,"Business and Personal Finance",120,"External",null,null,null,null,null,null,null,"Cost and Management Accounting","Business",13,"Cost and Management Accounting",60,"Internal"]
["Enterprise and Entrepreneurship",4,"Launch and Run an Enterprise",90,"Internal",null,null,null,null,null,null,null,"Investigating Customer Service","Business",14,"Investigating Customer Service",60,"Internal"]
["Forensic Investigation",1,"Principles and Applications of Science I",90,"External",null,null,null,null,null,null,null,"Investigating Retail Business","Business",15,"Investigating Retail Business",60,"Internal"]
["Forensic Investigation",2,"Practical Scientific Procedures and Techniques",90,"Internal",null,null,null,null,null,null,null,"Visual Merchandising","Business",16,"Visual Merchandising",60,"Internal"]
["Forensic Investigation",3,"Science Investigation Skills",120,"External",null,null,null,null,null,null,null,"Digital Marketing","Business",17,"Digital Marketing",60,"Internal"]
["Forensic Investigation",4,"Forensic Investigation Procedures in Practice",90,"Internal",null,null,null,null,null,null,null,"Pitching for a New Business","Business",19,"Pitching for a New Business",60,"Internal"]
["Health and Social Care",1,"Human Lifespan Development",90,"External",null,null,null,null,null,null,null,"Training and Development","Business",21,"Training and Development",60,"Internal"]
["Health and Social Care",2,"Working in Health and Social Care",120,"External",null,null,null,null,null,null,null,"Market Research","Business",22,"Market Research",60,"Internal"]
["Health and Social Care",5,"Meeting Individual Care and Support Needs",90,"Internal",null,null,null,null,null,null,null,"The English Legal System","Business",23,"The English Legal System",60,"Internal"]
["Health and Social Care",7,"Principles of Safe Practice in Health and Social Care",90,"Internal",null,null,null,null,null,null,null,"Employment Law","Business",24,"Employment Law",60,"Internal"]
["Information Technology",1,"Information Technology Systems",120,"External",null,null,null,null,null,null,null,"Work Experience in Business","Business",27,"Work Experience in Business",60,"Internal"]
["Information Technology",2,"Creating Systems to Manage Information",90,"External",null,null,null,null,null,null,null,"Effective Management of Personal Debt","Business",31,"Effective Management of Personal Debt",60,"Internal"]
["Information Technology",3,"Using Social Media in Business",90,"Internal",null,null,null,null,null,null,null,"Supply Chain Operations","Business",33,"Supply Chain Operations",60,"Internal"]
["Information Technology",4,"Programming",90,"Internal",null,null,null,null,null,null,null,"Human-computer Interaction","Computing",10,"Human-computer Interaction",60,"Internal"]
["Performing Arts",1,"Investigating Practitioners’ Work",90,"External",null,null,null,null,null,null,null,"Digital Graphics and Animation","Computing",11,"Digital Graphics and Animation",60,"Internal"]
["Performing Arts",2,"Developing Skills and Techniques for Live Performance",90,"Internal",null,null,null,null,null,null,null,"Computer Games Development","Computing",14,"Computer Games Development",60,"Internal"]
["Performing Arts",3,"Group Performance Workshop",120,"External",null,null,null,null,null,null,null,"App Production","Creative Digital Media Production",9,"App Production",60,"Internal"]
["Performing Arts",4,"Performing Arts in the Community",90,"Internal",null,null,null,null,null,null,null,"Film Production – Fiction","Creative Digital Media Production",10,"Film Production – Fiction",60,"Internal"]
["Sport and Exercise Science",2,"Functional Anatomy",90,"External",null,null,null,null,null,null,null,"Radio Production – Fiction","Creative Digital Media Production",11,"Radio Production – Fiction",60,"Internal"]
["Sport and Exercise Science",3,"Applied Sport and Exercise Psychology",120,"External",null,null,null,null,null,null,null,"Website Production","Creative Digital Media Production",12,"Website Production",60,"Internal"]
["Sport and Exercise Science",5,"Applied Research Methods in Sport and Exercise Science",90,"Internal",null,null,null,null,null,null,null,"Digital Games Production","Creative Digital Media Production",13,"Digital Games Production",60,"Internal"]
["Sport and Exercise Science",6,"Coaching for Performance and Fitness",90,"Internal",null,null,null,null,null,null,null,"Digital Magazine Production","Creative Digital Media Production",14,"Digital Magazine Production",60,"Internal"]
["Travel and Tourism",1,"The World of Travel and Tourism",90,"External",null,null,null,null,null,null,null,"Advertising Production","Creative Digital Media Production",15,"Advertising Production",60,"Internal"]
["Travel and Tourism",2,"Global Destinations",120,"External",null,null,null,null,null,null,null,"Factual Production","Creative Digital Media Production",16,"Factual Production",60,"Internal"]
["Travel and Tourism",4,"Managing the Customer Experience",90,"Internal",null,null,null,null,null,null,null,"News Production","Creative Digital Media Production",17,"News Production",60,"Internal"]
["Travel and Tourism",5,"Travel and Tourism Enterprises",90,"Internal",null,null,null,null,null,null,null,"Social Enterprise","Enterprise and Entrepreneurship",7,"Social Enterprise",60,"Internal"]
["Uniformed Protective Services",1,"Citizenship and Diversity",120,"Internal",null,null,null,null,null,null,null,"Entrepreneurship and Intrapreneurship in Practice","Enterprise and Entrepreneurship",8,"Entrepreneurship and Intrapreneurship in Practice",60,"Internal"]
["Uniformed Protective Services",2,"Behaviour and Discipline in the Uniformed Protective Services",120,"External",null,null,null,null,null,null,null,"Innovation and Enterprises","Enterprise and Entrepreneurship",9,"Innovation and Enterprises",60,"Internal"]
["Uniformed Protective Services",4,"Physical Preparation, Health and Wellbeing",90,"Internal",null,null,null,null,null,null,null,"Physiology of Human Body Systems","Forensic Investigation",8,"Physiology of Human Body Systems",60,"Internal"]
["Uniformed Protective Services",5,"Teamwork, Leadership and Communication in the Uniformed Protective Services",120,"Internal",null,null,null,null,null,null,null,"Environmental Forensics","Forensic Investigation",9,"Environmental Forensics",60,"Internal"]
[null,null,null,null,null,null,null,null,null,null,null,null,"Forensic Fire Investigation","Forensic Investigation",10,"Forensic Fire Investigation",60,"Internal"]
[null,null,null,null,null,null,null,null,null,null,null,null,"Forensic Traffic Collision Investigation","Forensic Investigation",11,"Forensic Traffic Collision Investigation",60,"Internal"]
[null,null,null,null,null,null,null,null,null,null,null,null,"Forensic Photography","Forensic Investigation",12,"Forensic Photography",60,"Internal"]
[null,null,null,null,null,null,null,null,null,null,null,null,"Forensic Genetics","Forensic Investigation",13,"Forensic Genetics",60,"Internal"]
[null,null,null,null,null,null,null,null,null,null,null,null,"Work Experience in Health and Social Care","Health and Social Care",6,"Work Experience in Health and Social Care",60,"Internal"]
[null,null,null,null,null,null,null,null,null,null,null,null,"Sociological Perspectives","Health and Social Care",10,"Sociological Perspectives",60,"Internal"]
[null,null,null,null,null,null,null,null,null,null,null,null,"Psychological Perspectives","Health and Social Care",11,"Psychological Perspectives",60,"Internal"]
[null,null,null,null,null,null,null,null,null,null,null,null,"Supporting Individuals with Additional Needs","Health and Social Care",12,"Supporting Individuals with Additional Needs",60,"Internal"]
[null,null,null,null,null,null,null,null,null,null,null,null,"Physiological Disorders and their Care","Health and Social Care",14,"Physiological Disorders and their Care",60,"Internal"]
[null,null,null,null,null,null,null,null,null,null,null,null,"Nutritional Health","Health and Social Care",19,"Nutritional Health",60,"Internal"]
[null,null,null,null,null,null,null,null,null,null,null,null,"Data Modelling","Information Technology",5,"Data Modelling",60,"Internal"]
[null,null,null,null,null,null,null,null,null,null,null,null,"Website Development","Information Technology",6,"Website Development",60,"Internal"]
[null,null,null,null,null,null,null,null,null,null,null,null,"Mobile Apps Development","Information Technology",7,"Mobile Apps Development",60,"Internal"]
[null,null,null,null,null,null,null,null,null,null,null,null,"Computer Games Development","Information Technology",8,"Computer Games Development",60,"Internal"]
[null,null,null,null,null,null,null,null,null,null,null,null,"Classical Ballet Technique","Performing Arts",8,"Classical Ballet Technique",60,"Internal"]
[null,null,null,null,null,null,null,null,null,null,null,null,"Tap Dance Technique","Performing Arts",9,"Tap Dance Technique",60,"Internal"]
[null,null,null,null,null,null,null,null,null,null,null,null,"Jazz Dance Technique","Performing Arts",10,"Jazz Dance Technique",60,"Internal"]
[null,null,null,null,null,null,null,null,null,null,null,null,"Street Dance Technique","Performing Arts",11,"Street Dance Technique",60,"Internal"]
[null,null,null,null,null,null,null,null,null,null,null,null,"Contemporary Dance Technique","Performing Arts",12,"Contemporary Dance Technique",60,"Internal"]
[null,null,null,null,null,null,null,null,null,null,null,null,"Healthy Dancer","Performing Arts",13,"Healthy Dancer",60,"Internal"]
[null,null,null,null,null,null,null,null,null,null,null,null,"Choreography for Live Performance","Performing Arts",14,"Choreography for Live Performance",60,"Internal"]
[null,null,null,null,null,null,null,null,null,null,null,null,"Theatre Directing","Performing Arts",15,"Theatre Directing",60,"Internal"]
[null,null,null,null,null,null,null,null,null,null,null,null,"Writing for Performance","Performing Arts",16,"Writing for Performance",60,"Internal"]
[null,null,null,null,null,null,null,null,null,null,null,null,"Interpreting Classical Text for Performance","Performing Arts",18,"Interpreting Classical Text for Performance",60,"Internal"]
[null,null,null,null,null,null,null,null,null,null,null,null,"Acting Styles","Performing Arts",19,"Acting Styles",60,"Internal"]
[null,null,null,null,null,null,null,null,null,null,null,null,"Developing the Voice for Performance","Performing Arts",20,"Developing the Voice for Performance",60,"Internal"]
[null,null,null,null,null,null,null,null,null,null,null,null,"Improvisation","Performing Arts",21,"Improvisation",60,"Internal"]
[null,null,null,null,null,null,null,null,null,null,null,null,"Movement in Performance","Performing Arts",22,"Movement in Performance",60,"Internal"]
[null,null,null,null,null,null,null,null,null,null,null,null,"Singing Techniques for Performers","Performing Arts",23,"Singing Techniques for Performers",60,"Internal"]
[null,null,null,null,null,null,null,null,null,null,null,null,"Physical Theatre Techniques","Performing Arts",26,"Physical Theatre Techniques",60,"Internal"]
[null,null,null,null,null,null,null,null,null,null,null,null,"Musical Theatre Techniques","Performing Arts",27,"Musical Theatre Techniques",60,"Internal"]
[null,null,null,null,null,null,null,null,null,null,null,null,"Variety Performance","Performing Arts",28,"Variety Performance",60,"Internal"]
[null,null,null,null,null,null,null,null,null,null,null,null,"Storytelling","Performing Arts",29,"Storytelling",60,"Internal"]
[null,null,null,null,null,null,null,null,null,null,null,null,"Stand-up Comedy Technique","Performing Arts",31,"Stand-up Comedy Technique",60,"Internal"]
[null,null,null,null,null,null,null,null,null,null,null,null,"Biomechanics in Sport and Exercise Science","Sport and Exercise Science",7,"Biomechanics in Sport and Exercise Science",60,"Internal"]
[null,null,null,null,null,null,null,null,null,null,null,null,"Specialised Fitness Training","Sport and Exercise Science",8,"Specialised Fitness Training",60,"Internal"]
[null,null,null,null,null,null,null,null,null,null,null,null,"Research Project in Sport and Exercise Science","Sport and Exercise Science",9,"Research Project in Sport and Exercise Science",60,"Internal"]
[null,null,null,null,null,null,null,null,null,null,null,null,"Physical Activity for Individual and Group-based Exercise","Sport and Exercise Science",10,"Physical Activity for Individual and Group-based Exercise",60,"Internal"]
[null,null,null,null,null,null,null,null,null,null,null,null,"Sports Massage","Sport and Exercise Science",11,"Sports Massage",60,"Internal"]
[null,null,null,null,null,null,null,null,null,null,null,null,"Sociocultural Issues in Sport and Exercise","Sport and Exercise Science",12,"Sociocultural Issues in Sport and Exercise",60,"Internal"]
[null,null,null,null,null,null,null,null,null,null,null,null,"Specialist Tourism","Travel and Tourism",6,"Specialist Tourism",60,"Internal"]
[null,null,null,null,null,null,null,null,null,null,null,null,"Sustainable Tourism","Travel and Tourism",7,"Sustainable Tourism",60,"Internal"]
[null,null,null,null,null,null,null,null,null,null,null,null,"The Airport Experience","Travel and Tourism",8,"The Airport Experience",60,"Internal"]
[null,null,null,null,null,null,null,null,null,null,null,null,"Visitor Attractions","Travel and Tourism",9,"Visitor Attractions",60,"Internal"]
[null,null,null,null,null,null,null,null,null,null,null,null,"Passenger Transport","Travel and Tourism",10,"Passenger Transport",60,"Internal"]
[null,null,null,null,null,null,null,null,null,null,null,null,"Events, Conferences and Exhibitions","Travel and Tourism",11,"Events, Conferences and Exhibitions",60,"Internal"]
[null,null,null,null,null,null,null,null,null,null,null,null,"Working Overseas","Travel and Tourism",12,"Working Overseas",60,"Internal"]
[null,null,null,null,null,null,null,null,null,null,null,null,"Work Experience in Travel and Tourism","Travel and Tourism",13,"Work Experience in Travel and Tourism",60,"Internal"]
[null,null,null,null,null,null,null,null,null,null,null,null,"Custodial Care","Uniformed Protective Services",8,"Custodial Care",60,"Internal"]
[null,null,null,null,null,null,null,null,null,null,null,null,"Sociological Perspectives","Uniformed Protective Services",9,"Sociological Perspectives",60,"Internal"]
[null,null,null,null,null,null,null,null,null,null,null,null,"Skills for Outdoor Activities and the Uniformed Protective Services","Uniformed Protective Services",10,"Skills for Outdoor Activities and the Uniformed Protective Services",60,"Internal"]
[null,null,null,null,null,null,null,null,null,null,null,null,"Expedition Skills","Uniformed Protective Services",11,"Expedition Skills",60,"Internal"]
[null,null,null,null,null,null,null,null,null,null,null,null,"Developing Personal Fitness Programmes","Uniformed Protective Services",12,"Developing Personal Fitness Programmes",60,"Internal"]
[null,null,null,null,null,null,null,null,null,null,null,null,"Introduction to Criminology","Uniformed Protective Services",13,"Introduction to Criminology",60,"Internal"]
[null,null,null,null,null,null,null,null,null,null,null,null,"Police Powers and the Law","Uniformed Protective Services",15,"Police Powers and the Law",60,"Internal"]
[null,null,null,null,null,null,null,null,null,null,null,null,"Professional Development in the Uniformed Protective Services","Uniformed Protective Services",19,"Professional Development in the Uniformed Protective Services",60,"Internal"]

{"sheet":"Extended Cert Dropdown","index":13,"n_rows":13,"n_cols":130,"rows_kept":13,"cut":false,"hidden":true,"merged":[]}
["Music",null,null,null,"Sound Engineering",null,null,null,"Digital Music Production",null,null,null,"Computing",null,null,null,"Applied Science",null,null,null,"Business",null,null,null,"Applied Law",null,null,null,"Art and Design",null,null,null,"CPLD",null,null,null,"Creative Digital Media Production",null,null,null,"Engineering",null,null,null,"Enterprise and Entrepreneurship",null,null,null,"Equine Management",null,null,null,"Health and Social Care",null,null,null,"Horticulture",null,null,null,"Information Technology",null,null,null,"Performing Arts",null,null,null,"Sport",null,null,null,"Sport and Exercise Science",null,null,null,"Traavel and Tourism",null,null,null,"Agriculture",null,null,null,"Countryside Management",null,null,"Applied Human Biology",null,null,null,"Applied Psychology",null,null,null,"Digital Film and Video Production",null,null,null,"Digital Content Production",null,null,null,"Digital Games Production",null,null,null,"Music Performance",null,null,null,"Performance Acting",null,null,null,"Performance Dance",null,null,null,"Performance Musical Theatre",null,null,null,"Sport and Exercise Science",null,null,null,"UPS Group A"]
["Composing Music",{"$f":"IF(COUNTIF('Extended Certificate'!$E$29:$E$70,A2)>=1,\"\",ROW())","v":2},{"$f":"IF(ROW(A2)-ROW(A$2)+1>COUNT(B$2:B$6),\"\",INDEX(A:A,SMALL(B$2:B$6,1+ROW(A2)-ROW(A$2))))","v":"Composing Music"},null,"Live sound",{"$f":"IF(COUNTIF('Extended Certificate'!$E$29:$E$70,E2)>=1,\"\",ROW())","v":2},{"$f":"IF(ROW(E2)-ROW(E$2)+1>COUNT(F$2:F$5),\"\",INDEX(E:E,SMALL(F$2:F$5,1+ROW(E2)-ROW(E$2))))","v":"Live sound"},null,"Creative Synthesis and Sampling",{"$f":"IF(COUNTIF('Extended Certificate'!$E$29:$E$70,I2)>=1,\"\",ROW())","v":2},{"$f":"IF(ROW(I2)-ROW(I$2)+1>COUNT(J$2:J$5),\"\",INDEX(I:I,SMALL(J$2:J$5,1+ROW(I2)-ROW(I$2))))","v":"Creative Synthesis and Sampling"},null,"Human-computer Interaction",{"$f":"IF(COUNTIF('Extended Certificate'!$E$29:$E$70,M2)>=1,\"\",ROW())","v":2},{"$f":"IF(ROW(M2)-ROW(M$2)+1>COUNT(N$2:N$8),\"\",INDEX(M:M,SMALL(N$2:N$8,1+ROW(M2)-ROW(M$2))))","v":"Human-computer Interaction"},null,"Physiology of Human Body Systems",{"$f":"IF(COUNTIF('Extended Certificate'!$E$29:$E$70,Q2)>=1,\"\",ROW())","v":2},{"$f":"IF(ROW(Q2)-ROW(Q$2)+1>COUNT(R$2:R$10),\"\",INDEX(Q:Q,SMALL(R$2:R$10,1+ROW(Q2)-ROW(Q$2))))","v":"Physiology of Human Body Systems"},null,"Recruitment and Selection Process",{"$f":"IF(COUNTIF('Extended Certificate'!$E$29:$E$70,U2)>=1,\"\",ROW())","v":2},{"$f":"IF(ROW(U2)-ROW(U$2)+1>COUNT(V$2:V$6),\"\",INDEX(U:U,SMALL(V$2:V$10,1+ROW(U2)-ROW(U$2))))","v":"Recruitment and Selection Process"},null,"Aspects of Family Law",{"$f":"IF(COUNTIF('Extended Certificate'!$E$29:$E$70,Y2)>=1,\"\",ROW())","v":2},{"$f":"IF(ROW(Y2)-ROW(Y$2)+1>COUNT(Z$2:Z$6),\"\",INDEX(Y:Y,SMALL(Z$2:Z$10,1+ROW(Y2)-ROW(Y$2))))","v":"Aspects of Family Law"},null,"Photographic Materials, Techniques and Processes",{"$f":"IF(COUNTIF('Extended Certificate'!$E$29:$E$70,AC2)>=1,\"\",ROW())","v":2},{"$f":"IF(ROW(AC2)-ROW(AC$2)+1>COUNT(AD$2:AD$40),\"\",INDEX(AC:AC,SMALL(AD$2:AD$10,1+ROW(AC2)-ROW(AC$2))))","v":"Photographic Materials, Techniques and Processes"},null,"Keeping Children Safe",{"$f":"IF(COUNTIF('Extended Certificate'!$E$29:$E$70,AG2)>=1,\"\",ROW())","v":2},{"$f":"IF(ROW(AG2)-ROW(AG$2)+1>COUNT(AH$2:AH$40),\"\",INDEX(AG:AG,SMALL(AH$2:AH$10,1+ROW(AG2)-ROW(AG$2))))","v":"Keeping Children Safe"},null,"Film Production – Fiction",{"$f":"IF(COUNTIF('Extended Certificate'!$E$29:$E$70,AK2)>=1,\"\",ROW())","v":2},{"$f":"IF(ROW(AK2)-ROW(AK$2)+1>COUNT(AL$2:AL$40),\"\",INDEX(AK:AK,SMALL(AL$2:AL$10,1+ROW(AK2)-ROW(AK$2))))","v":"Film Production – Fiction"},null,"Work Experience in the Engineering Sector",{"$f":"IF(COUNTIF('Extended Certificate'!$E$29:$E$70,AO2)>=1,\"\",ROW())","v":2},{"$f":"IF(ROW(AO2)-ROW(AO$2)+1>COUNT(AP$2:AP$40),\"\",INDEX(AO:AO,SMALL(AP$2:AP$40,1+ROW(AO2)-ROW(AO$2))))","v":"Work Experience in the Engineering Sector"},null,"Social Enterprise",{"$f":"IF(COUNTIF('Extended Certificate'!$E$29:$E$70,AS2)>=1,\"\",ROW())","v":2},{"$f":"IF(ROW(AS2)-ROW(AS$2)+1>COUNT(AT$2:AT$40),\"\",INDEX(AS:AS,SMALL(AT$2:AT$40,1+ROW(AS2)-ROW(AS$2))))","v":"Social Enterprise"},null,"Preparation and Presentation for Competition Disciplines",{"$f":"IF(COUNTIF('Extended Certificate'!$E$29:$E$70,AW2)>=1,\"\",ROW())","v":2},{"$f":"IF(ROW(AW2)-ROW(AW$2)+1>COUNT(AX$2:AX$40),\"\",INDEX(AW:AW,SMALL(AX$2:AX$40,1+ROW(AW2)-ROW(AW$2))))","v":"Preparation and Presentation for Competition Disciplines"},null,"Sociological Perspectives",{"$f":"IF(COUNTIF('Extended Certificate'!$E$29:$E$70,BA2)>=1,\"\",ROW())","v":2},{"$f":"IF(ROW(BA2)-ROW(BA$2)+1>COUNT(BB$2:BB$40),\"\",INDEX(BA:BA,SMALL(BB$2:BB$40,1+ROW(BA2)-ROW(BA$2))))","v":"Sociological Perspectives"},null,"Estate Skills",{"$f":"IF(COUNTIF('Extended Certificate'!$E$29:$E$70,BE2)>=1,\"\",ROW())","v":2},{"$f":"IF(ROW(BE2)-ROW(BE$2)+1>COUNT(BF$2:BF$40),\"\",INDEX(BE:BE,SMALL(BF$2:BF$40,1+ROW(BE2)-ROW(BE$2))))","v":"Estate Skills"},null,"Data Modelling",{"$f":"IF(COUNTIF('Extended Certificate'!$E$29:$E$70,BI2)>=1,\"\",ROW())","v":2},{"$f":"IF(ROW(BI2)-ROW(BI$2)+1>COUNT(BJ$2:BJ$40),\"\",INDEX(BI:BI,SMALL(BJ$2:BJ$40,1+ROW(BI2)-ROW(BI$2))))","v":"Data Modelling"},null,"Classical Ballet Technique",{"$f":"IF(COUNTIF('Extended Certificate'!$E$29:$E$70,BM2)>=1,\"\",ROW())","v":2},{"$f":"IF(ROW(BM2)-ROW(BM$2)+1>COUNT(BN$2:BN$40),\"\",INDEX(BM:BM,SMALL(BN$2:BN$40,1+ROW(BM2)-ROW(BM$2))))","v":"Classical Ballet Technique"},null,"Sports Leadership",{"$f":"IF(COUNTIF('Extended Certificate'!$E$29:$E$70,BQ2)>=1,\"\",ROW())","v":2},{"$f":"IF(ROW(BQ2)-ROW(BQ$2)+1>COUNT(BR$2:BR$40),\"\",INDEX(BQ:BQ,SMALL(BR$2:BR$40,1+ROW(BQ2)-ROW(BQ$2))))","v":"Sports Leadership"},null,null,null,null,null,"Visitor Attractions",{"$f":"IF(COUNTIF('Extended Certificate'!$E$29:$E$70,BY2)>=1,\"\",ROW())","v":2},{"$f":"IF(ROW(BY2)-ROW(BY$2)+1>COUNT(BZ$2:BZ$40),\"\",INDEX(BY:BY,SMALL(BZ$2:BZ$40,1+ROW(BY2)-ROW(BY$2))))","v":"Visitor Attractions"},null,"Estate Skills",{"$f":"IF(COUNTIF('Extended Certificate'!$E$29:$E$70,CC2)>=1,\"\",ROW())","v":2},{"$f":"IF(ROW(CC2)-ROW(CC$2)+1>COUNT(CD$2:CD$40),\"\",INDEX(CC:CC,SMALL(CD$2:CD$40,1+ROW(CC2)-ROW(CC$2))))","v":"Estate Skills"},null,"Woodland Management",{"$f":"IF(COUNTIF('Extended Certificate'!$E$29:$E$70,CG2)>=1,\"\",ROW())","v":2},{"$f":"IF(ROW(CG2)-ROW(CG$2)+1>COUNT(CH$2:CH$40),\"\",INDEX(CG:CG,SMALL(CH$2:CH$40,1+ROW(CG2)-ROW(CG$2))))","v":"Woodland Management"},"Functional Physiology",{"$f":"IF(COUNTIF('Extended Certificate'!$E$29:$E$70,CJ2)>=1,\"\",ROW())","v":2},{"$f":"IF(ROW(CJ2)-ROW(CJ$2)+1>COUNT(CK$2:CK$40),\"\",INDEX(CJ:CJ,SMALL(CK$2:CK$40,1+ROW(CJ2)-ROW(CJ$2))))","v":"Functional Physiology"},null,"Criminal and Forensic Psychology",{"$f":"IF(COUNTIF('Extended Certificate'!$E$29:$E$70,CN2)>=1,\"\",ROW())","v":2},{"$f":"IF(ROW(CN2)-ROW(CN$2)+1>COUNT(CO$2:CO$40),\"\",INDEX(CN:CN,SMALL(CO$2:CO$40,1+ROW(CN2)-ROW(CN$2))))","v":"Criminal and Forensic Psychology"},null,"Storyboarding for Digital Media",{"$f":"IF(COUNTIF('Extended Certificate'!$E$29:$E$70,CR2)>=1,\"\",ROW())","v":2},{"$f":"IF(ROW(CR2)-ROW(CR$2)+1>COUNT(CS$2:CS$40),\"\",INDEX(CR:CR,SMALL(CS$2:CS$40,1+ROW(CR2)-ROW(CR$2))))","v":"Storyboarding for Digital Media"},null,"App Production",{"$f":"IF(COUNTIF('Extended Certificate'!$E$29:$E$70,CV2)>=1,\"\",ROW())","v":2},{"$f":"IF(ROW(CV2)-ROW(CV$2)+1>COUNT(CW$2:CW$40),\"\",INDEX(CV:CV,SMALL(CW$2:CW$40,1+ROW(CV2)-ROW(CV$2))))","v":"App Production"},null,"App Production",{"$f":"IF(COUNTIF('Extended Certificate'!$E$29:$E$70,CZ2)>=1,\"\",ROW())","v":2},{"$f":"IF(ROW(CZ2)-ROW(CZ$2)+1>COUNT(DA$2:DA$40),\"\",INDEX(CZ:CZ,SMALL(DA$2:DA$40,1+ROW(CZ2)-ROW(CZ$2))))","v":"App Production"},null,"Composing Music",{"$f":"IF(COUNTIF('Extended Certificate'!$E$29:$E$70,DD2)>=1,\"\",ROW())","v":2},{"$f":"IF(ROW(DD2)-ROW(DD$2)+1>COUNT(DE$2:DE$40),\"\",INDEX(DD:DD,SMALL(DE$2:DE$40,1+ROW(DD2)-ROW(DD$2))))","v":"Composing Music"},null,"Theatre Directing",{"$f":"IF(COUNTIF('Extended Certificate'!$E$29:$E$70,DH2)>=1,\"\",ROW())","v":2},{"$f":"IF(ROW(DH2)-ROW(DH$2)+1>COUNT(DI$2:DI$40),\"\",INDEX(DH:DH,SMALL(DI$2:DI$40,1+ROW(DH2)-ROW(DH$2))))","v":"Theatre Directing"},null,"Classical Ballet Technique",{"$f":"IF(COUNTIF('Extended Certificate'!$E$29:$E$70,DL2)>=1,\"\",ROW())","v":2},{"$f":"IF(ROW(DL2)-ROW(DL$2)+1>COUNT(DM$2:DM$40),\"\",INDEX(DL:DL,SMALL(DM$2:DM$40,1+ROW(DL2)-ROW(DL$2))))","v":"Classical Ballet Technique"},null,"Tap Dance Technique",{"$f":"IF(COUNTIF('Extended Certificate'!$E$29:$E$70,DP2)>=1,\"\",ROW())","v":2},{"$f":"IF(ROW(DP2)-ROW(DP$2)+1>COUNT(DQ$2:DQ$40),\"\",INDEX(DP:DP,SMALL(DQ$2:DQ$40,1+ROW(DP2)-ROW(DP$2))))","v":"Tap Dance Technique"},null,"Biomechanics in Sport and Exercise Science",{"$f":"IF(COUNTIF('Extended Certificate'!$E$29:$E$70,DT2)>=1,\"\",ROW())","v":2},{"$f":"IF(ROW(DT2)-ROW(DT$2)+1>COUNT(DU$2:DU$40),\"\",INDEX(DT:DT,SMALL(DU$2:DU$40,1+ROW(DT2)-ROW(DT$2))))","v":"Biomechanics in Sport and Exercise Science"},null,"Skills for Outdoor Activities and the Uniformed Protective Services",{"$f":"IF(COUNTIF('Extended Certificate'!$E$29:$E$70,DX2)>=1,\"\",ROW())","v":2},{"$f":"IF(ROW(DX2)-ROW(DX$2)+1>COUNT(DY$2:DY$40),\"\",INDEX(DX:DX,SMALL(DY$2:DY$40,1+ROW(DX2)-ROW(DX$2))))","v":"Skills for Outdoor Activities and the Uniformed Protective Services"}]
["Music Promotion",{"$f":"IF(COUNTIF('Extended Certificate'!$E$29:$E$70,A3)>=1,\"\",ROW())","v":3},{"$f":"IF(ROW(A3)-ROW(A$2)+1>COUNT(B$2:B$6),\"\",INDEX(A:A,SMALL(B$2:B$6,1+ROW(A3)-ROW(A$2))))","v":"Music Promotion"},null,"Mixing and Mastering Techniques",{"$f":"IF(COUNTIF('Extended Certificate'!$E$29:$E$70,E3)>=1,\"\",ROW())","v":3},{"$f":"IF(ROW(E3)-ROW(E$2)+1>COUNT(F$2:F$5),\"\",INDEX(E:E,SMALL(F$2:F$5,1+ROW(E3)-ROW(E$2))))","v":"Mixing and Mastering Techniques"},null,"Remixing and Reworking",{"$f":"IF(COUNTIF('Extended Certificate'!$E$29:$E$70,I3)>=1,\"\",ROW())","v":3},{"$f":"IF(ROW(I3)-ROW(I$2)+1>COUNT(J$2:J$5),\"\",INDEX(I:I,SMALL(J$2:J$5,1+ROW(I3)-ROW(I$2))))","v":"Remixing and Reworking"},null,"Digital Graphics and Animation",{"$f":"IF(COUNTIF('Extended Certificate'!$E$29:$E$70,M3)>=1,\"\",ROW())","v":3},{"$f":"IF(ROW(M3)-ROW(M$2)+1>COUNT(N$2:N$8),\"\",INDEX(M:M,SMALL(N$2:N$8,1+ROW(M3)-ROW(M$2))))","v":"Digital Graphics and Animation"},null,"Human Regulation and Reproduction",{"$f":"IF(COUNTIF('Extended Certificate'!$E$29:$E$70,Q3)>=1,\"\",ROW())","v":3},{"$f":"IF(ROW(Q3)-ROW(Q$2)+1>COUNT(R$2:R$10),\"\",INDEX(Q:Q,SMALL(R$2:R$10,1+ROW(Q3)-ROW(Q$2))))","v":"Human Regulation and Reproduction"},null,"Investigating Customer Service",{"$f":"IF(COUNTIF('Extended Certificate'!$E$29:$E$70,U3)>=1,\"\",ROW())","v":3},{"$f":"IF(ROW(U3)-ROW(U$2)+1>COUNT(V$2:V$6),\"\",INDEX(U:U,SMALL(V$2:V$10,1+ROW(U3)-ROW(U$2))))","v":"Investigating Customer Service"},null,"Consumer Law",{"$f":"IF(COUNTIF('Extended Certificate'!$E$29:$E$70,Y3)>=1,\"\",ROW())","v":3},{"$f":"IF(ROW(Y3)-ROW(Y$2)+1>COUNT(Z$2:Z$6),\"\",INDEX(Y:Y,SMALL(Z$2:Z$10,1+ROW(Y3)-ROW(Y$2))))","v":"Consumer Law"},null,"Graphic Materials, Techniques and Processes",{"$f":"IF(COUNTIF('Extended Certificate'!$E$29:$E$70,AC3)>=1,\"\",ROW())","v":3},{"$f":"IF(ROW(AC3)-ROW(AC$2)+1>COUNT(AD$2:AD$40),\"\",INDEX(AC:AC,SMALL(AD$2:AD$10,1+ROW(AC3)-ROW(AC$2))))","v":"Graphic Materials, Techniques and Processes"},null,"Children’s Physical Development, Care and Health Needs",{"$f":"IF(COUNTIF('Extended Certificate'!$E$29:$E$70,AG3)>=1,\"\",ROW())","v":3},{"$f":"IF(ROW(AG3)-ROW(AG$2)+1>COUNT(AH$2:AH$40),\"\",INDEX(AG:AG,SMALL(AH$2:AH$10,1+ROW(AG3)-ROW(AG$2))))","v":"Children’s Physical Development, Care and Health Needs"},null,"Radio Production – Fiction",{"$f":"IF(COUNTIF('Extended Certificate'!$E$29:$E$70,AK3)>=1,\"\",ROW())","v":3},{"$f":"IF(ROW(AK3)-ROW(AK$2)+1>COUNT(AL$2:AL$40),\"\",INDEX(AK:AK,SMALL(AL$2:AL$10,1+ROW(AK3)-ROW(AK$2))))","v":"Radio Production – Fiction"},null,"Computer Aided Design in Engineering",{"$f":"IF(COUNTIF('Extended Certificate'!$E$29:$E$70,AO3)>=1,\"\",ROW())","v":3},{"$f":"IF(ROW(AO3)-ROW(AO$2)+1>COUNT(AP$2:AP$40),\"\",INDEX(AO:AO,SMALL(AP$2:AP$40,1+ROW(AO3)-ROW(AO$2))))","v":"Computer Aided Design in Engineering"},null,"Entrepreneurship and Intrapreneurship in Practice",{"$f":"IF(COUNTIF('Extended Certificate'!$E$29:$E$70,AS3)>=1,\"\",ROW())","v":3},{"$f":"IF(ROW(AS3)-ROW(AS$2)+1>COUNT(AT$2:AT$40),\"\",INDEX(AS:AS,SMALL(AT$2:AT$40,1+ROW(AS3)-ROW(AS$2))))","v":"Entrepreneurship and Intrapreneurship in Practice"},null,"Equine Behaviour",{"$f":"IF(COUNTIF('Extended Certificate'!$E$29:$E$70,AW3)>=1,\"\",ROW())","v":3},{"$f":"IF(ROW(AW3)-ROW(AW$2)+1>COUNT(AX$2:AX$40),\"\",INDEX(AW:AW,SMALL(AX$2:AX$40,1+ROW(AW3)-ROW(AW$2))))","v":"Equine Behaviour"},null,"Psychological Perspectives",{"$f":"IF(COUNTIF('Extended Certificate'!$E$29:$E$70,BA3)>=1,\"\",ROW())","v":3},{"$f":"IF(ROW(BA3)-ROW(BA$2)+1>COUNT(BB$2:BB$40),\"\",INDEX(BA:BA,SMALL(BB$2:BB$40,1+ROW(BA3)-ROW(BA$2))))","v":"Psychological Perspectives"},null,"Tree and Shrub Pruning and Maintenance",{"$f":"IF(COUNTIF('Extended Certificate'!$E$29:$E$70,BE3)>=1,\"\",ROW())","v":3},{"$f":"IF(ROW(BE3)-ROW(BE$2)+1>COUNT(BF$2:BF$40),\"\",INDEX(BE:BE,SMALL(BF$2:BF$40,1+ROW(BE3)-ROW(BE$2))))","v":"Tree and Shrub Pruning and Maintenance"},null,"Website Development",{"$f":"IF(COUNTIF('Extended Certificate'!$E$29:$E$70,BI3)>=1,\"\",ROW())","v":3},{"$f":"IF(ROW(BI3)-ROW(BI$2)+1>COUNT(BJ$2:BJ$40),\"\",INDEX(BI:BI,SMALL(BJ$2:BJ$40,1+ROW(BI3)-ROW(BI$2))))","v":"Website Development"},null,"Tap Dance Technique",{"$f":"IF(COUNTIF('Extended Certificate'!$E$29:$E$70,BM3)>=1,\"\",ROW())","v":3},{"$f":"IF(ROW(BM3)-ROW(BM$2)+1>COUNT(BN$2:BN$40),\"\",INDEX(BM:BM,SMALL(BN$2:BN$40,1+ROW(BM3)-ROW(BM$2))))","v":"Tap Dance Technique"},null,"Application of Fitness Testing",{"$f":"IF(COUNTIF('Extended Certificate'!$E$29:$E$70,BQ3)>=1,\"\",ROW())","v":3},{"$f":"IF(ROW(BQ3)-ROW(BQ$2)+1>COUNT(BR$2:BR$40),\"\",INDEX(BQ:BQ,SMALL(BR$2:BR$40,1+ROW(BQ3)-ROW(BQ$2))))","v":"Application of Fitness Testing"},null,null,null,null,null,"Events, Conferences and Exhibitions",{"$f":"IF(COUNTIF('Extended Certificate'!$E$29:$E$70,BY3)>=1,\"\",ROW())","v":3},{"$f":"IF(ROW(BY3)-ROW(BY$2)+1>COUNT(BZ$2:BZ$40),\"\",INDEX(BY:BY,SMALL(BZ$2:BZ$40,1+ROW(BY3)-ROW(BY$2))))","v":"Events, Conferences and Exhibitions"},null,"Land-based Machinery Operations",{"$f":"IF(COUNTIF('Extended Certificate'!$E$29:$E$70,CC3)>=1,\"\",ROW())","v":3},{"$f":"IF(ROW(CC3)-ROW(CC$2)+1>COUNT(CD$2:CD$40),\"\",INDEX(CC:CC,SMALL(CD$2:CD$40,1+ROW(CC3)-ROW(CC$2))))","v":"Land-based Machinery Operations"},null,"Identification, Planting and Care of Trees",{"$f":"IF(COUNTIF('Extended Certificate'!$E$29:$E$70,CG3)>=1,\"\",ROW())","v":3},"Identification, Planting and Care of Trees","Diseases, Disorders, Treatments and Therapies",{"$f":"IF(COUNTIF('Extended Certificate'!$E$29:$E$70,CJ3)>=1,\"\",ROW())","v":3},{"$f":"IF(ROW(CJ3)-ROW(CJ$2)+1>COUNT(CK$2:CK$40),\"\",INDEX(CJ:CJ,SMALL(CK$2:CK$40,1+ROW(CJ3)-ROW(CJ$2))))","v":"Diseases, Disorders, Treatments and Therapies"},null,"Promoting Children’s Psychological Development",{"$f":"IF(COUNTIF('Extended Certificate'!$E$29:$E$70,CN3)>=1,\"\",ROW())","v":3},{"$f":"IF(ROW(CN3)-ROW(CN$2)+1>COUNT(CO$2:CO$40),\"\",INDEX(CN:CN,SMALL(CO$2:CO$40,1+ROW(CN3)-ROW(CN$2))))","v":"Promoting Children’s Psychological Development"},null,"Scriptwriting",{"$f":"IF(COUNTIF('Extended Certificate'!$E$29:$E$70,CR3)>=1,\"\",ROW())","v":3},"Scriptwriting",null,"Website Production",{"$f":"IF(COUNTIF('Extended Certificate'!$E$29:$E$70,CV3)>=1,\"\",ROW())","v":3},"Website Production",null,"Concept Art for Computer Games",{"$f":"IF(COUNTIF('Extended Certificate'!$E$29:$E$70,CZ3)>=1,\"\",ROW())","v":3},"Concept Art for Computer Games",null,"Music Performance Session Styles",{"$f":"IF(COUNTIF('Extended Certificate'!$E$29:$E$70,DD3)>=1,\"\",ROW())","v":3},{"$f":"IF(ROW(DD3)-ROW(DD$2)+1>COUNT(DE$2:DE$40),\"\",INDEX(DD:DD,SMALL(DE$2:DE$40,1+ROW(DD3)-ROW(DD$2))))","v":"Music Performance Session Styles"},null,"Screen Acting",{"$f":"IF(COUNTIF('Extended Certificate'!$E$29:$E$70,DH3)>=1,\"\",ROW())","v":3},"Screen Acting",null,"Tap Dance Technique",{"$f":"IF(COUNTIF('Extended Certificate'!$E$29:$E$70,DL3)>=1,\"\",ROW())","v":3},"Tap Dance Technique",null,"Jazz Dance Technique",{"$f":"IF(COUNTIF('Extended Certificate'!$E$29:$E$70,DP3)>=1,\"\",ROW())","v":3},"Jazz Dance Technique",null,"Specialised Fitness Training",{"$f":"IF(COUNTIF('Extended Certificate'!$E$29:$E$70,DT3)>=1,\"\",ROW())","v":3},{"$f":"IF(ROW(DT3)-ROW(DT$2)+1>COUNT(DU$2:DU$40),\"\",INDEX(DT:DT,SMALL(DU$2:DU$40,1+ROW(DT3)-ROW(DT$2))))","v":"Specialised Fitness Training"},null,"Expedition Skills",{"$f":"IF(COUNTIF('Extended Certificate'!$E$29:$E$70,DX3)>=1,\"\",ROW())","v":3},{"$f":"IF(ROW(DX3)-ROW(DX$2)+1>COUNT(DY$2:DY$40),\"\",INDEX(DX:DX,SMALL(DY$2:DY$40,1+ROW(DX3)-ROW(DX$2))))","v":"Expedition Skills"}]
["Music Performance Session Styles",{"$f":"IF(COUNTIF('Extended Certificate'!$E$29:$E$70,A4)>=1,\"\",ROW())","v":4},{"$f":"IF(ROW(A4)-ROW(A$2)+1>COUNT(B$2:B$6),\"\",INDEX(A:A,SMALL(B$2:B$6,1+ROW(A4)-ROW(A$2))))","v":"Music Performance Session Styles"},null,"Studio Design and Acoustics",{"$f":"IF(COUNTIF('Extended Certificate'!$E$29:$E$70,E4)>=1,\"\",ROW())","v":4},{"$f":"IF(ROW(E4)-ROW(E$2)+1>COUNT(F$2:F$5),\"\",INDEX(E:E,SMALL(F$2:F$5,1+ROW(E4)-ROW(E$2))))","v":"Studio Design and Acoustics"},null,"Mixing and Mastering Techniques",{"$f":"IF(COUNTIF('Extended Certificate'!$E$29:$E$70,I4)>=1,\"\",ROW())","v":4},{"$f":"IF(ROW(I4)-ROW(I$2)+1>COUNT(J$2:J$5),\"\",INDEX(I:I,SMALL(J$2:J$5,1+ROW(I4)-ROW(I$2))))","v":"Mixing and Mastering Techniques"},null,"Computer Games Development",{"$f":"IF(COUNTIF('Extended Certificate'!$E$29:$E$70,M4)>=1,\"\",ROW())","v":4},"Computer Games Development",null,"Biological Molecules and Metabolic Pathways",{"$f":"IF(COUNTIF('Extended Certificate'!$E$29:$E$70,Q4)>=1,\"\",ROW())","v":4},"Biological Molecules and Metabolic Pathways",null,"Market Research",{"$f":"IF(COUNTIF('Extended Certificate'!$E$29:$E$70,U4)>=1,\"\",ROW())","v":4},{"$f":"IF(ROW(U4)-ROW(U$2)+1>COUNT(V$2:V$6),\"\",INDEX(U:U,SMALL(V$2:V$10,1+ROW(U4)-ROW(U$2))))","v":"Market Research"},null,"Contract Law",{"$f":"IF(COUNTIF('Extended Certificate'!$E$29:$E$70,Y4)>=1,\"\",ROW())","v":4},{"$f":"IF(ROW(Y4)-ROW(Y$2)+1>COUNT(Z$2:Z$6),\"\",INDEX(Y:Y,SMALL(Z$2:Z$10,1+ROW(Y4)-ROW(Y$2))))","v":"Contract Law"},null,"Interactive Design Materials, Techniques and Processes",{"$f":"IF(COUNTIF('Extended Certificate'!$E$29:$E$70,AC4)>=1,\"\",ROW())","v":4},"Interactive Design Materials, Techniques and Processes",null,"Working with Parents and Others in Early Years",{"$f":"IF(COUNTIF('Extended Certificate'!$E$29:$E$70,AG4)>=1,\"\",ROW())","v":4},{"$f":"IF(ROW(AG4)-ROW(AG$2)+1>COUNT(AH$2:AH$40),\"\",INDEX(AG:AG,SMALL(AH$2:AH$10,1+ROW(AG4)-ROW(AG$2))))","v":"Working with Parents and Others in Early Years"},null,"Website Production",{"$f":"IF(COUNTIF('Extended Certificate'!$E$29:$E$70,AK4)>=1,\"\",ROW())","v":4},{"$f":"IF(ROW(AK4)-ROW(AK$2)+1>COUNT(AL$2:AL$40),\"\",INDEX(AK:AK,SMALL(AL$2:AL$10,1+ROW(AK4)-ROW(AK$2))))","v":"Website Production"},null,"Engineering Maintenance and Condition Monitoring Techniques",{"$f":"IF(COUNTIF('Extended Certificate'!$E$29:$E$70,AO4)>=1,\"\",ROW())","v":4},"Engineering Maintenance and Condition Monitoring Techniques",null,null,null,null,null,"Riding Horses in the Open",{"$f":"IF(COUNTIF('Extended Certificate'!$E$29:$E$70,AW4)>=1,\"\",ROW())","v":4},{"$f":"IF(ROW(AW4)-ROW(AW$2)+1>COUNT(AX$2:AX$40),\"\",INDEX(AW:AW,SMALL(AX$2:AX$40,1+ROW(AW4)-ROW(AW$2))))","v":"Riding Horses in the Open"},null,"Supporting Individuals with Additional Needs",{"$f":"IF(COUNTIF('Extended Certificate'!$E$29:$E$70,BA4)>=1,\"\",ROW())","v":4},{"$f":"IF(ROW(BA4)-ROW(BA$2)+1>COUNT(BB$2:BB$40),\"\",INDEX(BA:BA,SMALL(BB$2:BB$40,1+ROW(BA4)-ROW(BA$2))))","v":"Supporting Individuals with Additional Needs"},null,"Nursery Stock Production",{"$f":"IF(COUNTIF('Extended Certificate'!$E$29:$E$70,BE4)>=1,\"\",ROW())","v":4},{"$f":"IF(ROW(BE4)-ROW(BE$2)+1>COUNT(BF$2:BF$40),\"\",INDEX(BE:BE,SMALL(BF$2:BF$40,1+ROW(BE4)-ROW(BE$2))))","v":"Nursery Stock Production"},null,null,null,null,null,"Jazz Dance Technique",{"$f":"IF(COUNTIF('Extended Certificate'!$E$29:$E$70,BM4)>=1,\"\",ROW())","v":4},"Jazz Dance Technique",null,"Sports Psychology",{"$f":"IF(COUNTIF('Extended Certificate'!$E$29:$E$70,BQ4)>=1,\"\",ROW())","v":4},{"$f":"IF(ROW(BQ4)-ROW(BQ$2)+1>COUNT(BR$2:BR$40),\"\",INDEX(BQ:BQ,SMALL(BR$2:BR$40,1+ROW(BQ4)-ROW(BQ$2))))","v":"Sports Psychology"},null,null,null,null,null,null,null,null,null,null,null,null,null,"Developing a Land-based Enterprise",{"$f":"IF(COUNTIF('Extended Certificate'!$E$29:$E$70,CG4)>=1,\"\",ROW())","v":4},"Developing a Land-based Enterprise","Genetics and Genetic Engineering",{"$f":"IF(COUNTIF('Extended Certificate'!$E$29:$E$70,CJ4)>=1,\"\",ROW())","v":4},{"$f":"IF(ROW(CJ4)-ROW(CJ$2)+1>COUNT(CK$2:CK$40),\"\",INDEX(CJ:CJ,SMALL(CK$2:CK$40,1+ROW(CJ4)-ROW(CJ$2))))","v":"Genetics and Genetic Engineering"},null,"Introduction to Psychopathology",{"$f":"IF(COUNTIF('Extended Certificate'!$E$29:$E$70,CN4)>=1,\"\",ROW())","v":4},{"$f":"IF(ROW(CN4)-ROW(CN$2)+1>COUNT(CO$2:CO$40),\"\",INDEX(CN:CN,SMALL(CO$2:CO$40,1+ROW(CN4)-ROW(CN$2))))","v":"Introduction to Psychopathology"},null,"Single Camera Techniques",{"$f":"IF(COUNTIF('Extended Certificate'!$E$29:$E$70,CR4)>=1,\"\",ROW())","v":4},"Single Camera Techniques",null,"Interviewing Techniques",{"$f":"IF(COUNTIF('Extended Certificate'!$E$29:$E$70,CV4)>=1,\"\",ROW())","v":4},"Interviewing Techniques",null,"2D Animation",{"$f":"IF(COUNTIF('Extended Certificate'!$E$29:$E$70,CZ4)>=1,\"\",ROW())","v":4},"2D Animation",null,"Solo Performance",{"$f":"IF(COUNTIF('Extended Certificate'!$E$29:$E$70,DD4)>=1,\"\",ROW())","v":4},{"$f":"IF(ROW(DD4)-ROW(DD$2)+1>COUNT(DE$2:DE$40),\"\",INDEX(DD:DD,SMALL(DE$2:DE$40,1+ROW(DD4)-ROW(DD$2))))","v":"Solo Performance"},null,"Interpreting Classical Text for Performance",{"$f":"IF(COUNTIF('Extended Certificate'!$E$29:$E$70,DH4)>=1,\"\",ROW())","v":4},"Interpreting Classical Text for Performance",null,"Jazz Dance Technique",{"$f":"IF(COUNTIF('Extended Certificate'!$E$29:$E$70,DL4)>=1,\"\",ROW())","v":4},"Jazz Dance Technique",null,"Street Dance Technique",{"$f":"IF(COUNTIF('Extended Certificate'!$E$29:$E$70,DP4)>=1,\"\",ROW())","v":4},"Street Dance Technique",null,"Physical Activity for Individual and Group-based Exercise",{"$f":"IF(COUNTIF('Extended Certificate'!$E$29:$E$70,DT4)>=1,\"\",ROW())","v":4},{"$f":"IF(ROW(DT4)-ROW(DT$2)+1>COUNT(DU$2:DU$40),\"\",INDEX(DT:DT,SMALL(DU$2:DU$40,1+ROW(DT4)-ROW(DT$2))))","v":"Physical Activity for Individual and Group-based Exercise"},null,"Introduction to Criminology",{"$f":"IF(COUNTIF('Extended Certificate'!$E$29:$E$70,DX4)>=1,\"\",ROW())","v":4},{"$f":"IF(ROW(DX4)-ROW(DX$2)+1>COUNT(DY$2:DY$40),\"\",INDEX(DX:DX,SMALL(DY$2:DY$40,1+ROW(DX4)-ROW(DX$2))))","v":"Introduction to Criminology"}]
["Solo Performance",{"$f":"IF(COUNTIF('Extended Certificate'!$E$29:$E$70,A5)>=1,\"\",ROW())","v":5},{"$f":"IF(ROW(A5)-ROW(A$2)+1>COUNT(B$2:B$6),\"\",INDEX(A:A,SMALL(B$2:B$6,1+ROW(A5)-ROW(A$2))))","v":"Solo Performance"},null,"Working and Developing as a Production Team",{"$f":"IF(COUNTIF('Extended Certificate'!$E$29:$E$70,E5)>=1,\"\",ROW())","v":5},{"$f":"IF(ROW(E5)-ROW(E$2)+1>COUNT(F$2:F$5),\"\",INDEX(E:E,SMALL(F$2:F$5,1+ROW(E5)-ROW(E$2))))","v":"Working and Developing as a Production Team"},null,"Commercial Music Production",{"$f":"IF(COUNTIF('Extended Certificate'!$E$29:$E$70,I5)>=1,\"\",ROW())","v":5},{"$f":"IF(ROW(I5)-ROW(I$2)+1>COUNT(J$2:J$5),\"\",INDEX(I:I,SMALL(J$2:J$5,1+ROW(I5)-ROW(I$2))))","v":"Commercial Music Production"},null,"Website Development",{"$f":"IF(COUNTIF('Extended Certificate'!$E$29:$E$70,M5)>=1,\"\",ROW())","v":5},"Website Development",null,"Genetics and Genetic Engineering",{"$f":"IF(COUNTIF('Extended Certificate'!$E$29:$E$70,Q5)>=1,\"\",ROW())","v":5},"Genetics and Genetic Engineering",null,"The English Legal System",{"$f":"IF(COUNTIF('Extended Certificate'!$E$29:$E$70,U5)>=1,\"\",ROW())","v":5},{"$f":"IF(ROW(U5)-ROW(U$2)+1>COUNT(V$2:V$6),\"\",INDEX(U:U,SMALL(V$2:V$10,1+ROW(U5)-ROW(U$2))))","v":"The English Legal System"},null,"Aspects of Tort",{"$f":"IF(COUNTIF('Extended Certificate'!$E$29:$E$70,Y5)>=1,\"\",ROW())","v":5},{"$f":"IF(ROW(Y5)-ROW(Y$2)+1>COUNT(Z$2:Z$6),\"\",INDEX(Y:Y,SMALL(Z$2:Z$10,1+ROW(Y5)-ROW(Y$2))))","v":"Aspects of Tort"},null,"Fine Art Materials, Techniques and Processes",{"$f":"IF(COUNTIF('Extended Certificate'!$E$29:$E$70,AC5)>=1,\"\",ROW())","v":5},"Fine Art Materials, Techniques and Processes",null,"The Early Years Foundation Stage",{"$f":"IF(COUNTIF('Extended Certificate'!$E$29:$E$70,AG5)>=1,\"\",ROW())","v":5},{"$f":"IF(ROW(AG5)-ROW(AG$2)+1>COUNT(AH$2:AH$40),\"\",INDEX(AG:AG,SMALL(AH$2:AH$10,1+ROW(AG5)-ROW(AG$2))))","v":"The Early Years Foundation Stage"},null,"Digital Games Production",{"$f":"IF(COUNTIF('Extended Certificate'!$E$29:$E$70,AK5)>=1,\"\",ROW())","v":5},{"$f":"IF(ROW(AK5)-ROW(AK$2)+1>COUNT(AL$2:AL$40),\"\",INDEX(AK:AK,SMALL(AL$2:AL$10,1+ROW(AK5)-ROW(AK$2))))","v":"Digital Games Production"},null,"Pneumatic and Hydraulic Systems",{"$f":"IF(COUNTIF('Extended Certificate'!$E$29:$E$70,AO5)>=1,\"\",ROW())","v":5},"Pneumatic and Hydraulic Systems",null,null,null,null,null,"Estates Skills and Grassland Management",{"$f":"IF(COUNTIF('Extended Certificate'!$E$29:$E$70,AW5)>=1,\"\",ROW())","v":5},{"$f":"IF(ROW(AW5)-ROW(AW$2)+1>COUNT(AX$2:AX$40),\"\",INDEX(AW:AW,SMALL(AX$2:AX$40,1+ROW(AW5)-ROW(AW$2))))","v":"Estates Skills and Grassland Management"},null,"Physiological Disorders and their Care",{"$f":"IF(COUNTIF('Extended Certificate'!$E$29:$E$70,BA5)>=1,\"\",ROW())","v":5},{"$f":"IF(ROW(BA5)-ROW(BA$2)+1>COUNT(BB$2:BB$40),\"\",INDEX(BA:BA,SMALL(BB$2:BB$40,1+ROW(BA5)-ROW(BA$2))))","v":"Physiological Disorders and their Care"},null,"Maintenance of Sports and Amenity Turf",{"$f":"IF(COUNTIF('Extended Certificate'!$E$29:$E$70,BE5)>=1,\"\",ROW())","v":5},{"$f":"IF(ROW(BE5)-ROW(BE$2)+1>COUNT(BF$2:BF$40),\"\",INDEX(BE:BE,SMALL(BF$2:BF$40,1+ROW(BE5)-ROW(BE$2))))","v":"Maintenance of Sports and Amenity Turf"},null,null,null,null,null,"Street Dance Technique",{"$f":"IF(COUNTIF('Extended Certificate'!$E$29:$E$70,BM5)>=1,\"\",ROW())","v":5},"Street Dance Technique",null,"Practical Sports Performance",{"$f":"IF(COUNTIF('Extended Certificate'!$E$29:$E$70,BQ5)>=1,\"\",ROW())","v":5},{"$f":"IF(ROW(BQ5)-ROW(BQ$2)+1>COUNT(BR$2:BR$40),\"\",INDEX(BQ:BQ,SMALL(BR$2:BR$40,1+ROW(BQ5)-ROW(BQ$2))))","v":"Practical Sports Performance"},null,null,null,null,null,null,null,null,null,null,null,null,null,"Wildlife Ecology and Conservation Management",{"$f":"IF(COUNTIF('Extended Certificate'!$E$29:$E$70,CG5)>=1,\"\",ROW())","v":5},"Wildlife Ecology and Conservation Management","Biomedical Science",{"$f":"IF(COUNTIF('Extended Certificate'!$E$29:$E$70,CJ5)>=1,\"\",ROW())","v":5},{"$f":"IF(ROW(CJ5)-ROW(CJ$2)+1>COUNT(CK$2:CK$40),\"\",INDEX(CJ:CJ,SMALL(CK$2:CK$40,1+ROW(CJ5)-ROW(CJ$2))))","v":"Biomedical Science"},null,"Applied Sport Psychology",{"$f":"IF(COUNTIF('Extended Certificate'!$E$29:$E$70,CN5)>=1,\"\",ROW())","v":5},{"$f":"IF(ROW(CN5)-ROW(CN$2)+1>COUNT(CO$2:CO$40),\"\",INDEX(CN:CN,SMALL(CO$2:CO$40,1+ROW(CN5)-ROW(CN$2))))","v":"Applied Sport Psychology"},null,"Film Editing",{"$f":"IF(COUNTIF('Extended Certificate'!$E$29:$E$70,CR5)>=1,\"\",ROW())","v":5},"Film Editing",null,"Writing Copy",{"$f":"IF(COUNTIF('Extended Certificate'!$E$29:$E$70,CV5)>=1,\"\",ROW())","v":5},"Writing Copy",null,"Game Engine Scripting",{"$f":"IF(COUNTIF('Extended Certificate'!$E$29:$E$70,CZ5)>=1,\"\",ROW())","v":5},"Game Engine Scripting",null,"Improvising Music",{"$f":"IF(COUNTIF('Extended Certificate'!$E$29:$E$70,DD5)>=1,\"\",ROW())","v":5},{"$f":"IF(ROW(DD5)-ROW(DD$2)+1>COUNT(DE$2:DE$40),\"\",INDEX(DD:DD,SMALL(DE$2:DE$40,1+ROW(DD5)-ROW(DD$2))))","v":"Improvising Music"},null,"Acting Styles",{"$f":"IF(COUNTIF('Extended Certificate'!$E$29:$E$70,DH5)>=1,\"\",ROW())","v":5},"Acting Styles",null,"Street Dance Technique",{"$f":"IF(COUNTIF('Extended Certificate'!$E$29:$E$70,DL5)>=1,\"\",ROW())","v":5},"Street Dance Technique",null,"Contemporary Dance Technique",{"$f":"IF(COUNTIF('Extended Certificate'!$E$29:$E$70,DP5)>=1,\"\",ROW())","v":5},"Contemporary Dance Technique",null,null,null,null,null,"Police Powers and the Law",{"$f":"IF(COUNTIF('Extended Certificate'!$E$29:$E$70,DX5)>=1,\"\",ROW())","v":5},{"$f":"IF(ROW(DX5)-ROW(DX$2)+1>COUNT(DY$2:DY$40),\"\",INDEX(DX:DX,SMALL(DY$2:DY$40,1+ROW(DX5)-ROW(DX$2))))","v":"Police Powers and the Law"}]
["Music Software Skills",{"$f":"IF(COUNTIF('Extended Certificate'!$E$29:$E$70,A6)>=1,\"\",ROW())","v":6},{"$f":"IF(ROW(A6)-ROW(A$2)+1>COUNT(B$2:B$6),\"\",INDEX(A:A,SMALL(B$2:B$6,1+ROW(A6)-ROW(A$2))))","v":"Music Software Skills"},null,null,null,null,null,null,null,null,null,"Mobile Apps Development",{"$f":"IF(COUNTIF('Extended Certificate'!$E$29:$E$70,M6)>=1,\"\",ROW())","v":6},"Mobile Apps Development",null,"Diseases and Infections",{"$f":"IF(COUNTIF('Extended Certificate'!$E$29:$E$70,Q6)>=1,\"\",ROW())","v":6},"Diseases and Infections",null,"Work Experience in Business",{"$f":"IF(COUNTIF('Extended Certificate'!$E$29:$E$70,U6)>=1,\"\",ROW())","v":6},{"$f":"IF(ROW(U6)-ROW(U$2)+1>COUNT(V$2:V$6),\"\",INDEX(U:U,SMALL(V$2:V$10,1+ROW(U6)-ROW(U$2))))","v":"Work Experience in Business"},null,null,null,null,null,"3D Design Materials, Techniques and Processes",{"$f":"IF(COUNTIF('Extended Certificate'!$E$29:$E$70,AC6)>=1,\"\",ROW())","v":6},"3D Design Materials, Techniques and Processes",null,null,null,null,null,"Digital Magazine Production",{"$f":"IF(COUNTIF('Extended Certificate'!$E$29:$E$70,AK6)>=1,\"\",ROW())","v":6},{"$f":"IF(ROW(AK6)-ROW(AK$2)+1>COUNT(AL$2:AL$40),\"\",INDEX(AK:AK,SMALL(AL$2:AL$10,1+ROW(AK6)-ROW(AK$2))))","v":"Digital Magazine Production"},null,"Electronic Devices and Circuits",{"$f":"IF(COUNTIF('Extended Certificate'!$E$29:$E$70,AO6)>=1,\"\",ROW())","v":6},"Electronic Devices and Circuits",null,null,null,null,null,"Introduction to Equestrian Coaching",{"$f":"IF(COUNTIF('Extended Certificate'!$E$29:$E$70,AW6)>=1,\"\",ROW())","v":6},{"$f":"IF(ROW(AW6)-ROW(AW$2)+1>COUNT(AX$2:AX$40),\"\",INDEX(AW:AW,SMALL(AX$2:AX$40,1+ROW(AW6)-ROW(AW$2))))","v":"Introduction to Equestrian Coaching"},null,null,null,null,null,null,null,null,null,null,null,null,null,"Contemporary Dance Technique",{"$f":"IF(COUNTIF('Extended Certificate'!$E$29:$E$70,BM6)>=1,\"\",ROW())","v":6},"Contemporary Dance Technique",null,null,null,null,null,null,null,null,null,null,null,null,null,null,null,null,null,"Controlling Countryside Pests and Predators",{"$f":"IF(COUNTIF('Extended Certificate'!$E$29:$E$70,CG6)>=1,\"\",ROW())","v":6},"Controlling Countryside Pests and Predators","Human Reproduction and Fertility",{"$f":"IF(COUNTIF('Extended Certificate'!$E$29:$E$70,CJ6)>=1,\"\",ROW())","v":6},{"$f":"IF(ROW(CJ6)-ROW(CJ$2)+1>COUNT(CK$2:CK$40),\"\",INDEX(CJ:CJ,SMALL(CK$2:CK$40,1+ROW(CJ6)-ROW(CJ$2))))","v":"Human Reproduction and Fertility"},null,null,null,null,null,"Stop Motion Animation",{"$f":"IF(COUNTIF('Extended Certificate'!$E$29:$E$70,CR6)>=1,\"\",ROW())","v":6},"Stop Motion Animation",null,"Digital Photography",{"$f":"IF(COUNTIF('Extended Certificate'!$E$29:$E$70,CV6)>=1,\"\",ROW())","v":6},"Digital Photography",null,"3D Modelling",{"$f":"IF(COUNTIF('Extended Certificate'!$E$29:$E$70,CZ6)>=1,\"\",ROW())","v":6},"3D Modelling",null,null,null,null,null,"Developing the Voice for Performance",{"$f":"IF(COUNTIF('Extended Certificate'!$E$29:$E$70,DH6)>=1,\"\",ROW())","v":6},"Developing the Voice for Performance",null,"Contemporary Dance Technique",{"$f":"IF(COUNTIF('Extended Certificate'!$E$29:$E$70,DL6)>=1,\"\",ROW())","v":6},"Contemporary Dance Technique",null,"Choreography for Live Performance",{"$f":"IF(COUNTIF('Extended Certificate'!$E$29:$E$70,DP6)>=1,\"\",ROW())","v":6},"Choreography for Live Performance",null,null,null,null,null,"Professional Development in the Uniformed Protective Services",{"$f":"IF(COUNTIF('Extended Certificate'!$E$29:$E$70,DX6)>=1,\"\",ROW())","v":6},{"$f":"IF(ROW(DX6)-ROW(DX$2)+1>COUNT(DY$2:DY$40),\"\",INDEX(DX:DX,SMALL(DY$2:DY$40,1+ROW(DX6)-ROW(DX$2))))","v":"Professional Development in the Uniformed Protective Services"}]
[null,null,null,null,null,null,null,null,null,null,null,null,"Managing and Supporting Systems",{"$f":"IF(COUNTIF('Extended Certificate'!$E$29:$E$70,M7)>=1,\"\",ROW())","v":7},"Managing and Supporting Systems",null,"Applications of Inorganic Chemistry",{"$f":"IF(COUNTIF('Extended Certificate'!$E$29:$E$70,Q7)>=1,\"\",ROW())","v":7},"Applications of Inorganic Chemistry",null,null,null,null,null,null,null,null,null,"Textiles Materials, Techniques and Processes",{"$f":"IF(COUNTIF('Extended Certificate'!$E$29:$E$70,AC7)>=1,\"\",ROW())","v":7},"Textiles Materials, Techniques and Processes",null,null,null,null,null,null,null,null,null,"Mechanical Behaviour of Metallic Materials",{"$f":"IF(COUNTIF('Extended Certificate'!$E$29:$E$70,AO7)>=1,\"\",ROW())","v":7},"Mechanical Behaviour of Metallic Materials",null,null,null,null,null,null,null,null,null,null,null,null,null,null,null,null,null,null,null,null,null,"Interpreting Classical Text for Performance",{"$f":"IF(COUNTIF('Extended Certificate'!$E$29:$E$70,BM7)>=1,\"\",ROW())","v":7},"Interpreting Classical Text for Performance",null,null,null,null,null,null,null,null,null,null,null,null,null,null,null,null,null,"Gamekeeping",{"$f":"IF(COUNTIF('Extended Certificate'!$E$29:$E$70,CG7)>=1,\"\",ROW())","v":7},"Gamekeeping",null,null,null,null,null,null,null,null,"Sound Editing",{"$f":"IF(COUNTIF('Extended Certificate'!$E$29:$E$70,CR7)>=1,\"\",ROW())","v":7},"Sound Editing",null,"Image Manipulation Techniques",{"$f":"IF(COUNTIF('Extended Certificate'!$E$29:$E$70,CV7)>=1,\"\",ROW())","v":7},"Image Manipulation Techniques",null,"3D Environments",{"$f":"IF(COUNTIF('Extended Certificate'!$E$29:$E$70,CZ7)>=1,\"\",ROW())","v":7},"3D Environments",null,null,null,null,null,"Improvisation",{"$f":"IF(COUNTIF('Extended Certificate'!$E$29:$E$70,DH7)>=1,\"\",ROW())","v":7},"Improvisation",null,"Healthy Dancer",{"$f":"IF(COUNTIF('Extended Certificate'!$E$29:$E$70,DL7)>=1,\"\",ROW())","v":7},"Healthy Dancer",null,"Acting Styles",{"$f":"IF(COUNTIF('Extended Certificate'!$E$29:$E$70,DP7)>=1,\"\",ROW())","v":7},"Acting Styles"]
[null,null,null,null,null,null,null,null,null,null,null,null,"Systems Analysis and Design",{"$f":"IF(COUNTIF('Extended Certificate'!$E$29:$E$70,M8)>=1,\"\",ROW())","v":8},"Systems Analysis and Design",null,"Applications of Organic Chemistry",{"$f":"IF(COUNTIF('Extended Certificate'!$E$29:$E$70,Q8)>=1,\"\",ROW())","v":8},"Applications of Organic Chemistry",null,null,null,null,null,null,null,null,null,"Fashion Materials, Techniques and Processes",{"$f":"IF(COUNTIF('Extended Certificate'!$E$29:$E$70,AC8)>=1,\"\",ROW())","v":8},"Fashion Materials, Techniques and Processes",null,null,null,null,null,null,null,null,null,"Mechanical Measurement and Inspection Technology",{"$f":"IF(COUNTIF('Extended Certificate'!$E$29:$E$70,AO8)>=1,\"\",ROW())","v":8},"Mechanical Measurement and Inspection Technology",null,null,null,null,null,null,null,null,null,null,null,null,null,null,null,null,null,null,null,null,null,"Acting Styles",{"$f":"IF(COUNTIF('Extended Certificate'!$E$29:$E$70,BM8)>=1,\"\",ROW())","v":8},"Acting Styles",null,null,null,null,null,null,null,null,null,null,null,null,null,null,null,null,null,null,null,null,null,null,null,null,null,null,null,null,"Sound Recording",{"$f":"IF(COUNTIF('Extended Certificate'!$E$29:$E$70,CR8)>=1,\"\",ROW())","v":8},"Sound Recording",null,"2D Digital Graphics",{"$f":"IF(COUNTIF('Extended Certificate'!$E$29:$E$70,CV8)>=1,\"\",ROW())","v":8},"2D Digital Graphics",null,"Games Testing",{"$f":"IF(COUNTIF('Extended Certificate'!$E$29:$E$70,CZ8)>=1,\"\",ROW())","v":8},"Games Testing",null,null,null,null,null,"Movement in Performance",{"$f":"IF(COUNTIF('Extended Certificate'!$E$29:$E$70,DH8)>=1,\"\",ROW())","v":8},"Movement in Performance",null,"Choreography for Live Performance",{"$f":"IF(COUNTIF('Extended Certificate'!$E$29:$E$70,DL8)>=1,\"\",ROW())","v":8},"Choreography for Live Performance",null,"Developing the Voice for Performance",{"$f":"IF(COUNTIF('Extended Certificate'!$E$29:$E$70,DP8)>=1,\"\",ROW())","v":8},"Developing the Voice for Performance"]
[null,null,null,null,null,null,null,null,null,null,null,null,null,null,null,null,"Electrical Circuits and their Application",{"$f":"IF(COUNTIF('Extended Certificate'!$E$29:$E$70,Q9)>=1,\"\",ROW())","v":9},"Electrical Circuits and their Application",null,null,null,null,null,null,null,null,null,"3D Design Craft Materials, Techniques and Processes",{"$f":"IF(COUNTIF('Extended Certificate'!$E$29:$E$70,AC9)>=1,\"\",ROW())","v":9},"3D Design Craft Materials, Techniques and Processes",null,null,null,null,null,null,null,null,null,"Computer Programming",{"$f":"IF(COUNTIF('Extended Certificate'!$E$29:$E$70,AO9)>=1,\"\",ROW())","v":9},"Computer Programming",null,null,null,null,null,null,null,null,null,null,null,null,null,null,null,null,null,null,null,null,null,"Developing the Voice for Performance",{"$f":"IF(COUNTIF('Extended Certificate'!$E$29:$E$70,BM9)>=1,\"\",ROW())","v":9},"Developing the Voice for Performance",null,null,null,null,null,null,null,null,null,null,null,null,null,null,null,null,null,null,null,null,null,null,null,null,null,null,null,null,"Multi Camera Techniques",{"$f":"IF(COUNTIF('Extended Certificate'!$E$29:$E$70,CR9)>=1,\"\",ROW())","v":9},"Multi Camera Techniques",null,"Page Layout Design for Digital Media",{"$f":"IF(COUNTIF('Extended Certificate'!$E$29:$E$70,CV9)>=1,\"\",ROW())","v":9},"Page Layout Design for Digital Media",null,"3D Digital Animation",{"$f":"IF(COUNTIF('Extended Certificate'!$E$29:$E$70,CZ9)>=1,\"\",ROW())","v":9},"3D Digital Animation",null,null,null,null,null,"Physical Theatre Techniques",{"$f":"IF(COUNTIF('Extended Certificate'!$E$29:$E$70,DH9)>=1,\"\",ROW())","v":9},"Physical Theatre Techniques",null,"Improvisation",{"$f":"IF(COUNTIF('Extended Certificate'!$E$29:$E$70,DL9)>=1,\"\",ROW())","v":9},"Improvisation",null,"Singing Techniques for Performers",{"$f":"IF(COUNTIF('Extended Certificate'!$E$29:$E$70,DP9)>=1,\"\",ROW())","v":9},"Singing Techniques for Performers"]
[null,null,null,null,null,null,null,null,null,null,null,null,null,null,null,null,"Astronomy and Space Science",{"$f":"IF(COUNTIF('Extended Certificate'!$E$29:$E$70,Q10)>=1,\"\",ROW())","v":10},"Astronomy and Space Science",null,null,null,null,null,null,null,null,null,null,null,null,null,null,null,null,null,null,null,null,null,"Manufacturing Secondary Machining Processes",{"$f":"IF(COUNTIF('Extended Certificate'!$E$29:$E$70,AO10)>=1,\"\",ROW())","v":10},"Manufacturing Secondary Machining Processes",null,null,null,null,null,null,null,null,null,null,null,null,null,null,null,null,null,null,null,null,null,"Improvisation",{"$f":"IF(COUNTIF('Extended Certificate'!$E$29:$E$70,BM10)>=1,\"\",ROW())","v":10},"Improvisation",null,null,null,null,null,null,null,null,null,null,null,null,null,null,null,null,null,null,null,null,null,null,null,null,null,null,null,null,"Lighting Techniques",{"$f":"IF(COUNTIF('Extended Certificate'!$E$29:$E$70,CR10)>=1,\"\",ROW())","v":10},"Lighting Techniques",null,"Coding for Web Based Media",{"$f":"IF(COUNTIF('Extended Certificate'!$E$29:$E$70,CV10)>=1,\"\",ROW())","v":10},"Coding for Web Based Media",null,null,null,null,null,null,null,null,null,"Storytelling",{"$f":"IF(COUNTIF('Extended Certificate'!$E$29:$E$70,DH10)>=1,\"\",ROW())","v":10},"Storytelling",null,"Movement in Performance",{"$f":"IF(COUNTIF('Extended Certificate'!$E$29:$E$70,DL10)>=1,\"\",ROW())","v":10},"Movement in Performance"]
[null,null,null,null,null,null,null,null,null,null,null,null,null,null,null,null,null,null,null,null,null,null,null,null,null,null,null,null,null,null,null,null,null,null,null,null,null,null,null,null,"Fabrication Manufacturing Processes",{"$f":"IF(COUNTIF('Extended Certificate'!$E$29:$E$70,AO11)>=1,\"\",ROW())","v":11},"Fabrication Manufacturing Processes",null,null,null,null,null,null,null,null,null,null,null,null,null,null,null,null,null,null,null,null,null,"Movement in Performance",{"$f":"IF(COUNTIF('Extended Certificate'!$E$29:$E$70,BM11)>=1,\"\",ROW())","v":11},"Movement in Performance",null,null,null,null,null,null,null,null,null,null,null,null,null,null,null,null,null,null,null,null,null,null,null,null,null,null,null,null,null,null,null,null,null,null,null,null,null,null,null,null,null,null,null,null,null,null,null,null,"Physical Theatre Techniques",{"$f":"IF(COUNTIF('Extended Certificate'!$E$29:$E$70,DL11)>=1,\"\",ROW())","v":11},"Physical Theatre Techniques"]
[null,null,null,null,null,null,null,null,null,null,null,null,null,null,null,null,null,null,null,null,null,null,null,null,null,null,null,null,null,null,null,null,null,null,null,null,null,null,null,null,"Additive Manufacturing Processes",{"$f":"IF(COUNTIF('Extended Certificate'!$E$29:$E$70,AO12)>=1,\"\",ROW())","v":12},"Additive Manufacturing Processes",null,null,null,null,null,null,null,null,null,null,null,null,null,null,null,null,null,null,null,null,null,"Musical Theatre Techniques",{"$f":"IF(COUNTIF('Extended Certificate'!$E$29:$E$70,BM12)>=1,\"\",ROW())","v":12},"Musical Theatre Techniques"]
[null,null,null,null,null,null,null,null,null,null,null,null,null,null,null,null,null,null,null,null,null,null,null,null,null,null,null,null,null,null,null,null,null,null,null,null,null,null,null,null,null,null,null,null,null,null,null,null,null,null,null,null,null,null,null,null,null,null,null,null,null,null,null,null,"Variety Performance",{"$f":"IF(COUNTIF('Extended Certificate'!$E$29:$E$70,BM13)>=1,\"\",ROW())","v":13},"Variety Performance"]

{"sheet":"Extended Certificate Data Sheet","index":14,"n_rows":185,"n_cols":18,"rows_kept":185,"cut":false,"hidden":true,"merged":[]}
["Mandatory Units A",null,null,null,null,null,"Mandatory Units B",null,null,null,null,null,null,"optional Units"]
["Sector","Unit number","Unit Name","GLH","Assessment type",null,"Sector","Unit number","Unit Name","GLH","Assessment type",null,null,"Sector","Unit Number","Unit Name","GLH","Assessment type"]
["Music",1,"Ensemble Music Performance",120,"External",null,"Animal Management",5,"Animal Behaviour",60,"Internal",null,"Composing Music","Music",9,"Composing Music",60,"Internal"]
["Music",2,"Practical Music Theory and Harmony",90,"Internal",null,"Animal Management",6,"Animal Health and Diseases",60,"Internal",null,"Music Promotion","Music",12,"Music Promotion",60,"Internal"]
["Music",3,"Professional Practice in the Music Industry",90,"External",null,"Animal Management",7,"Work Experience in the Animal Sector",60,"Internal",null,"Music Performance Session Styles","Music",16,"Music Performance Session Styles",60,"Internal"]
["Music Technology Digital Music Production",3,"Music and Sound for Media",60,"Internal",null,"Construction and the Built Environment",4,"Construction Technology",60,"Internal",null,"Solo Performance","Music",18,"Solo Performance",60,"Internal"]
["Music Technology Digital Music Production",6,"DAW Production",120,"External",null,"Construction and the Built Environment",5,"Health and Safety in Construction",60,"Internal",null,"Music Software Skills","Music",20,"Music Software Skills",60,"Internal"]
["Music Technology Sound Engineering",2,"Studio Recording Techniques",60,"Internal",null,"Equine Management",4,"Work Experience in the Equine Sector",60,"Internal",null,"Creative Synthesis and Sampling","Music Technology Digital Music Production",8,"Creative Synthesis and Sampling",60,"Internal"]
["Music Technology Sound Engineering",6,"DAW Production",120,"External",null,"Horticulture",4,"Work Experience in the Land-based Sectors",60,"Internal",null,"Remixing and Reworking","Music Technology Digital Music Production",10,"Remixing and Reworking",60,"Internal"]
["Computing",1,"Principles of Computer Science",120,"External",null,"Horticulture",6,"Identification, Planting and Care of Plants",60,"Internal",null,"Mixing and Mastering Techniques","Music Technology Digital Music Production",13,"Mixing and Mastering Techniques",60,"Internal"]
["Computing",2,"Fundamentals of Computer Systems",90,"External",null,"Agriculture",4,"Work Experience in the Land-based Sectors",60,"Internal",null,"Commercial Music Production","Music Technology Digital Music Production",16,"Commercial Music Production",60,"Internal"]
["Computing",7,"IT Systems Security and Encryption",90,"Internal",null,"Countryside Management",4,"Work Experience in the Land-based Sectors",60,"Internal",null,"Live sound","Music Technology Sound Engineering",1,"Live sound",60,"Internal"]
["Applied Science",1,"Principles and Applications of Science I",90,"External",null,"Performance Musical Theatre",27,"Musical Theatre Techniques",60,"Internal",null,"Mixing and Mastering Techniques","Music Technology Sound Engineering",13,"Mixing and Mastering Techniques",60,"Internal"]
["Applied Science",2,"Practical Scientific Procedures and Techniques",90,"Internal",null,null,null,null,null,null,null,"Studio Design and Acoustics","Music Technology Sound Engineering",14,"Studio Design and Acoustics",60,"Internal"]
["Applied Science",3,"Science Investigation Skills",120,"External",null,null,null,null,null,null,null,"Working and Developing as a Production Team","Music Technology Sound Engineering",18,"Working and Developing as a Production Team",60,"Internal"]
["Business",1,"Exploring Business",90,"Internal",null,null,null,null,null,null,null,"Human-computer Interaction","Computing",10,"Human-computer Interaction",60,"Internal"]
["Business",2,"Developing a Marketing Campaign",90,"External",null,null,null,null,null,null,null,"Digital Graphics and Animation","Computing",11,"Digital Graphics and Animation",60,"Internal"]
["Business",3,"Personal and Business Finance",120,"External",null,null,null,null,null,null,null,"Computer Games Development","Computing",14,"Computer Games Development",60,"Internal"]
["Animal Management",3,"Animal Welfare and Ethics",120,"External",null,null,null,null,null,null,null,"Website Development","Computing",15,"Website Development",60,"Internal"]
["Animal Management",4,"Practical Animal Husbandry",60,"Internal",null,null,null,null,null,null,null,"Mobile Apps Development","Computing",17,"Mobile Apps Development",60,"Internal"]
["Applied Law",1,"Dispute Solving in Civil Law",90,"External",null,null,null,null,null,null,null,"Managing and Supporting Systems","Computing",20,"Managing and Supporting Systems",60,"Internal"]
["Applied Law",2,"Investigating Aspects of Criminal Law and the Legal System",90,"Internal",null,null,null,null,null,null,null,"Systems Analysis and Design","Computing",22,"Systems Analysis and Design",60,"Internal"]
["Applied Law",3,"Applying the Law",120,"External",null,null,null,null,null,null,null,"Physiology of Human Body Systems","Applied Science",8,"Physiology of Human Body Systems",60,"Internal"]
["Art and Design",1,"Visual Recording and Communication",120,"External",null,null,null,null,null,null,null,"Human Regulation and Reproduction","Applied Science",9,"Human Regulation and Reproduction",60,"Internal"]
["Art and Design",2,"Critical and Contextual Studies in Art and Design",90,"External",null,null,null,null,null,null,null,"Biological Molecules and Metabolic Pathways","Applied Science",10,"Biological Molecules and Metabolic Pathways",60,"Internal"]
["Art and Design",3,"The Creative Process",90,"Internal",null,null,null,null,null,null,null,"Genetics and Genetic Engineering","Applied Science",11,"Genetics and Genetic Engineering",60,"Internal"]
["CPLD",1,"Children's Development",120,"External",null,null,null,null,null,null,null,"Diseases and Infections","Applied Science",12,"Diseases and Infections",60,"Internal"]
["CPLD",2,"Development of Children’s Communication, Literacy and Numeracy Skills",120,"External",null,null,null,null,null,null,null,"Applications of Inorganic Chemistry","Applied Science",13,"Applications of Inorganic Chemistry",60,"Internal"]
["CPLD",3,"Play and Learning",60,"Internal",null,null,null,null,null,null,null,"Applications of Organic Chemistry","Applied Science",14,"Applications of Organic Chemistry",60,"Internal"]
["Construction and the Built Environment",1,"Construction Principles",120,"External",null,null,null,null,null,null,null,"Electrical Circuits and their Application","Applied Science",15,"Electrical Circuits and their Application",60,"Internal"]
["Construction and the Built Environment",2,"Construction Design",120,"External",null,null,null,null,null,null,null,"Astronomy and Space Science","Applied Science",16,"Astronomy and Space Science",60,"Internal"]
["Creative Digital Media Production",1,"Media Representations",90,"External",null,null,null,null,null,null,null,"Recruitment and Selection Process","Business",8,"Recruitment and Selection Process",60,"Internal"]
["Creative Digital Media Production",4,"Pre-production Portfolio",90,"Internal",null,null,null,null,null,null,null,"Investigating Customer Service","Business",14,"Investigating Customer Service",60,"Internal"]
["Creative Digital Media Production",8,"Responding to a Commission",120,"External",null,null,null,null,null,null,null,"Market Research","Business",22,"Market Research",60,"Internal"]
["Engineering",1,"Engineering Principles",120,"External",null,null,null,null,null,null,null,"The English Legal System","Business",23,"The English Legal System",60,"Internal"]
["Engineering",2,"Delivery of Engineering Processes Safely as a Team",60,"Internal",null,null,null,null,null,null,null,"Work Experience in Business","Business",27,"Work Experience in Business",60,"Internal"]
["Engineering",3,"Engineering Product Design and Manufacture",120,"External",null,null,null,null,null,null,null,"Aspects of Family Law","Applied Law",4,"Aspects of Family Law",60,"Internal"]
["Enterprise and Entrepreneurship",1,"Enterprise and Entrepreneurs",90,"Internal",null,null,null,null,null,null,null,"Consumer Law","Applied Law",5,"Consumer Law",60,"Internal"]
["Enterprise and Entrepreneurship",2,"Developing a Marketing Campaign",90,"External",null,null,null,null,null,null,null,"Contract Law","Applied Law",6,"Contract Law",60,"Internal"]
["Enterprise and Entrepreneurship",3,"Business and Personal Finance",120,"External",null,null,null,null,null,null,null,"Aspects of Tort","Applied Law",7,"Aspects of Tort",60,"Internal"]
["Equine Management",1,"Equine Structure, Form and Function",120,"External",null,null,null,null,null,null,null,"Photographic Materials, Techniques and Processes","Art and Design",9,"Photographic Materials, Techniques and Processes",60,"Internal"]
["Equine Management",5,"Horse Tack, Equipment and Rugs",60,"Internal",null,null,null,null,null,null,null,"Graphic Materials, Techniques and Processes","Art and Design",10,"Graphic Materials, Techniques and Processes",60,"Internal"]
["Equine Management",6,"Equine Health and Husbandry",60,"Internal",null,null,null,null,null,null,null,"Interactive Design Materials, Techniques and Processes","Art and Design",11,"Interactive Design Materials, Techniques and Processes",60,"Internal"]
["Health and Social Care",1,"Human Lifespan Development",90,"External",null,null,null,null,null,null,null,"Fine Art Materials, Techniques and Processes","Art and Design",12,"Fine Art Materials, Techniques and Processes",60,"Internal"]
["Health and Social Care",2,"Working in Health and Social Care",120,"External",null,null,null,null,null,null,null,"3D Design Materials, Techniques and Processes","Art and Design",13,"3D Design Materials, Techniques and Processes",60,"Internal"]
["Health and Social Care",5,"Meeting Individual Care and Support Needs",90,"Internal",null,null,null,null,null,null,null,"Textiles Materials, Techniques and Processes","Art and Design",14,"Textiles Materials, Techniques and Processes",60,"Internal"]
["Horticulture",1,"Professional Working Responsibilities",120,"External",null,null,null,null,null,null,null,"Fashion Materials, Techniques and Processes","Art and Design",15,"Fashion Materials, Techniques and Processes",60,"Internal"]
["Horticulture",8,"Plant Propagation Activities",60,"Internal",null,null,null,null,null,null,null,"3D Design Craft Materials, Techniques and Processes","Art and Design",16,"3D Design Craft Materials, Techniques and Processes",60,"Internal"]
["Information Technology",1,"Information Technology Systems",120,"External",null,null,null,null,null,null,null,"Keeping Children Safe","CPLD",5,"Keeping Children Safe",60,"Internal"]
["Information Technology",2,"Creating Systems to Manage Information",90,"External",null,null,null,null,null,null,null,"Children’s Physical Development, Care and Health Needs","CPLD",6,"Children’s Physical Development, Care and Health Needs",60,"Internal"]
["Information Technology",3,"Using Social Media in Business",90,"Internal",null,null,null,null,null,null,null,"Working with Parents and Others in Early Years","CPLD",8,"Working with Parents and Others in Early Years",60,"Internal"]
["Performing Arts",1,"Investigating Practitioners’ Work",90,"External",null,null,null,null,null,null,null,"The Early Years Foundation Stage","CPLD",11,"The Early Years Foundation Stage",60,"Internal"]
["Performing Arts",2,"Developing Skills and Techniques for Live Performance",90,"Internal",null,null,null,null,null,null,null,"Film Production – Fiction","Creative Digital Media Production",10,"Film Production – Fiction",60,"Internal"]
["Performing Arts",3,"Group Performance Workshop",120,"External",null,null,null,null,null,null,null,"Radio Production – Fiction","Creative Digital Media Production",11,"Radio Production – Fiction",60,"Internal"]
["Sport",1,"Anatomy and Physiology",120,"External",null,null,null,null,null,null,null,"Website Production","Creative Digital Media Production",12,"Website Production",60,"Internal"]
["Sport",2,"Fitness Training and Programming for Health, Sport and Well-being",120,"External",null,null,null,null,null,null,null,"Digital Games Production","Creative Digital Media Production",13,"Digital Games Production",60,"Internal"]
["Sport",3,"Professional Development in the Sports Industry",60,"Internal",null,null,null,null,null,null,null,"Digital Magazine Production","Creative Digital Media Production",14,"Digital Magazine Production",60,"Internal"]
["Applied Human Biology",1,"Principles of Applied Human Biology",90,"External",null,null,null,null,null,null,null,"Work Experience in the Engineering Sector","Engineering",9,"Work Experience in the Engineering Sector",60,"Internal"]
["Applied Human Biology",2,"Practical Microbiology and Infectious Diseases",90,"Internal",null,null,null,null,null,null,null,"Computer Aided Design in Engineering","Engineering",10,"Computer Aided Design in Engineering",60,"Internal"]
["Applied Human Biology",3,"Human Biology and Health Issues",120,"External",null,null,null,null,null,null,null,"Engineering Maintenance and Condition Monitoring Techniques","Engineering",11,"Engineering Maintenance and Condition Monitoring Techniques",60,"Internal"]
["Travel and Tourism",1,"The World of Travel and Tourism",90,"External",null,null,null,null,null,null,null,"Pneumatic and Hydraulic Systems","Engineering",12,"Pneumatic and Hydraulic Systems",60,"Internal"]
["Travel and Tourism",2,"Global Destinations",120,"External",null,null,null,null,null,null,null,"Electronic Devices and Circuits","Engineering",19,"Electronic Devices and Circuits",60,"Internal"]
["Travel and Tourism",3,"Principles of Marketing in Travel and Tourism",90,"Internal",null,null,null,null,null,null,null,"Mechanical Behaviour of Metallic Materials","Engineering",25,"Mechanical Behaviour of Metallic Materials",60,"Internal"]
["Agriculture",1,"Professional Working Responsibilities",120,"External",null,null,null,null,null,null,null,"Mechanical Measurement and Inspection Technology","Engineering",30,"Mechanical Measurement and Inspection Technology",60,"Internal"]
["Agriculture",28,"Applied Agricultural Farming Practice",120,"Internal",null,null,null,null,null,null,null,"Computer Programming","Engineering",35,"Computer Programming",60,"Internal"]
["Countryside Management",1,"Professional Working Responsibilities",120,"External",null,null,null,null,null,null,null,"Manufacturing Secondary Machining Processes","Engineering",41,"Manufacturing Secondary Machining Processes",60,"Internal"]
["Countryside Management",5,"Estate Skills",60,"Internal",null,null,null,null,null,null,null,"Fabrication Manufacturing Processes","Engineering",44,"Fabrication Manufacturing Processes",60,"Internal"]
["Applied Psychology",1,"Psychological Approaches and Applications",90,"External",null,null,null,null,null,null,null,"Additive Manufacturing Processes","Engineering",45,"Additive Manufacturing Processes",60,"Internal"]
["Applied Psychology",2,"Conducting Psychological Research",90,"Internal",null,null,null,null,null,null,null,"Social Enterprise","Enterprise and Entrepreneurship",7,"Social Enterprise",60,"Internal"]
["Applied Psychology",3,"Health Psychology",120,"External",null,null,null,null,null,null,null,"Entrepreneurship and Intrapreneurship in Practice","Enterprise and Entrepreneurship",8,"Entrepreneurship and Intrapreneurship in Practice",60,"Internal"]
["Digital Film and Video Production",3,"Digital Media Skills",120,"External",null,null,null,null,null,null,null,"Preparation and Presentation for Competition Disciplines","Equine Management",7,"Preparation and Presentation for Competition Disciplines",60,"Internal"]
["Digital Film and Video Production",10,"Film Production – Fiction",60,"Internal",null,null,null,null,null,null,null,"Equine Behaviour","Equine Management",8,"Equine Behaviour",60,"Internal"]
["Digital Content Production",3,"Digital Media Skills",120,"External",null,null,null,null,null,null,null,"Riding Horses in the Open","Equine Management",15,"Riding Horses in the Open",60,"Internal"]
["Digital Content Production",14,"Digital Magazine Production",60,"Internal",null,null,null,null,null,null,null,"Estates Skills and Grassland Management","Equine Management",18,"Estates Skills and Grassland Management",60,"Internal"]
["Digital Games Production",3,"Digital Media Skills",120,"External",null,null,null,null,null,null,null,"Introduction to Equestrian Coaching","Equine Management",20,"Introduction to Equestrian Coaching",60,"Internal"]
["Digital Games Production",13,"Digital Games Production",60,"Internal",null,null,null,null,null,null,null,"Sociological Perspectives","Health and Social Care",10,"Sociological Perspectives",60,"Internal"]
["Music Performance",1,"Practical Music Theory and Harmony",90,"Internal",null,null,null,null,null,null,null,"Psychological Perspectives","Health and Social Care",11,"Psychological Perspectives",60,"Internal"]
["Music Performance",2,"Professional Practice in the Music Industry",90,"External",null,null,null,null,null,null,null,"Supporting Individuals with Additional Needs","Health and Social Care",12,"Supporting Individuals with Additional Needs",60,"Internal"]
["Music Performance",3,"Ensemble Music Performance",120,"External",null,null,null,null,null,null,null,"Physiological Disorders and their Care","Health and Social Care",14,"Physiological Disorders and their Care",60,"Internal"]
["Performance Acting",3,"Group Performance Workshop",120,"External",null,null,null,null,null,null,null,"Estate Skills","Horticulture",5,"Estate Skills",60,"Internal"]
["Performance Acting",34,"Developing Skills and Techniques for Performance",60,"Internal",null,null,null,null,null,null,null,"Tree and Shrub Pruning and Maintenance","Horticulture",9,"Tree and Shrub Pruning and Maintenance",60,"Internal"]
["Performance Dance",3,"Group Performance Workshop",120,"External",null,null,null,null,null,null,null,"Nursery Stock Production","Horticulture",11,"Nursery Stock Production",60,"Internal"]
["Performance Dance",34,"Developing Skills and Techniques for Performance",60,"Internal",null,null,null,null,null,null,null,"Maintenance of Sports and Amenity Turf","Horticulture",12,"Maintenance of Sports and Amenity Turf",60,"Internal"]
["Performance Musical Theatre",3,"Group Performance Workshop",120,"External",null,null,null,null,null,null,null,"Data Modelling","Information Technology",5,"Data Modelling",60,"Internal"]
["Performance Musical Theatre",34,"Developing Skills and Techniques for Performance",60,"Internal",null,null,null,null,null,null,null,"Website Development","Information Technology",6,"Website Development",60,"Internal"]
["Sport and Exercise Science",2,"Functional Anatomy",90,"External",null,null,null,null,null,null,null,"Classical Ballet Technique","Performing Arts",8,"Classical Ballet Technique",60,"Internal"]
["Sport and Exercise Science",3,"Applied Sport and Exercise Psychology",120,"External",null,null,null,null,null,null,null,"Tap Dance Technique","Performing Arts",9,"Tap Dance Technique",60,"Internal"]
["Sport and Exercise Science",6,"Coaching for Performance and Fitness",90,"Internal",null,null,null,null,null,null,null,"Jazz Dance Technique","Performing Arts",10,"Jazz Dance Technique",60,"Internal"]
["Esports",1,"Introduction to Esports",60,"Internal",null,null,null,null,null,null,null,"Street Dance Technique","Performing Arts",11,"Street Dance Technique",60,"Internal"]
["Esports",2,"Esports Skills, Strategies and Analysis",120,"Internal",null,null,null,null,null,null,null,"Contemporary Dance Technique","Performing Arts",12,"Contemporary Dance Technique",60,"Internal"]
["Esports",3,"Enterprise and Entrepreneurship in the Esports Industry",90,"Internal",null,null,null,null,null,null,null,"Interpreting Classical Text for Performance","Performing Arts",18,"Interpreting Classical Text for Performance",60,"Internal"]
["Esports",4,"Health, Wellbeing and Fitness for Esports Players",90,"Internal",null,null,null,null,null,null,null,"Acting Styles","Performing Arts",19,"Acting Styles",60,"Internal"]
["Sport and Fitness","A","Careers in the Sport and Active Leisure Industry",90,"Internal",null,null,null,null,null,null,null,"Developing the Voice for Performance","Performing Arts",20,"Developing the Voice for Performance",60,"Internal"]
["Sport and Fitness","B","Health, Wellbeing and Sport",90,"Internal",null,null,null,null,null,null,null,"Improvisation","Performing Arts",21,"Improvisation",60,"Internal"]
["Sport and Fitness","C2","Fitness Skills Development",180,"Internal",null,null,null,null,null,null,null,"Movement in Performance","Performing Arts",22,"Movement in Performance",60,"Internal"]
["Sporting Excellence and Performance","A","Careers in the Sport and Active Leisure Industry",90,"Internal",null,null,null,null,null,null,null,"Musical Theatre Techniques","Performing Arts",27,"Musical Theatre Techniques",60,"Internal"]
["Sporting Excellence and Performance","B","Health, Wellbeing and Sport",90,"Internal",null,null,null,null,null,null,null,"Variety Performance","Performing Arts",28,"Variety Performance",60,"Internal"]
["Sporting Excellence and Performance","C3","Professional Sports Performer",180,"Internal",null,null,null,null,null,null,null,"Sports Leadership","Sport",4,"Sports Leadership",60,"Internal"]
["Sports Coaching","A","Careers in the Sport and Active Leisure Industry",90,"Internal",null,null,null,null,null,null,null,"Application of Fitness Testing","Sport",5,"Application of Fitness Testing",60,"Internal"]
["Sports Coaching","B","Health, Wellbeing and Sport",90,"Internal",null,null,null,null,null,null,null,"Sports Psychology","Sport",6,"Sports Psychology",60,"Internal"]
["Sports Coaching","C1","Developing Coaching Skills",180,"Internal",null,null,null,null,null,null,null,"Practical Sports Performance","Sport",7,"Practical Sports Performance",60,"Internal"]
["Uniformed Protective Services",2,"Behaviour and Discipline in the Uniformed Protective Services",120,"External",null,null,null,null,null,null,null,"Estate Skills","Agriculture",5,"Estate Skills",60,"Internal"]
["Uniformed Protective Services",5,"Teamwork, Leadership and Communication in the Uniformed Protective Services",120,"Internal",null,null,null,null,null,null,null,"Land-based Machinery Operations","Agriculture",8,"Land-based Machinery Operations",60,"Internal"]
["Marketing",1,"Careers in Marketing",60,"Internal",null,null,null,null,null,null,null,"Woodland Management","Countryside Management",7,"Woodland Management",60,"Internal"]
["Marketing",2,"Marketing Principles",120,"External",null,null,null,null,null,null,null,"Identification, Planting and Care of Trees","Countryside Management",8,"Identification, Planting and Care of Trees",60,"Internal"]
["Marketing",3,"Customer Communications",180,"Internal",null,null,null,null,null,null,null,"Developing a Land-based Enterprise","Countryside Management",9,"Developing a Land-based Enterprise",60,"Internal"]
[null,null,null,null,null,null,null,null,null,null,null,null,"Wildlife Ecology and Conservation Management","Countryside Management",11,"Wildlife Ecology and Conservation Management",60,"Internal"]
[null,null,null,null,null,null,null,null,null,null,null,null,"Controlling Countryside Pests and Predators","Countryside Management",12,"Controlling Countryside Pests and Predators",60,"Internal"]
[null,null,null,null,null,null,null,null,null,null,null,null,"Gamekeeping","Countryside Management",13,"Gamekeeping",60,"Internal"]
[null,null,null,null,null,null,null,null,null,null,null,null,"Functional Physiology","Applied Human Biology",4,"Functional Physiology",60,"Internal"]
[null,null,null,null,null,null,null,null,null,null,null,null,"Diseases, Disorders, Treatments and Therapies","Applied Human Biology",5,"Diseases, Disorders, Treatments and Therapies",60,"Internal"]
[null,null,null,null,null,null,null,null,null,null,null,null,"Genetics and Genetic Engineering","Applied Human Biology",6,"Genetics and Genetic Engineering",60,"Internal"]
[null,null,null,null,null,null,null,null,null,null,null,null,"Biomedical Science","Applied Human Biology",7,"Biomedical Science",60,"Internal"]
[null,null,null,null,null,null,null,null,null,null,null,null,"Human Reproduction and Fertility","Applied Human Biology",8,"Human Reproduction and Fertility",60,"Internal"]
[null,null,null,null,null,null,null,null,null,null,null,null,"Criminal and Forensic Psychology","Applied Psychology",4,"Criminal and Forensic Psychology",60,"Internal"]
[null,null,null,null,null,null,null,null,null,null,null,null,"Promoting Children’s Psychological Development","Applied Psychology",5,"Promoting Children’s Psychological Development",60,"Internal"]
[null,null,null,null,null,null,null,null,null,null,null,null,"Introduction to Psychopathology","Applied Psychology",6,"Introduction to Psychopathology",60,"Internal"]
[null,null,null,null,null,null,null,null,null,null,null,null,"Applied Sport Psychology","Applied Psychology",7,"Applied Sport Psychology",60,"Internal"]
[null,null,null,null,null,null,null,null,null,null,null,null,"Storyboarding for Digital Media","Digital Film and Video Production",18,"Storyboarding for Digital Media",60,"Internal"]
[null,null,null,null,null,null,null,null,null,null,null,null,"Scriptwriting","Digital Film and Video Production",19,"Scriptwriting",60,"Internal"]
[null,null,null,null,null,null,null,null,null,null,null,null,"Single Camera Techniques","Digital Film and Video Production",20,"Single Camera Techniques",60,"Internal"]
[null,null,null,null,null,null,null,null,null,null,null,null,"Film Editing","Digital Film and Video Production",21,"Film Editing",60,"Internal"]
[null,null,null,null,null,null,null,null,null,null,null,null,"Stop Motion Animation","Digital Film and Video Production",23,"Stop Motion Animation",60,"Internal"]
[null,null,null,null,null,null,null,null,null,null,null,null,"Sound Editing","Digital Film and Video Production",24,"Sound Editing",60,"Internal"]
[null,null,null,null,null,null,null,null,null,null,null,null,"Sound Recording","Digital Film and Video Production",25,"Sound Recording",60,"Internal"]
[null,null,null,null,null,null,null,null,null,null,null,null,"Multi Camera Techniques","Digital Film and Video Production",35,"Multi Camera Techniques",60,"Internal"]
[null,null,null,null,null,null,null,null,null,null,null,null,"Lighting Techniques","Digital Film and Video Production",36,"Lighting Techniques",60,"Internal"]
[null,null,null,null,null,null,null,null,null,null,null,null,"App Production","Digital Content Production",9,"App Production",60,"Internal"]
[null,null,null,null,null,null,null,null,null,null,null,null,"Website Production","Digital Content Production",12,"Website Production",60,"Internal"]
[null,null,null,null,null,null,null,null,null,null,null,null,"Interviewing Techniques","Digital Content Production",22,"Interviewing Techniques",60,"Internal"]
[null,null,null,null,null,null,null,null,null,null,null,null,"Writing Copy","Digital Content Production",26,"Writing Copy",60,"Internal"]
[null,null,null,null,null,null,null,null,null,null,null,null,"Digital Photography","Digital Content Production",27,"Digital Photography",60,"Internal"]
[null,null,null,null,null,null,null,null,null,null,null,null,"Image Manipulation Techniques","Digital Content Production",28,"Image Manipulation Techniques",60,"Internal"]
[null,null,null,null,null,null,null,null,null,null,null,null,"2D Digital Graphics","Digital Content Production",29,"2D Digital Graphics",60,"Internal"]
[null,null,null,null,null,null,null,null,null,null,null,null,"Page Layout Design for Digital Media","Digital Content Production",30,"Page Layout Design for Digital Media",60,"Internal"]
[null,null,null,null,null,null,null,null,null,null,null,null,"Coding for Web Based Media","Digital Content Production",31,"Coding for Web Based Media",60,"Internal"]
[null,null,null,null,null,null,null,null,null,null,null,null,"App Production","Digital Games Production",9,"App Production",60,"Internal"]
[null,null,null,null,null,null,null,null,null,null,null,null,"Concept Art for Computer Games","Digital Games Production",32,"Concept Art for Computer Games",60,"Internal"]
[null,null,null,null,null,null,null,null,null,null,null,null,"2D Animation","Digital Games Production",33,"2D Animation",60,"Internal"]
[null,null,null,null,null,null,null,null,null,null,null,null,"Game Engine Scripting","Digital Games Production",34,"Game Engine Scripting",60,"Internal"]
[null,null,null,null,null,null,null,null,null,null,null,null,"3D Modelling","Digital Games Production",40,"3D Modelling",60,"Internal"]
[null,null,null,null,null,null,null,null,null,null,null,null,"3D Environments","Digital Games Production",41,"3D Environments",60,"Internal"]
[null,null,null,null,null,null,null,null,null,null,null,null,"Games Testing","Digital Games Production",42,"Games Testing",60,"Internal"]
[null,null,null,null,null,null,null,null,null,null,null,null,"3D Digital Animation","Digital Games Production",43,"3D Digital Animation",60,"Internal"]
[null,null,null,null,null,null,null,null,null,null,null,null,"Composing Music","Music Performance",4,"Composing Music",60,"Internal"]
[null,null,null,null,null,null,null,null,null,null,null,null,"Music Performance Session Styles","Music Performance",5,"Music Performance Session Styles",60,"Internal"]
[null,null,null,null,null,null,null,null,null,null,null,null,"Solo Performance","Music Performance",6,"Solo Performance",60,"Internal"]
[null,null,null,null,null,null,null,null,null,null,null,null,"Improvising Music","Music Performance",7,"Improvising Music",60,"Internal"]
[null,null,null,null,null,null,null,null,null,null,null,null,"Theatre Directing","Performance Acting",15,"Theatre Directing",60,"Internal"]
[null,null,null,null,null,null,null,null,null,null,null,null,"Screen Acting","Performance Acting",17,"Screen Acting",60,"Internal"]
[null,null,null,null,null,null,null,null,null,null,null,null,"Interpreting Classical Text for Performance","Performance Acting",18,"Interpreting Classical Text for Performance",60,"Internal"]
[null,null,null,null,null,null,null,null,null,null,null,null,"Acting Styles","Performance Acting",19,"Acting Styles",60,"Internal"]
[null,null,null,null,null,null,null,null,null,null,null,null,"Developing the Voice for Performance","Performance Acting",20,"Developing the Voice for Performance",60,"Internal"]
[null,null,null,null,null,null,null,null,null,null,null,null,"Improvisation","Performance Acting",21,"Improvisation",60,"Internal"]
[null,null,null,null,null,null,null,null,null,null,null,null,"Movement in Performance","Performance Acting",22,"Movement in Performance",60,"Internal"]
[null,null,null,null,null,null,null,null,null,null,null,null,"Physical Theatre Techniques","Performance Acting",26,"Physical Theatre Techniques",60,"Internal"]
[null,null,null,null,null,null,null,null,null,null,null,null,"Storytelling","Performance Acting",29,"Storytelling",60,"Internal"]
[null,null,null,null,null,null,null,null,null,null,null,null,"Classical Ballet Technique","Performance Dance",8,"Classical Ballet Technique",60,"Internal"]
[null,null,null,null,null,null,null,null,null,null,null,null,"Tap Dance Technique","Performance Dance",9,"Tap Dance Technique",60,"Internal"]
[null,null,null,null,null,null,null,null,null,null,null,null,"Jazz Dance Technique","Performance Dance",10,"Jazz Dance Technique",60,"Internal"]
[null,null,null,null,null,null,null,null,null,null,null,null,"Street Dance Technique","Performance Dance",11,"Street Dance Technique",60,"Internal"]
[null,null,null,null,null,null,null,null,null,null,null,null,"Contemporary Dance Technique","Performance Dance",12,"Contemporary Dance Technique",60,"Internal"]
[null,null,null,null,null,null,null,null,null,null,null,null,"Healthy Dancer","Performance Dance",13,"Healthy Dancer",60,"Internal"]
[null,null,null,null,null,null,null,null,null,null,null,null,"Choreography for Live Performance","Performance Dance",14,"Choreography for Live Performance",60,"Internal"]
[null,null,null,null,null,null,null,null,null,null,null,null,"Improvisation","Performance Dance",21,"Improvisation",60,"Internal"]
[null,null,null,null,null,null,null,null,null,null,null,null,"Movement in Performance","Performance Dance",22,"Movement in Performance",60,"Internal"]
[null,null,null,null,null,null,null,null,null,null,null,null,"Physical Theatre Techniques","Performance Dance",26,"Physical Theatre Techniques",60,"Internal"]
[null,null,null,null,null,null,null,null,null,null,null,null,"Tap Dance Technique","Performance Musical Theatre",9,"Tap Dance Technique",60,"Internal"]
[null,null,null,null,null,null,null,null,null,null,null,null,"Jazz Dance Technique","Performance Musical Theatre",10,"Jazz Dance Technique",60,"Internal"]
[null,null,null,null,null,null,null,null,null,null,null,null,"Street Dance Technique","Performance Musical Theatre",11,"Street Dance Technique",60,"Internal"]
[null,null,null,null,null,null,null,null,null,null,null,null,"Contemporary Dance Technique","Performance Musical Theatre",12,"Contemporary Dance Technique",60,"Internal"]
[null,null,null,null,null,null,null,null,null,null,null,null,"Choreography for Live Performance","Performance Musical Theatre",14,"Choreography for Live Performance",60,"Internal"]
[null,null,null,null,null,null,null,null,null,null,null,null,"Acting Styles","Performance Musical Theatre",19,"Acting Styles",60,"Internal"]
[null,null,null,null,null,null,null,null,null,null,null,null,"Developing the Voice for Performance","Performance Musical Theatre",20,"Developing the Voice for Performance",60,"Internal"]
[null,null,null,null,null,null,null,null,null,null,null,null,"Singing Techniques for Performers","Performance Musical Theatre",23,"Singing Techniques for Performers",60,"Internal"]
[null,null,null,null,null,null,null,null,null,null,null,null,"Biomechanics in Sport and Exercise Science","Sport and Exercise Science",7,"Biomechanics in Sport and Exercise Science",60,"Internal"]
[null,null,null,null,null,null,null,null,null,null,null,null,"Specialised Fitness Training","Sport and Exercise Science",8,"Specialised Fitness Training",60,"Internal"]
[null,null,null,null,null,null,null,null,null,null,null,null,"Physical Activity for Individual and Group-based Exercise","Sport and Exercise Science",10,"Physical Activity for Individual and Group-based Exercise",60,"Internal"]
[null,null,null,null,null,null,null,null,null,null,null,null,"Visitor Attractions","Travel and Tourism",9,"Visitor Attractions",60,"Internal"]
[null,null,null,null,null,null,null,null,null,null,null,null,"Events, Conferences and Exhibitions","Travel and Tourism",11,"Events, Conferences and Exhibitions",60,"Internal"]
[null,null,null,null,null,null,null,null,null,null,null,null,"Skills for Outdoor Activities and the Uniformed Protective Services","Uniformed Protective Services",10,"Skills for Outdoor Activities and the Uniformed Protective Services",60,"Internal"]
[null,null,null,null,null,null,null,null,null,null,null,null,"Expedition Skills","Uniformed Protective Services",11,"Expedition Skills",60,"Internal"]
[null,null,null,null,null,null,null,null,null,null,null,null,"Introduction to Criminology","Uniformed Protective Services",13,"Introduction to Criminology",60,"Internal"]
[null,null,null,null,null,null,null,null,null,null,null,null,"Police Powers and the Law","Uniformed Protective Services",15,"Police Powers and the Law",60,"Internal"]
[null,null,null,null,null,null,null,null,null,null,null,null,"Professional Development in the Uniformed Protective Services","Uniformed Protective Services",19,"Professional Development in the Uniformed Protective Services",60,"Internal"]

{"sheet":"Cert Dropdown","index":15,"n_rows":9,"n_cols":15,"rows_kept":9,"cut":false,"hidden":true,"merged":[]}
["Art and Design Group A",null,null,null,"Music Technology",null,null,null,"Music Performance Group A",null,null,null,"UPS Group A"]
["Photographic Materials, Techniques and Processes",{"$f":"IF(COUNTIF('Extended Certificate'!$E$29:$E$70,A2)>=1,\"\",ROW())","v":2},{"$f":"IF(ROW(A2)-ROW(A$2)+1>COUNT(B$2:B$40),\"\",INDEX(A:A,SMALL(B$2:B$40,1+ROW(A2)-ROW(A$2))))","v":"Photographic Materials, Techniques and Processes"},null,"Studio Recording Techniques",{"$f":"IF(COUNTIF('Extended Certificate'!$E$29:$E$70,E2)>=1,\"\",ROW())","v":2},{"$f":"IF(ROW(E2)-ROW(E$2)+1>COUNT(F$2:F$40),\"\",INDEX(E:E,SMALL(F$2:F$40,1+ROW(E2)-ROW(E$2))))","v":"Studio Recording Techniques"},null,"Composing Music",{"$f":"IF(COUNTIF('Extended Certificate'!$E$29:$E$70,I2)>=1,\"\",ROW())","v":2},{"$f":"IF(ROW(I2)-ROW(I$2)+1>COUNT(J$2:J$40),\"\",INDEX(I:I,SMALL(J$2:J$40,1+ROW(I2)-ROW(I$2))))","v":"Composing Music"},null,"Skills for Outdoor Activities and the Uniformed Protective Services",{"$f":"IF(COUNTIF('Extended Certificate'!$E$29:$E$70,M2)>=1,\"\",ROW())","v":2},{"$f":"IF(ROW(M2)-ROW(M$2)+1>COUNT(N$2:N$40),\"\",INDEX(M:M,SMALL(N$2:N$40,1+ROW(M2)-ROW(M$2))))","v":"Skills for Outdoor Activities and the Uniformed Protective Services"}]
["Graphic Materials, Techniques and Processes",{"$f":"IF(COUNTIF('Extended Certificate'!$E$29:$E$70,A3)>=1,\"\",ROW())","v":3},{"$f":"IF(ROW(A3)-ROW(A$2)+1>COUNT(B$2:B$40),\"\",INDEX(A:A,SMALL(B$2:B$40,1+ROW(A3)-ROW(A$2))))","v":"Graphic Materials, Techniques and Processes"},null,"Music and Sound for Media",{"$f":"IF(COUNTIF('Extended Certificate'!$E$29:$E$70,E3)>=1,\"\",ROW())","v":3},{"$f":"IF(ROW(E3)-ROW(E$2)+1>COUNT(F$2:F$40),\"\",INDEX(E:E,SMALL(F$2:F$40,1+ROW(E3)-ROW(E$2))))","v":"Music and Sound for Media"},null,"Music Performance Session Styles",{"$f":"IF(COUNTIF('Extended Certificate'!$E$29:$E$70,I3)>=1,\"\",ROW())","v":3},{"$f":"IF(ROW(I3)-ROW(I$2)+1>COUNT(J$2:J$40),\"\",INDEX(I:I,SMALL(J$2:J$40,1+ROW(I3)-ROW(I$2))))","v":"Music Performance Session Styles"},null,"Expedition Skills",{"$f":"IF(COUNTIF('Extended Certificate'!$E$29:$E$70,M3)>=1,\"\",ROW())","v":3},{"$f":"IF(ROW(M3)-ROW(M$2)+1>COUNT(N$2:N$40),\"\",INDEX(M:M,SMALL(N$2:N$40,1+ROW(M3)-ROW(M$2))))","v":"Expedition Skills"}]
["Interactive Design Materials, Techniques and Processes",{"$f":"IF(COUNTIF('Extended Certificate'!$E$29:$E$70,A4)>=1,\"\",ROW())","v":4},"Interactive Design Materials, Techniques and Processes",null,"Mixing and Mastering Techniques",{"$f":"IF(COUNTIF('Extended Certificate'!$E$29:$E$70,E4)>=1,\"\",ROW())","v":4},{"$f":"IF(ROW(E4)-ROW(E$2)+1>COUNT(F$2:F$40),\"\",INDEX(E:E,SMALL(F$2:F$40,1+ROW(E4)-ROW(E$2))))","v":"Mixing and Mastering Techniques"},null,"Solo Performance",{"$f":"IF(COUNTIF('Extended Certificate'!$E$29:$E$70,I4)>=1,\"\",ROW())","v":4},{"$f":"IF(ROW(I4)-ROW(I$2)+1>COUNT(J$2:J$40),\"\",INDEX(I:I,SMALL(J$2:J$40,1+ROW(I4)-ROW(I$2))))","v":"Solo Performance"},null,"Introduction to Criminology",{"$f":"IF(COUNTIF('Extended Certificate'!$E$29:$E$70,M4)>=1,\"\",ROW())","v":4},{"$f":"IF(ROW(M4)-ROW(M$2)+1>COUNT(N$2:N$40),\"\",INDEX(M:M,SMALL(N$2:N$40,1+ROW(M4)-ROW(M$2))))","v":"Introduction to Criminology"}]
["Fine Art Materials, Techniques and Processes",{"$f":"IF(COUNTIF('Extended Certificate'!$E$29:$E$70,A5)>=1,\"\",ROW())","v":5},"Fine Art Materials, Techniques and Processes",null,null,null,null,null,"Improvising Music",{"$f":"IF(COUNTIF('Extended Certificate'!$E$29:$E$70,I5)>=1,\"\",ROW())","v":5},{"$f":"IF(ROW(I5)-ROW(I$2)+1>COUNT(J$2:J$40),\"\",INDEX(I:I,SMALL(J$2:J$40,1+ROW(I5)-ROW(I$2))))","v":"Improvising Music"},null,"Police Powers and the Law",{"$f":"IF(COUNTIF('Extended Certificate'!$E$29:$E$70,M5)>=1,\"\",ROW())","v":5},{"$f":"IF(ROW(M5)-ROW(M$2)+1>COUNT(N$2:N$40),\"\",INDEX(M:M,SMALL(N$2:N$40,1+ROW(M5)-ROW(M$2))))","v":"Police Powers and the Law"}]
["3D Design Materials, Techniques and Processes",{"$f":"IF(COUNTIF('Extended Certificate'!$E$29:$E$70,A6)>=1,\"\",ROW())","v":6},"3D Design Materials, Techniques and Processes",null,null,null,null,null,null,null,null,null,"Professional Development in the Uniformed Protective Services",{"$f":"IF(COUNTIF('Extended Certificate'!$E$29:$E$70,M6)>=1,\"\",ROW())","v":6},{"$f":"IF(ROW(M6)-ROW(M$2)+1>COUNT(N$2:N$40),\"\",INDEX(M:M,SMALL(N$2:N$40,1+ROW(M6)-ROW(M$2))))","v":"Professional Development in the Uniformed Protective Services"}]
["Textiles Materials, Techniques and Processes",{"$f":"IF(COUNTIF('Extended Certificate'!$E$29:$E$70,A7)>=1,\"\",ROW())","v":7},"Textiles Materials, Techniques and Processes"]
["Fashion Materials, Techniques and Processes",{"$f":"IF(COUNTIF('Extended Certificate'!$E$29:$E$70,A8)>=1,\"\",ROW())","v":8},"Fashion Materials, Techniques and Processes"]
["3D Design Craft Materials, Techniques and Processes",{"$f":"IF(COUNTIF('Extended Certificate'!$E$29:$E$70,A9)>=1,\"\",ROW())","v":9},"3D Design Craft Materials, Techniques and Processes"]

{"sheet":"Certificate Data Sheet","index":16,"n_rows":32,"n_cols":18,"rows_kept":32,"cut":false,"hidden":true,"merged":[]}
["Mandatory Units A",null,null,null,null,null,"Mandatory Units B",null,null,null,null,null,null,"optional Units"]
["Sector","Unit number","Unit Name","GLH","Assessment type",null,"Sector","Unit number","Unit Name","GLH","Assessment type",null,null,"Sector","Unit Number","Unit Name","GLH","Assessment type"]
["Applied Science",1,"Principles and Applications of Science I",90,"External",null,null,null,null,null,null,null,"Photographic Materials, Techniques and Processes","Art and Design",9,"Photographic Materials, Techniques and Processes",60,"Internal"]
["Applied Science",2,"Practical Scientific Procedures and Techniques",90,"Internal",null,null,null,null,null,null,null,"Graphic Materials, Techniques and Processes","Art and Design",10,"Graphic Materials, Techniques and Processes",60,"Internal"]
["Applied Law",1,"Dispute Solving in Civil Law",90,"External",null,null,null,null,null,null,null,"Interactive Design Materials, Techniques and Processes","Art and Design",11,"Interactive Design Materials, Techniques and Processes",60,"Internal"]
["Applied Law",2,"Investigating Aspects of Criminal Law and the Legal System",90,"Internal",null,null,null,null,null,null,null,"Fine Art Materials, Techniques and Processes","Art and Design",12,"Fine Art Materials, Techniques and Processes",60,"Internal"]
["Art and Design",1,"Visual Recording and Communication",120,"External",null,null,null,null,null,null,null,"3D Design Materials, Techniques and Processes","Art and Design",13,"3D Design Materials, Techniques and Processes",60,"Internal"]
["Business",1,"Exploring Business",90,"Internal",null,null,null,null,null,null,null,"Textiles Materials, Techniques and Processes","Art and Design",14,"Textiles Materials, Techniques and Processes",60,"Internal"]
["Business",2,"Developing a Marketing Campaign",90,"External",null,null,null,null,null,null,null,"Fashion Materials, Techniques and Processes","Art and Design",15,"Fashion Materials, Techniques and Processes",60,"Internal"]
["Computing",2,"Fundamentals of Computer Systems",90,"External",null,null,null,null,null,null,null,"3D Design Craft Materials, Techniques and Processes","Art and Design",16,"3D Design Craft Materials, Techniques and Processes",60,"Internal"]
["Computing",7,"IT Systems Security and Encryption",90,"Internal",null,null,null,null,null,null,null,"Studio Recording Techniques","Music Technology",2,"Studio Recording Techniques",60,"Internal"]
["Engineering",1,"Engineering Principles",120,"External",null,null,null,null,null,null,null,"Music and Sound for Media","Music Technology",3,"Music and Sound for Media",60,"Internal"]
["Engineering",2,"Delivery of Engineering Processes Safely as a Team",60,"Internal",null,null,null,null,null,null,null,"Mixing and Mastering Techniques","Music Technology",13,"Mixing and Mastering Techniques",60,"Internal"]
["Enterprise and Entrepreneurship",1,"Enterprise and Entrepreneurs",90,"Internal",null,null,null,null,null,null,null,"Composing Music","Music Performance",4,"Composing Music",60,"Internal"]
["Enterprise and Entrepreneurship",2,"Developing a Marketing Campaign",90,"External",null,null,null,null,null,null,null,"Music Performance Session Styles","Music Performance",5,"Music Performance Session Styles",60,"Internal"]
["Health and Social Care",1,"Human Lifespan Development",90,"External",null,null,null,null,null,null,null,"Solo Performance","Music Performance",6,"Solo Performance",60,"Internal"]
["Health and Social Care",5,"Meeting Individual Care and Support Needs",90,"Internal",null,null,null,null,null,null,null,"Improvising Music","Music Performance",7,"Improvising Music",60,"Internal"]
["Information Technology",2,"Creating Systems to Manage Information",90,"External",null,null,null,null,null,null,null,"Skills for Outdoor Activities and the Uniformed Protective Services","Uniformed Protective Services",10,"Skills for Outdoor Activities and the Uniformed Protective Services",60,"Internal"]
["Information Technology",3,"Using Social Media in Business",90,"Internal",null,null,null,null,null,null,null,"Expedition Skills","Uniformed Protective Services",11,"Expedition Skills",60,"Internal"]
["Music Technology",6,"DAW Production",120,"External",null,null,null,null,null,null,null,"Introduction to Criminology","Uniformed Protective Services",13,"Introduction to Criminology",60,"Internal"]
["Performing Arts",1,"Investigating Practitioners’ Work",90,"External",null,null,null,null,null,null,null,"Police Powers and the Law","Uniformed Protective Services",15,"Police Powers and the Law",60,"Internal"]
["Performing Arts",2,"Developing Skills and Techniques for Live Performance",90,"Internal",null,null,null,null,null,null,null,"Professional Development in the Uniformed Protective Services","Uniformed Protective Services",19,"Professional Development in the Uniformed Protective Services",60,"Internal"]
["Sport",1,"Anatomy and Physiology",120,"External"]
["Sport",7,"Practical Sports Performance",60,"Internal"]
["Travel and Tourism",1,"The World of Travel and Tourism",90,"External"]
["Travel and Tourism",3,"Principles of Marketing in Travel and Tourism",90,"Internal"]
["Applied Psychology",1,"Psychological Approaches and Applications",90,"External"]
["Applied Psychology",2,"Conducting Psychological Research",90,"Internal"]
["Music Performance",3,"Ensemble Music Performance",120,"External"]
["Applied Human Biology",1,"Principles of Applied Human Biology",90,"External"]
["Applied Human Biology",2,"Practical Microbiology and Infectious Diseases",90,"Internal"]
["Uniformed Protective Services",2,"Behaviour and Discipline in the Uniformed Protective Services",120,"External"]

{"sheet":"Diploma Dropdown","index":17,"n_rows":25,"n_cols":226,"rows_kept":25,"cut":false,"hidden":true,"merged":[]}
["Agriculture Group A",null,null,null,"Animal Management Group A",null,null,null,"Applied Science Group A",null,null,null,"Art and Design Group A",null,null,null,"Fashion Design and Production Group A",null,null,null,"Graphics Group A",null,null,null,"Graphics Group B",null,null,null,"Photography Group A",null,null,null,"3D Design and Crafts Group A",null,null,null,"Business Group A",null,null,null,"Computer Science Group A",null,null,null,"Computing for Creative Industries Group A",null,null,null,"Computing Group A",null,null,null,"Construction and the Built Environment Group A",null,null,null,"Construction Building Services Engineering Group A",null,null,null,"Construction Building Services Engineering Group B",null,null,null,"Construction Civil Engineering Group A",null,null,null,"Construction Civil Engineering Group B",null,null,null,"Countryside Management Group A",null,null,null,"Creative Digital Media Production Film and Television Production Group A",null,null,null,"Creative Digital Media Production Film and Television Visual Effects group A",null,null,null,"Creative Digital Media Production Film and Television Visual Effects group B",null,null,null,"Creative Digital Media Production Sound Production Group A",null,null,null,"Creative Digital Media Production Digital Publishing Group A",null,null,null,"Creative Digital Media Production Digital Games Design and Development Group A",null,null,null,"Engineering Group A",null,null,null,"Engineering Group B",null,null,null,"Engineering Group C",null,null,null,"Electrical and Electronic Engineering Group A",null,null,null,"Electrical and Electronic Engineering Group B",null,null,null,"Mechanical Engineering Group A",null,null,null,"Mechanical Engineering Group B",null,null,null,"Computer Engineering Group A",null,null,null,"Computer Engineering Group B",null,null,null,"Manufacturing Engineering Group A",null,null,null,"Manufacturing Engineering Group B",null,null,null,"Aeronautical Engineering Group A",null,null,null,"Aeronautical Engineering Group B",null,null,null,"Enterprise and Entrepreneurship Group A",null,null,null,"Equine Management Yard Management Group A",null,null,null,"Equine Management Equitation Group A",null,null,null,"Forensic and Criminal Investigation Group A",null,null,null,"Health and Social Care Group A",null,null,null,"Information Technology Group A",null,null,null,"Music Technology Group A",null,null,null,"Performing Arts Group A",null,null,null,"Sport Group A",null,null,null,"Sport Fitness Services Group A",null,null,null,"Sport and Exercise Science Group A",null,null,null,"Travel and Tourism Group A",null,null,null,"Horticulture Group A",null,null,"Esports Group A",null,null,null,"Sport and Outdoor Activities Group A",null,null,null,"Sporting Excellence and Performance Group A",null,null,null,"Sports Coaching and Development Group A",null,null,null,"UPS Group A",null,null,null,"Marketing Group A"]
["Crop Production",{"$f":"IF(COUNTIF(Diploma!$E$29:$E$70,A2)>=1,\"\",ROW())","v":2},{"$f":"IF(ROW(A2)-ROW(A$2)+1>COUNT(B$2:B$17),\"\",INDEX(A:A,SMALL(B$2:B$17,1+ROW(A2)-ROW(A$2))))","v":"Crop Production"},null,"Business Management in the Animal Sector",{"$f":"IF(COUNTIF(Diploma!$E$29:$E$70,E2)>=1,\"\",ROW())","v":2},{"$f":"IF(ROW(E2)-ROW(E$2)+1>COUNT(F$2:F$17),\"\",INDEX(E:E,SMALL(F$2:F$17,1+ROW(E2)-ROW(E$2))))","v":"Business Management in the Animal Sector"},null,"Physiology of Human Body Systems",{"$f":"IF(COUNTIF(Diploma!$E$29:$E$70,I2)>=1,\"\",ROW())","v":2},{"$f":"IF(ROW(I2)-ROW(I$2)+1>COUNT(J$2:J$17),\"\",INDEX(I:I,SMALL(J$2:J$17,1+ROW(I2)-ROW(I$2))))","v":"Physiology of Human Body Systems"},null,"Photographic Materials, Techniques and Processes",{"$f":"IF(COUNTIF(Diploma!$E$29:$E$70,M2)>=1,\"\",ROW())","v":2},{"$f":"IF(ROW(M2)-ROW(M$2)+1>COUNT(N$2:N$17),\"\",INDEX(M:M,SMALL(N$2:N$17,1+ROW(M2)-ROW(M$2))))","v":"Photographic Materials, Techniques and Processes"},null,"Photographic Materials, Techniques and Processes",{"$f":"IF(COUNTIF(Diploma!$E$29:$E$70,Q2)>=1,\"\",ROW())","v":2},{"$f":"IF(ROW(Q2)-ROW(Q$2)+1>COUNT(R$2:R$17),\"\",INDEX(Q:Q,SMALL(R$2:R$17,1+ROW(Q2)-ROW(Q$2))))","v":"Photographic Materials, Techniques and Processes"},null,"Typography and Typographic Design",{"$f":"IF(COUNTIF(Diploma!$E$29:$E$70,U2)>=1,\"\",ROW())","v":2},{"$f":"IF(ROW(U2)-ROW(U$2)+1>COUNT(V$2:V$17),\"\",INDEX(U:U,SMALL(V$2:V$17,1+ROW(U2)-ROW(U$2))))","v":"Typography and Typographic Design"},null,"Photographic Materials, Techniques and Processes",{"$f":"IF(COUNTIF(Diploma!$E$29:$E$70,Y2)>=1,\"\",ROW())","v":2},{"$f":"IF(ROW(Y2)-ROW(Y$2)+1>COUNT(Z$2:Z$17),\"\",INDEX(Y:Y,SMALL(Z$2:Z$17,1+ROW(Y2)-ROW(Y$2))))","v":"Photographic Materials, Techniques and Processes"},null,"Graphic Materials, Techniques and Processes",{"$f":"IF(COUNTIF(Diploma!$E$29:$E$70,AC2)>=1,\"\",ROW())","v":2},{"$f":"IF(ROW(AC2)-ROW(AC$2)+1>COUNT(AD$2:AD$17),\"\",INDEX(AC:AC,SMALL(AD$2:AD$17,1+ROW(AC2)-ROW(AC$2))))","v":"Graphic Materials, Techniques and Processes"},null,"Photographic Materials, Techniques and Processes",{"$f":"IF(COUNTIF(Diploma!$E$29:$E$70,AG2)>=1,\"\",ROW())","v":2},{"$f":"IF(ROW(AG2)-ROW(AG$2)+1>COUNT(AH$2:AH$17),\"\",INDEX(AG:AG,SMALL(AH$2:AH$17,1+ROW(AG2)-ROW(AG$2))))","v":"Photographic Materials, Techniques and Processes"},null,"Recruitment and Selection Process",{"$f":"IF(COUNTIF(Diploma!$E$29:$E$70,AK2)>=1,\"\",ROW())","v":2},{"$f":"IF(ROW(AK2)-ROW(AK$2)+1>COUNT(AL$2:AL$22),\"\",INDEX(AK:AK,SMALL(AL$2:AL$22,1+ROW(AK2)-ROW(AK$2))))","v":"Recruitment and Selection Process"},null,"Human-computer Interaction",{"$f":"IF(COUNTIF(Diploma!$E$29:$E$70,AO2)>=1,\"\",ROW())","v":2},{"$f":"IF(ROW(AO2)-ROW(AO$2)+1>COUNT(AP$2:AP$17),\"\",INDEX(AO:AO,SMALL(AP$2:AP$17,1+ROW(AO2)-ROW(AO$2))))","v":"Human-computer Interaction"},null,"Digital Graphics and Animation",{"$f":"IF(COUNTIF(Diploma!$E$29:$E$70,AS2)>=1,\"\",ROW())","v":2},{"$f":"IF(ROW(AS2)-ROW(AS$2)+1>COUNT(AT$2:AT$17),\"\",INDEX(AS:AS,SMALL(AT$2:AT$17,1+ROW(AS2)-ROW(AS$2))))","v":"Digital Graphics and Animation"},null,"Human-computer Interaction",{"$f":"IF(COUNTIF(Diploma!$E$29:$E$70,AW2)>=1,\"\",ROW())","v":2},{"$f":"IF(ROW(AW2)-ROW(AW$2)+1>COUNT(AX$2:AX$17),\"\",INDEX(AW:AW,SMALL(AX$2:AX$17,1+ROW(AW2)-ROW(AW$2))))","v":"Human-computer Interaction"},null,"Management of a Construction Project",{"$f":"IF(COUNTIF(Diploma!$E$29:$E$70,BA2)>=1,\"\",ROW())","v":2},{"$f":"IF(ROW(BA2)-ROW(BA$2)+1>COUNT(BB$2:BB$17),\"\",INDEX(BA:BA,SMALL(BB$2:BB$17,1+ROW(BA2)-ROW(BA$2))))","v":"Management of a Construction Project"},null,"Graphical Detailing in Construction",{"$f":"IF(COUNTIF(Diploma!$E$29:$E$70,BE2)>=1,\"\",ROW())","v":2},{"$f":"IF(ROW(BE2)-ROW(BE$2)+1>COUNT(BF$2:BF$17),\"\",INDEX(BE:BE,SMALL(BF$2:BF$17,1+ROW(BE2)-ROW(BE$2))))","v":"Graphical Detailing in Construction"},null,"Building Services Control Systems",{"$f":"IF(COUNTIF(Diploma!$E$29:$E$70,BI2)>=1,\"\",ROW())","v":2},{"$f":"IF(ROW(BI2)-ROW(BI$2)+1>COUNT(BJ$2:BJ$17),\"\",INDEX(BI:BI,SMALL(BJ$2:BJ$17,1+ROW(BI2)-ROW(BI$2))))","v":"Building Services Control Systems"},null,"Surveying in Construction",{"$f":"IF(COUNTIF(Diploma!$E$29:$E$70,BM2)>=1,\"\",ROW())","v":2},{"$f":"IF(ROW(BM2)-ROW(BM$2)+1>COUNT(BN$2:BN$17),\"\",INDEX(BM:BM,SMALL(BN$2:BN$17,1+ROW(BM2)-ROW(BM$2))))","v":"Surveying in Construction"},null,"Principles and Applications of Structural Mechanics",{"$f":"IF(COUNTIF(Diploma!$E$29:$E$70,BQ2)>=1,\"\",ROW())","v":2},{"$f":"IF(ROW(BQ2)-ROW(BQ$2)+1>COUNT(BR$2:BR$17),\"\",INDEX(BQ:BQ,SMALL(BR$2:BR$17,1+ROW(BQ2)-ROW(BQ$2))))","v":"Principles and Applications of Structural Mechanics"},null,"Woodland Management",{"$f":"IF(COUNTIF(Diploma!$E$29:$E$70,BU2)>=1,\"\",ROW())","v":2},{"$f":"IF(ROW(BU2)-ROW(BU$2)+1>COUNT(BV$2:BV$17),\"\",INDEX(BU:BU,SMALL(BV$2:BV$17,1+ROW(BU2)-ROW(BU$2))))","v":"Woodland Management"},null,"Storyboarding for Digital Media",{"$f":"IF(COUNTIF(Diploma!$E$29:$E$70,BY2)>=1,\"\",ROW())","v":2},{"$f":"IF(ROW(BY2)-ROW(BY$2)+1>COUNT(BZ$2:BZ$17),\"\",INDEX(BY:BY,SMALL(BZ$2:BZ$17,1+ROW(BY2)-ROW(BY$2))))","v":"Storyboarding for Digital Media"},null,"Storyboarding for Digital Media",{"$f":"IF(COUNTIF(Diploma!$E$29:$E$70,CC2)>=1,\"\",ROW())","v":2},{"$f":"IF(ROW(CC2)-ROW(CC$2)+1>COUNT(CD$2:CD$17),\"\",INDEX(CC:CC,SMALL(CD$2:CD$17,1+ROW(CC2)-ROW(CC$2))))","v":"Storyboarding for Digital Media"},null,"Single Camera Techniques",{"$f":"IF(COUNTIF(Diploma!$E$29:$E$70,CG2)>=1,\"\",ROW())","v":2},{"$f":"IF(ROW(CG2)-ROW(CG$2)+1>COUNT(CH$2:CH$17),\"\",INDEX(CG:CG,SMALL(CH$2:CH$17,1+ROW(CG2)-ROW(CG$2))))","v":"Single Camera Techniques"},null,"Scriptwriting",{"$f":"IF(COUNTIF(Diploma!$E$29:$E$70,CK2)>=1,\"\",ROW())","v":2},{"$f":"IF(ROW(CK2)-ROW(CK$2)+1>COUNT(CL$2:CL$17),\"\",INDEX(CK:CK,SMALL(CL$2:CL$17,1+ROW(CK2)-ROW(CK$2))))","v":"Scriptwriting"},null,"App Production",{"$f":"IF(COUNTIF(Diploma!$E$29:$E$70,CO2)>=1,\"\",ROW())","v":2},{"$f":"IF(ROW(CO2)-ROW(CO$2)+1>COUNT(CP$2:CP$17),\"\",INDEX(CO:CO,SMALL(CP$2:CP$17,1+ROW(CO2)-ROW(CO$2))))","v":"App Production"},null,"App Production",{"$f":"IF(COUNTIF(Diploma!$E$29:$E$70,CS2)>=1,\"\",ROW())","v":2},{"$f":"IF(ROW(CS2)-ROW(CS$2)+1>COUNT(CT$2:CT$17),\"\",INDEX(CS:CS,SMALL(CT$2:CT$17,1+ROW(CS2)-ROW(CS$2))))","v":"App Production"},null,"Electrical Installation of Hardware and Cables",{"$f":"IF(COUNTIF(Diploma!$E$29:$E$70,CW2)>=1,\"\",ROW())","v":2},{"$f":"IF(ROW(CW2)-ROW(CW$2)+1>COUNT(CX$2:CX$17),\"\",INDEX(CW:CW,SMALL(CX$2:CX$17,1+ROW(CW2)-ROW(CW$2))))","v":"Electrical Installation of Hardware and Cables"},null,"Maintenance of Mechanical Systems",{"$f":"IF(COUNTIF(Diploma!$E$29:$E$70,DA2)>=1,\"\",ROW())","v":2},{"$f":"IF(ROW(DA2)-ROW(DA$2)+1>COUNT(DB$2:DB$17),\"\",INDEX(DA:DA,SMALL(DB$2:DB$17,1+ROW(DA2)-ROW(DA$2))))","v":"Maintenance of Mechanical Systems"},null,"Calculus to Solve Engineering Problems",{"$f":"IF(COUNTIF(Diploma!$E$29:$E$70,DE2)>=1,\"\",ROW())","v":2},{"$f":"IF(ROW(DE2)-ROW(DE$2)+1>COUNT(DF$2:DF$40),\"\",INDEX(DE:DE,SMALL(DF$2:DF$40,1+ROW(DE2)-ROW(DE$2))))","v":"Calculus to Solve Engineering Problems"},null,"Electrical Installation of Hardware and Cables",{"$f":"IF(COUNTIF(Diploma!$E$29:$E$70,DI2)>=1,\"\",ROW())","v":2},{"$f":"IF(ROW(DI2)-ROW(DI$2)+1>COUNT(DJ$2:DJ$40),\"\",INDEX(DI:DI,SMALL(DJ$2:DJ$40,1+ROW(DI2)-ROW(DI$2))))","v":"Electrical Installation of Hardware and Cables"},null,"Calculus to Solve Engineering Problems",{"$f":"IF(COUNTIF(Diploma!$E$29:$E$70,DM2)>=1,\"\",ROW())","v":2},{"$f":"IF(ROW(DM2)-ROW(DM$2)+1>COUNT(DN$2:DN$40),\"\",INDEX(DM:DM,SMALL(DN$2:DN$40,1+ROW(DM2)-ROW(DM$2))))","v":"Calculus to Solve Engineering Problems"},null,"Computer Aided Design in Engineering",{"$f":"IF(OR(COUNTIF(Diploma!$E$29:$E$70,DQ2)>=1,COUNTIF(Diploma!$E$29:$E$70,DQ3)>=1,COUNTIF(Diploma!$E$29:$E$70,DQ4)>=1),\"\",ROW())","v":2},{"$f":"IF(ROW(DQ2)-ROW(DQ$2)+1>COUNT(DR$2:DR$40),\"\",INDEX(DQ:DQ,SMALL(DR$2:DR$40,1+ROW(DQ2)-ROW(DQ$2))))","v":"Computer Aided Design in Engineering"},null,"Calculus to Solve Engineering Problems",{"$f":"IF(COUNTIF(Diploma!$E$29:$E$70,DU2)>=1,\"\",ROW())","v":2},{"$f":"IF(ROW(DU2)-ROW(DU$2)+1>COUNT(DV$2:DV$40),\"\",INDEX(DU:DU,SMALL(DV$2:DV$40,1+ROW(DU2)-ROW(DU$2))))","v":"Calculus to Solve Engineering Problems"},null,"Electronic Devices and Circuits",{"$f":"IF(OR(COUNTIF(Diploma!$E$29:$E$70,DY2)>=1,COUNTIF(Diploma!$E$29:$E$70,DY9)>=1,COUNTIF(Diploma!$E$29:$E$70,DY10)>=1),\"\",ROW())","v":2},{"$f":"IF(ROW(DY2)-ROW(DY$2)+1>COUNT(DZ$2:DZ$40),\"\",INDEX(DY:DY,SMALL(DZ$2:DZ$40,1+ROW(DY2)-ROW(DY$2))))","v":"Electronic Devices and Circuits"},null,"Calculus to Solve Engineering Problems",{"$f":"IF(COUNTIF(Diploma!$E$29:$E$70,EC2)>=1,\"\",ROW())","v":2},{"$f":"IF(ROW(EC2)-ROW(EC$2)+1>COUNT(ED$2:ED$40),\"\",INDEX(EC:EC,SMALL(ED$2:ED$40,1+ROW(EC2)-ROW(EC$2))))","v":"Calculus to Solve Engineering Problems"},null,"Computer Aided Design in Engineering",{"$f":"IF(OR(COUNTIF(Diploma!$E$29:$E$70,EG2)>=1,COUNTIF(Diploma!$E$29:$E$70,EG3)>=1,COUNTIF(Diploma!$E$29:$E$70,EG4)>=1,COUNTIF(Diploma!$E$29:$E$70,EG5)>=1),\"\",ROW())","v":2},{"$f":"IF(ROW(EG2)-ROW(EG$2)+1>COUNT(EH$2:EH$40),\"\",INDEX(EG:EG,SMALL(EH$2:EH$40,1+ROW(EG2)-ROW(EG$2))))","v":"Computer Aided Design in Engineering"},null,"Calculus to Solve Engineering Problems",{"$f":"IF(COUNTIF(Diploma!$E$29:$E$70,EK2)>=1,\"\",ROW())","v":2},{"$f":"IF(ROW(EK2)-ROW(EK$2)+1>COUNT(EL$2:EL$40),\"\",INDEX(EK:EK,SMALL(EL$2:EL$40,1+ROW(EK2)-ROW(EK$2))))","v":"Calculus to Solve Engineering Problems"},null,"Computer Aided Design in Engineering",{"$f":"IF(OR(COUNTIF(Diploma!$E$29:$E$70,EO2)>=1,COUNTIF(Diploma!$E$29:$E$70,EO3)>=1,COUNTIF(Diploma!$E$29:$E$70,EO4)>=1,COUNTIF(Diploma!$E$29:$E$70,EO5)>=1),\"\",ROW())","v":2},{"$f":"IF(ROW(EO2)-ROW(EO$2)+1>COUNT(EP$2:EP$40),\"\",INDEX(EO:EO,SMALL(EP$2:EP$40,1+ROW(EO2)-ROW(EO$2))))","v":"Computer Aided Design in Engineering"},null,"Calculus to Solve Engineering Problems",{"$f":"IF(COUNTIF(Diploma!$E$29:$E$70,ES2)>=1,\"\",ROW())","v":2},{"$f":"IF(ROW(ES2)-ROW(ES$2)+1>COUNT(ET$2:ET$40),\"\",INDEX(ES:ES,SMALL(ET$2:ET$40,1+ROW(ES2)-ROW(ES$2))))","v":"Calculus to Solve Engineering Problems"},null,"Social Enterprise",{"$f":"IF(COUNTIF(Diploma!$E$29:$E$70,EW2)>=1,\"\",ROW())","v":2},{"$f":"IF(ROW(EW2)-ROW(EW$2)+1>COUNT(EX$2:EX$40),\"\",INDEX(EW:EW,SMALL(EX$2:EX$40,1+ROW(EW2)-ROW(EW$2))))","v":"Social Enterprise"},null,"Preparation and Presentation for Competition Disciplines",{"$f":"IF(COUNTIF(Diploma!$E$29:$E$70,FA2)>=1,\"\",ROW())","v":2},{"$f":"IF(ROW(FA2)-ROW(FA$2)+1>COUNT(FB$2:FB$40),\"\",INDEX(FA:FA,SMALL(FB$2:FB$40,1+ROW(FA2)-ROW(FA$2))))","v":"Preparation and Presentation for Competition Disciplines"},null,"Equine Behaviour",{"$f":"IF(COUNTIF(Diploma!$E$29:$E$70,FE2)>=1,\"\",ROW())","v":2},{"$f":"IF(ROW(FE2)-ROW(FE$2)+1>COUNT(FF$2:FF$40),\"\",INDEX(FE:FE,SMALL(FF$2:FF$40,1+ROW(FE2)-ROW(FE$2))))","v":"Equine Behaviour"},null,"Physiology of Human Body Systems",{"$f":"IF(COUNTIF(Diploma!$E$29:$E$70,FI2)>=1,\"\",ROW())","v":2},{"$f":"IF(ROW(FI2)-ROW(FI$2)+1>COUNT(FJ$2:FJ$40),\"\",INDEX(FI:FI,SMALL(FJ$2:FJ$40,1+ROW(FI2)-ROW(FI$2))))","v":"Physiology of Human Body Systems"},null,"Work Experience in Health and Social Care",{"$f":"IF(COUNTIF(Diploma!$E$29:$E$70,FM2)>=1,\"\",ROW())","v":2},{"$f":"IF(ROW(FM2)-ROW(FM$2)+1>COUNT(FN$2:FN$40),\"\",INDEX(FM:FM,SMALL(FN$2:FN$40,1+ROW(FM2)-ROW(FM$2))))","v":"Work Experience in Health and Social Care"},null,"Data Modelling",{"$f":"IF(COUNTIF(Diploma!$E$29:$E$70,FQ2)>=1,\"\",ROW())","v":2},{"$f":"IF(ROW(FQ2)-ROW(FQ$2)+1>COUNT(FR$2:FR$40),\"\",INDEX(FQ:FQ,SMALL(FR$2:FR$40,1+ROW(FQ2)-ROW(FQ$2))))","v":"Data Modelling"},null,"Creative Synthesis and Sampling",{"$f":"IF(COUNTIF(Diploma!$E$29:$E$70,FU2)>=1,\"\",ROW())","v":2},{"$f":"IF(ROW(FU2)-ROW(FU$2)+1>COUNT(FV$2:FV$40),\"\",INDEX(FU:FU,SMALL(FV$2:FV$40,1+ROW(FU2)-ROW(FU$2))))","v":"Creative Synthesis and Sampling"},null,"Classical Ballet Technique",{"$f":"IF(COUNTIF(Diploma!$E$29:$E$70,FY2)>=1,\"\",ROW())","v":2},{"$f":"IF(ROW(FY2)-ROW(FY$2)+1>COUNT(FZ$2:FZ$40),\"\",INDEX(FY:FY,SMALL(FZ$2:FZ$40,1+ROW(FY2)-ROW(FY$2))))","v":"Classical Ballet Technique"},null,"Application of Fitness Testing",{"$f":"IF(COUNTIF(Diploma!$E$29:$E$70,GC2)>=1,\"\",ROW())","v":2},{"$f":"IF(ROW(GC2)-ROW(GC$2)+1>COUNT(GD$2:GD$40),\"\",INDEX(GC:GC,SMALL(GD$2:GD$40,1+ROW(GC2)-ROW(GC$2))))","v":"Application of Fitness Testing"},null,"Sports Leadership",{"$f":"IF(COUNTIF(Diploma!$E$29:$E$70,GG2)>=1,\"\",ROW())","v":2},{"$f":"IF(ROW(GG2)-ROW(GG$2)+1>COUNT(GH$2:GH$40),\"\",INDEX(GG:GG,SMALL(GH$2:GH$40,1+ROW(GG2)-ROW(GG$2))))","v":"Sports Leadership"},null,"Biomechanics in Sport and Exercise Science",{"$f":"IF(COUNTIF(Diploma!$E$29:$E$70,GK2)>=1,\"\",ROW())","v":2},{"$f":"IF(ROW(GK2)-ROW(GK$2)+1>COUNT(GL$2:GL$40),\"\",INDEX(GK:GK,SMALL(GL$2:GL$40,1+ROW(GK2)-ROW(GK$2))))","v":"Biomechanics in Sport and Exercise Science"},null,"Specialist Tourism",{"$f":"IF(COUNTIF(Diploma!$E$29:$E$70,GO2)>=1,\"\",ROW())","v":2},{"$f":"IF(ROW(GO2)-ROW(GO$2)+1>COUNT(GP$2:GP$40),\"\",INDEX(GO:GO,SMALL(GP$2:GP$40,1+ROW(GO2)-ROW(GO$2))))","v":"Specialist Tourism"},null,"Tree and Shrub Pruning and Maintenance",{"$f":"IF(COUNTIF(Diploma!$E$29:$E$70,GS2)>=1,\"\",ROW())","v":2},{"$f":"IF(ROW(GS2)-ROW(GS$2)+1>COUNT(GT$2:GT$40),\"\",INDEX(GS:GS,SMALL(GT$2:GT$40,1+ROW(GS2)-ROW(GS$2))))","v":"Tree and Shrub Pruning and Maintenance"},"Live-streamed Broadcasting",{"$f":"IF(COUNTIF(Diploma!$E$29:$E$70,GV2)>=1,\"\",ROW())","v":2},{"$f":"IF(ROW(GV2)-ROW(GV$2)+1>COUNT(GW$2:GW$40),\"\",INDEX(GV:GV,SMALL(GW$2:GW$40,1+ROW(GV2)-ROW(GV$2))))","v":"Live-streamed Broadcasting"},null,"Sport Development",{"$f":"IF(COUNTIF(Diploma!$E$29:$E$70,GZ2)>=1,\"\",ROW())","v":2},{"$f":"IF(ROW(GZ2)-ROW(GZ$2)+1>COUNT(HA$2:HA$40),\"\",INDEX(GZ:GZ,SMALL(HA$2:HA$40,1+ROW(GZ2)-ROW(GZ$2))))","v":"Sport Development"},null,"Research Project in Sport",{"$f":"IF(COUNTIF(Diploma!$E$29:$E$70,HD2)>=1,\"\",ROW())","v":2},{"$f":"IF(ROW(HD2)-ROW(HD$2)+1>COUNT(HE$2:HE$40),\"\",INDEX(HD:HD,SMALL(HE$2:HE$40,1+ROW(HD2)-ROW(HD$2))))","v":"Research Project in Sport"},null,"Sports Psychology",{"$f":"IF(COUNTIF(Diploma!$E$29:$E$70,HH2)>=1,\"\",ROW())","v":2},{"$f":"IF(ROW(HH2)-ROW(HH$2)+1>COUNT(HI$2:HI$40),\"\",INDEX(HH:HH,SMALL(HI$2:HI$40,1+ROW(HH2)-ROW(HH$2))))","v":"Sports Psychology"},null,"Global Affairs, the Media and the Uniformed Protective Services",{"$f":"IF(COUNTIF(Diploma!$E$29:$E$70,HL2)>=1,\"\",ROW())","v":2},{"$f":"IF(ROW(HL2)-ROW(HL$2)+1>COUNT(HM$2:HM$40),\"\",INDEX(HL:HL,SMALL(HM$2:HM$40,1+ROW(HL2)-ROW(HL$2))))","v":"Global Affairs, the Media and the Uniformed Protective Services"},null,"Customer Immersion Experiences",{"$f":"IF(COUNTIF(Diploma!$E$29:$E$70,HP2)>=1,\"\",ROW())","v":2},{"$f":"IF(ROW(HP2)-ROW(HP$2)+1>COUNT(HQ$2:HQ$40),\"\",INDEX(HP:HP,SMALL(HQ$2:HQ$40,1+ROW(HP2)-ROW(HP$2))))","v":"Customer Immersion Experiences"}]
["Farm Livestock Husbandry",{"$f":"IF(COUNTIF(Diploma!$E$29:$E$70,A3)>=1,\"\",ROW())","v":3},{"$f":"IF(ROW(A3)-ROW(A$2)+1>COUNT(B$2:B$17),\"\",INDEX(A:A,SMALL(B$2:B$17,1+ROW(A3)-ROW(A$2))))","v":"Farm Livestock Husbandry"},null,"Animal Management in a Retail Environment",{"$f":"IF(COUNTIF(Diploma!$E$29:$E$70,E3)>=1,\"\",ROW())","v":3},{"$f":"IF(ROW(E3)-ROW(E$2)+1>COUNT(F$2:F$17),\"\",INDEX(E:E,SMALL(F$2:F$17,1+ROW(E3)-ROW(E$2))))","v":"Animal Management in a Retail Environment"},null,"Human Regulation and Reproduction",{"$f":"IF(COUNTIF(Diploma!$E$29:$E$70,I3)>=1,\"\",ROW())","v":3},{"$f":"IF(ROW(I3)-ROW(I$2)+1>COUNT(J$2:J$17),\"\",INDEX(I:I,SMALL(J$2:J$17,1+ROW(I3)-ROW(I$2))))","v":"Human Regulation and Reproduction"},null,"Graphic Materials, Techniques and Processes",{"$f":"IF(COUNTIF(Diploma!$E$29:$E$70,M3)>=1,\"\",ROW())","v":3},{"$f":"IF(ROW(M3)-ROW(M$2)+1>COUNT(N$2:N$17),\"\",INDEX(M:M,SMALL(N$2:N$17,1+ROW(M3)-ROW(M$2))))","v":"Graphic Materials, Techniques and Processes"},null,"Graphic Materials, Techniques and Processes",{"$f":"IF(COUNTIF(Diploma!$E$29:$E$70,Q3)>=1,\"\",ROW())","v":3},"Graphic Materials, Techniques and Processes",null,"Graphics for 3D",{"$f":"IF(COUNTIF(Diploma!$E$29:$E$70,U3)>=1,\"\",ROW())","v":3},"Graphics for 3D",null,"Interactive Design Materials, Techniques and Processes",{"$f":"IF(COUNTIF(Diploma!$E$29:$E$70,Y3)>=1,\"\",ROW())","v":3},{"$f":"IF(ROW(Y3)-ROW(Y$2)+1>COUNT(Z$2:Z$17),\"\",INDEX(Y:Y,SMALL(Z$2:Z$17,1+ROW(Y3)-ROW(Y$2))))","v":"Interactive Design Materials, Techniques and Processes"},null,"Interactive Design Materials, Techniques and Processes",{"$f":"IF(COUNTIF(Diploma!$E$29:$E$70,AC3)>=1,\"\",ROW())","v":3},"Interactive Design Materials, Techniques and Processes",null,"Graphic Materials, Techniques and Processes",{"$f":"IF(COUNTIF(Diploma!$E$29:$E$70,AG3)>=1,\"\",ROW())","v":3},"Graphic Materials, Techniques and Processes",null,"Team Building in Business",{"$f":"IF(COUNTIF(Diploma!$E$29:$E$70,AK3)>=1,\"\",ROW())","v":3},{"$f":"IF(ROW(AK3)-ROW(AK$2)+1>COUNT(AL$2:AL$22),\"\",INDEX(AK:AK,SMALL(AL$2:AL$22,1+ROW(AK3)-ROW(AK$2))))","v":"Team Building in Business"},null,"Website Development",{"$f":"IF(COUNTIF(Diploma!$E$29:$E$70,AO3)>=1,\"\",ROW())","v":3},{"$f":"IF(ROW(AO3)-ROW(AO$2)+1>COUNT(AP$2:AP$17),\"\",INDEX(AO:AO,SMALL(AP$2:AP$17,1+ROW(AO3)-ROW(AO$2))))","v":"Website Development"},null,"Digital Audio",{"$f":"IF(COUNTIF(Diploma!$E$29:$E$70,AS3)>=1,\"\",ROW())","v":3},{"$f":"IF(ROW(AS3)-ROW(AS$2)+1>COUNT(AT$2:AT$17),\"\",INDEX(AS:AS,SMALL(AT$2:AT$17,1+ROW(AS3)-ROW(AS$2))))","v":"Digital Audio"},null,"Digital Graphics and Animation",{"$f":"IF(COUNTIF(Diploma!$E$29:$E$70,AW3)>=1,\"\",ROW())","v":3},{"$f":"IF(ROW(AW3)-ROW(AW$2)+1>COUNT(AX$2:AX$17),\"\",INDEX(AW:AW,SMALL(AX$2:AX$17,1+ROW(AW3)-ROW(AW$2))))","v":"Digital Graphics and Animation"},null,"Building Surveying in Construction",{"$f":"IF(COUNTIF(Diploma!$E$29:$E$70,BA3)>=1,\"\",ROW())","v":3},{"$f":"IF(ROW(BA3)-ROW(BA$2)+1>COUNT(BB$2:BB$17),\"\",INDEX(BA:BA,SMALL(BB$2:BB$17,1+ROW(BA3)-ROW(BA$2))))","v":"Building Surveying in Construction"},null,"Management of a Construction Project",{"$f":"IF(COUNTIF(Diploma!$E$29:$E$70,BE3)>=1,\"\",ROW())","v":3},{"$f":"IF(ROW(BE3)-ROW(BE$2)+1>COUNT(BF$2:BF$17),\"\",INDEX(BE:BE,SMALL(BF$2:BF$17,1+ROW(BE3)-ROW(BE$2))))","v":"Management of a Construction Project"},null,"Heating, Ventilation and Air Conditioning Design",{"$f":"IF(COUNTIF(Diploma!$E$29:$E$70,BI3)>=1,\"\",ROW())","v":3},{"$f":"IF(ROW(BI3)-ROW(BI$2)+1>COUNT(BJ$2:BJ$17),\"\",INDEX(BI:BI,SMALL(BJ$2:BJ$17,1+ROW(BI3)-ROW(BI$2))))","v":"Heating, Ventilation and Air Conditioning Design"},null,"Management of a Construction Project",{"$f":"IF(COUNTIF(Diploma!$E$29:$E$70,BM3)>=1,\"\",ROW())","v":3},{"$f":"IF(ROW(BM3)-ROW(BM$2)+1>COUNT(BN$2:BN$17),\"\",INDEX(BM:BM,SMALL(BN$2:BN$17,1+ROW(BM3)-ROW(BM$2))))","v":"Management of a Construction Project"},null,"Public Health Engineering",{"$f":"IF(COUNTIF(Diploma!$E$29:$E$70,BQ3)>=1,\"\",ROW())","v":3},{"$f":"IF(ROW(BQ3)-ROW(BQ$2)+1>COUNT(BR$2:BR$17),\"\",INDEX(BQ:BQ,SMALL(BR$2:BR$17,1+ROW(BQ3)-ROW(BQ$2))))","v":"Public Health Engineering"},null,"Identification, Planting and Care of Trees",{"$f":"IF(COUNTIF(Diploma!$E$29:$E$70,BU3)>=1,\"\",ROW())","v":3},{"$f":"IF(ROW(BU3)-ROW(BU$2)+1>COUNT(BV$2:BV$17),\"\",INDEX(BU:BU,SMALL(BV$2:BV$17,1+ROW(BU3)-ROW(BU$2))))","v":"Identification, Planting and Care of Trees"},null,"Scriptwriting",{"$f":"IF(COUNTIF(Diploma!$E$29:$E$70,BY3)>=1,\"\",ROW())","v":3},{"$f":"IF(ROW(BY3)-ROW(BY$2)+1>COUNT(BZ$2:BZ$17),\"\",INDEX(BY:BY,SMALL(BZ$2:BZ$17,1+ROW(BY3)-ROW(BY$2))))","v":"Scriptwriting"},null,"2D Animation",{"$f":"IF(COUNTIF(Diploma!$E$29:$E$70,CC3)>=1,\"\",ROW())","v":3},{"$f":"IF(ROW(CC3)-ROW(CC$2)+1>COUNT(CD$2:CD$17),\"\",INDEX(CC:CC,SMALL(CD$2:CD$17,1+ROW(CC3)-ROW(CC$2))))","v":"2D Animation"},null,"Film Editing",{"$f":"IF(COUNTIF(Diploma!$E$29:$E$70,CG3)>=1,\"\",ROW())","v":3},{"$f":"IF(ROW(CG3)-ROW(CG$2)+1>COUNT(CH$2:CH$17),\"\",INDEX(CG:CG,SMALL(CH$2:CH$17,1+ROW(CG3)-ROW(CG$2))))","v":"Film Editing"},null,"Interviewing Techniques",{"$f":"IF(COUNTIF(Diploma!$E$29:$E$70,CK3)>=1,\"\",ROW())","v":3},{"$f":"IF(ROW(CK3)-ROW(CK$2)+1>COUNT(CL$2:CL$17),\"\",INDEX(CK:CK,SMALL(CL$2:CL$17,1+ROW(CK3)-ROW(CK$2))))","v":"Interviewing Techniques"},null,"Interviewing Techniques",{"$f":"IF(COUNTIF(Diploma!$E$29:$E$70,CO3)>=1,\"\",ROW())","v":3},{"$f":"IF(ROW(CO3)-ROW(CO$2)+1>COUNT(CP$2:CP$17),\"\",INDEX(CO:CO,SMALL(CP$2:CP$17,1+ROW(CO3)-ROW(CO$2))))","v":"Interviewing Techniques"},null,"Concept Art for Computer Games",{"$f":"IF(COUNTIF(Diploma!$E$29:$E$70,CS3)>=1,\"\",ROW())","v":3},{"$f":"IF(ROW(CS3)-ROW(CS$2)+1>COUNT(CT$2:CT$17),\"\",INDEX(CS:CS,SMALL(CT$2:CT$17,1+ROW(CS3)-ROW(CS$2))))","v":"Concept Art for Computer Games"},null,"Electrical Machines",{"$f":"IF(COUNTIF(Diploma!$E$29:$E$70,CW3)>=1,\"\",ROW())","v":3},{"$f":"IF(ROW(CW3)-ROW(CW$2)+1>COUNT(CX$2:CX$17),\"\",INDEX(CW:CW,SMALL(CX$2:CX$17,1+ROW(CW3)-ROW(CW$2))))","v":"Electrical Machines"},null,"Mechanical Behaviour of Metallic Materials",{"$f":"IF(COUNTIF(Diploma!$E$29:$E$70,DA3)>=1,\"\",ROW())","v":3},{"$f":"IF(ROW(DA3)-ROW(DA$2)+1>COUNT(DB$2:DB$17),\"\",INDEX(DA:DA,SMALL(DB$2:DB$17,1+ROW(DA3)-ROW(DA$2))))","v":"Mechanical Behaviour of Metallic Materials"},null,"Further Engineering Mathematics",{"$f":"IF(COUNTIF(Diploma!$E$29:$E$70,DE3)>=1,\"\",ROW())","v":3},{"$f":"IF(ROW(DE3)-ROW(DE$2)+1>COUNT(DF$2:DF$40),\"\",INDEX(DE:DE,SMALL(DF$2:DF$40,1+ROW(DE3)-ROW(DE$2))))","v":"Further Engineering Mathematics"},null,"Electrical Machines",{"$f":"IF(COUNTIF(Diploma!$E$29:$E$70,DI3)>=1,\"\",ROW())","v":3},{"$f":"IF(ROW(DI3)-ROW(DI$2)+1>COUNT(DJ$2:DJ$40),\"\",INDEX(DI:DI,SMALL(DJ$2:DJ$40,1+ROW(DI3)-ROW(DI$2))))","v":"Electrical Machines"},null,"Further Engineering Mathematics",{"$f":"IF(COUNTIF(Diploma!$E$29:$E$70,DM3)>=1,\"\",ROW())","v":3},{"$f":"IF(ROW(DM3)-ROW(DM$2)+1>COUNT(DN$2:DN$40),\"\",INDEX(DM:DM,SMALL(DN$2:DN$40,1+ROW(DM3)-ROW(DM$2))))","v":"Further Engineering Mathematics"},null,"Engineering Maintenance and Condition Monitoring Techniques",{"$f":"IF(OR(COUNTIF(Diploma!$E$29:$E$70,DQ2)>=1,COUNTIF(Diploma!$E$29:$E$70,DQ3)>=1,COUNTIF(Diploma!$E$29:$E$70,DQ4)>=1),\"\",ROW())","v":3},{"$f":"IF(ROW(DQ3)-ROW(DQ$2)+1>COUNT(DR$2:DR$40),\"\",INDEX(DQ:DQ,SMALL(DR$2:DR$40,1+ROW(DQ3)-ROW(DQ$2))))","v":"Engineering Maintenance and Condition Monitoring Techniques"},null,"Further Engineering Mathematics",{"$f":"IF(COUNTIF(Diploma!$E$29:$E$70,DU3)>=1,\"\",ROW())","v":3},{"$f":"IF(ROW(DU3)-ROW(DU$2)+1>COUNT(DV$2:DV$40),\"\",INDEX(DU:DU,SMALL(DV$2:DV$40,1+ROW(DU3)-ROW(DU$2))))","v":"Further Engineering Mathematics"},null,"Computer Systems Security",{"$f":"IF(COUNTIF(Diploma!$E$29:$E$70,DY3)>=1,\"\",ROW())","v":3},{"$f":"IF(ROW(DY3)-ROW(DY$2)+1>COUNT(DZ$2:DZ$40),\"\",INDEX(DY:DY,SMALL(DZ$2:DZ$40,1+ROW(DY3)-ROW(DY$2))))","v":"Computer Systems Security"},null,"Further Engineering Mathematics",{"$f":"IF(COUNTIF(Diploma!$E$29:$E$70,EC3)>=1,\"\",ROW())","v":3},{"$f":"IF(ROW(EC3)-ROW(EC$2)+1>COUNT(ED$2:ED$40),\"\",INDEX(EC:EC,SMALL(ED$2:ED$40,1+ROW(EC3)-ROW(EC$2))))","v":"Further Engineering Mathematics"},null,"Welding Technology",{"$f":"IF(OR(COUNTIF(Diploma!$E$29:$E$70,EG2)>=1,COUNTIF(Diploma!$E$29:$E$70,EG3)>=1,COUNTIF(Diploma!$E$29:$E$70,EG4)>=1,COUNTIF(Diploma!$E$29:$E$70,EG5)>=1),\"\",ROW())","v":3},{"$f":"IF(ROW(EG3)-ROW(EG$2)+1>COUNT(EH$2:EH$40),\"\",INDEX(EG:EG,SMALL(EH$2:EH$40,1+ROW(EG3)-ROW(EG$2))))","v":"Welding Technology"},null,"Further Engineering Mathematics",{"$f":"IF(COUNTIF(Diploma!$E$29:$E$70,EK3)>=1,\"\",ROW())","v":3},{"$f":"IF(ROW(EK3)-ROW(EK$2)+1>COUNT(EL$2:EL$40),\"\",INDEX(EK:EK,SMALL(EL$2:EL$40,1+ROW(EK3)-ROW(EK$2))))","v":"Further Engineering Mathematics"},null,"Pneumatic and Hydraulic Systems",{"$f":"IF(OR(COUNTIF(Diploma!$E$29:$E$70,EO2)>=1,COUNTIF(Diploma!$E$29:$E$70,EO3)>=1,COUNTIF(Diploma!$E$29:$E$70,EO4)>=1,COUNTIF(Diploma!$E$29:$E$70,EO5)>=1),\"\",ROW())","v":3},{"$f":"IF(ROW(EO3)-ROW(EO$2)+1>COUNT(EP$2:EP$40),\"\",INDEX(EO:EO,SMALL(EP$2:EP$40,1+ROW(EO3)-ROW(EO$2))))","v":"Pneumatic and Hydraulic Systems"},null,"Further Engineering Mathematics",{"$f":"IF(COUNTIF(Diploma!$E$29:$E$70,ES3)>=1,\"\",ROW())","v":3},{"$f":"IF(ROW(ES3)-ROW(ES$2)+1>COUNT(ET$2:ET$40),\"\",INDEX(ES:ES,SMALL(ET$2:ET$40,1+ROW(ES3)-ROW(ES$2))))","v":"Further Engineering Mathematics"},null,"Entrepreneurship and Intrapreneurship in Practice",{"$f":"IF(COUNTIF(Diploma!$E$29:$E$70,EW3)>=1,\"\",ROW())","v":3},{"$f":"IF(ROW(EW3)-ROW(EW$2)+1>COUNT(EX$2:EX$40),\"\",INDEX(EW:EW,SMALL(EX$2:EX$40,1+ROW(EW3)-ROW(EW$2))))","v":"Entrepreneurship and Intrapreneurship in Practice"},null,"Equine Behaviour",{"$f":"IF(COUNTIF(Diploma!$E$29:$E$70,FA3)>=1,\"\",ROW())","v":3},{"$f":"IF(ROW(FA3)-ROW(FA$2)+1>COUNT(FB$2:FB$40),\"\",INDEX(FA:FA,SMALL(FB$2:FB$40,1+ROW(FA3)-ROW(FA$2))))","v":"Equine Behaviour"},null,"Theory of Training Horses",{"$f":"IF(COUNTIF(Diploma!$E$29:$E$70,FE3)>=1,\"\",ROW())","v":3},{"$f":"IF(ROW(FE3)-ROW(FE$2)+1>COUNT(FF$2:FF$40),\"\",INDEX(FE:FE,SMALL(FF$2:FF$40,1+ROW(FE3)-ROW(FE$2))))","v":"Theory of Training Horses"},null,"Environmental Forensics",{"$f":"IF(COUNTIF(Diploma!$E$29:$E$70,FI3)>=1,\"\",ROW())","v":3},{"$f":"IF(ROW(FI3)-ROW(FI$2)+1>COUNT(FJ$2:FJ$40),\"\",INDEX(FI:FI,SMALL(FJ$2:FJ$40,1+ROW(FI3)-ROW(FI$2))))","v":"Environmental Forensics"},null,"Sociological Perspectives",{"$f":"IF(COUNTIF(Diploma!$E$29:$E$70,FM3)>=1,\"\",ROW())","v":3},"Sociological Perspectives",null,"Website Development",{"$f":"IF(COUNTIF(Diploma!$E$29:$E$70,FQ3)>=1,\"\",ROW())","v":3},{"$f":"IF(ROW(FQ3)-ROW(FQ$2)+1>COUNT(FR$2:FR$40),\"\",INDEX(FQ:FQ,SMALL(FR$2:FR$40,1+ROW(FQ3)-ROW(FQ$2))))","v":"Website Development"},null,"Remixing and Reworking",{"$f":"IF(COUNTIF(Diploma!$E$29:$E$70,FU3)>=1,\"\",ROW())","v":3},{"$f":"IF(ROW(FU3)-ROW(FU$2)+1>COUNT(FV$2:FV$40),\"\",INDEX(FU:FU,SMALL(FV$2:FV$40,1+ROW(FU3)-ROW(FU$2))))","v":"Remixing and Reworking"},null,"Tap Dance Technique",{"$f":"IF(COUNTIF(Diploma!$E$29:$E$70,FY3)>=1,\"\",ROW())","v":3},{"$f":"IF(ROW(FY3)-ROW(FY$2)+1>COUNT(FZ$2:FZ$40),\"\",INDEX(FY:FY,SMALL(FZ$2:FZ$40,1+ROW(FY3)-ROW(FY$2))))","v":"Tap Dance Technique"},null,"Sports Psychology",{"$f":"IF(COUNTIF(Diploma!$E$29:$E$70,GC3)>=1,\"\",ROW())","v":3},{"$f":"IF(ROW(GC3)-ROW(GC$2)+1>COUNT(GD$2:GD$40),\"\",INDEX(GC:GC,SMALL(GD$2:GD$40,1+ROW(GC3)-ROW(GC$2))))","v":"Sports Psychology"},null,"Instructing Exercise to Music",{"$f":"IF(COUNTIF(Diploma!$E$29:$E$70,GG3)>=1,\"\",ROW())","v":3},{"$f":"IF(ROW(GG3)-ROW(GG$2)+1>COUNT(GH$2:GH$40),\"\",INDEX(GG:GG,SMALL(GH$2:GH$40,1+ROW(GG3)-ROW(GG$2))))","v":"Instructing Exercise to Music"},null,"Specialised Fitness Training",{"$f":"IF(COUNTIF(Diploma!$E$29:$E$70,GK3)>=1,\"\",ROW())","v":3},"Specialised Fitness Training",null,"Sustainable Tourism",{"$f":"IF(COUNTIF(Diploma!$E$29:$E$70,GO3)>=1,\"\",ROW())","v":3},{"$f":"IF(ROW(GO3)-ROW(GO$2)+1>COUNT(GP$2:GP$40),\"\",INDEX(GO:GO,SMALL(GP$2:GP$40,1+ROW(GO3)-ROW(GO$2))))","v":"Sustainable Tourism"},null,"Land-based Machinery Operations",{"$f":"IF(COUNTIF(Diploma!$E$29:$E$70,GS3)>=1,\"\",ROW())","v":3},{"$f":"IF(ROW(GS3)-ROW(GS$2)+1>COUNT(GT$2:GT$40),\"\",INDEX(GS:GS,SMALL(GT$2:GT$40,1+ROW(GS3)-ROW(GS$2))))","v":"Land-based Machinery Operations"},"Producing an Esports Brand",{"$f":"IF(COUNTIF(Diploma!$E$29:$E$70,GV3)>=1,\"\",ROW())","v":3},{"$f":"IF(ROW(GV3)-ROW(GV$2)+1>COUNT(GW$2:GW$40),\"\",INDEX(GV:GV,SMALL(GW$2:GW$40,1+ROW(GV3)-ROW(GV$2))))","v":"Producing an Esports Brand"},null,"Nutrition for Physical Performance",{"$f":"IF(COUNTIF(Diploma!$E$29:$E$70,GZ3)>=1,\"\",ROW())","v":3},"Nutrition for Physical Performance",null,"Sport Development",{"$f":"IF(COUNTIF(Diploma!$E$29:$E$70,HD3)>=1,\"\",ROW())","v":3},{"$f":"IF(ROW(HD3)-ROW(HD$2)+1>COUNT(HE$2:HE$40),\"\",INDEX(HD:HD,SMALL(HE$2:HE$40,1+ROW(HD3)-ROW(HD$2))))","v":"Sport Development"},null,"Nutrition for Physical Performance",{"$f":"IF(COUNTIF(Diploma!$E$29:$E$70,HH3)>=1,\"\",ROW())","v":3},{"$f":"IF(ROW(HH3)-ROW(HH$2)+1>COUNT(HI$2:HI$40),\"\",INDEX(HH:HH,SMALL(HI$2:HI$40,1+ROW(HH3)-ROW(HH$2))))","v":"Nutrition for Physical Performance"},null,"Planning for and Responding to Emergency Incidents",{"$f":"IF(COUNTIF(Diploma!$E$29:$E$70,HL3)>=1,\"\",ROW())","v":3},{"$f":"IF(ROW(HL3)-ROW(HL$2)+1>COUNT(HM$2:HM$40),\"\",INDEX(HL:HL,SMALL(HM$2:HM$40,1+ROW(HL3)-ROW(HL$2))))","v":"Planning for and Responding to Emergency Incidents"},null,"Activating a Brand",{"$f":"IF(COUNTIF(Diploma!$E$29:$E$70,HP3)>=1,\"\",ROW())","v":3},"Activating a Brand"]
["Crop Handling, Storage and Quality Assurance",{"$f":"IF(COUNTIF(Diploma!$E$29:$E$70,A4)>=1,\"\",ROW())","v":4},"Crop Handling, Storage and Quality Assurance",null,"Animals in Boarding Establishments",{"$f":"IF(COUNTIF(Diploma!$E$29:$E$70,E4)>=1,\"\",ROW())","v":4},"Animals in Boarding Establishments",null,"Biological Molecules and Metabolic Pathways",{"$f":"IF(COUNTIF(Diploma!$E$29:$E$70,I4)>=1,\"\",ROW())","v":4},"Biological Molecules and Metabolic Pathways",null,"Interactive Design Materials, Techniques and Processes",{"$f":"IF(COUNTIF(Diploma!$E$29:$E$70,M4)>=1,\"\",ROW())","v":4},"Interactive Design Materials, Techniques and Processes",null,"Interactive Design Materials, Techniques and Processes",{"$f":"IF(COUNTIF(Diploma!$E$29:$E$70,Q4)>=1,\"\",ROW())","v":4},"Interactive Design Materials, Techniques and Processes",null,"Branding in Graphic Design",{"$f":"IF(COUNTIF(Diploma!$E$29:$E$70,U4)>=1,\"\",ROW())","v":4},"Branding in Graphic Design",null,"Fine Art Materials, Techniques and Processes",{"$f":"IF(COUNTIF(Diploma!$E$29:$E$70,Y4)>=1,\"\",ROW())","v":4},{"$f":"IF(ROW(Y4)-ROW(Y$2)+1>COUNT(Z$2:Z$17),\"\",INDEX(Y:Y,SMALL(Z$2:Z$17,1+ROW(Y4)-ROW(Y$2))))","v":"Fine Art Materials, Techniques and Processes"},null,"Fine Art Materials, Techniques and Processes",{"$f":"IF(COUNTIF(Diploma!$E$29:$E$70,AC4)>=1,\"\",ROW())","v":4},"Fine Art Materials, Techniques and Processes",null,"Interactive Design Materials, Techniques and Processes",{"$f":"IF(COUNTIF(Diploma!$E$29:$E$70,AG4)>=1,\"\",ROW())","v":4},"Interactive Design Materials, Techniques and Processes",null,"Recording Financial Transactions",{"$f":"IF(COUNTIF(Diploma!$E$29:$E$70,AK4)>=1,\"\",ROW())","v":4},"Recording Financial Transactions",null,"Object-oriented Programming",{"$f":"IF(COUNTIF(Diploma!$E$29:$E$70,AO4)>=1,\"\",ROW())","v":4},"Object-oriented Programming",null,"Digital Video",{"$f":"IF(COUNTIF(Diploma!$E$29:$E$70,AS4)>=1,\"\",ROW())","v":4},"Digital Video",null,"Digital Audio",{"$f":"IF(COUNTIF(Diploma!$E$29:$E$70,AW4)>=1,\"\",ROW())","v":4},"Digital Audio",null,"Site Engineering for Construction",{"$f":"IF(COUNTIF(Diploma!$E$29:$E$70,BA4)>=1,\"\",ROW())","v":4},"Site Engineering for Construction",null,"Low Temperature Hot Water Systems in Building Services",{"$f":"IF(COUNTIF(Diploma!$E$29:$E$70,BE4)>=1,\"\",ROW())","v":4},"Low Temperature Hot Water Systems in Building Services",null,"Use of Static and Dynamic Fluids in Building Services Engineering",{"$f":"IF(COUNTIF(Diploma!$E$29:$E$70,BI4)>=1,\"\",ROW())","v":4},"Use of Static and Dynamic Fluids in Building Services Engineering",null,"Measurement Techniques in Construction",{"$f":"IF(COUNTIF(Diploma!$E$29:$E$70,BM4)>=1,\"\",ROW())","v":4},{"$f":"IF(ROW(BM4)-ROW(BM$2)+1>COUNT(BN$2:BN$17),\"\",INDEX(BM:BM,SMALL(BN$2:BN$17,1+ROW(BM4)-ROW(BM$2))))","v":"Measurement Techniques in Construction"},null,"Specialist Civil Engineering Techniques",{"$f":"IF(COUNTIF(Diploma!$E$29:$E$70,BQ4)>=1,\"\",ROW())","v":4},{"$f":"IF(ROW(BQ4)-ROW(BQ$2)+1>COUNT(BR$2:BR$17),\"\",INDEX(BQ:BQ,SMALL(BR$2:BR$17,1+ROW(BQ4)-ROW(BQ$2))))","v":"Specialist Civil Engineering Techniques"},null,"Developing a Land-based Enterprise",{"$f":"IF(COUNTIF(Diploma!$E$29:$E$70,BU4)>=1,\"\",ROW())","v":4},"Developing a Land-based Enterprise",null,"Single Camera Techniques",{"$f":"IF(COUNTIF(Diploma!$E$29:$E$70,BY4)>=1,\"\",ROW())","v":4},"Single Camera Techniques",null,"3D Digital Animation",{"$f":"IF(COUNTIF(Diploma!$E$29:$E$70,CC4)>=1,\"\",ROW())","v":4},{"$f":"IF(ROW(CC4)-ROW(CC$2)+1>COUNT(CD$2:CD$17),\"\",INDEX(CC:CC,SMALL(CD$2:CD$17,1+ROW(CC4)-ROW(CC$2))))","v":"3D Digital Animation"},null,"Sound Editing",{"$f":"IF(COUNTIF(Diploma!$E$29:$E$70,CG4)>=1,\"\",ROW())","v":4},{"$f":"IF(ROW(CG4)-ROW(CG$2)+1>COUNT(CH$2:CH$17),\"\",INDEX(CG:CG,SMALL(CH$2:CH$17,1+ROW(CG4)-ROW(CG$2))))","v":"Sound Editing"},null,"Sound Editing",{"$f":"IF(COUNTIF(Diploma!$E$29:$E$70,CK4)>=1,\"\",ROW())","v":4},"Sound Editing",null,"Writing Copy",{"$f":"IF(COUNTIF(Diploma!$E$29:$E$70,CO4)>=1,\"\",ROW())","v":4},"Writing Copy",null,"2D Animation",{"$f":"IF(COUNTIF(Diploma!$E$29:$E$70,CS4)>=1,\"\",ROW())","v":4},"2D Animation",null,"Three Phase Electrical Systems",{"$f":"IF(COUNTIF(Diploma!$E$29:$E$70,CW4)>=1,\"\",ROW())","v":4},"Three Phase Electrical Systems",null,"Mechanical Behaviour of Non-metallic Materials",{"$f":"IF(COUNTIF(Diploma!$E$29:$E$70,DA4)>=1,\"\",ROW())","v":4},"Mechanical Behaviour of Non-metallic Materials",null,"Work Experience in the Engineering Sector",{"$f":"IF(COUNTIF(Diploma!$E$29:$E$70,DE4)>=1,\"\",ROW())","v":4},"Work Experience in the Engineering Sector",null,"Three Phase Electrical Systems",{"$f":"IF(COUNTIF(Diploma!$E$29:$E$70,DI4)>=1,\"\",ROW())","v":4},"Three Phase Electrical Systems",null,"Work Experience in the Engineering Sector",{"$f":"IF(COUNTIF(Diploma!$E$29:$E$70,DM4)>=1,\"\",ROW())","v":4},"Work Experience in the Engineering Sector",null,"Pneumatic and Hydraulic Systems",{"$f":"IF(OR(COUNTIF(Diploma!$E$29:$E$70,DQ2)>=1,COUNTIF(Diploma!$E$29:$E$70,DQ3)>=1,COUNTIF(Diploma!$E$29:$E$70,DQ4)>=1),\"\",ROW())","v":4},"Pneumatic and Hydraulic Systems",null,"Work Experience in the Engineering Sector",{"$f":"IF(COUNTIF(Diploma!$E$29:$E$70,DU4)>=1,\"\",ROW())","v":4},"Work Experience in the Engineering Sector",null,"Computer Systems Support and Performance",{"$f":"IF(COUNTIF(Diploma!$E$29:$E$70,DY4)>=1,\"\",ROW())","v":4},"Computer Systems Support and Performance",null,"Work Experience in the Engineering Sector",{"$f":"IF(COUNTIF(Diploma!$E$29:$E$70,EC4)>=1,\"\",ROW())","v":4},"Work Experience in the Engineering Sector",null,"Electronic Printed Circuit Board Design and Manufacture",{"$f":"IF(OR(COUNTIF(Diploma!$E$29:$E$70,EG2)>=1,COUNTIF(Diploma!$E$29:$E$70,EG3)>=1,COUNTIF(Diploma!$E$29:$E$70,EG4)>=1,COUNTIF(Diploma!$E$29:$E$70,EG5)>=1),\"\",ROW())","v":4},"Electronic Printed Circuit Board Design and Manufacture",null,"Work Experience in the Engineering Sector",{"$f":"IF(COUNTIF(Diploma!$E$29:$E$70,EK4)>=1,\"\",ROW())","v":4},"Work Experience in the Engineering Sector",null,"Electronic Devices and Circuits",{"$f":"IF(OR(COUNTIF(Diploma!$E$29:$E$70,EO2)>=1,COUNTIF(Diploma!$E$29:$E$70,EO3)>=1,COUNTIF(Diploma!$E$29:$E$70,EO4)>=1,COUNTIF(Diploma!$E$29:$E$70,EO5)>=1),\"\",ROW())","v":4},"Electronic Devices and Circuits",null,"Work Experience in the Engineering Sector",{"$f":"IF(COUNTIF(Diploma!$E$29:$E$70,ES4)>=1,\"\",ROW())","v":4},"Work Experience in the Engineering Sector",null,"Innovation and Enterprises",{"$f":"IF(COUNTIF(Diploma!$E$29:$E$70,EW4)>=1,\"\",ROW())","v":4},{"$f":"IF(ROW(EW4)-ROW(EW$2)+1>COUNT(EX$2:EX$40),\"\",INDEX(EW:EW,SMALL(EX$2:EX$40,1+ROW(EW4)-ROW(EW$2))))","v":"Innovation and Enterprises"},null,"Riding Horses in the Open",{"$f":"IF(COUNTIF(Diploma!$E$29:$E$70,FA4)>=1,\"\",ROW())","v":4},"Riding Horses in the Open",null,"Riding Horses in the Open",{"$f":"IF(COUNTIF(Diploma!$E$29:$E$70,FE4)>=1,\"\",ROW())","v":4},"Riding Horses in the Open",null,"Forensic Fire Investigation",{"$f":"IF(COUNTIF(Diploma!$E$29:$E$70,FI4)>=1,\"\",ROW())","v":4},"Forensic Fire Investigation",null,"Psychological Perspectives",{"$f":"IF(COUNTIF(Diploma!$E$29:$E$70,FM4)>=1,\"\",ROW())","v":4},"Psychological Perspectives",null,"Mobile Apps Development",{"$f":"IF(COUNTIF(Diploma!$E$29:$E$70,FQ4)>=1,\"\",ROW())","v":4},"Mobile Apps Development",null,"Music Technology in Performance",{"$f":"IF(COUNTIF(Diploma!$E$29:$E$70,FU4)>=1,\"\",ROW())","v":4},"Music Technology in Performance",null,"Jazz Dance Technique",{"$f":"IF(COUNTIF(Diploma!$E$29:$E$70,FY4)>=1,\"\",ROW())","v":4},"Jazz Dance Technique",null,"Practical Sports Performance",{"$f":"IF(COUNTIF(Diploma!$E$29:$E$70,GC4)>=1,\"\",ROW())","v":4},"Practical Sports Performance",null,"Instructing Water-based Exercise",{"$f":"IF(COUNTIF(Diploma!$E$29:$E$70,GG4)>=1,\"\",ROW())","v":4},{"$f":"IF(ROW(GG4)-ROW(GG$2)+1>COUNT(GH$2:GH$40),\"\",INDEX(GG:GG,SMALL(GH$2:GH$40,1+ROW(GG4)-ROW(GG$2))))","v":"Instructing Water-based Exercise"},null,"Research Project in Sport and Exercise Science",{"$f":"IF(COUNTIF(Diploma!$E$29:$E$70,GK4)>=1,\"\",ROW())","v":4},"Research Project in Sport and Exercise Science",null,"The Airport Experience",{"$f":"IF(COUNTIF(Diploma!$E$29:$E$70,GO4)>=1,\"\",ROW())","v":4},"The Airport Experience",null,"Nursery Stock Production",{"$f":"IF(COUNTIF(Diploma!$E$29:$E$70,GS4)>=1,\"\",ROW())","v":4},"Nursery Stock Production","Video Production",{"$f":"IF(COUNTIF(Diploma!$E$29:$E$70,GV4)>=1,\"\",ROW())","v":4},"Video Production",null,"Anatomy and Physiology in Sport",{"$f":"IF(COUNTIF(Diploma!$E$29:$E$70,GZ4)>=1,\"\",ROW())","v":4},"Anatomy and Physiology in Sport",null,"Functional Sports Massage",{"$f":"IF(COUNTIF(Diploma!$E$29:$E$70,HD4)>=1,\"\",ROW())","v":4},"Functional Sports Massage",null,"Anatomy and Physiology in Sport",{"$f":"IF(COUNTIF(Diploma!$E$29:$E$70,HH4)>=1,\"\",ROW())","v":4},"Anatomy and Physiology in Sport",null,"Custodial Care",{"$f":"IF(COUNTIF(Diploma!$E$29:$E$70,HL4)>=1,\"\",ROW())","v":4},"Custodial Care",null,"Work Experience in Marketing",{"$f":"IF(COUNTIF(Diploma!$E$29:$E$70,HP4)>=1,\"\",ROW())","v":4},"Work Experience in Marketing"]
["Livestock Health and Diseases",{"$f":"IF(COUNTIF(Diploma!$E$29:$E$70,A5)>=1,\"\",ROW())","v":5},"Livestock Health and Diseases",null,"Developing an Enterprise in the Animal Sector",{"$f":"IF(COUNTIF(Diploma!$E$29:$E$70,E5)>=1,\"\",ROW())","v":5},"Developing an Enterprise in the Animal Sector",null,"Genetics and Genetic Engineering",{"$f":"IF(COUNTIF(Diploma!$E$29:$E$70,I5)>=1,\"\",ROW())","v":5},"Genetics and Genetic Engineering",null,"Fine Art Materials, Techniques and Processes",{"$f":"IF(COUNTIF(Diploma!$E$29:$E$70,M5)>=1,\"\",ROW())","v":5},"Fine Art Materials, Techniques and Processes",null,"Fine Art Materials, Techniques and Processes",{"$f":"IF(COUNTIF(Diploma!$E$29:$E$70,Q5)>=1,\"\",ROW())","v":5},"Fine Art Materials, Techniques and Processes",null,"Graphic Illustration",{"$f":"IF(COUNTIF(Diploma!$E$29:$E$70,U5)>=1,\"\",ROW())","v":5},"Graphic Illustration",null,"3D Design Materials, Techniques and Processes",{"$f":"IF(COUNTIF(Diploma!$E$29:$E$70,Y5)>=1,\"\",ROW())","v":5},{"$f":"IF(ROW(Y5)-ROW(Y$2)+1>COUNT(Z$2:Z$17),\"\",INDEX(Y:Y,SMALL(Z$2:Z$17,1+ROW(Y5)-ROW(Y$2))))","v":"3D Design Materials, Techniques and Processes"},null,"3D Design Materials, Techniques and Processes",{"$f":"IF(COUNTIF(Diploma!$E$29:$E$70,AC5)>=1,\"\",ROW())","v":5},"3D Design Materials, Techniques and Processes",null,"Fine Art Materials, Techniques and Processes",{"$f":"IF(COUNTIF(Diploma!$E$29:$E$70,AG5)>=1,\"\",ROW())","v":5},"Fine Art Materials, Techniques and Processes",null,"Final Accounts for Public Limited Companies",{"$f":"IF(COUNTIF(Diploma!$E$29:$E$70,AK5)>=1,\"\",ROW())","v":5},"Final Accounts for Public Limited Companies",null,"Mobile Apps Development",{"$f":"IF(COUNTIF(Diploma!$E$29:$E$70,AO5)>=1,\"\",ROW())","v":5},"Mobile Apps Development",null,"Computer Games Development",{"$f":"IF(COUNTIF(Diploma!$E$29:$E$70,AS5)>=1,\"\",ROW())","v":5},"Computer Games Development",null,"Digital Video",{"$f":"IF(COUNTIF(Diploma!$E$29:$E$70,AW5)>=1,\"\",ROW())","v":5},"Digital Video",null,"Low Temperature Hot Water Systems in Building Services",{"$f":"IF(COUNTIF(Diploma!$E$29:$E$70,BA5)>=1,\"\",ROW())","v":5},"Low Temperature Hot Water Systems in Building Services",null,"Further Mathematics for Construction",{"$f":"IF(COUNTIF(Diploma!$E$29:$E$70,BE5)>=1,\"\",ROW())","v":5},"Further Mathematics for Construction",null,"Plumbing Technology in Building Services Engineering",{"$f":"IF(COUNTIF(Diploma!$E$29:$E$70,BI5)>=1,\"\",ROW())","v":5},"Plumbing Technology in Building Services Engineering",null,"Projects in Construction",{"$f":"IF(COUNTIF(Diploma!$E$29:$E$70,BM5)>=1,\"\",ROW())","v":5},{"$f":"IF(ROW(BM5)-ROW(BM$2)+1>COUNT(BN$2:BN$17),\"\",INDEX(BM:BM,SMALL(BN$2:BN$17,1+ROW(BM5)-ROW(BM$2))))","v":"Projects in Construction"},null,"Highway Construction and Maintenance in Civil Engineering",{"$f":"IF(COUNTIF(Diploma!$E$29:$E$70,BQ5)>=1,\"\",ROW())","v":5},{"$f":"IF(ROW(BQ5)-ROW(BQ$2)+1>COUNT(BR$2:BR$17),\"\",INDEX(BQ:BQ,SMALL(BR$2:BR$17,1+ROW(BQ5)-ROW(BQ$2))))","v":"Highway Construction and Maintenance in Civil Engineering"},null,"Land-based Machinery Operations",{"$f":"IF(COUNTIF(Diploma!$E$29:$E$70,BU5)>=1,\"\",ROW())","v":5},"Land-based Machinery Operations",null,"Film Editing",{"$f":"IF(COUNTIF(Diploma!$E$29:$E$70,BY5)>=1,\"\",ROW())","v":5},"Film Editing",null,null,null,null,null,"Lighting Techniques",{"$f":"IF(COUNTIF(Diploma!$E$29:$E$70,CG5)>=1,\"\",ROW())","v":5},{"$f":"IF(ROW(CG5)-ROW(CG$2)+1>COUNT(CH$2:CH$17),\"\",INDEX(CG:CG,SMALL(CH$2:CH$17,1+ROW(CG5)-ROW(CG$2))))","v":"Lighting Techniques"},null,"Sound Recording",{"$f":"IF(COUNTIF(Diploma!$E$29:$E$70,CK5)>=1,\"\",ROW())","v":5},"Sound Recording",null,"Digital Photography",{"$f":"IF(COUNTIF(Diploma!$E$29:$E$70,CO5)>=1,\"\",ROW())","v":5},"Digital Photography",null,"Games Engine Scripting",{"$f":"IF(COUNTIF(Diploma!$E$29:$E$70,CS5)>=1,\"\",ROW())","v":5},"Games Engine Scripting",null,"Power and Energy Electronics",{"$f":"IF(COUNTIF(Diploma!$E$29:$E$70,CW5)>=1,\"\",ROW())","v":5},"Power and Energy Electronics",null,"Static Mechanical Principles in Practice",{"$f":"IF(COUNTIF(Diploma!$E$29:$E$70,DA5)>=1,\"\",ROW())","v":5},"Static Mechanical Principles in Practice",null,"Computer Aided Design in Engineering",{"$f":"IF(COUNTIF(Diploma!$E$29:$E$70,DE5)>=1,\"\",ROW())","v":5},"Computer Aided Design in Engineering",null,"Power and Energy Electronics",{"$f":"IF(COUNTIF(Diploma!$E$29:$E$70,DI5)>=1,\"\",ROW())","v":5},"Power and Energy Electronics",null,"Pneumatic and Hydraulic Systems",{"$f":"IF(COUNTIF(Diploma!$E$29:$E$70,DM5)>=1,\"\",ROW())","v":5},"Pneumatic and Hydraulic Systems",null,"Maintenance of Mechanical Systems",{"$f":"IF(COUNTIF(Diploma!$E$29:$E$70,DQ5)>=1,\"\",ROW())","v":5},"Maintenance of Mechanical Systems",null,"Welding Technology",{"$f":"IF(COUNTIF(Diploma!$E$29:$E$70,DU5)>=1,\"\",ROW())","v":5},"Welding Technology",null,"Computer Programming",{"$f":"IF(COUNTIF(Diploma!$E$29:$E$70,DY5)>=1,\"\",ROW())","v":5},"Computer Programming",null,"Computer Aided Design in Engineering",{"$f":"IF(COUNTIF(Diploma!$E$29:$E$70,EC5)>=1,\"\",ROW())","v":5},"Computer Aided Design in Engineering",null,"Mechanical Measurement and Inspection Technology",{"$f":"IF(OR(COUNTIF(Diploma!$E$29:$E$70,EG2)>=1,COUNTIF(Diploma!$E$29:$E$70,EG3)>=1,COUNTIF(Diploma!$E$29:$E$70,EG4)>=1,COUNTIF(Diploma!$E$29:$E$70,EG5)>=1),\"\",ROW())","v":5},"Mechanical Measurement and Inspection Technology",null,"Engineering Maintenance and Condition Monitoring Techniques",{"$f":"IF(COUNTIF(Diploma!$E$29:$E$70,EK5)>=1,\"\",ROW())","v":5},"Engineering Maintenance and Condition Monitoring Techniques",null,"Mechanical Behaviour of Metallic Materials",{"$f":"IF(OR(COUNTIF(Diploma!$E$29:$E$70,EO2)>=1,COUNTIF(Diploma!$E$29:$E$70,EO3)>=1,COUNTIF(Diploma!$E$29:$E$70,EO4)>=1,COUNTIF(Diploma!$E$29:$E$70,EO5)>=1),\"\",ROW())","v":5},"Mechanical Behaviour of Metallic Materials",null,"Engineering Maintenance and Condition Monitoring Techniques",{"$f":"IF(COUNTIF(Diploma!$E$29:$E$70,ES5)>=1,\"\",ROW())","v":5},"Engineering Maintenance and Condition Monitoring Techniques",null,null,null,null,null,"Estates Skills and Grassland Management",{"$f":"IF(COUNTIF(Diploma!$E$29:$E$70,FA5)>=1,\"\",ROW())","v":5},"Estates Skills and Grassland Management",null,"Ground Poles and Gridwork for Horses",{"$f":"IF(COUNTIF(Diploma!$E$29:$E$70,FE5)>=1,\"\",ROW())","v":5},"Ground Poles and Gridwork for Horses",null,"Forensic Traffic Collision Investigation",{"$f":"IF(COUNTIF(Diploma!$E$29:$E$70,FI5)>=1,\"\",ROW())","v":5},"Forensic Traffic Collision Investigation",null,"Supporting Individuals with Additional Needs",{"$f":"IF(COUNTIF(Diploma!$E$29:$E$70,FM5)>=1,\"\",ROW())","v":5},"Supporting Individuals with Additional Needs",null,"Computer Games Development",{"$f":"IF(COUNTIF(Diploma!$E$29:$E$70,FQ5)>=1,\"\",ROW())","v":5},"Computer Games Development",null,"Mixing and Mastering Techniques",{"$f":"IF(COUNTIF(Diploma!$E$29:$E$70,FU5)>=1,\"\",ROW())","v":5},"Mixing and Mastering Techniques",null,"Street Dance Technique",{"$f":"IF(COUNTIF(Diploma!$E$29:$E$70,FY5)>=1,\"\",ROW())","v":5},"Street Dance Technique",null,"Coaching for Performance",{"$f":"IF(COUNTIF(Diploma!$E$29:$E$70,GC5)>=1,\"\",ROW())","v":5},"Coaching for Performance",null,"Sports Injury Management",{"$f":"IF(COUNTIF(Diploma!$E$29:$E$70,GG5)>=1,\"\",ROW())","v":5},{"$f":"IF(ROW(GG5)-ROW(GG$2)+1>COUNT(GH$2:GH$40),\"\",INDEX(GG:GG,SMALL(GH$2:GH$40,1+ROW(GG5)-ROW(GG$2))))","v":"Sports Injury Management"},null,"Physical Activity for Individual and Group-based Exercise",{"$f":"IF(COUNTIF(Diploma!$E$29:$E$70,GK5)>=1,\"\",ROW())","v":5},"Physical Activity for Individual and Group-based Exercise",null,"Visitor Attractions",{"$f":"IF(COUNTIF(Diploma!$E$29:$E$70,GO5)>=1,\"\",ROW())","v":5},"Visitor Attractions",null,"Maintenance of Sports and Amenity Turf",{"$f":"IF(COUNTIF(Diploma!$E$29:$E$70,GS5)>=1,\"\",ROW())","v":5},"Maintenance of Sports and Amenity Turf","Games Design",{"$f":"IF(COUNTIF(Diploma!$E$29:$E$70,GV5)>=1,\"\",ROW())","v":5},"Games Design",null,"Organising Events in Sport and Physical Activities",{"$f":"IF(COUNTIF(Diploma!$E$29:$E$70,GZ5)>=1,\"\",ROW())","v":5},"Organising Events in Sport and Physical Activities",null,"Rules, Regulations and Officiating in Sport",{"$f":"IF(COUNTIF(Diploma!$E$29:$E$70,HD5)>=1,\"\",ROW())","v":5},"Rules, Regulations and Officiating in Sport",null,"Sporting Injuries",{"$f":"IF(COUNTIF(Diploma!$E$29:$E$70,HH5)>=1,\"\",ROW())","v":5},"Sporting Injuries",null,"Sociological Perspectives",{"$f":"IF(COUNTIF(Diploma!$E$29:$E$70,HL5)>=1,\"\",ROW())","v":5},"Sociological Perspectives",null,"Influencer Marketing",{"$f":"IF(COUNTIF(Diploma!$E$29:$E$70,HP5)>=1,\"\",ROW())","v":5},"Influencer Marketing"]
["Developing a Land-based Enterprise",{"$f":"IF(COUNTIF(Diploma!$E$29:$E$70,A6)>=1,\"\",ROW())","v":6},"Developing a Land-based Enterprise",null,"Animal Grooming",{"$f":"IF(COUNTIF(Diploma!$E$29:$E$70,E6)>=1,\"\",ROW())","v":6},"Animal Grooming",null,"Diseases and Infections",{"$f":"IF(COUNTIF(Diploma!$E$29:$E$70,I6)>=1,\"\",ROW())","v":6},"Diseases and Infections",null,"3D Design Materials, Techniques and Processes",{"$f":"IF(COUNTIF(Diploma!$E$29:$E$70,M6)>=1,\"\",ROW())","v":6},"3D Design Materials, Techniques and Processes",null,"3D Design Materials, Techniques and Processes",{"$f":"IF(COUNTIF(Diploma!$E$29:$E$70,Q6)>=1,\"\",ROW())","v":6},"3D Design Materials, Techniques and Processes",null,"Web Design",{"$f":"IF(COUNTIF(Diploma!$E$29:$E$70,U6)>=1,\"\",ROW())","v":6},"Web Design",null,null,null,null,null,"Textiles Materials, Techniques and Processes",{"$f":"IF(COUNTIF(Diploma!$E$29:$E$70,AC6)>=1,\"\",ROW())","v":6},"Textiles Materials, Techniques and Processes",null,"Textiles Materials, Techniques and Processes",{"$f":"IF(COUNTIF(Diploma!$E$29:$E$70,AG6)>=1,\"\",ROW())","v":6},"Textiles Materials, Techniques and Processes",null,"Financial Statements for Specific Businesses",{"$f":"IF(COUNTIF(Diploma!$E$29:$E$70,AK6)>=1,\"\",ROW())","v":6},"Financial Statements for Specific Businesses",null,"Relational Database Development",{"$f":"IF(COUNTIF(Diploma!$E$29:$E$70,AO6)>=1,\"\",ROW())","v":6},"Relational Database Development",null,"Website Development",{"$f":"IF(COUNTIF(Diploma!$E$29:$E$70,AS6)>=1,\"\",ROW())","v":6},"Website Development",null,"Computer Games Development",{"$f":"IF(COUNTIF(Diploma!$E$29:$E$70,AW6)>=1,\"\",ROW())","v":6},"Computer Games Development",null,"Measurement Techniques in Construction",{"$f":"IF(COUNTIF(Diploma!$E$29:$E$70,BA6)>=1,\"\",ROW())","v":6},"Measurement Techniques in Construction",null,"Projects in Construction",{"$f":"IF(COUNTIF(Diploma!$E$29:$E$70,BE6)>=1,\"\",ROW())","v":6},"Projects in Construction",null,"Electrical Principles in Building Services Engineering",{"$f":"IF(COUNTIF(Diploma!$E$29:$E$70,BI6)>=1,\"\",ROW())","v":6},"Electrical Principles in Building Services Engineering",null,"Building Information Modelling",{"$f":"IF(COUNTIF(Diploma!$E$29:$E$70,BM6)>=1,\"\",ROW())","v":6},{"$f":"IF(ROW(BM6)-ROW(BM$2)+1>COUNT(BN$2:BN$17),\"\",INDEX(BM:BM,SMALL(BN$2:BN$17,1+ROW(BM6)-ROW(BM$2))))","v":"Building Information Modelling"},null,null,null,null,null,"Controlling Countryside Pests and Predators",{"$f":"IF(COUNTIF(Diploma!$E$29:$E$70,BU6)>=1,\"\",ROW())","v":6},"Controlling Countryside Pests and Predators",null,"Stop Motion Animation",{"$f":"IF(COUNTIF(Diploma!$E$29:$E$70,BY6)>=1,\"\",ROW())","v":6},"Stop Motion Animation",null,null,null,null,null,"3D Environments",{"$f":"IF(COUNTIF(Diploma!$E$29:$E$70,CG6)>=1,\"\",ROW())","v":6},{"$f":"IF(ROW(CG6)-ROW(CG$2)+1>COUNT(CH$2:CH$17),\"\",INDEX(CG:CG,SMALL(CH$2:CH$17,1+ROW(CG6)-ROW(CG$2))))","v":"3D Environments"},null,"Coding for Web-based Media",{"$f":"IF(COUNTIF(Diploma!$E$29:$E$70,CK6)>=1,\"\",ROW())","v":6},"Coding for Web-based Media",null,"Image Manipulation Techniques",{"$f":"IF(COUNTIF(Diploma!$E$29:$E$70,CO6)>=1,\"\",ROW())","v":6},"Image Manipulation Techniques",null,"3D Modelling",{"$f":"IF(COUNTIF(Diploma!$E$29:$E$70,CS6)>=1,\"\",ROW())","v":6},"3D Modelling",null,"Electrical Power Distribution and Transmission",{"$f":"IF(COUNTIF(Diploma!$E$29:$E$70,CW6)>=1,\"\",ROW())","v":6},"Electrical Power Distribution and Transmission",null,"Dynamic Mechanical Principles in Practice",{"$f":"IF(COUNTIF(Diploma!$E$29:$E$70,DA6)>=1,\"\",ROW())","v":6},"Dynamic Mechanical Principles in Practice",null,"Engineering Maintenance and Condition Monitoring Techniques",{"$f":"IF(COUNTIF(Diploma!$E$29:$E$70,DE6)>=1,\"\",ROW())","v":6},"Engineering Maintenance and Condition Monitoring Techniques",null,"Electrical Power Distribution and Transmission",{"$f":"IF(COUNTIF(Diploma!$E$29:$E$70,DI6)>=1,\"\",ROW())","v":6},"Electrical Power Distribution and Transmission",null,"Maintenance of Mechanical Systems",{"$f":"IF(COUNTIF(Diploma!$E$29:$E$70,DM6)>=1,\"\",ROW())","v":6},"Maintenance of Mechanical Systems",null,"Mechanical Behaviour of Metallic Materials",{"$f":"IF(COUNTIF(Diploma!$E$29:$E$70,DQ6)>=1,\"\",ROW())","v":6},"Mechanical Behaviour of Metallic Materials",null,"Electrical Machines",{"$f":"IF(COUNTIF(Diploma!$E$29:$E$70,DU6)>=1,\"\",ROW())","v":6},"Electrical Machines",null,"Programmable Logic Controllers",{"$f":"IF(COUNTIF(Diploma!$E$29:$E$70,DY6)>=1,\"\",ROW())","v":6},"Programmable Logic Controllers",null,"Engineering Maintenance and Condition Monitoring Techniques",{"$f":"IF(COUNTIF(Diploma!$E$29:$E$70,EC6)>=1,\"\",ROW())","v":6},"Engineering Maintenance and Condition Monitoring Techniques",null,"Computer Aided Manufacturing and Planning",{"$f":"IF(COUNTIF(Diploma!$E$29:$E$70,EG6)>=1,\"\",ROW())","v":6},"Computer Aided Manufacturing and Planning",null,"Pneumatic and Hydraulic Systems",{"$f":"IF(COUNTIF(Diploma!$E$29:$E$70,EK6)>=1,\"\",ROW())","v":6},"Pneumatic and Hydraulic Systems",null,"Aircraft Workshop Methods and Practice",{"$f":"IF(COUNTIF(Diploma!$E$29:$E$70,EO6)>=1,\"\",ROW())","v":6},"Aircraft Workshop Methods and Practice",null,"Welding Technology",{"$f":"IF(COUNTIF(Diploma!$E$29:$E$70,ES6)>=1,\"\",ROW())","v":6},"Welding Technology",null,null,null,null,null,"Working Horses from the Ground",{"$f":"IF(COUNTIF(Diploma!$E$29:$E$70,FA6)>=1,\"\",ROW())","v":6},"Working Horses from the Ground",null,"Showjumping and Cross-country Courses",{"$f":"IF(COUNTIF(Diploma!$E$29:$E$70,FE6)>=1,\"\",ROW())","v":6},"Showjumping and Cross-country Courses",null,"Forensic Photography",{"$f":"IF(COUNTIF(Diploma!$E$29:$E$70,FI6)>=1,\"\",ROW())","v":6},"Forensic Photography",null,"Physiological Disorders and their Care",{"$f":"IF(COUNTIF(Diploma!$E$29:$E$70,FM6)>=1,\"\",ROW())","v":6},"Physiological Disorders and their Care",null,"Big Data and Business Analytics",{"$f":"IF(COUNTIF(Diploma!$E$29:$E$70,FQ6)>=1,\"\",ROW())","v":6},"Big Data and Business Analytics",null,"Music Investigation",{"$f":"IF(COUNTIF(Diploma!$E$29:$E$70,FU6)>=1,\"\",ROW())","v":6},"Music Investigation",null,"Contemporary Dance Technique",{"$f":"IF(COUNTIF(Diploma!$E$29:$E$70,FY6)>=1,\"\",ROW())","v":6},"Contemporary Dance Technique",null,"Research Methods in Sport",{"$f":"IF(COUNTIF(Diploma!$E$29:$E$70,GC6)>=1,\"\",ROW())","v":6},"Research Methods in Sport",null,"Work Experience in Active Leisure",{"$f":"IF(COUNTIF(Diploma!$E$29:$E$70,GG6)>=1,\"\",ROW())","v":6},{"$f":"IF(ROW(GG6)-ROW(GG$2)+1>COUNT(GH$2:GH$40),\"\",INDEX(GG:GG,SMALL(GH$2:GH$40,1+ROW(GG6)-ROW(GG$2))))","v":"Work Experience in Active Leisure"},null,"Sports Massage",{"$f":"IF(COUNTIF(Diploma!$E$29:$E$70,GK6)>=1,\"\",ROW())","v":6},"Sports Massage",null,"Passenger Transport",{"$f":"IF(COUNTIF(Diploma!$E$29:$E$70,GO6)>=1,\"\",ROW())","v":6},"Passenger Transport",null,"Pests and Disease in Plants",{"$f":"IF(COUNTIF(Diploma!$E$29:$E$70,GS6)>=1,\"\",ROW())","v":6},"Pests and Disease in Plants","Business Applications of Esports in Social Media",{"$f":"IF(COUNTIF(Diploma!$E$29:$E$70,GV6)>=1,\"\",ROW())","v":6},"Business Applications of Esports in Social Media",null,"Impacts and Sustainability of Outdoor Activities",{"$f":"IF(COUNTIF(Diploma!$E$29:$E$70,GZ6)>=1,\"\",ROW())","v":6},"Impacts and Sustainability of Outdoor Activities",null,"Influence of Technology in Sport and Physical Activity",{"$f":"IF(COUNTIF(Diploma!$E$29:$E$70,HD6)>=1,\"\",ROW())","v":6},"Influence of Technology in Sport and Physical Activity",null,"Rules, Regulations and Officiating in Sport",{"$f":"IF(COUNTIF(Diploma!$E$29:$E$70,HH6)>=1,\"\",ROW())","v":6},"Rules, Regulations and Officiating in Sport",null,"Skills for Outdoor Activities and the Uniformed Protective Services",{"$f":"IF(COUNTIF(Diploma!$E$29:$E$70,HL6)>=1,\"\",ROW())","v":6},"Skills for Outdoor Activities and the Uniformed Protective Services",null,"Market Research for a Start-up Business",{"$f":"IF(COUNTIF(Diploma!$E$29:$E$70,HP6)>=1,\"\",ROW())","v":6},"Market Research for a Start-up Business"]
["Root Crop and Field Vegetable Production",{"$f":"IF(COUNTIF(Diploma!$E$29:$E$70,A7)>=1,\"\",ROW())","v":7},"Root Crop and Field Vegetable Production",null,"Principles of Animal Nursing",{"$f":"IF(COUNTIF(Diploma!$E$29:$E$70,E7)>=1,\"\",ROW())","v":7},"Principles of Animal Nursing",null,"Applications of Inorganic Chemistry",{"$f":"IF(COUNTIF(Diploma!$E$29:$E$70,I7)>=1,\"\",ROW())","v":7},"Applications of Inorganic Chemistry",null,"Textiles Materials, Techniques and Processes",{"$f":"IF(COUNTIF(Diploma!$E$29:$E$70,M7)>=1,\"\",ROW())","v":7},"Textiles Materials, Techniques and Processes",null,"Textiles Materials, Techniques and Processes",{"$f":"IF(COUNTIF(Diploma!$E$29:$E$70,Q7)>=1,\"\",ROW())","v":7},"Textiles Materials, Techniques and Processes",null,"App Design",{"$f":"IF(COUNTIF(Diploma!$E$29:$E$70,U7)>=1,\"\",ROW())","v":7},"App Design",null,null,null,null,null,"Fashion Materials, Techniques and Processes",{"$f":"IF(COUNTIF(Diploma!$E$29:$E$70,AC7)>=1,\"\",ROW())","v":7},"Fashion Materials, Techniques and Processes",null,"Fashion Materials, Techniques and Processes",{"$f":"IF(COUNTIF(Diploma!$E$29:$E$70,AG7)>=1,\"\",ROW())","v":7},"Fashion Materials, Techniques and Processes",null,"Cost and Management Accounting",{"$f":"IF(COUNTIF(Diploma!$E$29:$E$70,AK7)>=1,\"\",ROW())","v":7},"Cost and Management Accounting",null,"Web Application Development",{"$f":"IF(COUNTIF(Diploma!$E$29:$E$70,AO7)>=1,\"\",ROW())","v":7},"Web Application Development",null,"Systems Analysis and Design",{"$f":"IF(COUNTIF(Diploma!$E$29:$E$70,AS7)>=1,\"\",ROW())","v":7},"Systems Analysis and Design",null,"Website Development",{"$f":"IF(COUNTIF(Diploma!$E$29:$E$70,AW7)>=1,\"\",ROW())","v":7},"Website Development",null,"Provision of Primary Services in Buildings",{"$f":"IF(COUNTIF(Diploma!$E$29:$E$70,BA7)>=1,\"\",ROW())","v":7},"Provision of Primary Services in Buildings",null,"Building Information Modelling",{"$f":"IF(COUNTIF(Diploma!$E$29:$E$70,BE7)>=1,\"\",ROW())","v":7},"Building Information Modelling",null,"Electrical Installation Standards, Components and Design",{"$f":"IF(COUNTIF(Diploma!$E$29:$E$70,BI7)>=1,\"\",ROW())","v":7},"Electrical Installation Standards, Components and Design",null,null,null,null,null,null,null,null,null,"Gamekeeping",{"$f":"IF(COUNTIF(Diploma!$E$29:$E$70,BU7)>=1,\"\",ROW())","v":7},"Gamekeeping",null,"Sound Editing",{"$f":"IF(COUNTIF(Diploma!$E$29:$E$70,BY7)>=1,\"\",ROW())","v":7},"Sound Editing",null,null,null,null,null,null,null,null,null,"Sound Mixing",{"$f":"IF(COUNTIF(Diploma!$E$29:$E$70,CK7)>=1,\"\",ROW())","v":7},"Sound Mixing",null,"2D Digital Graphics",{"$f":"IF(COUNTIF(Diploma!$E$29:$E$70,CO7)>=1,\"\",ROW())","v":7},"2D Digital Graphics",null,"3D Environments",{"$f":"IF(COUNTIF(Diploma!$E$29:$E$70,CS7)>=1,\"\",ROW())","v":7},"3D Environments",null,"Electronic Devices and Circuits",{"$f":"IF(COUNTIF(Diploma!$E$29:$E$70,CW7)>=1,\"\",ROW())","v":7},"Electronic Devices and Circuits",null,"Principles and Applications of Fluid Mechanics",{"$f":"IF(COUNTIF(Diploma!$E$29:$E$70,DA7)>=1,\"\",ROW())","v":7},"Principles and Applications of Fluid Mechanics",null,"Pneumatic and Hydraulic Systems",{"$f":"IF(COUNTIF(Diploma!$E$29:$E$70,DE7)>=1,\"\",ROW())","v":7},"Pneumatic and Hydraulic Systems",null,"Electronic Devices and Circuits",{"$f":"IF(COUNTIF(Diploma!$E$29:$E$70,DI7)>=1,\"\",ROW())","v":7},"Electronic Devices and Circuits",null,"Mechanical Behaviour of Metallic Materials",{"$f":"IF(COUNTIF(Diploma!$E$29:$E$70,DM7)>=1,\"\",ROW())","v":7},"Mechanical Behaviour of Metallic Materials",null,"Mechanical Behaviour of Non-metallic Materials",{"$f":"IF(COUNTIF(Diploma!$E$29:$E$70,DQ7)>=1,\"\",ROW())","v":7},"Mechanical Behaviour of Non-metallic Materials",null,"Electronic Devices and Circuits",{"$f":"IF(COUNTIF(Diploma!$E$29:$E$70,DU7)>=1,\"\",ROW())","v":7},"Electronic Devices and Circuits",null,"Computer Networks",{"$f":"IF(COUNTIF(Diploma!$E$29:$E$70,DY7)>=1,\"\",ROW())","v":7},"Computer Networks",null,"Pneumatic and Hydraulic Systems",{"$f":"IF(COUNTIF(Diploma!$E$29:$E$70,EC7)>=1,\"\",ROW())","v":7},"Pneumatic and Hydraulic Systems",null,"Manufacturing Secondary Machining Processes",{"$f":"IF(COUNTIF(Diploma!$E$29:$E$70,EG7)>=1,\"\",ROW())","v":7},"Manufacturing Secondary Machining Processes",null,"Three Phase Electrical Systems",{"$f":"IF(COUNTIF(Diploma!$E$29:$E$70,EK7)>=1,\"\",ROW())","v":7},"Three Phase Electrical Systems",null,"Aircraft Gas Turbine Engines",{"$f":"IF(COUNTIF(Diploma!$E$29:$E$70,EO7)>=1,\"\",ROW())","v":7},"Aircraft Gas Turbine Engines",null,"Electrical Machines",{"$f":"IF(COUNTIF(Diploma!$E$29:$E$70,ES7)>=1,\"\",ROW())","v":7},"Electrical Machines",null,null,null,null,null,"Introduction to Equestrian Coaching",{"$f":"IF(COUNTIF(Diploma!$E$29:$E$70,FA7)>=1,\"\",ROW())","v":7},"Introduction to Equestrian Coaching",null,"Estates Skills and Grassland Management",{"$f":"IF(COUNTIF(Diploma!$E$29:$E$70,FE7)>=1,\"\",ROW())","v":7},"Estates Skills and Grassland Management",null,"Forensic Genetics",{"$f":"IF(COUNTIF(Diploma!$E$29:$E$70,FI7)>=1,\"\",ROW())","v":7},"Forensic Genetics",null,"Nutritional Health",{"$f":"IF(COUNTIF(Diploma!$E$29:$E$70,FM7)>=1,\"\",ROW())","v":7},"Nutritional Health",null,"IT Technical Support and Management",{"$f":"IF(COUNTIF(Diploma!$E$29:$E$70,FQ7)>=1,\"\",ROW())","v":7},"IT Technical Support and Management",null,"Music Technology and Musicianship",{"$f":"IF(COUNTIF(Diploma!$E$29:$E$70,FU7)>=1,\"\",ROW())","v":7},"Music Technology and Musicianship",null,"Healthy Dancer",{"$f":"IF(COUNTIF(Diploma!$E$29:$E$70,FY7)>=1,\"\",ROW())","v":7},"Healthy Dancer",null,"Sports Event Organisation",{"$f":"IF(COUNTIF(Diploma!$E$29:$E$70,GC7)>=1,\"\",ROW())","v":7},"Sports Event Organisation",null,null,null,null,null,"Sociocultural Issues in Sport and Exercise",{"$f":"IF(COUNTIF(Diploma!$E$29:$E$70,GK7)>=1,\"\",ROW())","v":7},"Sociocultural Issues in Sport and Exercise",null,"Events, Conferences and Exhibitions",{"$f":"IF(COUNTIF(Diploma!$E$29:$E$70,GO7)>=1,\"\",ROW())","v":7},"Events, Conferences and Exhibitions",null,"Identification, Planting and Care of Trees",{"$f":"IF(COUNTIF(Diploma!$E$29:$E$70,GS7)>=1,\"\",ROW())","v":7},"Identification, Planting and Care of Trees","Shoutcasting",{"$f":"IF(COUNTIF(Diploma!$E$29:$E$70,GV7)>=1,\"\",ROW())","v":7},"Shoutcasting",null,"Expedition Experience",{"$f":"IF(COUNTIF(Diploma!$E$29:$E$70,GZ7)>=1,\"\",ROW())","v":7},"Expedition Experience",null,"Organising Events in Sport and Physical Activities",{"$f":"IF(COUNTIF(Diploma!$E$29:$E$70,HD7)>=1,\"\",ROW())","v":7},"Organising Events in Sport and Physical Activities",null,"Practical Sports Application",{"$f":"IF(COUNTIF(Diploma!$E$29:$E$70,HH7)>=1,\"\",ROW())","v":7},"Practical Sports Application",null,"Expedition Skills",{"$f":"IF(COUNTIF(Diploma!$E$29:$E$70,HL7)>=1,\"\",ROW())","v":7},"Expedition Skills",null,"Corporate Social Responsibility",{"$f":"IF(COUNTIF(Diploma!$E$29:$E$70,HP7)>=1,\"\",ROW())","v":7},"Corporate Social Responsibility"]
["Combinable Crop Production and Processing",{"$f":"IF(COUNTIF(Diploma!$E$29:$E$70,A8)>=1,\"\",ROW())","v":8},"Combinable Crop Production and Processing",null,"Aquatic Animal Health and Husbandry",{"$f":"IF(COUNTIF(Diploma!$E$29:$E$70,E8)>=1,\"\",ROW())","v":8},"Aquatic Animal Health and Husbandry",null,"Applications of Organic Chemistry",{"$f":"IF(COUNTIF(Diploma!$E$29:$E$70,I8)>=1,\"\",ROW())","v":8},"Applications of Organic Chemistry",null,"Fashion Materials, Techniques and Processes",{"$f":"IF(COUNTIF(Diploma!$E$29:$E$70,M8)>=1,\"\",ROW())","v":8},"Fashion Materials, Techniques and Processes",null,null,null,null,null,null,null,null,null,null,null,null,null,null,null,null,null,null,null,null,null,"Investigating Customer Service",{"$f":"IF(COUNTIF(Diploma!$E$29:$E$70,AK8)>=1,\"\",ROW())","v":8},"Investigating Customer Service",null,"Programmable Devices and Controllers",{"$f":"IF(COUNTIF(Diploma!$E$29:$E$70,AO8)>=1,\"\",ROW())","v":8},"Programmable Devices and Controllers",null,"3D Modelling",{"$f":"IF(COUNTIF(Diploma!$E$29:$E$70,AS8)>=1,\"\",ROW())","v":8},"3D Modelling",null,"Object-oriented Programming",{"$f":"IF(COUNTIF(Diploma!$E$29:$E$70,AW8)>=1,\"\",ROW())","v":8},"Object-oriented Programming",null,"Projects in Construction",{"$f":"IF(COUNTIF(Diploma!$E$29:$E$70,BA8)>=1,\"\",ROW())","v":8},"Projects in Construction",null,"Quantity Surveying",{"$f":"IF(COUNTIF(Diploma!$E$29:$E$70,BE8)>=1,\"\",ROW())","v":8},"Quantity Surveying",null,"Quantity Surveying Measurement Techniques in Building Services Engineering",{"$f":"IF(COUNTIF(Diploma!$E$29:$E$70,BI8)>=1,\"\",ROW())","v":8},"Quantity Surveying Measurement Techniques in Building Services Engineering",null,null,null,null,null,null,null,null,null,"Managing a Shoot",{"$f":"IF(COUNTIF(Diploma!$E$29:$E$70,BU8)>=1,\"\",ROW())","v":8},"Managing a Shoot",null,"Sound Recording",{"$f":"IF(COUNTIF(Diploma!$E$29:$E$70,BY8)>=1,\"\",ROW())","v":8},"Sound Recording",null,null,null,null,null,null,null,null,null,"Live Radio Broadcasting",{"$f":"IF(COUNTIF(Diploma!$E$29:$E$70,CK8)>=1,\"\",ROW())","v":8},"Live Radio Broadcasting",null,"Page Layout and Design for Digital Media",{"$f":"IF(COUNTIF(Diploma!$E$29:$E$70,CO8)>=1,\"\",ROW())","v":8},"Page Layout and Design for Digital Media",null,"Games Testing",{"$f":"IF(COUNTIF(Diploma!$E$29:$E$70,CS8)>=1,\"\",ROW())","v":8},"Games Testing",null,"Analogue Electronic Circuits",{"$f":"IF(COUNTIF(Diploma!$E$29:$E$70,CW8)>=1,\"\",ROW())","v":8},"Analogue Electronic Circuits",null,"Mechanical Measurement and Inspection Technology",{"$f":"IF(COUNTIF(Diploma!$E$29:$E$70,DA8)>=1,\"\",ROW())","v":8},"Mechanical Measurement and Inspection Technology",null,"Welding Technology",{"$f":"IF(COUNTIF(Diploma!$E$29:$E$70,DE8)>=1,\"\",ROW())","v":8},"Welding Technology",null,"Analogue Electronic Circuits",{"$f":"IF(COUNTIF(Diploma!$E$29:$E$70,DI8)>=1,\"\",ROW())","v":8},"Analogue Electronic Circuits",null,"Static Mechanical Principles in Practice",{"$f":"IF(COUNTIF(Diploma!$E$29:$E$70,DM8)>=1,\"\",ROW())","v":8},"Static Mechanical Principles in Practice",null,"Static Mechanical Principles in Practice",{"$f":"IF(COUNTIF(Diploma!$E$29:$E$70,DQ8)>=1,\"\",ROW())","v":8},"Static Mechanical Principles in Practice",null,"Analogue Electronic Circuits",{"$f":"IF(COUNTIF(Diploma!$E$29:$E$70,DU8)>=1,\"\",ROW())","v":8},"Analogue Electronic Circuits",null,"Website Production to Control Devices",{"$f":"IF(COUNTIF(Diploma!$E$29:$E$70,DY8)>=1,\"\",ROW())","v":8},"Website Production to Control Devices",null,"Electrical Installation of Hardware and Cables",{"$f":"IF(COUNTIF(Diploma!$E$29:$E$70,EC8)>=1,\"\",ROW())","v":8},"Electrical Installation of Hardware and Cables",null,"Manufacturing Primary Forming Processes",{"$f":"IF(COUNTIF(Diploma!$E$29:$E$70,EG8)>=1,\"\",ROW())","v":8},"Manufacturing Primary Forming Processes",null,"Electronic Devices and Circuits",{"$f":"IF(COUNTIF(Diploma!$E$29:$E$70,EK8)>=1,\"\",ROW())","v":8},"Electronic Devices and Circuits",null,"Aircraft Propulsion Systems",{"$f":"IF(COUNTIF(Diploma!$E$29:$E$70,EO8)>=1,\"\",ROW())","v":8},"Aircraft Propulsion Systems",null,"Three Phase Electrical Systems",{"$f":"IF(COUNTIF(Diploma!$E$29:$E$70,ES8)>=1,\"\",ROW())","v":8},"Three Phase Electrical Systems",null,null,null,null,null,"Equine Stud Management",{"$f":"IF(COUNTIF(Diploma!$E$29:$E$70,FA8)>=1,\"\",ROW())","v":8},"Equine Stud Management",null,"Working Horses from the Ground",{"$f":"IF(COUNTIF(Diploma!$E$29:$E$70,FE8)>=1,\"\",ROW())","v":8},"Working Horses from the Ground",null,"Forensic Anthropology and Archaeology",{"$f":"IF(COUNTIF(Diploma!$E$29:$E$70,FI8)>=1,\"\",ROW())","v":8},"Forensic Anthropology and Archaeology",null,null,null,null,null,"Software Testing",{"$f":"IF(COUNTIF(Diploma!$E$29:$E$70,FQ8)>=1,\"\",ROW())","v":8},"Software Testing",null,"Working and Developing as a Production Team",{"$f":"IF(COUNTIF(Diploma!$E$29:$E$70,FU8)>=1,\"\",ROW())","v":8},"Working and Developing as a Production Team",null,"Choreography for Live Performance",{"$f":"IF(COUNTIF(Diploma!$E$29:$E$70,FY8)>=1,\"\",ROW())","v":8},"Choreography for Live Performance",null,"Research Project in Sport",{"$f":"IF(COUNTIF(Diploma!$E$29:$E$70,GC8)>=1,\"\",ROW())","v":8},"Research Project in Sport",null,null,null,null,null,null,null,null,null,"Working Overseas",{"$f":"IF(COUNTIF(Diploma!$E$29:$E$70,GO8)>=1,\"\",ROW())","v":8},"Working Overseas",null,"Developing a Land-based Enterprise",{"$f":"IF(COUNTIF(Diploma!$E$29:$E$70,GS8)>=1,\"\",ROW())","v":8},"Developing a Land-based Enterprise","Esports Coaching",{"$f":"IF(COUNTIF(Diploma!$E$29:$E$70,GV8)>=1,\"\",ROW())","v":8},"Esports Coaching",null,null,null,null,null,"Ethical and Current Issues in Sport",{"$f":"IF(COUNTIF(Diploma!$E$29:$E$70,HD8)>=1,\"\",ROW())","v":8},"Ethical and Current Issues in Sport",null,"Influence of Technology in Sport and Physical Activity",{"$f":"IF(COUNTIF(Diploma!$E$29:$E$70,HH8)>=1,\"\",ROW())","v":8},"Influence of Technology in Sport and Physical Activity",null,"Developing Personal Fitness Programmes",{"$f":"IF(COUNTIF(Diploma!$E$29:$E$70,HL8)>=1,\"\",ROW())","v":8},"Developing Personal Fitness Programmes"]
["Grass and Forage Crop Production",{"$f":"IF(COUNTIF(Diploma!$E$29:$E$70,A9)>=1,\"\",ROW())","v":9},"Grass and Forage Crop Production",null,"Fram Livestock Husbandry",{"$f":"IF(COUNTIF(Diploma!$E$29:$E$70,E9)>=1,\"\",ROW())","v":9},"Fram Livestock Husbandry",null,"Electrical Circuits and their Application",{"$f":"IF(COUNTIF(Diploma!$E$29:$E$70,I9)>=1,\"\",ROW())","v":9},"Electrical Circuits and their Application",null,"3D Design Craft Materials, Techniques and Processes",{"$f":"IF(COUNTIF(Diploma!$E$29:$E$70,M9)>=1,\"\",ROW())","v":9},"3D Design Craft Materials, Techniques and Processes",null,null,null,null,null,null,null,null,null,null,null,null,null,null,null,null,null,null,null,null,null,"Investigation Retail Business",{"$f":"IF(COUNTIF(Diploma!$E$29:$E$70,AK9)>=1,\"\",ROW())","v":9},"Investigation Retail Business",null,"Computer Forensics",{"$f":"IF(COUNTIF(Diploma!$E$29:$E$70,AO9)>=1,\"\",ROW())","v":9},"Computer Forensics",null,null,null,null,null,"Mobile Apps Development",{"$f":"IF(COUNTIF(Diploma!$E$29:$E$70,AW9)>=1,\"\",ROW())","v":9},"Mobile Apps Development",null,"Building Information Modelling",{"$f":"IF(COUNTIF(Diploma!$E$29:$E$70,BA9)>=1,\"\",ROW())","v":9},"Building Information Modelling",null,null,null,null,null,"Building Regulations and Control in Building Services Engineering",{"$f":"IF(COUNTIF(Diploma!$E$29:$E$70,BI9)>=1,\"\",ROW())","v":9},"Building Regulations and Control in Building Services Engineering",null,null,null,null,null,null,null,null,null,"Water Quality Management",{"$f":"IF(COUNTIF(Diploma!$E$29:$E$70,BU9)>=1,\"\",ROW())","v":9},"Water Quality Management",null,"Multi Camera Techniques",{"$f":"IF(COUNTIF(Diploma!$E$29:$E$70,BY9)>=1,\"\",ROW())","v":9},"Multi Camera Techniques",null,null,null,null,null,null,null,null,null,null,null,null,null,"Coding for Web-based Media",{"$f":"IF(COUNTIF(Diploma!$E$29:$E$70,CO9)>=1,\"\",ROW())","v":9},"Coding for Web-based Media",null,"3D Digital Animation",{"$f":"IF(COUNTIF(Diploma!$E$29:$E$70,CS9)>=1,\"\",ROW())","v":9},"3D Digital Animation",null,"Electronic Measurement and Testing of Circuits",{"$f":"IF(COUNTIF(Diploma!$E$29:$E$70,CW9)>=1,\"\",ROW())","v":9},"Electronic Measurement and Testing of Circuits",null,"Thermodynamic Principles and Practice",{"$f":"IF(COUNTIF(Diploma!$E$29:$E$70,DA9)>=1,\"\",ROW())","v":9},"Thermodynamic Principles and Practice",null,"Computer System Principles and Practice",{"$f":"IF(COUNTIF(Diploma!$E$29:$E$70,DE9)>=1,\"\",ROW())","v":9},"Computer System Principles and Practice",null,"Electronic Measurement and Testing of Circuits",{"$f":"IF(COUNTIF(Diploma!$E$29:$E$70,DI9)>=1,\"\",ROW())","v":9},"Electronic Measurement and Testing of Circuits",null,"Mechanical Measurement and Inspection Technology",{"$f":"IF(COUNTIF(Diploma!$E$29:$E$70,DM9)>=1,\"\",ROW())","v":9},"Mechanical Measurement and Inspection Technology",null,"Dynamic Mechanical Principles in Practice",{"$f":"IF(COUNTIF(Diploma!$E$29:$E$70,DQ9)>=1,\"\",ROW())","v":9},"Dynamic Mechanical Principles in Practice",null,"Electronic Measurement and Testing of Circuits",{"$f":"IF(COUNTIF(Diploma!$E$29:$E$70,DU9)>=1,\"\",ROW())","v":9},"Electronic Measurement and Testing of Circuits",null,"Computer Aided Manufacturing and Planning",{"$f":"IF(OR(COUNTIF(Diploma!$E$29:$E$70,DY2)>=1,COUNTIF(Diploma!$E$29:$E$70,DY9)>=1,COUNTIF(Diploma!$E$29:$E$70,DY10)>=1),\"\",ROW())","v":9},"Computer Aided Manufacturing and Planning",null,"Electrical Machines",{"$f":"IF(COUNTIF(Diploma!$E$29:$E$70,EC9)>=1,\"\",ROW())","v":9},"Electrical Machines",null,"Manufacturing Computer Numerical Control Machining Processes",{"$f":"IF(COUNTIF(Diploma!$E$29:$E$70,EG9)>=1,\"\",ROW())","v":9},"Manufacturing Computer Numerical Control Machining Processes",null,"Maintenance of Mechanical Systems",{"$f":"IF(COUNTIF(Diploma!$E$29:$E$70,EK9)>=1,\"\",ROW())","v":9},"Maintenance of Mechanical Systems",null,"Airframe Construction and Repair",{"$f":"IF(COUNTIF(Diploma!$E$29:$E$70,EO9)>=1,\"\",ROW())","v":9},"Airframe Construction and Repair",null,"Mechanical Behaviour of Non-metallic Materials",{"$f":"IF(COUNTIF(Diploma!$E$29:$E$70,ES9)>=1,\"\",ROW())","v":9},"Mechanical Behaviour of Non-metallic Materials",null,null,null,null,null,"Managing Equine Injuries and Rehabilitation",{"$f":"IF(COUNTIF(Diploma!$E$29:$E$70,FA9)>=1,\"\",ROW())","v":9},"Managing Equine Injuries and Rehabilitation",null,"Introduction to Equestrian Coaching",{"$f":"IF(COUNTIF(Diploma!$E$29:$E$70,FE9)>=1,\"\",ROW())","v":9},"Introduction to Equestrian Coaching",null,"Practical Chemical Analysis",{"$f":"IF(COUNTIF(Diploma!$E$29:$E$70,FI9)>=1,\"\",ROW())","v":9},"Practical Chemical Analysis",null,null,null,null,null,"Customising and Integrating Applications",{"$f":"IF(COUNTIF(Diploma!$E$29:$E$70,FQ9)>=1,\"\",ROW())","v":9},"Customising and Integrating Applications",null,null,null,null,null,"Theatre Directing",{"$f":"IF(COUNTIF(Diploma!$E$29:$E$70,FY9)>=1,\"\",ROW())","v":9},"Theatre Directing",null,"Sports Injury Management",{"$f":"IF(COUNTIF(Diploma!$E$29:$E$70,GC9)>=1,\"\",ROW())","v":9},"Sports Injury Management",null,null,null,null,null,null,null,null,null,"Work Experience in Travel and Tourism",{"$f":"IF(COUNTIF(Diploma!$E$29:$E$70,GO9)>=1,\"\",ROW())","v":9},"Work Experience in Travel and Tourism",null,"Maintaining the Health and Quality of Turf in Parks and Gardens",{"$f":"IF(COUNTIF(Diploma!$E$29:$E$70,GS9)>=1,\"\",ROW())","v":9},"Maintaining the Health and Quality of Turf in Parks and Gardens","Psychology for Esports Performance",{"$f":"IF(COUNTIF(Diploma!$E$29:$E$70,GV9)>=1,\"\",ROW())","v":9},"Psychology for Esports Performance",null,null,null,null,null,"School Sport Delivery",{"$f":"IF(COUNTIF(Diploma!$E$29:$E$70,HD9)>=1,\"\",ROW())","v":9},"School Sport Delivery",null,"Organising Events in Sport and Physical Activities",{"$f":"IF(COUNTIF(Diploma!$E$29:$E$70,HH9)>=1,\"\",ROW())","v":9},"Organising Events in Sport and Physical Activities",null,"Introduction to Criminology",{"$f":"IF(COUNTIF(Diploma!$E$29:$E$70,HL9)>=1,\"\",ROW())","v":9},"Introduction to Criminology"]
["Poultry Production",{"$f":"IF(COUNTIF(Diploma!$E$29:$E$70,A10)>=1,\"\",ROW())","v":10},"Poultry Production",null,"Human and Animal Interaction",{"$f":"IF(COUNTIF(Diploma!$E$29:$E$70,E10)>=1,\"\",ROW())","v":10},"Human and Animal Interaction",null,"Astronomy and Space Science",{"$f":"IF(COUNTIF(Diploma!$E$29:$E$70,I10)>=1,\"\",ROW())","v":10},"Astronomy and Space Science",null,null,null,null,null,null,null,null,null,null,null,null,null,null,null,null,null,null,null,null,null,null,null,null,null,"Visual Merchandising",{"$f":"IF(COUNTIF(Diploma!$E$29:$E$70,AK10)>=1,\"\",ROW())","v":10},"Visual Merchandising",null,null,null,null,null,null,null,null,null,"Relational Database Development",{"$f":"IF(COUNTIF(Diploma!$E$29:$E$70,AW10)>=1,\"\",ROW())","v":10},"Relational Database Development",null,"Quantity Surveying",{"$f":"IF(COUNTIF(Diploma!$E$29:$E$70,BA10)>=1,\"\",ROW())","v":10},"Quantity Surveying",null,null,null,null,null,null,null,null,null,null,null,null,null,null,null,null,null,"Management of Deer in the UK",{"$f":"IF(COUNTIF(Diploma!$E$29:$E$70,BU10)>=1,\"\",ROW())","v":10},"Management of Deer in the UK",null,"Lighting Techniques",{"$f":"IF(COUNTIF(Diploma!$E$29:$E$70,BY10)>=1,\"\",ROW())","v":10},"Lighting Techniques",null,null,null,null,null,null,null,null,null,null,null,null,null,null,null,null,null,null,null,null,null,"Electronic Printed Circuit Board Design and Manufacture",{"$f":"IF(COUNTIF(Diploma!$E$29:$E$70,CW10)>=1,\"\",ROW())","v":10},"Electronic Printed Circuit Board Design and Manufacture",null,"Sustainable Transport",{"$f":"IF(COUNTIF(Diploma!$E$29:$E$70,DA10)>=1,\"\",ROW())","v":10},{"$f":"IF(ROW(DA10)-ROW(DA$2)+1>COUNT(DB$2:DB$17),\"\",INDEX(DA:DA,SMALL(DB$2:DB$17,1+ROW(DA10)-ROW(DA$2))))","v":"Sustainable Transport"},null,"Computer Systems Security",{"$f":"IF(COUNTIF(Diploma!$E$29:$E$70,DE10)>=1,\"\",ROW())","v":10},"Computer Systems Security",null,"Electronic Printed Circuit Board Design and Manufacture",{"$f":"IF(COUNTIF(Diploma!$E$29:$E$70,DI10)>=1,\"\",ROW())","v":10},"Electronic Printed Circuit Board Design and Manufacture",null,"Computer Systems Security",{"$f":"IF(COUNTIF(Diploma!$E$29:$E$70,DM10)>=1,\"\",ROW())","v":10},"Computer Systems Security",null,"Principles and Applications of Fluid Mechanics",{"$f":"IF(COUNTIF(Diploma!$E$29:$E$70,DQ10)>=1,\"\",ROW())","v":10},"Principles and Applications of Fluid Mechanics",null,"Computer Systems Support and Performance",{"$f":"IF(COUNTIF(Diploma!$E$29:$E$70,DU10)>=1,\"\",ROW())","v":10},"Computer Systems Support and Performance",null,"Manufacturing Computer Numerical Control Machining Processes",{"$f":"IF(OR(COUNTIF(Diploma!$E$29:$E$70,DY2)>=1,COUNTIF(Diploma!$E$29:$E$70,DY9)>=1,COUNTIF(Diploma!$E$29:$E$70,DY10)>=1),\"\",ROW())","v":10},"Manufacturing Computer Numerical Control Machining Processes",null,"Three Phase Electrical Systems",{"$f":"IF(COUNTIF(Diploma!$E$29:$E$70,EC10)>=1,\"\",ROW())","v":10},"Three Phase Electrical Systems",null,"Fabrication Manufacturing Processes",{"$f":"IF(COUNTIF(Diploma!$E$29:$E$70,EG10)>=1,\"\",ROW())","v":10},"Fabrication Manufacturing Processes",null,"Mechanical Behaviour of Metallic Materials",{"$f":"IF(COUNTIF(Diploma!$E$29:$E$70,EK10)>=1,\"\",ROW())","v":10},"Mechanical Behaviour of Metallic Materials",null,"Airframe Mechanical Systems",{"$f":"IF(COUNTIF(Diploma!$E$29:$E$70,EO10)>=1,\"\",ROW())","v":10},"Airframe Mechanical Systems",null,"Principles and Applications of Fluid Mechanics",{"$f":"IF(COUNTIF(Diploma!$E$29:$E$70,ES10)>=1,\"\",ROW())","v":10},"Principles and Applications of Fluid Mechanics",null,null,null,null,null,null,null,null,null,"Managing Equine Injuries and Rehabilitation",{"$f":"IF(COUNTIF(Diploma!$E$29:$E$70,FE10)>=1,\"\",ROW())","v":10},"Managing Equine Injuries and Rehabilitation",null,null,null,null,null,null,null,null,null,"Cloud Storage and Collaboration Tools",{"$f":"IF(COUNTIF(Diploma!$E$29:$E$70,FQ10)>=1,\"\",ROW())","v":10},"Cloud Storage and Collaboration Tools",null,null,null,null,null,"Writing for Performance",{"$f":"IF(COUNTIF(Diploma!$E$29:$E$70,FY10)>=1,\"\",ROW())","v":10},"Writing for Performance",null,"Work Experience in Active Leisure",{"$f":"IF(COUNTIF(Diploma!$E$29:$E$70,GC10)>=1,\"\",ROW())","v":10},"Work Experience in Active Leisure",null,null,null,null,null,null,null,null,null,"The Cruise Industry",{"$f":"IF(COUNTIF(Diploma!$E$29:$E$70,GO10)>=1,\"\",ROW())","v":10},"The Cruise Industry",null,"Protected Horticultural Crop Production",{"$f":"IF(COUNTIF(Diploma!$E$29:$E$70,GS10)>=1,\"\",ROW())","v":10},"Protected Horticultural Crop Production","Nutrition for Esports Performance",{"$f":"IF(COUNTIF(Diploma!$E$29:$E$70,GV10)>=1,\"\",ROW())","v":10},"Nutrition for Esports Performance",null,null,null,null,null,"Sports Law and Legislation",{"$f":"IF(COUNTIF(Diploma!$E$29:$E$70,HD10)>=1,\"\",ROW())","v":10},"Sports Law and Legislation",null,"School Sport Delivery",{"$f":"IF(COUNTIF(Diploma!$E$29:$E$70,HH10)>=1,\"\",ROW())","v":10},"School Sport Delivery",null,"Police Powers and the Law",{"$f":"IF(COUNTIF(Diploma!$E$29:$E$70,HL10)>=1,\"\",ROW())","v":10},"Police Powers and the Law"]
["Pig Production",{"$f":"IF(COUNTIF(Diploma!$E$29:$E$70,A11)>=1,\"\",ROW())","v":11},"Pig Production",null,"Exotic Animal Husbandry",{"$f":"IF(COUNTIF(Diploma!$E$29:$E$70,E11)>=1,\"\",ROW())","v":11},"Exotic Animal Husbandry",null,"Microbiology and Microbiological Techniques",{"$f":"IF(COUNTIF(Diploma!$E$29:$E$70,I11)>=1,\"\",ROW())","v":11},"Microbiology and Microbiological Techniques",null,null,null,null,null,null,null,null,null,null,null,null,null,null,null,null,null,null,null,null,null,null,null,null,null,"Digital Marketing",{"$f":"IF(COUNTIF(Diploma!$E$29:$E$70,AK11)>=1,\"\",ROW())","v":11},"Digital Marketing",null,null,null,null,null,null,null,null,null,"Computer Networking",{"$f":"IF(COUNTIF(Diploma!$E$29:$E$70,AW11)>=1,\"\",ROW())","v":11},"Computer Networking",null,"Quality Control Management in Construction",{"$f":"IF(COUNTIF(Diploma!$E$29:$E$70,BA11)>=1,\"\",ROW())","v":11},"Quality Control Management in Construction",null,null,null,null,null,null,null,null,null,null,null,null,null,null,null,null,null,"Tree Felling and Chainsaw Safety",{"$f":"IF(COUNTIF(Diploma!$E$29:$E$70,BU11)>=1,\"\",ROW())","v":11},"Tree Felling and Chainsaw Safety",null,null,null,null,null,null,null,null,null,null,null,null,null,null,null,null,null,null,null,null,null,null,null,null,null,"Digital and Analogue Electronic Systems",{"$f":"IF(COUNTIF(Diploma!$E$29:$E$70,CW11)>=1,\"\",ROW())","v":11},"Digital and Analogue Electronic Systems",null,null,null,null,null,"Computer Systems Support and Performance",{"$f":"IF(COUNTIF(Diploma!$E$29:$E$70,DE11)>=1,\"\",ROW())","v":11},"Computer Systems Support and Performance",null,"Digital and Analogue Electronic Systems",{"$f":"IF(COUNTIF(Diploma!$E$29:$E$70,DI11)>=1,\"\",ROW())","v":11},"Digital and Analogue Electronic Systems",null,"Computer Systems Support and Performance",{"$f":"IF(COUNTIF(Diploma!$E$29:$E$70,DM11)>=1,\"\",ROW())","v":11},"Computer Systems Support and Performance",null,"Mechanical Measurement and Inspection Technology",{"$f":"IF(COUNTIF(Diploma!$E$29:$E$70,DQ11)>=1,\"\",ROW())","v":11},"Mechanical Measurement and Inspection Technology",null,"Computer Programming",{"$f":"IF(COUNTIF(Diploma!$E$29:$E$70,DU11)>=1,\"\",ROW())","v":11},"Computer Programming",null,"Industrial Robotics",{"$f":"IF(COUNTIF(Diploma!$E$29:$E$70,DY11)>=1,\"\",ROW())","v":11},{"$f":"IF(ROW(DY11)-ROW(DY$2)+1>COUNT(DZ$2:DZ$40),\"\",INDEX(DY:DY,SMALL(DZ$2:DZ$40,1+ROW(DY11)-ROW(DY$2))))","v":"Industrial Robotics"},null,"Electrical Power Distribution and Transmission",{"$f":"IF(COUNTIF(Diploma!$E$29:$E$70,EC11)>=1,\"\",ROW())","v":11},"Electrical Power Distribution and Transmission",null,"Additive Manufacturing Processes",{"$f":"IF(COUNTIF(Diploma!$E$29:$E$70,EG11)>=1,\"\",ROW())","v":11},"Additive Manufacturing Processes",null,"Mechanical Behaviour of Non-metallic Materials",{"$f":"IF(COUNTIF(Diploma!$E$29:$E$70,EK11)>=1,\"\",ROW())","v":11},"Mechanical Behaviour of Non-metallic Materials",null,"Aircraft Electrical and Instrument Systems",{"$f":"IF(COUNTIF(Diploma!$E$29:$E$70,EO11)>=1,\"\",ROW())","v":11},"Aircraft Electrical and Instrument Systems",null,"Thermodynamic Principles and Practice",{"$f":"IF(COUNTIF(Diploma!$E$29:$E$70,ES11)>=1,\"\",ROW())","v":11},"Thermodynamic Principles and Practice",null,null,null,null,null,null,null,null,null,null,null,null,null,null,null,null,null,null,null,null,null,"Digital 2D and 3D Graphics",{"$f":"IF(COUNTIF(Diploma!$E$29:$E$70,FQ11)>=1,\"\",ROW())","v":11},"Digital 2D and 3D Graphics",null,null,null,null,null,"Interpreting Classical Text for Performance",{"$f":"IF(COUNTIF(Diploma!$E$29:$E$70,FY11)>=1,\"\",ROW())","v":11},"Interpreting Classical Text for Performance",null,"Leisure Management",{"$f":"IF(COUNTIF(Diploma!$E$29:$E$70,GC11)>=1,\"\",ROW())","v":11},"Leisure Management",null,null,null,null,null,null,null,null,null,"Recruitment and selection in Travel and Tourism",{"$f":"IF(COUNTIF(Diploma!$E$29:$E$70,GO11)>=1,\"\",ROW())","v":11},"Recruitment and selection in Travel and Tourism",null,"Outdoor Horticultural Crop Production",{"$f":"IF(COUNTIF(Diploma!$E$29:$E$70,GS11)>=1,\"\",ROW())","v":11},"Outdoor Horticultural Crop Production","Ethical and Current Issues in Esports",{"$f":"IF(COUNTIF(Diploma!$E$29:$E$70,GV11)>=1,\"\",ROW())","v":11},"Ethical and Current Issues in Esports",null,null,null,null,null,"Psychology for Professional Sports Performance",{"$f":"IF(COUNTIF(Diploma!$E$29:$E$70,HD11)>=1,\"\",ROW())","v":11},"Psychology for Professional Sports Performance",null,null,null,null,null,"Research Skills in the Uniformed Protective Services",{"$f":"IF(COUNTIF(Diploma!$E$29:$E$70,HL11)>=1,\"\",ROW())","v":11},"Research Skills in the Uniformed Protective Services"]
["Sheep Production",{"$f":"IF(COUNTIF(Diploma!$E$29:$E$70,A12)>=1,\"\",ROW())","v":12},"Sheep Production",null,"Practical Estate Planning, Construction and Maintenance",{"$f":"IF(COUNTIF(Diploma!$E$29:$E$70,E12)>=1,\"\",ROW())","v":12},"Practical Estate Planning, Construction and Maintenance",null,"Industrial Chemical Reactions",{"$f":"IF(COUNTIF(Diploma!$E$29:$E$70,I12)>=1,\"\",ROW())","v":12},"Industrial Chemical Reactions",null,null,null,null,null,null,null,null,null,null,null,null,null,null,null,null,null,null,null,null,null,null,null,null,null,"Creative Promotion",{"$f":"IF(COUNTIF(Diploma!$E$29:$E$70,AK12)>=1,\"\",ROW())","v":12},"Creative Promotion",null,null,null,null,null,null,null,null,null,"Managing and Supporting Systems",{"$f":"IF(COUNTIF(Diploma!$E$29:$E$70,AW12)>=1,\"\",ROW())","v":12},"Managing and Supporting Systems",null,null,null,null,null,null,null,null,null,null,null,null,null,null,null,null,null,null,null,null,null,"Coastal Habitats Management",{"$f":"IF(COUNTIF(Diploma!$E$29:$E$70,BU12)>=1,\"\",ROW())","v":12},"Coastal Habitats Management",null,null,null,null,null,null,null,null,null,null,null,null,null,null,null,null,null,null,null,null,null,null,null,null,null,"Energy Management",{"$f":"IF(COUNTIF(Diploma!$E$29:$E$70,CW12)>=1,\"\",ROW())","v":12},{"$f":"IF(ROW(CW12)-ROW(CW$2)+1>COUNT(CX$2:CX$17),\"\",INDEX(CW:CW,SMALL(CX$2:CX$17,1+ROW(CW12)-ROW(CW$2))))","v":"Energy Management"},null,null,null,null,null,"Computer Programming",{"$f":"IF(COUNTIF(Diploma!$E$29:$E$70,DE12)>=1,\"\",ROW())","v":12},"Computer Programming",null,"Computer Programming",{"$f":"IF(OR(COUNTIF(Diploma!$E$29:$E$70,DI12)>=1,COUNTIF(Diploma!$E$29:$E$70,DI13)>=1),\"\",ROW())","v":12},"Computer Programming",null,"Computer Networks",{"$f":"IF(COUNTIF(Diploma!$E$29:$E$70,DM12)>=1,\"\",ROW())","v":12},"Computer Networks",null,"Thermodynamic Principles and Practice",{"$f":"IF(COUNTIF(Diploma!$E$29:$E$70,DQ12)>=1,\"\",ROW())","v":12},"Thermodynamic Principles and Practice",null,"Programmable Logic Controllers",{"$f":"IF(COUNTIF(Diploma!$E$29:$E$70,DU12)>=1,\"\",ROW())","v":12},"Programmable Logic Controllers",null,null,null,null,null,"Analogue Electronic Circuits",{"$f":"IF(COUNTIF(Diploma!$E$29:$E$70,EC12)>=1,\"\",ROW())","v":12},"Analogue Electronic Circuits",null,"Manufacturing Joining, Finishing and Assembly Processes",{"$f":"IF(COUNTIF(Diploma!$E$29:$E$70,EG12)>=1,\"\",ROW())","v":12},"Manufacturing Joining, Finishing and Assembly Processes",null,"Static Mechanical Principles in Practice",{"$f":"IF(COUNTIF(Diploma!$E$29:$E$70,EK12)>=1,\"\",ROW())","v":12},"Static Mechanical Principles in Practice",null,"Aircraft First Line Maintenance Operations",{"$f":"IF(COUNTIF(Diploma!$E$29:$E$70,EO12)>=1,\"\",ROW())","v":12},"Aircraft First Line Maintenance Operations",null,"Computer Programming",{"$f":"IF(COUNTIF(Diploma!$E$29:$E$70,ES12)>=1,\"\",ROW())","v":12},"Computer Programming",null,null,null,null,null,null,null,null,null,null,null,null,null,null,null,null,null,null,null,null,null,"Digital Animation and Effects",{"$f":"IF(COUNTIF(Diploma!$E$29:$E$70,FQ12)>=1,\"\",ROW())","v":12},"Digital Animation and Effects",null,null,null,null,null,"Acting Styles",{"$f":"IF(COUNTIF(Diploma!$E$29:$E$70,FY12)>=1,\"\",ROW())","v":12},"Acting Styles",null,"Leisure Centre Operations",{"$f":"IF(COUNTIF(Diploma!$E$29:$E$70,GC12)>=1,\"\",ROW())","v":12},"Leisure Centre Operations",null,null,null,null,null,null,null,null,null,null,null,null,null,"Zoological Horticulture",{"$f":"IF(COUNTIF(Diploma!$E$29:$E$70,GS12)>=1,\"\",ROW())","v":12},"Zoological Horticulture","Corporate Social Responsibility in Sport",{"$f":"IF(COUNTIF(Diploma!$E$29:$E$70,GV12)>=1,\"\",ROW())","v":12},"Corporate Social Responsibility in Sport",null,null,null,null,null,null,null,null,null,null,null,null,null,"Understanding the Third Sector",{"$f":"IF(COUNTIF(Diploma!$E$29:$E$70,HL12)>=1,\"\",ROW())","v":12},"Understanding the Third Sector"]
["Beef Production",{"$f":"IF(COUNTIF(Diploma!$E$29:$E$70,A13)>=1,\"\",ROW())","v":13},"Beef Production",null,"Zoological Animal Health and Husbandry",{"$f":"IF(COUNTIF(Diploma!$E$29:$E$70,E13)>=1,\"\",ROW())","v":13},"Zoological Animal Health and Husbandry",null,"Practical Chemical Analysis",{"$f":"IF(COUNTIF(Diploma!$E$29:$E$70,I13)>=1,\"\",ROW())","v":13},"Practical Chemical Analysis",null,null,null,null,null,null,null,null,null,null,null,null,null,null,null,null,null,null,null,null,null,null,null,null,null,"Pitching for a New Business",{"$f":"IF(COUNTIF(Diploma!$E$29:$E$70,AK13)>=1,\"\",ROW())","v":13},"Pitching for a New Business",null,null,null,null,null,null,null,null,null,"Virtualisation",{"$f":"IF(COUNTIF(Diploma!$E$29:$E$70,AW13)>=1,\"\",ROW())","v":13},"Virtualisation",null,null,null,null,null,null,null,null,null,null,null,null,null,null,null,null,null,null,null,null,null,"Working Dogs",{"$f":"IF(COUNTIF(Diploma!$E$29:$E$70,BU13)>=1,\"\",ROW())","v":13},"Working Dogs",null,null,null,null,null,null,null,null,null,null,null,null,null,null,null,null,null,null,null,null,null,null,null,null,null,null,null,null,null,null,null,null,null,"Programmable Logic Controllers",{"$f":"IF(COUNTIF(Diploma!$E$29:$E$70,DE13)>=1,\"\",ROW())","v":13},"Programmable Logic Controllers",null,"Programmable Logic Controllers",{"$f":"IF(OR(COUNTIF(Diploma!$E$29:$E$70,DI12)>=1,COUNTIF(Diploma!$E$29:$E$70,DI13)>=1),\"\",ROW())","v":13},"Programmable Logic Controllers",null,"Website Production to Control Devices",{"$f":"IF(COUNTIF(Diploma!$E$29:$E$70,DM13)>=1,\"\",ROW())","v":13},"Website Production to Control Devices",null,null,null,null,null,"Manufacturing Secondary Machining Processes",{"$f":"IF(COUNTIF(Diploma!$E$29:$E$70,DU13)>=1,\"\",ROW())","v":13},"Manufacturing Secondary Machining Processes",null,null,null,null,null,"Electronic Measurement and Testing of Circuits",{"$f":"IF(COUNTIF(Diploma!$E$29:$E$70,EC13)>=1,\"\",ROW())","v":13},"Electronic Measurement and Testing of Circuits",null,"Composites Manufacture and Repair Processes",{"$f":"IF(COUNTIF(Diploma!$E$29:$E$70,EG13)>=1,\"\",ROW())","v":13},"Composites Manufacture and Repair Processes",null,"Dynamic Mechanical Principles in Practice",{"$f":"IF(COUNTIF(Diploma!$E$29:$E$70,EK13)>=1,\"\",ROW())","v":13},"Dynamic Mechanical Principles in Practice",null,null,null,null,null,"Programmable Logic Controllers",{"$f":"IF(COUNTIF(Diploma!$E$29:$E$70,ES13)>=1,\"\",ROW())","v":13},"Programmable Logic Controllers",null,null,null,null,null,null,null,null,null,null,null,null,null,null,null,null,null,null,null,null,null,"The Internet of Things",{"$f":"IF(COUNTIF(Diploma!$E$29:$E$70,FQ13)>=1,\"\",ROW())","v":13},"The Internet of Things",null,null,null,null,null,"Developing the Voice for Performance",{"$f":"IF(COUNTIF(Diploma!$E$29:$E$70,FY13)>=1,\"\",ROW())","v":13},"Developing the Voice for Performance",null,"Sports Performance Analysis",{"$f":"IF(COUNTIF(Diploma!$E$29:$E$70,GC13)>=1,\"\",ROW())","v":13},"Sports Performance Analysis",null,null,null,null,null,null,null,null,null,null,null,null,null,"Wildlife Ecology and Conservation Management",{"$f":"IF(COUNTIF(Diploma!$E$29:$E$70,GS13)>=1,\"\",ROW())","v":13},"Wildlife Ecology and Conservation Management","Sports and Esports Law and Legislation",{"$f":"IF(COUNTIF(Diploma!$E$29:$E$70,GV13)>=1,\"\",ROW())","v":13},"Sports and Esports Law and Legislation",null,null,null,null,null,null,null,null,null,null,null,null,null,"Criminal Investigation Procedures and Practice",{"$f":"IF(COUNTIF(Diploma!$E$29:$E$70,HL13)>=1,\"\",ROW())","v":13},"Criminal Investigation Procedures and Practice"]
["Dairy Production",{"$f":"IF(COUNTIF(Diploma!$E$29:$E$70,A14)>=1,\"\",ROW())","v":14},"Dairy Production",null,"Wildlife Ecology and Conservation Management",{"$f":"IF(COUNTIF(Diploma!$E$29:$E$70,E14)>=1,\"\",ROW())","v":14},"Wildlife Ecology and Conservation Management",null,"Biomedical Science",{"$f":"IF(COUNTIF(Diploma!$E$29:$E$70,I14)>=1,\"\",ROW())","v":14},"Biomedical Science",null,null,null,null,null,null,null,null,null,null,null,null,null,null,null,null,null,null,null,null,null,null,null,null,null,"Investigating Corporate Social Responsibility",{"$f":"IF(COUNTIF(Diploma!$E$29:$E$70,AK14)>=1,\"\",ROW())","v":14},"Investigating Corporate Social Responsibility",null,null,null,null,null,null,null,null,null,"Systems Analysis and Design",{"$f":"IF(COUNTIF(Diploma!$E$29:$E$70,AW14)>=1,\"\",ROW())","v":14},"Systems Analysis and Design",null,null,null,null,null,null,null,null,null,null,null,null,null,null,null,null,null,null,null,null,null,"Controlling Firearm Safety in the Land-based Sectors",{"$f":"IF(COUNTIF(Diploma!$E$29:$E$70,BU14)>=1,\"\",ROW())","v":14},"Controlling Firearm Safety in the Land-based Sectors",null,null,null,null,null,null,null,null,null,null,null,null,null,null,null,null,null,null,null,null,null,null,null,null,null,null,null,null,null,null,null,null,null,"Computer Networks",{"$f":"IF(COUNTIF(Diploma!$E$29:$E$70,DE14)>=1,\"\",ROW())","v":14},"Computer Networks",null,"Industrial Robotics",{"$f":"IF(COUNTIF(Diploma!$E$29:$E$70,DI14)>=1,\"\",ROW())","v":14},"Industrial Robotics",null,"Manufacturing Secondary Machining Processes",{"$f":"IF(COUNTIF(Diploma!$E$29:$E$70,DM14)>=1,\"\",ROW())","v":14},"Manufacturing Secondary Machining Processes",null,null,null,null,null,"Manufacturing Primary Forming Processes",{"$f":"IF(COUNTIF(Diploma!$E$29:$E$70,DU14)>=1,\"\",ROW())","v":14},"Manufacturing Primary Forming Processes",null,null,null,null,null,"Electronic Printed Circuit Board Design and Manufacture",{"$f":"IF(COUNTIF(Diploma!$E$29:$E$70,EC14)>=1,\"\",ROW())","v":14},"Electronic Printed Circuit Board Design and Manufacture",null,"Industrial Robotics",{"$f":"IF(COUNTIF(Diploma!$E$29:$E$70,EG14)>=1,\"\",ROW())","v":14},{"$f":"IF(ROW(EG14)-ROW(EG$2)+1>COUNT(EH$2:EH$40),\"\",INDEX(EG:EG,SMALL(EH$2:EH$40,1+ROW(EG14)-ROW(EG$2))))","v":"Industrial Robotics"},null,"Computer Systems Support and Performance",{"$f":"IF(COUNTIF(Diploma!$E$29:$E$70,EK14)>=1,\"\",ROW())","v":14},"Computer Systems Support and Performance",null,null,null,null,null,"Manufacturing Secondary Machining Processes",{"$f":"IF(COUNTIF(Diploma!$E$29:$E$70,ES14)>=1,\"\",ROW())","v":14},"Manufacturing Secondary Machining Processes",null,null,null,null,null,null,null,null,null,null,null,null,null,null,null,null,null,null,null,null,null,"Enterprise in IT",{"$f":"IF(COUNTIF(Diploma!$E$29:$E$70,FQ14)>=1,\"\",ROW())","v":14},"Enterprise in IT",null,null,null,null,null,"Improvisation",{"$f":"IF(COUNTIF(Diploma!$E$29:$E$70,FY14)>=1,\"\",ROW())","v":14},"Improvisation",null,"Rules, Regulations and Officiating in Sport",{"$f":"IF(COUNTIF(Diploma!$E$29:$E$70,GC14)>=1,\"\",ROW())","v":14},"Rules, Regulations and Officiating in Sport",null,null,null,null,null,null,null,null,null,null,null,null,null,"History of Landscape and Garden Design",{"$f":"IF(COUNTIF(Diploma!$E$29:$E$70,GS14)>=1,\"\",ROW())","v":14},"History of Landscape and Garden Design","Launching Your Esports Enterprise",{"$f":"IF(COUNTIF(Diploma!$E$29:$E$70,GV14)>=1,\"\",ROW())","v":14},"Launching Your Esports Enterprise",null,null,null,null,null,null,null,null,null,null,null,null,null,"Professional Development in the Uniformed Protective Services",{"$f":"IF(COUNTIF(Diploma!$E$29:$E$70,HL14)>=1,\"\",ROW())","v":14},"Professional Development in the Uniformed Protective Services"]
["Livestock Nutrition",{"$f":"IF(COUNTIF(Diploma!$E$29:$E$70,A15)>=1,\"\",ROW())","v":15},"Livestock Nutrition",null,null,null,null,null,"Medical Physics Applications",{"$f":"IF(COUNTIF(Diploma!$E$29:$E$70,I15)>=1,\"\",ROW())","v":15},"Medical Physics Applications",null,null,null,null,null,null,null,null,null,null,null,null,null,null,null,null,null,null,null,null,null,null,null,null,null,"Training and Development",{"$f":"IF(COUNTIF(Diploma!$E$29:$E$70,AK15)>=1,\"\",ROW())","v":15},"Training and Development",null,null,null,null,null,null,null,null,null,"Systems Methodology",{"$f":"IF(COUNTIF(Diploma!$E$29:$E$70,AW15)>=1,\"\",ROW())","v":15},"Systems Methodology",null,null,null,null,null,null,null,null,null,null,null,null,null,null,null,null,null,null,null,null,null,null,null,null,null,null,null,null,null,null,null,null,null,null,null,null,null,null,null,null,null,null,null,null,null,null,null,null,null,null,null,null,null,null,null,null,null,"Website Production to Control Devices",{"$f":"IF(COUNTIF(Diploma!$E$29:$E$70,DE15)>=1,\"\",ROW())","v":15},"Website Production to Control Devices",null,null,null,null,null,"Manufacturing Computer Numerical Control Machining Processes",{"$f":"IF(COUNTIF(Diploma!$E$29:$E$70,DM15)>=1,\"\",ROW())","v":15},"Manufacturing Computer Numerical Control Machining Processes",null,null,null,null,null,"Manufacturing Computer Numerical Control Machining Processes",{"$f":"IF(COUNTIF(Diploma!$E$29:$E$70,DU15)>=1,\"\",ROW())","v":15},"Manufacturing Computer Numerical Control Machining Processes",null,null,null,null,null,"Maintenance of Mechanical Systems",{"$f":"IF(COUNTIF(Diploma!$E$29:$E$70,EC15)>=1,\"\",ROW())","v":15},"Maintenance of Mechanical Systems",null,null,null,null,null,"Computer Programming",{"$f":"IF(COUNTIF(Diploma!$E$29:$E$70,EK15)>=1,\"\",ROW())","v":15},"Computer Programming",null,null,null,null,null,"Manufacturing Computer Numerical Control Machining Processes",{"$f":"IF(COUNTIF(Diploma!$E$29:$E$70,ES15)>=1,\"\",ROW())","v":15},"Manufacturing Computer Numerical Control Machining Processes",null,null,null,null,null,null,null,null,null,null,null,null,null,null,null,null,null,null,null,null,null,"Business Process Modelling Tools",{"$f":"IF(COUNTIF(Diploma!$E$29:$E$70,FQ15)>=1,\"\",ROW())","v":15},"Business Process Modelling Tools",null,null,null,null,null,"Movement in Performance",{"$f":"IF(COUNTIF(Diploma!$E$29:$E$70,FY15)>=1,\"\",ROW())","v":15},"Movement in Performance",null,"Technical and Tactical Demands of Sport",{"$f":"IF(COUNTIF(Diploma!$E$29:$E$70,GC15)>=1,\"\",ROW())","v":15},"Technical and Tactical Demands of Sport",null,null,null,null,null,null,null,null,null,null,null,null,null,"Landscape and Garden Design",{"$f":"IF(COUNTIF(Diploma!$E$29:$E$70,GS15)>=1,\"\",ROW())","v":15},"Landscape and Garden Design","Customer Immersion Experiences",{"$f":"IF(COUNTIF(Diploma!$E$29:$E$70,GV15)>=1,\"\",ROW())","v":15},"Customer Immersion Experiences",null,null,null,null,null,null,null,null,null,null,null,null,null,"Technological Systems to Support Service Delivery",{"$f":"IF(COUNTIF(Diploma!$E$29:$E$70,HL15)>=1,\"\",ROW())","v":15},"Technological Systems to Support Service Delivery"]
["Organic Agricultural Production",{"$f":"IF(COUNTIF(Diploma!$E$29:$E$70,A16)>=1,\"\",ROW())","v":16},"Organic Agricultural Production",null,null,null,null,null,"Materials Science",{"$f":"IF(COUNTIF(Diploma!$E$29:$E$70,I16)>=1,\"\",ROW())","v":16},"Materials Science",null,null,null,null,null,null,null,null,null,null,null,null,null,null,null,null,null,null,null,null,null,null,null,null,null,"Market Research",{"$f":"IF(COUNTIF(Diploma!$E$29:$E$70,AK16)>=1,\"\",ROW())","v":16},"Market Research",null,null,null,null,null,null,null,null,null,null,null,null,null,null,null,null,null,null,null,null,null,null,null,null,null,null,null,null,null,null,null,null,null,null,null,null,null,null,null,null,null,null,null,null,null,null,null,null,null,null,null,null,null,null,null,null,null,null,null,null,null,null,null,null,null,null,null,null,null,"Modern Manufacturing Systems",{"$f":"IF(COUNTIF(Diploma!$E$29:$E$70,DE16)>=1,\"\",ROW())","v":16},"Modern Manufacturing Systems",null,null,null,null,null,"Fabrication Manufacturing Processes",{"$f":"IF(COUNTIF(Diploma!$E$29:$E$70,DM16)>=1,\"\",ROW())","v":16},"Fabrication Manufacturing Processes",null,null,null,null,null,"Fabrication Manufacturing Processes",{"$f":"IF(COUNTIF(Diploma!$E$29:$E$70,DU16)>=1,\"\",ROW())","v":16},"Fabrication Manufacturing Processes",null,null,null,null,null,"Mechanical Behaviour of Metallic Materials",{"$f":"IF(COUNTIF(Diploma!$E$29:$E$70,EC16)>=1,\"\",ROW())","v":16},"Mechanical Behaviour of Metallic Materials",null,null,null,null,null,"Programmable Logic Controllers",{"$f":"IF(COUNTIF(Diploma!$E$29:$E$70,EK16)>=1,\"\",ROW())","v":16},"Programmable Logic Controllers",null,null,null,null,null,"Additive Manufacturing Processes",{"$f":"IF(COUNTIF(Diploma!$E$29:$E$70,ES16)>=1,\"\",ROW())","v":16},"Additive Manufacturing Processes",null,null,null,null,null,null,null,null,null,null,null,null,null,null,null,null,null,null,null,null,null,null,null,null,null,null,null,null,null,"Singing Techniques for Performers",{"$f":"IF(COUNTIF(Diploma!$E$29:$E$70,FY16)>=1,\"\",ROW())","v":16},"Singing Techniques for Performers",null,"Principles and Practices for Outdoor and Adventurous Activities",{"$f":"IF(COUNTIF(Diploma!$E$29:$E$70,GC16)>=1,\"\",ROW())","v":16},"Principles and Practices for Outdoor and Adventurous Activities",null,null,null,null,null,null,null,null,null,null,null,null,null,"Constructing Decorative Landscape Features",{"$f":"IF(COUNTIF(Diploma!$E$29:$E$70,GS16)>=1,\"\",ROW())","v":16},"Constructing Decorative Landscape Features","Computer Networking",{"$f":"IF(COUNTIF(Diploma!$E$29:$E$70,GV16)>=1,\"\",ROW())","v":16},"Computer Networking"]
["Land-based Workshop Practices",{"$f":"IF(COUNTIF(Diploma!$E$29:$E$70,A17)>=1,\"\",ROW())","v":17},"Land-based Workshop Practices",null,null,null,null,null,"Forensic Evidence, Collection and Analysis",{"$f":"IF(COUNTIF(Diploma!$E$29:$E$70,I17)>=1,\"\",ROW())","v":17},"Forensic Evidence, Collection and Analysis",null,null,null,null,null,null,null,null,null,null,null,null,null,null,null,null,null,null,null,null,null,null,null,null,null,"The English Legal System",{"$f":"IF(COUNTIF(Diploma!$E$29:$E$70,AK17)>=1,\"\",ROW())","v":17},"The English Legal System",null,null,null,null,null,null,null,null,null,null,null,null,null,null,null,null,null,null,null,null,null,null,null,null,null,null,null,null,null,null,null,null,null,null,null,null,null,null,null,null,null,null,null,null,null,null,null,null,null,null,null,null,null,null,null,null,null,null,null,null,null,null,null,null,null,null,null,null,null,"Computer Aided Manufacturing and Planning",{"$f":"IF(COUNTIF(Diploma!$E$29:$E$70,DE17)>=1,\"\",ROW())","v":17},"Computer Aided Manufacturing and Planning",null,null,null,null,null,"Additive Manufacturing Processes",{"$f":"IF(COUNTIF(Diploma!$E$29:$E$70,DM17)>=1,\"\",ROW())","v":17},"Additive Manufacturing Processes",null,null,null,null,null,"Additive Manufacturing Processes",{"$f":"IF(COUNTIF(Diploma!$E$29:$E$70,DU17)>=1,\"\",ROW())","v":17},"Additive Manufacturing Processes",null,null,null,null,null,"Static Mechanical Principles in Practice",{"$f":"IF(COUNTIF(Diploma!$E$29:$E$70,EC17)>=1,\"\",ROW())","v":17},"Static Mechanical Principles in Practice",null,null,null,null,null,null,null,null,null,null,null,null,null,"Composites Manufacture and Repair Processes",{"$f":"IF(COUNTIF(Diploma!$E$29:$E$70,ES17)>=1,\"\",ROW())","v":17},"Composites Manufacture and Repair Processes",null,null,null,null,null,null,null,null,null,null,null,null,null,null,null,null,null,null,null,null,null,null,null,null,null,null,null,null,null,"Physical Theatre Techniques",{"$f":"IF(COUNTIF(Diploma!$E$29:$E$70,FY17)>=1,\"\",ROW())","v":17},"Physical Theatre Techniques",null,"Environmental Sustainability for Outdoor and Adventurous Activities",{"$f":"IF(COUNTIF(Diploma!$E$29:$E$70,GC17)>=1,\"\",ROW())","v":17},"Environmental Sustainability for Outdoor and Adventurous Activities",null,null,null,null,null,null,null,null,null,null,null,null,null,"Linear and Level Surveying",{"$f":"IF(COUNTIF(Diploma!$E$29:$E$70,GS17)>=1,\"\",ROW())","v":17},"Linear and Level Surveying"]
[null,null,null,null,null,null,null,null,null,null,null,null,null,null,null,null,null,null,null,null,null,null,null,null,null,null,null,null,null,null,null,null,null,null,null,null,"Employment Law",{"$f":"IF(COUNTIF(Diploma!$E$29:$E$70,AK18)>=1,\"\",ROW())","v":18},"Employment Law",null,null,null,null,null,null,null,null,null,null,null,null,null,null,null,null,null,null,null,null,null,null,null,null,null,null,null,null,null,null,null,null,null,null,null,null,null,null,null,null,null,null,null,null,null,null,null,null,null,null,null,null,null,null,null,null,null,null,null,null,null,null,null,null,null,null,null,null,null,"Manufacturing Secondary Machining Processes",{"$f":"IF(COUNTIF(Diploma!$E$29:$E$70,DE18)>=1,\"\",ROW())","v":18},"Manufacturing Secondary Machining Processes",null,null,null,null,null,null,null,null,null,null,null,null,null,"Industrial Robotics",{"$f":"IF(COUNTIF(Diploma!$E$29:$E$70,DU18)>=1,\"\",ROW())","v":18},{"$f":"IF(ROW(DU18)-ROW(DU$2)+1>COUNT(DV$2:DV$40),\"\",INDEX(DU:DU,SMALL(DV$2:DV$40,1+ROW(DU18)-ROW(DU$2))))","v":"Industrial Robotics"},null,null,null,null,null,"Manufacturing Secondary Machining Processes",{"$f":"IF(COUNTIF(Diploma!$E$29:$E$70,EC18)>=1,\"\",ROW())","v":18},"Manufacturing Secondary Machining Processes",null,null,null,null,null,null,null,null,null,null,null,null,null,"Industrial Robotics",{"$f":"IF(COUNTIF(Diploma!$E$29:$E$70,ES18)>=1,\"\",ROW())","v":18},{"$f":"IF(ROW(ES18)-ROW(ES$2)+1>COUNT(ET$2:ET$40),\"\",INDEX(ES:ES,SMALL(ET$2:ET$40,1+ROW(ES18)-ROW(ES$2))))","v":"Industrial Robotics"},null,null,null,null,null,null,null,null,null,null,null,null,null,null,null,null,null,null,null,null,null,null,null,null,null,null,null,null,null,"Musical Theatre Techniques",{"$f":"IF(COUNTIF(Diploma!$E$29:$E$70,FY18)>=1,\"\",ROW())","v":18},"Musical Theatre Techniques"]
[null,null,null,null,null,null,null,null,null,null,null,null,null,null,null,null,null,null,null,null,null,null,null,null,null,null,null,null,null,null,null,null,null,null,null,null,"Aspects of Civil Liability Affecting Business",{"$f":"IF(COUNTIF(Diploma!$E$29:$E$70,AK19)>=1,\"\",ROW())","v":19},"Aspects of Civil Liability Affecting Business",null,null,null,null,null,null,null,null,null,null,null,null,null,null,null,null,null,null,null,null,null,null,null,null,null,null,null,null,null,null,null,null,null,null,null,null,null,null,null,null,null,null,null,null,null,null,null,null,null,null,null,null,null,null,null,null,null,null,null,null,null,null,null,null,null,null,null,null,null,"Manufacturing Primary Forming Processes",{"$f":"IF(COUNTIF(Diploma!$E$29:$E$70,DE19)>=1,\"\",ROW())","v":19},"Manufacturing Primary Forming Processes",null,null,null,null,null,null,null,null,null,null,null,null,null,null,null,null,null,null,null,null,null,"Additive Manufacturing Processes",{"$f":"IF(COUNTIF(Diploma!$E$29:$E$70,EC19)>=1,\"\",ROW())","v":19},"Additive Manufacturing Processes",null,null,null,null,null,null,null,null,null,null,null,null,null,null,null,null,null,null,null,null,null,null,null,null,null,null,null,null,null,null,null,null,null,null,null,null,null,null,null,null,null,null,null,null,null,"Variety Performance",{"$f":"IF(COUNTIF(Diploma!$E$29:$E$70,FY19)>=1,\"\",ROW())","v":19},"Variety Performance"]
[null,null,null,null,null,null,null,null,null,null,null,null,null,null,null,null,null,null,null,null,null,null,null,null,null,null,null,null,null,null,null,null,null,null,null,null,"Aspects of Criminal Law Impacting on Business and Individuals",{"$f":"IF(COUNTIF(Diploma!$E$29:$E$70,AK20)>=1,\"\",ROW())","v":20},"Aspects of Criminal Law Impacting on Business and Individuals",null,null,null,null,null,null,null,null,null,null,null,null,null,null,null,null,null,null,null,null,null,null,null,null,null,null,null,null,null,null,null,null,null,null,null,null,null,null,null,null,null,null,null,null,null,null,null,null,null,null,null,null,null,null,null,null,null,null,null,null,null,null,null,null,null,null,null,null,null,"Manufacturing Computer Numerical Control Machining Processes",{"$f":"IF(COUNTIF(Diploma!$E$29:$E$70,DE20)>=1,\"\",ROW())","v":20},"Manufacturing Computer Numerical Control Machining Processes",null,null,null,null,null,null,null,null,null,null,null,null,null,null,null,null,null,null,null,null,null,null,null,null,null,null,null,null,null,null,null,null,null,null,null,null,null,null,null,null,null,null,null,null,null,null,null,null,null,null,null,null,null,null,null,null,null,null,null,null,null,null,null,null,null,null,null,null,null,"Storytelling",{"$f":"IF(COUNTIF(Diploma!$E$29:$E$70,FY20)>=1,\"\",ROW())","v":20},"Storytelling"]
[null,null,null,null,null,null,null,null,null,null,null,null,null,null,null,null,null,null,null,null,null,null,null,null,null,null,null,null,null,null,null,null,null,null,null,null,"Work Experience in Business",{"$f":"IF(COUNTIF(Diploma!$E$29:$E$70,AK21)>=1,\"\",ROW())","v":21},"Work Experience in Business",null,null,null,null,null,null,null,null,null,null,null,null,null,null,null,null,null,null,null,null,null,null,null,null,null,null,null,null,null,null,null,null,null,null,null,null,null,null,null,null,null,null,null,null,null,null,null,null,null,null,null,null,null,null,null,null,null,null,null,null,null,null,null,null,null,null,null,null,null,"Fabrication Manufacturing Processes",{"$f":"IF(COUNTIF(Diploma!$E$29:$E$70,DE21)>=1,\"\",ROW())","v":21},"Fabrication Manufacturing Processes",null,null,null,null,null,null,null,null,null,null,null,null,null,null,null,null,null,null,null,null,null,null,null,null,null,null,null,null,null,null,null,null,null,null,null,null,null,null,null,null,null,null,null,null,null,null,null,null,null,null,null,null,null,null,null,null,null,null,null,null,null,null,null,null,null,null,null,null,null,"Stand-up Comedy Technique",{"$f":"IF(COUNTIF(Diploma!$E$29:$E$70,FY21)>=1,\"\",ROW())","v":21},"Stand-up Comedy Technique"]
[null,null,null,null,null,null,null,null,null,null,null,null,null,null,null,null,null,null,null,null,null,null,null,null,null,null,null,null,null,null,null,null,null,null,null,null,"Effective Management of Personal Debt",{"$f":"IF(COUNTIF(Diploma!$E$29:$E$70,AK22)>=1,\"\",ROW())","v":22},"Effective Management of Personal Debt",null,null,null,null,null,null,null,null,null,null,null,null,null,null,null,null,null,null,null,null,null,null,null,null,null,null,null,null,null,null,null,null,null,null,null,null,null,null,null,null,null,null,null,null,null,null,null,null,null,null,null,null,null,null,null,null,null,null,null,null,null,null,null,null,null,null,null,null,null,"Additive Manufacturing Processes",{"$f":"IF(COUNTIF(Diploma!$E$29:$E$70,DE22)>=1,\"\",ROW())","v":22},"Additive Manufacturing Processes"]
[null,null,null,null,null,null,null,null,null,null,null,null,null,null,null,null,null,null,null,null,null,null,null,null,null,null,null,null,null,null,null,null,null,null,null,null,null,null,null,null,null,null,null,null,null,null,null,null,null,null,null,null,null,null,null,null,null,null,null,null,null,null,null,null,null,null,null,null,null,null,null,null,null,null,null,null,null,null,null,null,null,null,null,null,null,null,null,null,null,null,null,null,null,null,null,null,null,null,null,null,null,null,null,null,null,null,null,null,"Manufacturing Joining, Finishing and Assembly Processes",{"$f":"IF(COUNTIF(Diploma!$E$29:$E$70,DE23)>=1,\"\",ROW())","v":23},"Manufacturing Joining, Finishing and Assembly Processes"]
[null,null,null,null,null,null,null,null,null,null,null,null,null,null,null,null,null,null,null,null,null,null,null,null,null,null,null,null,null,null,null,null,null,null,null,null,null,null,null,null,null,null,null,null,null,null,null,null,null,null,null,null,null,null,null,null,null,null,null,null,null,null,null,null,null,null,null,null,null,null,null,null,null,null,null,null,null,null,null,null,null,null,null,null,null,null,null,null,null,null,null,null,null,null,null,null,null,null,null,null,null,null,null,null,null,null,null,null,"Composites Manufacture and Repair Processes",{"$f":"IF(COUNTIF(Diploma!$E$29:$E$70,DE24)>=1,\"\",ROW())","v":24},"Composites Manufacture and Repair Processes"]
[null,null,null,null,null,null,null,null,null,null,null,null,null,null,null,null,null,null,null,null,null,null,null,null,null,null,null,null,null,null,null,null,null,null,null,null,null,null,null,null,null,null,null,null,null,null,null,null,null,null,null,null,null,null,null,null,null,null,null,null,null,null,null,null,null,null,null,null,null,null,null,null,null,null,null,null,null,null,null,null,null,null,null,null,null,null,null,null,null,null,null,null,null,null,null,null,null,null,null,null,null,null,null,null,null,null,null,null,"Industrial Robotics",{"$f":"IF(COUNTIF(Diploma!$E$29:$E$70,DE25)>=1,\"\",ROW())","v":25},{"$f":"IF(ROW(DE25)-ROW(DE$2)+1>COUNT(DF$2:DF$40),\"\",INDEX(DE:DE,SMALL(DF$2:DF$40,1+ROW(DE25)-ROW(DE$2))))","v":"Industrial Robotics"}]

{"sheet":"Diploma Data Sheet","index":18,"n_rows":456,"n_cols":39,"rows_kept":456,"cut":false,"hidden":true,"merged":[]}
["Mandatory units",null,null,null,null,null,"Mandatory units B",null,null,null,null,null,null,"optional Units A",null,null,null,null,null,null,"optional units B",null,null,null,null,null,null,"optional units C",null,null,null,null,null,null,"optional units D"]
["Sector","Unit number","Unit Name","GLH","Assessment type",null,"Sector","Unit number","Unit Name","GLH","Assessment type",null,null,"Sector","Unit Number","Unit Name","GLH","Assessment type",null,null,"Sector","Unit Number","Unit Name","GLH","Assessment type",null,null,"Sector","Unit Number","Unit Name","GLH","Assessment type",null,null,"Sector","Unit Number","Unit Name","GLH","Assessment type"]
["Agriculture",1,"Professional Working Responsibilities",120,"External",null,"Agriculture",4,"Work Experience in the Land-based Sectors",60,"Internal",null,"Crop Production","Agriculture",6,"Crop Production",60,"Internal",null,"Photographic Materials, Techniques and Processes","Art and Design Graphics",9,"Photographic Materials, Techniques and Processes",60,"Internal",null,"Calculus to Solve Engineering Problems","Engineering",7,"Calculus to Solve Engineering Problems",60,"Internal"]
["Agriculture",2,"Plant and Soil Science",120,"External",null,"Animal Management",5,"Animal Behaviour",60,"Internal",null,"Farm Livestock Husbandry","Agriculture",7,"Farm Livestock Husbandry",60,"Internal",null,"Interactive Design Materials, Techniques and Processes","Art and Design Graphics",11,"Interactive Design Materials, Techniques and Processes",60,"Internal",null,"Further Engineering Mathematics","Engineering",8,"Further Engineering Mathematics",60,"Internal"]
["Agriculture",5,"Estate Skills",60,"Internal",null,"Animal Management",6,"Animal Health and Diseases",60,"Internal",null,"Crop Handling, Storage and Quality Assurance","Agriculture",10,"Crop Handling, Storage and Quality Assurance",60,"Internal",null,"Fine Art Materials, Techniques and Processes","Art and Design Graphics",12,"Fine Art Materials, Techniques and Processes",60,"Internal",null,"Work Experience in the Engineering Sector","Engineering",9,"Work Experience in the Engineering Sector",60,"Internal"]
["Agriculture",8,"Land-based Machinery Operations",60,"Internal",null,"Animal Management",7,"Work Experience in the Animal Sector",60,"Internal",null,"Livestock Health and Diseases","Agriculture",11,"Livestock Health and Diseases",60,"Internal",null,"3D Design Materials, Techniques and Processes","Art and Design Graphics",13,"3D Design Materials, Techniques and Processes",60,"Internal",null,"Computer Aided Design in Engineering","Engineering",10,"Computer Aided Design in Engineering",60,"Internal"]
["Agriculture",9,"Managing Agricultural Environments",60,"Internal",null,"Animal Management",8,"Investigative Research Project",60,"Internal",null,"Developing a Land-based Enterprise","Agriculture",12,"Developing a Land-based Enterprise",60,"Internal",null,"Building Services Control Systems","Construction Building Services Engineering",27,"Building Services Control Systems",60,"Internal",null,"Engineering Maintenance and Condition Monitoring Techniques","Engineering",11,"Engineering Maintenance and Condition Monitoring Techniques",60,"Internal"]
["Agriculture",13,"Agricultural Enterprise Operations and Supervision",60,"Internal",null,"Applied Science",2,"Practical Scientific Procedures and Techniques",90,"Internal",null,"Root Crop and Field Vegetable Production","Agriculture",14,"Root Crop and Field Vegetable Production",60,"Internal",null,"Heating, Ventilation and Air Conditioning Design","Construction Building Services Engineering",28,"Heating, Ventilation and Air Conditioning Design",60,"Internal",null,"Pneumatic and Hydraulic Systems","Engineering",12,"Pneumatic and Hydraulic Systems",60,"Internal"]
["Animal Management",2,"Animal Biology",120,"External",null,"Applied Science",4,"Laboratory Techniques and their Application",90,"Internal",null,"Combinable Crop Production and Processing","Agriculture",15,"Combinable Crop Production and Processing",60,"Internal",null,"Use of Static and Dynamic Fluids in Building Services Engineering","Construction Building Services Engineering",29,"Use of Static and Dynamic Fluids in Building Services Engineering",60,"Internal",null,"Welding Technology","Engineering",13,"Welding Technology",60,"Internal"]
["Animal Management",3,"Animal Welfare and Ethics",120,"External",null,"Art and Design",3,"The Creative Process",90,"Internal",null,"Grass and Forage Crop Production","Agriculture",16,"Grass and Forage Crop Production",60,"Internal",null,"Plumbing Technology in Building Services Engineering","Construction Building Services Engineering",30,"Plumbing Technology in Building Services Engineering",60,"Internal",null,"Computer System Principles and Practice","Engineering",32,"Computer System Principles and Practice",60,"Internal"]
["Animal Management",4,"Practical Animal Husbandry",60,"Internal",null,"Art and Design",4,"Materials, Techniques and Process in Art and Design",90,"Internal",null,"Poultry Production","Agriculture",17,"Poultry Production",60,"Internal",null,"Electrical Principles in Building Services Engineering","Construction Building Services Engineering",31,"Electrical Principles in Building Services Engineering",60,"Internal",null,"Computer Systems Security","Engineering",33,"Computer Systems Security",60,"Internal"]
["Applied Science",1,"Principles and Applications of Science I",90,"External",null,"Art and Design",5,"Developing an Art and Design Portfolio",90,"Internal",null,"Pig Production","Agriculture",18,"Pig Production",60,"Internal",null,"Electrical Installation Standards, Components and Design","Construction Building Services Engineering",32,"Electrical Installation Standards, Components and Design",60,"Internal",null,"Computer Systems Support and Performance","Engineering",34,"Computer Systems Support and Performance",60,"Internal"]
["Applied Science",3,"Science Investigation Skills",120,"External",null,"Art and Design Fashion Design and Production",33,"Fashion Design",60,"Internal",null,"Sheep Production","Agriculture",19,"Sheep Production",60,"Internal",null,"Quantity Surveying Measurement Techniques in Building Services Engineering","Construction Building Services Engineering",33,"Quantity Surveying Measurement Techniques in Building Services Engineering",60,"Internal",null,"Computer Programming","Engineering",35,"Computer Programming",60,"Internal"]
["Applied Science",5,"Priciples and Applications of Science II",120,"External",null,"Art and Design Fashion Design and Production",34,"Pattern Development Methods and Techniques",60,"Internal",null,"Beef Production","Agriculture",20,"Beef Production",60,"Internal",null,"Building Regulations and Control in Building Services Engineering","Construction Building Services Engineering",34,"Building Regulations and Control in Building Services Engineering",60,"Internal",null,"Programmable Logic Controllers","Engineering",36,"Programmable Logic Controllers",60,"Internal"]
["Applied Science",6,"Investigative Project",90,"Internal",null,"Art and Design Fashion Design and Production",35,"Fashion Promotion",60,"Internal",null,"Dairy Production","Agriculture",21,"Dairy Production",60,"Internal",null,"Principles and Applications of Structural Mechanics","Construction Civil Engineering",35,"Principles and Applications of Structural Mechanics",60,"Internal",null,"Computer Networks","Engineering",37,"Computer Networks",60,"Internal"]
["Art and Design",1,"Visual Recording and Communication",120,"External",null,"Art and Design Fashion Design and Production",36,"Manufacturing Methods for Fashion",60,"Internal",null,"Livestock Nutrition","Agriculture",22,"Livestock Nutrition",60,"Internal",null,"Public Health Engineering","Construction Civil Engineering",36,"Public Health Engineering",60,"Internal",null,"Website Production to Control Devices","Engineering",38,"Website Production to Control Devices",60,"Internal"]
["Art and Design",2,"Critical and Contextual Studies in Art and Design",90,"External",null,"Art and Design Photography",17,"Studio Photography",60,"Internal",null,"Organic Agricultural Production","Agriculture",23,"Organic Agricultural Production",60,"Internal",null,"Specialist Civil Engineering Techniques","Construction Civil Engineering",37,"Specialist Civil Engineering Techniques",60,"Internal",null,"Modern Manufacturing Systems","Engineering",39,"Modern Manufacturing Systems",60,"Internal"]
["Art and Design",7,"Developing and Realising Creative Intentions",120,"External",null,"Art and Design Photography",18,"Location Photography",60,"Internal",null,"Land-based Workshop Practices","Agriculture",24,"Land-based Workshop Practices",60,"Internal",null,"Highway Construction and Maintenance in Civil Engineering","Construction Civil Engineering",38,"Highway Construction and Maintenance in Civil Engineering",60,"Internal",null,"Computer Aided Manufacturing and Planning","Engineering",40,"Computer Aided Manufacturing and Planning",60,"Internal"]
["Art and Design Fashion Design and Production",6,"Managing a Client Brief",120,"External",null,"Art and Design Photography",19,"Digital Image Capture and Editing",60,"Internal",null,"Business Management in the Animal Sector","Animal Management",12,"Business Management in the Animal Sector",60,"Internal",null,"Single Camera Techniques","Creative Digital Media Production Film and Television Visual Effects",20,"Single Camera Techniques",60,"Internal",null,"Manufacturing Secondary Machining Processes","Engineering",41,"Manufacturing Secondary Machining Processes",60,"Internal"]
["Art and Design Fashion Design and Production",7,"Developing and Realising Creative Intentions",120,"External",null,"Art and Design Photography",20,"Non-Digital Photographic Techniques",60,"Internal",null,"Animal Management in a Retail Environment","Animal Management",13,"Animal Management in a Retail Environment",60,"Internal",null,"Film Editing","Creative Digital Media Production Film and Television Visual Effects",21,"Film Editing",60,"Internal",null,"Manufacturing Primary Forming Processes","Engineering",42,"Manufacturing Primary Forming Processes",60,"Internal"]
["Art and Design Fashion Design and Production",8,"Professional Practice in Art and Design",120,"Internal",null,"Art and Design 3D Design and Crafts",16,"3D Design Craft Materials, Techniques and Processes",60,"Internal",null,"Animals in Boarding Establishments","Animal Management",14,"Animals in Boarding Establishments",60,"Internal",null,"Sound Editing","Creative Digital Media Production Film and Television Visual Effects",24,"Sound Editing",60,"Internal",null,"Manufacturing Computer Numerical Control Machining Processes","Engineering",43,"Manufacturing Computer Numerical Control Machining Processes",60,"Internal"]
["Art and Design Fashion Design and Production",15,"Fashion Materials, Techniques and Processes",60,"Internal",null,"Art and Design 3D Design and Crafts",37,"3D Model Making",60,"Internal",null,"Developing an Enterprise in the Animal Sector","Animal Management",15,"Developing an Enterprise in the Animal Sector",60,"Internal",null,"Lighting Techniques","Creative Digital Media Production Film and Television Visual Effects",36,"Lighting Techniques",60,"Internal",null,"Fabrication Manufacturing Processes","Engineering",44,"Fabrication Manufacturing Processes",60,"Internal"]
["Art and Design Graphics",6,"Managing a Client Brief",120,"External",null,"Art and Design 3D Design and Crafts",38,"Extending 3D Design Materials, Techniques and Processes",60,"Internal",null,"Animal Grooming","Animal Management",16,"Animal Grooming",60,"Internal",null,"3D Environments","Creative Digital Media Production Film and Television Visual Effects",41,"3D Environments",60,"Internal",null,"Additive Manufacturing Processes","Engineering",45,"Additive Manufacturing Processes",60,"Internal"]
["Art and Design Graphics",7,"Developing and Realising Creative Intentions",120,"External",null,"Art and Design 3D Design and Crafts",39,"Working to Scales",60,"Internal",null,"Principles of Animal Nursing","Animal Management",17,"Principles of Animal Nursing",60,"Internal",null,"Maintenance of Mechanical Systems","Engineering",24,"Maintenance of Mechanical Systems",60,"Internal",null,"Manufacturing Joining, Finishing and Assembly Processes","Engineering",46,"Manufacturing Joining, Finishing and Assembly Processes",60,"Internal"]
["Art and Design Graphics",8,"Professional Practice in Art and Design",120,"Internal",null,"Business",1,"Exploring Business",90,"Internal",null,"Aquatic Animal Health and Husbandry","Animal Management",18,"Aquatic Animal Health and Husbandry",60,"Internal",null,"Mechanical Behaviour of Metallic Materials","Engineering",25,"Mechanical Behaviour of Metallic Materials",60,"Internal",null,"Composites Manufacture and Repair Processes","Engineering",47,"Composites Manufacture and Repair Processes",60,"Internal"]
["Art and Design Graphics",10,"Graphic Materials, Techniques and Processes",60,"Internal",null,"Business",4,"Managing an Event",90,"Internal",null,"Fram Livestock Husbandry","Animal Management",19,"Fram Livestock Husbandry",60,"Internal",null,"Mechanical Behaviour of Non-metallic Materials","Engineering",26,"Mechanical Behaviour of Non-metallic Materials",60,"Internal",null,"Industrial Robotics","Engineering",56,"Industrial Robotics",60,"Internal"]
["Art and Design Photography",6,"Managing a Client Brief",120,"External",null,"Business",5,"International Business",90,"Internal",null,"Human and Animal Interaction","Animal Management",20,"Human and Animal Interaction",60,"Internal",null,"Static Mechanical Principles in Practice","Engineering",27,"Static Mechanical Principles in Practice",60,"Internal"]
["Art and Design Photography",7,"Developing and Realising Creative Intentions",120,"External",null,"Computer Science",5,"Building Computer Systems",60,"Internal",null,"Exotic Animal Husbandry","Animal Management",21,"Exotic Animal Husbandry",60,"Internal",null,"Dynamic Mechanical Principles in Practice","Engineering",28,"Dynamic Mechanical Principles in Practice",60,"Internal"]
["Art and Design Photography",8,"Professional Practice in Art and Design",120,"Internal",null,"Computer Science",22,"Systems Analysis and Design",60,"Internal",null,"Practical Estate Planning, Construction and Maintenance","Animal Management",22,"Practical Estate Planning, Construction and Maintenance",60,"Internal",null,"Principles and Applications of Fluid Mechanics","Engineering",29,"Principles and Applications of Fluid Mechanics",60,"Internal"]
["Art and Design Photography",9,"Photographic Materials, Techniques and Processes",60,"Internal",null,"Computing for Creative Industries",5,"Building Computer Systems",60,"Internal",null,"Zoological Animal Health and Husbandry","Animal Management",23,"Zoological Animal Health and Husbandry",60,"Internal",null,"Mechanical Measurement and Inspection Technology","Engineering",30,"Mechanical Measurement and Inspection Technology",60,"Internal"]
["Art and Design 3D Design and Crafts",6,"Managing a Client Brief",120,"External",null,"Computing for Creative Industries",24,"Software Development",60,"Internal",null,"Wildlife Ecology and Conservation Management","Animal Management",24,"Wildlife Ecology and Conservation Management",60,"Internal",null,"Thermodynamic Principles and Practice","Engineering",31,"Thermodynamic Principles and Practice",60,"Internal"]
["Art and Design 3D Design and Crafts",7,"Developing and Realising Creative Intentions",120,"External",null,"Computer Systems and Network Support",5,"Building Computer Systems",60,"Internal",null,"Physiology of Human Body Systems","Applied Science",8,"Physiology of Human Body Systems",60,"Internal",null,"Sustainable Transport","Engineering",57,"Sustainable Transport",60,"Internal"]
["Art and Design 3D Design and Crafts",8,"Professional Practice in Art and Design",120,"Internal",null,"Computer Systems and Network Support",21,"Virtualisation",60,"Internal",null,"Human Regulation and Reproduction","Applied Science",9,"Human Regulation and Reproduction",60,"Internal",null,"Calculus to Solve Engineering Problems","Electrical and Electronic Engineering",7,"Calculus to Solve Engineering Problems",60,"Internal"]
["Art and Design 3D Design and Crafts",13,"3D Design Materials, Techniques and Processes",60,"Internal",null,"Computer Systems and Network Support",26,"Programmable Devices and Controllers",60,"Internal",null,"Biological Molecules and Metabolic Pathways","Applied Science",10,"Biological Molecules and Metabolic Pathways",60,"Internal",null,"Further Engineering Mathematics","Electrical and Electronic Engineering",8,"Further Engineering Mathematics",60,"Internal"]
["Business",2,"Developing a Marketing Campaign",90,"External",null,"Computer Systems and Network Support",28,"Computer Forensics",60,"Internal",null,"Genetics and Genetic Engineering","Applied Science",11,"Genetics and Genetic Engineering",60,"Internal",null,"Work Experience in the Engineering Sector","Electrical and Electronic Engineering",9,"Work Experience in the Engineering Sector",60,"Internal"]
["Business",3,"Personal and Business Finance",120,"External",null,"Computer Systems and Network Support",29,"Network Operating Systems",60,"Internal",null,"Diseases and Infections","Applied Science",12,"Diseases and Infections",60,"Internal",null,"Pneumatic and Hydraulic Systems","Electrical and Electronic Engineering",12,"Pneumatic and Hydraulic Systems",60,"Internal"]
["Business",6,"Principles of Management",120,"External",null,"Computer Systems and Network Support",30,"Communication Technologies",60,"Internal",null,"Applications of Inorganic Chemistry","Applied Science",13,"Applications of Inorganic Chemistry",60,"Internal",null,"Maintenance of Mechanical Systems","Electrical and Electronic Engineering",24,"Maintenance of Mechanical Systems",60,"Internal"]
["CPLD",1,"Children's Development",120,"External",null,"Business Information Systems",5,"Building Computer Systems",60,"Internal",null,"Applications of Organic Chemistry","Applied Science",14,"Applications of Organic Chemistry",60,"Internal",null,"Mechanical Behaviour of Metallic Materials","Electrical and Electronic Engineering",25,"Mechanical Behaviour of Metallic Materials",60,"Internal"]
["CPLD",2,"Development of Children’s Communication, Literacy and Numeracy Skills",120,"External",null,"Business Information Systems",10,"Human-computer Interaction",60,"Internal",null,"Electrical Circuits and their Application","Applied Science",15,"Electrical Circuits and their Application",60,"Internal",null,"Static Mechanical Principles in Practice","Electrical and Electronic Engineering",27,"Static Mechanical Principles in Practice",60,"Internal"]
["CPLD",3,"Play and Learning",60,"Internal",null,"Business Information Systems",18,"Relational Database Development",60,"Internal",null,"Astronomy and Space Science","Applied Science",16,"Astronomy and Space Science",60,"Internal",null,"Mechanical Measurement and Inspection Technology","Electrical and Electronic Engineering",30,"Mechanical Measurement and Inspection Technology",60,"Internal"]
["CPLD",5,"Keeping Children Safe",60,"Internal",null,"Business Information Systems",22,"Systems Analysis and Design",60,"Internal",null,"Microbiology and Microbiological Techniques","Applied Science",17,"Microbiology and Microbiological Techniques",60,"Internal",null,"Computer Systems Security","Electrical and Electronic Engineering",33,"Computer Systems Security",60,"Internal"]
["CPLD",6,"Children’s Physical Development, Care and Health Needs",60,"Internal",null,"Business Information Systems",23,"Systems Methodology",60,"Internal",null,"Industrial Chemical Reactions","Applied Science",18,"Industrial Chemical Reactions",60,"Internal",null,"Computer Systems Support and Performance","Electrical and Electronic Engineering",34,"Computer Systems Support and Performance",60,"Internal"]
["CPLD",7,"Children's Personal, Social and Emotional Development",60,"Internal",null,"Business Information Systems",32,"Business Process Modelling Tools",60,"Internal",null,"Practical Chemical Analysis","Applied Science",19,"Practical Chemical Analysis",60,"Internal",null,"Computer Networks","Electrical and Electronic Engineering",37,"Computer Networks",60,"Internal"]
["CPLD",8,"Working with Parents and Others in Early Years",60,"Internal",null,"Computing",7,"IT Systems Security and Encryption",90,"Internal",null,"Biomedical Science","Applied Science",20,"Biomedical Science",60,"Internal",null,"Website Production to Control Devices","Electrical and Electronic Engineering",38,"Website Production to Control Devices",60,"Internal"]
["CPLD",9,"Observation, Assessment and Planning",60,"Internal",null,"Computing",8,"Business Applications of Social Media",90,"Internal",null,"Medical Physics Applications","Applied Science",21,"Medical Physics Applications",60,"Internal",null,"Manufacturing Secondary Machining Processes","Electrical and Electronic Engineering",41,"Manufacturing Secondary Machining Processes",60,"Internal"]
["CPLD",10,"Reflective Practice",60,"Internal",null,"Computing",9,"The Impact of Computing",90,"Internal",null,"Materials Science","Applied Science",22,"Materials Science",60,"Internal",null,"Manufacturing Computer Numerical Control Machining Processes","Electrical and Electronic Engineering",43,"Manufacturing Computer Numerical Control Machining Processes",60,"Internal"]
["CPLD",11,"The Early Years Foundation Stage",60,"Internal",null,"Construction and the Built Environment",5,"Health and Safety in Construction",60,"Internal",null,"Forensic Evidence, Collection and Analysis","Applied Science",23,"Forensic Evidence, Collection and Analysis",60,"Internal",null,"Fabrication Manufacturing Processes","Electrical and Electronic Engineering",44,"Fabrication Manufacturing Processes",60,"Internal"]
["Computer Science",1,"Principles of Computer Science",120,"External",null,"Construction and the Built Environment",6,"Surveying in Construction",60,"Internal",null,"Photographic Materials, Techniques and Processes","Art and Design",9,"Photographic Materials, Techniques and Processes",60,"Internal",null,"Additive Manufacturing Processes","Electrical and Electronic Engineering",45,"Additive Manufacturing Processes",60,"Internal"]
["Computer Science",3,"Planning and Management of Computing Projects",120,"External",null,"Construction and the Built Environment",7,"Graphical Detailing in Construction",60,"Internal",null,"Graphic Materials, Techniques and Processes","Art and Design",10,"Graphic Materials, Techniques and Processes",60,"Internal",null,"Calculus to Solve Engineering Problems","Mechanical Engineering",7,"Calculus to Solve Engineering Problems",60,"Internal"]
["Computer Science",6,"IT Systems Security",60,"Internal",null,"Construction and the Built Environment",8,"Building Regulations and Control in Construction",60,"Internal",null,"Interactive Design Materials, Techniques and Processes","Art and Design",11,"Interactive Design Materials, Techniques and Processes",60,"Internal",null,"Further Engineering Mathematics","Mechanical Engineering",8,"Further Engineering Mathematics",60,"Internal"]
["Computer Science",24,"Software Development",60,"Internal",null,"Construction Building Services Engineering",5,"Health and Safety in Construction",60,"Internal",null,"Fine Art Materials, Techniques and Processes","Art and Design",12,"Fine Art Materials, Techniques and Processes",60,"Internal",null,"Work Experience in the Engineering Sector","Mechanical Engineering",9,"Work Experience in the Engineering Sector",60,"Internal"]
["Computing for Creative Industries",1,"Principles of Computer Science",120,"External",null,"Construction Building Services Engineering",14,"Provision of Primary Services in Buildings",60,"Internal",null,"3D Design Materials, Techniques and Processes","Art and Design",13,"3D Design Materials, Techniques and Processes",60,"Internal",null,"Welding Technology","Mechanical Engineering",13,"Welding Technology",60,"Internal"]
["Computing for Creative Industries",3,"Planning and Management of Computing Projects",120,"External",null,"Construction Building Services Engineering",21,"Building Services Science",60,"Internal",null,"Textiles Materials, Techniques and Processes","Art and Design",14,"Textiles Materials, Techniques and Processes",60,"Internal",null,"Electrical Machines","Mechanical Engineering",15,"Electrical Machines",60,"Internal"]
["Computing for Creative Industries",6,"IT Systems Security",60,"Internal",null,"Construction Civil Engineering",5,"Health and Safety in Construction",60,"Internal",null,"Fashion Materials, Techniques and Processes","Art and Design",15,"Fashion Materials, Techniques and Processes",60,"Internal",null,"Electronic Devices and Circuits","Mechanical Engineering",19,"Electronic Devices and Circuits",60,"Internal"]
["Computing for Creative Industries",10,"Human-computer Interaction",60,"Internal",null,"Construction Civil Engineering",11,"Site Engineering for Construction",60,"Internal",null,"3D Design Craft Materials, Techniques and Processes","Art and Design",16,"3D Design Craft Materials, Techniques and Processes",60,"Internal",null,"Analogue Electronic Circuits","Mechanical Engineering",20,"Analogue Electronic Circuits",60,"Internal"]
["Computer Systems and Network Support",1,"Principles of Computer Science",120,"External",null,"Construction Civil Engineering",15,"Further Mathematics for Construction",60,"Internal",null,"Photographic Materials, Techniques and Processes","Art and Design Fashion Design and Production",9,"Photographic Materials, Techniques and Processes",60,"Internal",null,"Electronic Measurement and Testing of Circuits","Mechanical Engineering",21,"Electronic Measurement and Testing of Circuits",60,"Internal"]
["Computer Systems and Network Support",3,"Planning and Management of Computing Projects",120,"External",null,"Construction Civil Engineering",23,"Construction in Civil Engineering",60,"Internal",null,"Graphic Materials, Techniques and Processes","Art and Design Fashion Design and Production",10,"Graphic Materials, Techniques and Processes",60,"Internal",null,"Computer Systems Support and Performance","Mechanical Engineering",34,"Computer Systems Support and Performance",60,"Internal"]
["Computer Systems and Network Support",6,"IT Systems Security",60,"Internal",null,"Countryside Management",4,"Work Experience in the Land-based Sectors",60,"Internal",null,"Interactive Design Materials, Techniques and Processes","Art and Design Fashion Design and Production",11,"Interactive Design Materials, Techniques and Processes",60,"Internal",null,"Computer Programming","Mechanical Engineering",35,"Computer Programming",60,"Internal"]
["Computer Systems and Network Support",20,"Managing and Supporting Systems",60,"Internal",null,"Countryside Management",11,"Wildlife Ecology and Conservation Management",60,"Internal",null,"Fine Art Materials, Techniques and Processes","Art and Design Fashion Design and Production",12,"Fine Art Materials, Techniques and Processes",60,"Internal",null,"Programmable Logic Controllers","Mechanical Engineering",36,"Programmable Logic Controllers",60,"Internal"]
["Business Information Systems",1,"Principles of Computer Science",120,"External",null,"Creative Digital Media Production Film and Television Production",7,"Media Enterprise",60,"Internal",null,"3D Design Materials, Techniques and Processes","Art and Design Fashion Design and Production",13,"3D Design Materials, Techniques and Processes",60,"Internal",null,"Manufacturing Secondary Machining Processes","Mechanical Engineering",41,"Manufacturing Secondary Machining Processes",60,"Internal"]
["Business Information Systems",3,"Planning and Management of Computing Projects",120,"External",null,"Creative Digital Media Production Film and Television Visual Effects",7,"Media Enterprise",60,"Internal",null,"Textiles Materials, Techniques and Processes","Art and Design Fashion Design and Production",14,"Textiles Materials, Techniques and Processes",60,"Internal",null,"Manufacturing Primary Forming Processes","Mechanical Engineering",42,"Manufacturing Primary Forming Processes",60,"Internal"]
["Business Information Systems",6,"IT Systems Security",60,"Internal",null,"Creative Digital Media Production Film and Television Visual Effects",10,"Film Production – Fiction",60,"Internal",null,"Typography and Typographic Design","Art and Design Graphics",21,"Typography and Typographic Design",60,"Internal",null,"Manufacturing Computer Numerical Control Machining Processes","Mechanical Engineering",43,"Manufacturing Computer Numerical Control Machining Processes",60,"Internal"]
["Business Information Systems",31,"Large-scale Data Systems",60,"Internal",null,"Creative Digital Media Production Sound Production",7,"Media Enterprise",60,"Internal",null,"Graphics for 3D","Art and Design Graphics",22,"Graphics for 3D",60,"Internal",null,"Fabrication Manufacturing Processes","Mechanical Engineering",44,"Fabrication Manufacturing Processes",60,"Internal"]
["Computing",1,"Principles of Computer Science",120,"External",null,"Creative Digital Media Production Digital Publishing",7,"Media Enterprise",60,"Internal",null,"Branding in Graphic Design","Art and Design Graphics",23,"Branding in Graphic Design",60,"Internal",null,"Additive Manufacturing Processes","Mechanical Engineering",45,"Additive Manufacturing Processes",60,"Internal"]
["Computing",2,"Fundamentals of Computer Systems",90,"External",null,"Creative Digital Media Production Digital Games Design and Development",7,"Media Enterprise",60,"Internal",null,"Graphic Illustration","Art and Design Graphics",24,"Graphic Illustration",60,"Internal",null,"Industrial Robotics","Mechanical Engineering",56,"Industrial Robotics",60,"Internal"]
["Computing",3,"Planning and Management of Computing Projects",120,"External",null,"Engineering",5,"A Specialist Engineering Project",60,"Internal",null,"Web Design","Art and Design Graphics",26,"Web Design",60,"Internal",null,"Calculus to Solve Engineering Problems","Computer Engineering",7,"Calculus to Solve Engineering Problems",60,"Internal"]
["Construction and the Built Environment",1,"Construction Principles",120,"External",null,"Electrical and Electronic Engineering",5,"A Specialist Engineering Project",60,"Internal",null,"App Design","Art and Design Graphics",28,"App Design",60,"Internal",null,"Further Engineering Mathematics","Computer Engineering",8,"Further Engineering Mathematics",60,"Internal"]
["Construction and the Built Environment",2,"Construction Design",120,"External",null,"Mechanical Engineering",5,"A Specialist Engineering Project",60,"Internal",null,"Graphic Materials, Techniques and Processes","Art and Design Photography",10,"Graphic Materials, Techniques and Processes",60,"Internal",null,"Work Experience in the Engineering Sector","Computer Engineering",9,"Work Experience in the Engineering Sector",60,"Internal"]
["Construction and the Built Environment",4,"Construction Technology",60,"Internal",null,"Computer Engineering",5,"A Specialist Engineering Project",60,"Internal",null,"Interactive Design Materials, Techniques and Processes","Art and Design Photography",11,"Interactive Design Materials, Techniques and Processes",60,"Internal",null,"Computer Aided Design in Engineering","Computer Engineering",10,"Computer Aided Design in Engineering",60,"Internal"]
["Construction Building Services Engineering",1,"Construction Principles",120,"External",null,"Computer Engineering",32,"Computer System Principles and Practice",60,"Internal",null,"Fine Art Materials, Techniques and Processes","Art and Design Photography",12,"Fine Art Materials, Techniques and Processes",60,"Internal",null,"Engineering Maintenance and Condition Monitoring Techniques","Computer Engineering",11,"Engineering Maintenance and Condition Monitoring Techniques",60,"Internal"]
["Construction Building Services Engineering",2,"Construction Design",120,"External",null,"Manufacturing Engineering",5,"A Specialist Engineering Project",60,"Internal",null,"3D Design Materials, Techniques and Processes","Art and Design Photography",13,"3D Design Materials, Techniques and Processes",60,"Internal",null,"Pneumatic and Hydraulic Systems","Computer Engineering",12,"Pneumatic and Hydraulic Systems",60,"Internal"]
["Construction Building Services Engineering",4,"Construction Technology",60,"Internal",null,"Manufacturing Engineering",39,"Modern Manufacturing Systems",60,"Internal",null,"Textiles Materials, Techniques and Processes","Art and Design Photography",14,"Textiles Materials, Techniques and Processes",60,"Internal",null,"Electrical Installation of Hardware and Cables","Computer Engineering",14,"Electrical Installation of Hardware and Cables",60,"Internal"]
["Construction Civil Engineering",1,"Construction Principles",120,"External",null,"Aeronautical Engineering",5,"A Specialist Engineering Project",60,"Internal",null,"Fashion Materials, Techniques and Processes","Art and Design Photography",15,"Fashion Materials, Techniques and Processes",60,"Internal",null,"Electrical Machines","Computer Engineering",15,"Electrical Machines",60,"Internal"]
["Construction Civil Engineering",2,"Construction Design",120,"External",null,"Aeronautical Engineering",48,"Aircraft Flight Principles and Practice",60,"Internal",null,"Photographic Materials, Techniques and Processes","Art and Design 3D Design and Crafts",9,"Photographic Materials, Techniques and Processes",60,"Internal",null,"Three Phase Electrical Systems","Computer Engineering",16,"Three Phase Electrical Systems",60,"Internal"]
["Construction Civil Engineering",4,"Construction Technology",60,"Internal",null,"Enterprise and Entrepreneurship",1,"Enterprise and Entrepreneurs",90,"Internal",null,"Graphic Materials, Techniques and Processes","Art and Design 3D Design and Crafts",10,"Graphic Materials, Techniques and Processes",60,"Internal",null,"Electrical Power Distribution and Transmission","Computer Engineering",18,"Electrical Power Distribution and Transmission",60,"Internal"]
["Countryside Management",1,"Professional Working Responsibilities",120,"External",null,"Enterprise and Entrepreneurship",4,"Launch and Run an Enterprise",90,"Internal",null,"Interactive Design Materials, Techniques and Processes","Art and Design 3D Design and Crafts",11,"Interactive Design Materials, Techniques and Processes",60,"Internal",null,"Analogue Electronic Circuits","Computer Engineering",20,"Analogue Electronic Circuits",60,"Internal"]
["Countryside Management",2,"Plant and Soil Science",120,"External",null,"Enterprise and Entrepreneurship",5,"Survival and Growth",90,"Internal",null,"Fine Art Materials, Techniques and Processes","Art and Design 3D Design and Crafts",12,"Fine Art Materials, Techniques and Processes",60,"Internal",null,"Electronic Measurement and Testing of Circuits","Computer Engineering",21,"Electronic Measurement and Testing of Circuits",60,"Internal"]
["Countryside Management",5,"Countryside Estate Skills Activities",60,"Internal",null,"Equine Management Yard Management",4,"Work Experience in the Equine Sector",60,"Internal",null,"Textiles Materials, Techniques and Processes","Art and Design 3D Design and Crafts",14,"Textiles Materials, Techniques and Processes",60,"Internal",null,"Electronic Printed Circuit Board Design and Manufacture","Computer Engineering",22,"Electronic Printed Circuit Board Design and Manufacture",60,"Internal"]
["Countryside Management",6,"Managing Environmental Habitats",60,"Internal",null,"Equine Management Yard Management",5,"Horse Tack, Equipment and Rugs",60,"Internal",null,"Fashion Materials, Techniques and Processes","Art and Design 3D Design and Crafts",15,"Fashion Materials, Techniques and Processes",60,"Internal",null,"Maintenance of Mechanical Systems","Computer Engineering",24,"Maintenance of Mechanical Systems",60,"Internal"]
["Countryside Management",14,"Countryside Recreation",60,"Internal",null,"Equine Management Equitation",4,"Work Experience in the Equine Sector",60,"Internal",null,"Recruitment and Selection Process","Business",8,"Recruitment and Selection Process",60,"Internal",null,"Mechanical Behaviour of Metallic Materials","Computer Engineering",25,"Mechanical Behaviour of Metallic Materials",60,"Internal"]
["Creative Digital Media Production Film and Television Production",3,"Digital Media Skills",120,"External",null,"Equine Management Equitation",7,"Preparation and Presentation for Competition Disciplines",60,"Internal",null,"Team Building in Business","Business",9,"Team Building in Business",60,"Internal",null,"Static Mechanical Principles in Practice","Computer Engineering",27,"Static Mechanical Principles in Practice",60,"Internal"]
["Creative Digital Media Production Film and Television Production",8,"Responding to a Commission",120,"External",null,"Health and Social Care",5,"Meeting Individual Care and Support Needs",90,"Internal",null,"Recording Financial Transactions","Business",10,"Recording Financial Transactions",60,"Internal",null,"Manufacturing Secondary Machining Processes","Computer Engineering",41,"Manufacturing Secondary Machining Processes",60,"Internal"]
["Creative Digital Media Production Film and Television Production",10,"Film Production – Fiction",60,"Internal",null,"Health and Social Care",7,"Principles of Safe Practice in Health and Social Care",90,"Internal",null,"Final Accounts for Public Limited Companies","Business",11,"Final Accounts for Public Limited Companies",60,"Internal",null,"Additive Manufacturing Processes","Computer Engineering",45,"Additive Manufacturing Processes",60,"Internal"]
["Creative Digital Media Production Film and Television Visual Effects",3,"Digital Media Skills",120,"External",null,"Health and Social Care",8,"Promoting Public Health",90,"Internal",null,"Financial Statements for Specific Businesses","Business",12,"Financial Statements for Specific Businesses",60,"Internal",null,"Calculus to Solve Engineering Problems","Manufacturing Engineering",7,"Calculus to Solve Engineering Problems",60,"Internal"]
["Creative Digital Media Production Film and Television Visual Effects",8,"Responding to a Commission",120,"External",null,"Information Technology",4,"Programming",90,"Internal",null,"Cost and Management Accounting","Business",13,"Cost and Management Accounting",60,"Internal",null,"Further Engineering Mathematics","Manufacturing Engineering",8,"Further Engineering Mathematics",60,"Internal"]
["Creative Digital Media Production Film and Television Visual Effects",37,"Visual Effects",60,"Internal",null,"Information Technology",9,"IT Project Management",90,"Internal",null,"Investigating Customer Service","Business",14,"Investigating Customer Service",60,"Internal",null,"Work Experience in the Engineering Sector","Manufacturing Engineering",9,"Work Experience in the Engineering Sector",60,"Internal"]
["Creative Digital Media Production Sound Production",3,"Digital Media Skills",120,"External",null,"Music Technology",1,"Live Sound",60,"Internal",null,"Investigation Retail Business","Business",15,"Investigation Retail Business",60,"Internal",null,"Engineering Maintenance and Condition Monitoring Techniques","Manufacturing Engineering",11,"Engineering Maintenance and Condition Monitoring Techniques",60,"Internal"]
["Creative Digital Media Production Sound Production",8,"Responding to a Commission",120,"External",null,"Music Technology",3,"Music and Sound for Media",60,"Internal",null,"Visual Merchandising","Business",16,"Visual Merchandising",60,"Internal",null,"Pneumatic and Hydraulic Systems","Manufacturing Engineering",12,"Pneumatic and Hydraulic Systems",60,"Internal"]
["Creative Digital Media Production Sound Production",11,"Radio Production - Fiction",60,"Internal",null,"Performing Arts",2,"Developing Skills and Techniques for Live Performance",90,"Internal",null,"Digital Marketing","Business",17,"Digital Marketing",60,"Internal",null,"Three Phase Electrical Systems","Manufacturing Engineering",16,"Three Phase Electrical Systems",60,"Internal"]
["Creative Digital Media Production Digital Publishing",3,"Digital Media Skills",120,"External",null,"Performing Arts",4,"Performing Arts in the Community",90,"Internal",null,"Creative Promotion","Business",18,"Creative Promotion",60,"Internal",null,"Electronic Devices and Circuits","Manufacturing Engineering",19,"Electronic Devices and Circuits",60,"Internal"]
["Creative Digital Media Production Digital Publishing",8,"Responding to a Commission",120,"External",null,"Performing Arts",6,"Final Live Performance to an Audience",90,"Internal",null,"Pitching for a New Business","Business",19,"Pitching for a New Business",60,"Internal",null,"Maintenance of Mechanical Systems","Manufacturing Engineering",24,"Maintenance of Mechanical Systems",60,"Internal"]
["Creative Digital Media Production Digital Publishing",12,"Website production",60,"Internal",null,"Sport",3,"Professional Development in the Sports Industry",60,"Internal",null,"Investigating Corporate Social Responsibility","Business",20,"Investigating Corporate Social Responsibility",60,"Internal",null,"Mechanical Behaviour of Metallic Materials","Manufacturing Engineering",25,"Mechanical Behaviour of Metallic Materials",60,"Internal"]
["Creative Digital Media Production Digital Games Design and Development",3,"Digital Media Skills",120,"External",null,"Sport",4,"Sports Leadership",60,"Internal",null,"Training and Development","Business",21,"Training and Development",60,"Internal",null,"Mechanical Behaviour of Non-metallic Materials","Manufacturing Engineering",26,"Mechanical Behaviour of Non-metallic Materials",60,"Internal"]
["Creative Digital Media Production Digital Games Design and Development",8,"Responding to a Commission",120,"External",null,"Sport Fitness Services",3,"Professional Development in the Sports Industry",60,"Internal",null,"Market Research","Business",22,"Market Research",60,"Internal",null,"Static Mechanical Principles in Practice","Manufacturing Engineering",27,"Static Mechanical Principles in Practice",60,"Internal"]
["Creative Digital Media Production Digital Games Design and Development",13,"Digital Games production",60,"Internal",null,"Sport Fitness Services",5,"Application of Fitness Testing",60,"Internal",null,"The English Legal System","Business",23,"The English Legal System",60,"Internal",null,"Dynamic Mechanical Principles in Practice","Manufacturing Engineering",28,"Dynamic Mechanical Principles in Practice",60,"Internal"]
["Engineering",1,"Engineering Principles",120,"External",null,"Sport Fitness Services",12,"Self-employment in the Sports Industry",60,"Internal",null,"Employment Law","Business",24,"Employment Law",60,"Internal",null,"Computer Systems Support and Performance","Manufacturing Engineering",34,"Computer Systems Support and Performance",60,"Internal"]
["Engineering",2,"Delivery of Engineering Processes Safely as a Team",60,"Internal",null,"Sport and Exercise Science",4,"Field and Laboratory-based Fitness Testing",90,"Internal",null,"Aspects of Civil Liability Affecting Business","Business",25,"Aspects of Civil Liability Affecting Business",60,"Internal",null,"Computer Programming","Manufacturing Engineering",35,"Computer Programming",60,"Internal"]
["Engineering",3,"Engineering Product Design and Manufacture",120,"External",null,"Sport and Exercise Science",5,"Applied Research Methods in Sport and Exercise Science",90,"Internal",null,"Aspects of Criminal Law Impacting on Business and Individuals","Business",26,"Aspects of Criminal Law Impacting on Business and Individuals",60,"Internal",null,"Programmable Logic Controllers","Manufacturing Engineering",36,"Programmable Logic Controllers",60,"Internal"]
["Engineering",4,"Applied Commercial and Quality Principles in Engineering",60,"Internal",null,"Sport and Exercise Science",6,"Coaching for Performance and Fitness",90,"Internal",null,"Work Experience in Business","Business",27,"Work Experience in Business",60,"Internal",null,"Calculus to Solve Engineering Problems","Aeronautical Engineering",7,"Calculus to Solve Engineering Problems",60,"Internal"]
["Electrical and Electronic Engineering",1,"Engineering Principles",120,"External",null,"Horticulture",4,"Work Experience in the Land-based Sectors",60,"Internal",null,"Human-computer Interaction","Computer Science",10,"Human-computer Interaction",60,"Internal",null,"Further Engineering Mathematics","Aeronautical Engineering",8,"Further Engineering Mathematics",60,"Internal"]
["Electrical and Electronic Engineering",2,"Delivery of Engineering Processes Safely as a Team",60,"Internal",null,"Horticulture",5,"Estate Skills",60,"Internal",null,"Website Development","Computer Science",15,"Website Development",60,"Internal",null,"Work Experience in the Engineering Sector","Aeronautical Engineering",9,"Work Experience in the Engineering Sector",60,"Internal"]
["Electrical and Electronic Engineering",3,"Engineering Product Design and Manufacture",120,"External",null,"Horticulture",8,"Plant Propagation Activities",60,"Internal",null,"Object-oriented Programming","Computer Science",16,"Object-oriented Programming",60,"Internal",null,"Engineering Maintenance and Condition Monitoring Techniques","Aeronautical Engineering",11,"Engineering Maintenance and Condition Monitoring Techniques",60,"Internal"]
["Electrical and Electronic Engineering",4,"Applied Commercial and Quality Principles in Engineering",60,"Internal",null,null,null,null,null,null,null,"Mobile Apps Development","Computer Science",17,"Mobile Apps Development",60,"Internal",null,"Welding Technology","Aeronautical Engineering",13,"Welding Technology",60,"Internal"]
["Mechanical Engineering",1,"Engineering Principles",120,"External",null,null,null,null,null,null,null,"Relational Database Development","Computer Science",18,"Relational Database Development",60,"Internal",null,"Electrical Machines","Aeronautical Engineering",15,"Electrical Machines",60,"Internal"]
["Mechanical Engineering",2,"Delivery of Engineering Processes Safely as a Team",60,"Internal",null,null,null,null,null,null,null,"Web Application Development","Computer Science",25,"Web Application Development",60,"Internal",null,"Three Phase Electrical Systems","Aeronautical Engineering",16,"Three Phase Electrical Systems",60,"Internal"]
["Mechanical Engineering",3,"Engineering Product Design and Manufacture",120,"External",null,null,null,null,null,null,null,"Programmable Devices and Controllers","Computer Science",26,"Programmable Devices and Controllers",60,"Internal",null,"Mechanical Behaviour of Non-metallic Materials","Aeronautical Engineering",26,"Mechanical Behaviour of Non-metallic Materials",60,"Internal"]
["Mechanical Engineering",4,"Applied Commercial and Quality Principles in Engineering",60,"Internal",null,null,null,null,null,null,null,"Computer Forensics","Computer Science",28,"Computer Forensics",60,"Internal",null,"Principles and Applications of Fluid Mechanics","Aeronautical Engineering",29,"Principles and Applications of Fluid Mechanics",60,"Internal"]
["Computer Engineering",1,"Engineering Principles",120,"External",null,null,null,null,null,null,null,"Digital Graphics and Animation","Computing for Creative Industries",11,"Digital Graphics and Animation",60,"Internal",null,"Thermodynamic Principles and Practice","Aeronautical Engineering",31,"Thermodynamic Principles and Practice",60,"Internal"]
["Computer Engineering",2,"Delivery of Engineering Processes Safely as a Team",60,"Internal",null,null,null,null,null,null,null,"Digital Audio","Computing for Creative Industries",12,"Digital Audio",60,"Internal",null,"Computer Programming","Aeronautical Engineering",35,"Computer Programming",60,"Internal"]
["Computer Engineering",3,"Engineering Product Design and Manufacture",120,"External",null,null,null,null,null,null,null,"Digital Video","Computing for Creative Industries",13,"Digital Video",60,"Internal",null,"Programmable Logic Controllers","Aeronautical Engineering",36,"Programmable Logic Controllers",60,"Internal"]
["Computer Engineering",4,"Applied Commercial and Quality Principles in Engineering",60,"Internal",null,null,null,null,null,null,null,"Computer Games Development","Computing for Creative Industries",14,"Computer Games Development",60,"Internal",null,"Manufacturing Secondary Machining Processes","Aeronautical Engineering",41,"Manufacturing Secondary Machining Processes",60,"Internal"]
["Manufacturing Engineering",1,"Engineering Principles",120,"External",null,null,null,null,null,null,null,"Website Development","Computing for Creative Industries",15,"Website Development",60,"Internal",null,"Manufacturing Computer Numerical Control Machining Processes","Aeronautical Engineering",43,"Manufacturing Computer Numerical Control Machining Processes",60,"Internal"]
["Manufacturing Engineering",2,"Delivery of Engineering Processes Safely as a Team",60,"Internal",null,null,null,null,null,null,null,"Systems Analysis and Design","Computing for Creative Industries",22,"Systems Analysis and Design",60,"Internal",null,"Additive Manufacturing Processes","Aeronautical Engineering",45,"Additive Manufacturing Processes",60,"Internal"]
["Manufacturing Engineering",3,"Engineering Product Design and Manufacture",120,"External",null,null,null,null,null,null,null,"3D Modelling","Computing for Creative Industries",27,"3D Modelling",60,"Internal",null,"Composites Manufacture and Repair Processes","Aeronautical Engineering",47,"Composites Manufacture and Repair Processes",60,"Internal"]
["Manufacturing Engineering",4,"Applied Commercial and Quality Principles in Engineering",60,"Internal",null,null,null,null,null,null,null,"Human-computer Interaction","Computing",10,"Human-computer Interaction",60,"Internal",null,"Industrial Robotics","Aeronautical Engineering",56,"Industrial Robotics",60,"Internal"]
["Aeronautical Engineering",1,"Engineering Principles",120,"External",null,null,null,null,null,null,null,"Digital Graphics and Animation","Computing",11,"Digital Graphics and Animation",60,"Internal"]
["Aeronautical Engineering",2,"Delivery of Engineering Processes Safely as a Team",60,"Internal",null,null,null,null,null,null,null,"Digital Audio","Computing",12,"Digital Audio",60,"Internal"]
["Aeronautical Engineering",3,"Engineering Product Design and Manufacture",120,"External",null,null,null,null,null,null,null,"Digital Video","Computing",13,"Digital Video",60,"Internal"]
["Aeronautical Engineering",4,"Applied Commercial and Quality Principles in Engineering",60,"Internal",null,null,null,null,null,null,null,"Computer Games Development","Computing",14,"Computer Games Development",60,"Internal"]
["Enterprise and Entrepreneurship",2,"Developing a Marketing Campaign",90,"External",null,null,null,null,null,null,null,"Website Development","Computing",15,"Website Development",60,"Internal"]
["Enterprise and Entrepreneurship",3,"Business and Personal Finance",120,"External",null,null,null,null,null,null,null,"Object-oriented Programming","Computing",16,"Object-oriented Programming",60,"Internal"]
["Enterprise and Entrepreneurship",6,"Business Decision Making",120,"External",null,null,null,null,null,null,null,"Mobile Apps Development","Computing",17,"Mobile Apps Development",60,"Internal"]
["Equine Management Yard Management",1,"Equine Structure, Form and Function",120,"External",null,null,null,null,null,null,null,"Relational Database Development","Computing",18,"Relational Database Development",60,"Internal"]
["Equine Management Yard Management",2,"Equine Diet and Nutrition",120,"External",null,null,null,null,null,null,null,"Computer Networking","Computing",19,"Computer Networking",60,"Internal"]
["Equine Management Yard Management",6,"Equine Health and Husbandry",60,"Internal",null,null,null,null,null,null,null,"Managing and Supporting Systems","Computing",20,"Managing and Supporting Systems",60,"Internal"]
["Equine Management Yard Management",9,"Managing an Equine Yard",60,"Internal",null,null,null,null,null,null,null,"Virtualisation","Computing",21,"Virtualisation",60,"Internal"]
["Equine Management Yard Management",10,"Equine Business Management",60,"Internal",null,null,null,null,null,null,null,"Systems Analysis and Design","Computing",22,"Systems Analysis and Design",60,"Internal"]
["Equine Management Yard Management",13,"Managing an Equine Event",60,"Internal",null,null,null,null,null,null,null,"Systems Methodology","Computing",23,"Systems Methodology",60,"Internal"]
["Equine Management Equitation",1,"Equine Structure, Form and Function",120,"External",null,null,null,null,null,null,null,"Management of a Construction Project","Construction and the Built Environment",9,"Management of a Construction Project",60,"Internal"]
["Equine Management Equitation",2,"Equine Diet and Nutrition",120,"External",null,null,null,null,null,null,null,"Building Surveying in Construction","Construction and the Built Environment",10,"Building Surveying in Construction",60,"Internal"]
["Equine Management Equitation",5,"Horse Tack, Equipment and Rugs",60,"Internal",null,null,null,null,null,null,null,"Site Engineering for Construction","Construction and the Built Environment",11,"Site Engineering for Construction",60,"Internal"]
["Equine Management Equitation",6,"Equine Health and Husbandry",60,"Internal",null,null,null,null,null,null,null,"Low Temperature Hot Water Systems in Building Services","Construction and the Built Environment",12,"Low Temperature Hot Water Systems in Building Services",60,"Internal"]
["Equine Management Equitation",11,"Horse Fitness",60,"Internal",null,null,null,null,null,null,null,"Measurement Techniques in Construction","Construction and the Built Environment",13,"Measurement Techniques in Construction",60,"Internal"]
["Equine Management Equitation",12,"Schooling Horses on the Flat",60,"Internal",null,null,null,null,null,null,null,"Provision of Primary Services in Buildings","Construction and the Built Environment",14,"Provision of Primary Services in Buildings",60,"Internal"]
["Forensic and Criminal Investigation",1,"Principles and Applications of Science I",90,"External",null,null,null,null,null,null,null,"Projects in Construction","Construction and the Built Environment",17,"Projects in Construction",60,"Internal"]
["Forensic and Criminal Investigation",2,"Practical Scientific Procedures and Techniques",90,"Internal",null,null,null,null,null,null,null,"Building Information Modelling","Construction and the Built Environment",18,"Building Information Modelling",60,"Internal"]
["Forensic and Criminal Investigation",3,"Science Investigation Skills",120,"External",null,null,null,null,null,null,null,"Quantity Surveying","Construction and the Built Environment",19,"Quantity Surveying",60,"Internal"]
["Forensic and Criminal Investigation",4,"Forensic Investigation Procedures in Practice",90,"Internal",null,null,null,null,null,null,null,"Quality Control Management in Construction","Construction and the Built Environment",20,"Quality Control Management in Construction",60,"Internal"]
["Forensic and Criminal Investigation",5,"Applications of Criminology",120,"External",null,null,null,null,null,null,null,"Graphical Detailing in Construction","Construction Building Services Engineering",7,"Graphical Detailing in Construction",60,"Internal"]
["Forensic and Criminal Investigation",6,"Criminal Investigation Procedures in Practice",90,"Internal",null,null,null,null,null,null,null,"Management of a Construction Project","Construction Building Services Engineering",9,"Management of a Construction Project",60,"Internal"]
["Health and Social Care",1,"Human Lifespan Development",90,"External",null,null,null,null,null,null,null,"Low Temperature Hot Water Systems in Building Services","Construction Building Services Engineering",12,"Low Temperature Hot Water Systems in Building Services",60,"Internal"]
["Health and Social Care",2,"Working in Health and Social Care",120,"External",null,null,null,null,null,null,null,"Further Mathematics for Construction","Construction Building Services Engineering",15,"Further Mathematics for Construction",60,"Internal"]
["Health and Social Care",4,"Enquiries into Current Research in Health and Social Care",120,"External",null,null,null,null,null,null,null,"Projects in Construction","Construction Building Services Engineering",17,"Projects in Construction",60,"Internal"]
["Information Technology",1,"Information Technology Systems",120,"External",null,null,null,null,null,null,null,"Building Information Modelling","Construction Building Services Engineering",18,"Building Information Modelling",60,"Internal"]
["Information Technology",2,"Creating Systems to Manage Information",90,"External",null,null,null,null,null,null,null,"Quantity Surveying","Construction Building Services Engineering",19,"Quantity Surveying",60,"Internal"]
["Information Technology",3,"Using Social Media in Business",90,"Internal",null,null,null,null,null,null,null,"Surveying in Construction","Construction Civil Engineering",6,"Surveying in Construction",60,"Internal"]
["Information Technology",11,"Cyber security and Incident Management",120,"External",null,null,null,null,null,null,null,"Management of a Construction Project","Construction Civil Engineering",9,"Management of a Construction Project",60,"Internal"]
["Music Technology",2,"Studio Recording Techniques",60,"Internal",null,null,null,null,null,null,null,"Measurement Techniques in Construction","Construction Civil Engineering",13,"Measurement Techniques in Construction",60,"Internal"]
["Music Technology",5,"Music Technology in Context",120,"External",null,null,null,null,null,null,null,"Projects in Construction","Construction Civil Engineering",17,"Projects in Construction",60,"Internal"]
["Music Technology",6,"DAW Production",120,"External",null,null,null,null,null,null,null,"Building Information Modelling","Construction Civil Engineering",18,"Building Information Modelling",60,"Internal"]
["Performing Arts",1,"Investigating Practitioners’ Work",90,"External",null,null,null,null,null,null,null,"Woodland Management","Countryside Management",7,"Woodland Management",60,"Internal"]
["Performing Arts",3,"Group Performance Workshop",120,"External",null,null,null,null,null,null,null,"Identification, Planting and Care of Trees","Countryside Management",8,"Identification, Planting and Care of Trees",60,"Internal"]
["Performing Arts",5,"Individual Performance Commission",120,"External",null,null,null,null,null,null,null,"Developing a Land-based Enterprise","Countryside Management",9,"Developing a Land-based Enterprise",60,"Internal"]
["Sport",1,"Anatomy and Physiology",120,"External",null,null,null,null,null,null,null,"Land-based Machinery Operations","Countryside Management",10,"Land-based Machinery Operations",60,"Internal"]
["Sport",2,"Fitness Training and Programming for Health, Sport and Well-being",120,"External",null,null,null,null,null,null,null,"Controlling Countryside Pests and Predators","Countryside Management",12,"Controlling Countryside Pests and Predators",60,"Internal"]
["Sport",22,"Investigating Business in the Sport and Active Leisure Industry",90,"External",null,null,null,null,null,null,null,"Gamekeeping","Countryside Management",13,"Gamekeeping",60,"Internal"]
["Sport",23,"Skill Acquisition in Sport",90,"Internal",null,null,null,null,null,null,null,"Managing a Shoot","Countryside Management",15,"Managing a Shoot",60,"Internal"]
["Sport Fitness Services",1,"Anatomy and Physiology",120,"External",null,null,null,null,null,null,null,"Water Quality Management","Countryside Management",16,"Water Quality Management",60,"Internal"]
["Sport Fitness Services",2,"Fitness Training and Programming for Health, Sport and Well-being",120,"External",null,null,null,null,null,null,null,"Management of Deer in the UK","Countryside Management",17,"Management of Deer in the UK",60,"Internal"]
["Sport Fitness Services",13,"Instructing Gym-based Exercise",60,"Internal",null,null,null,null,null,null,null,"Tree Felling and Chainsaw Safety","Countryside Management",18,"Tree Felling and Chainsaw Safety",60,"Internal"]
["Sport Fitness Services",14,"Exercise and Circuit-based Physical Activity",60,"Internal",null,null,null,null,null,null,null,"Coastal Habitats Management","Countryside Management",19,"Coastal Habitats Management",60,"Internal"]
["Sport and Exercise Science",1,"Sport and Exercise Physiology",120,"External",null,null,null,null,null,null,null,"Working Dogs","Countryside Management",20,"Working Dogs",60,"Internal"]
["Sport and Exercise Science",2,"Functional Anatomy",90,"External",null,null,null,null,null,null,null,"Controlling Firearm Safety in the Land-based Sectors","Countryside Management",21,"Controlling Firearm Safety in the Land-based Sectors",60,"Internal"]
["Sport and Exercise Science",3,"Applied Sport and Exercise Psychology",120,"External",null,null,null,null,null,null,null,"Storyboarding for Digital Media","Creative Digital Media Production Film and Television Production",18,"Storyboarding for Digital Media",60,"Internal"]
["Horticulture",1,"Professional Working Responsibilities",120,"External",null,null,null,null,null,null,null,"Scriptwriting","Creative Digital Media Production Film and Television Production",19,"Scriptwriting",60,"Internal"]
["Horticulture",2,"Plant and Soil Science",120,"External",null,null,null,null,null,null,null,"Single Camera Techniques","Creative Digital Media Production Film and Television Production",20,"Single Camera Techniques",60,"Internal"]
["Horticulture",6,"Identification, Planting and Care of Plants",60,"Internal",null,null,null,null,null,null,null,"Film Editing","Creative Digital Media Production Film and Television Production",21,"Film Editing",60,"Internal"]
["Horticulture",7,"Routine Plant Management",60,"Internal",null,null,null,null,null,null,null,"Stop Motion Animation","Creative Digital Media Production Film and Television Production",23,"Stop Motion Animation",60,"Internal"]
["Horticulture",16,"Participating in Horticultural Tasks at Events",60,"Internal",null,null,null,null,null,null,null,"Sound Editing","Creative Digital Media Production Film and Television Production",24,"Sound Editing",60,"Internal"]
["Esports",1,"Introduction to Esports",60,"Internal",null,null,null,null,null,null,null,"Sound Recording","Creative Digital Media Production Film and Television Production",25,"Sound Recording",60,"Internal"]
["Esports",2,"Esports Skills, Strategies and Analysis",120,"Internal",null,null,null,null,null,null,null,"Multi Camera Techniques","Creative Digital Media Production Film and Television Production",35,"Multi Camera Techniques",60,"Internal"]
["Esports",3,"Enterprise and Entrepreneurship in the Esports Industry",90,"Internal",null,null,null,null,null,null,null,"Lighting Techniques","Creative Digital Media Production Film and Television Production",36,"Lighting Techniques",60,"Internal"]
["Esports",4,"Health, Wellbeing and Fitness for Esports Players",90,"Internal",null,null,null,null,null,null,null,"Storyboarding for Digital Media","Creative Digital Media Production Film and Television Visual Effects",18,"Storyboarding for Digital Media",60,"Internal"]
["Esports",5,"Esports Events",120,"Internal",null,null,null,null,null,null,null,"2D Animation","Creative Digital Media Production Film and Television Visual Effects",33,"2D Animation",60,"Internal"]
["Sport and Outdoor Activities","A","Careers in the Sport and Active Leisure Industry",90,"Internal",null,null,null,null,null,null,null,"3D Digital Animation","Creative Digital Media Production Film and Television Visual Effects",43,"3D Digital Animation",60,"Internal"]
["Sport and Outdoor Activities","B","Health, Wellbeing and Sport",90,"Internal",null,null,null,null,null,null,null,"Scriptwriting","Creative Digital Media Production Sound Production",19,"Scriptwriting",60,"Internal"]
["Sport and Outdoor Activities","C4","Personal Skills Development in Outdoor Activities",180,"Internal",null,null,null,null,null,null,null,"Interviewing Techniques","Creative Digital Media Production Sound Production",22,"Interviewing Techniques",60,"Internal"]
["Sport and Outdoor Activities","D4","Applied Leadership and Instructing in Outdoor Activity",180,"Internal",null,null,null,null,null,null,null,"Sound Editing","Creative Digital Media Production Sound Production",24,"Sound Editing",60,"Internal"]
["Sport and Outdoor Activities",24,"Health and Safety Factors in Outdoor Learning",60,"Internal",null,null,null,null,null,null,null,"Sound Recording","Creative Digital Media Production Sound Production",25,"Sound Recording",60,"Internal"]
["Sport and Outdoor Activities",25,"Outdoor Activity Provision",60,"Internal",null,null,null,null,null,null,null,"Coding for Web-based Media","Creative Digital Media Production Sound Production",31,"Coding for Web-based Media",60,"Internal"]
["Sport Fitness and Personal Training","A","Careers in the Sport and Active Leisure Industry",90,"Internal",null,null,null,null,null,null,null,"Sound Mixing","Creative Digital Media Production Sound Production",38,"Sound Mixing",60,"Internal"]
["Sport Fitness and Personal Training","B","Health, Wellbeing and Sport",90,"Internal",null,null,null,null,null,null,null,"Live Radio Broadcasting","Creative Digital Media Production Sound Production",39,"Live Radio Broadcasting",60,"Internal"]
["Sport Fitness and Personal Training","C2","Fitness Skills Development",180,"Internal",null,null,null,null,null,null,null,"App Production","Creative Digital Media Production Digital Publishing",9,"App Production",60,"Internal"]
["Sport Fitness and Personal Training","D2","Personal Trainer Skills Development",180,"Internal",null,null,null,null,null,null,null,"Interviewing Techniques","Creative Digital Media Production Digital Publishing",22,"Interviewing Techniques",60,"Internal"]
["Sport Fitness and Personal Training",2,"Self-employment in Sport and Physical Activity",60,"Internal",null,null,null,null,null,null,null,"Writing Copy","Creative Digital Media Production Digital Publishing",26,"Writing Copy",60,"Internal"]
["Sport Fitness and Personal Training",4,"Nutrition for Physical Performance",60,"Internal",null,null,null,null,null,null,null,"Digital Photography","Creative Digital Media Production Digital Publishing",27,"Digital Photography",60,"Internal"]
["Sport Fitness and Personal Training",21,"Business and Technology in Personal Training",60,"Internal",null,null,null,null,null,null,null,"Image Manipulation Techniques","Creative Digital Media Production Digital Publishing",28,"Image Manipulation Techniques",60,"Internal"]
["Sporting Excellence and Performance","A","Careers in the Sport and Active Leisure Industry",90,"Internal",null,null,null,null,null,null,null,"2D Digital Graphics","Creative Digital Media Production Digital Publishing",29,"2D Digital Graphics",60,"Internal"]
["Sporting Excellence and Performance","B","Health, Wellbeing and Sport",90,"Internal",null,null,null,null,null,null,null,"Page Layout and Design for Digital Media","Creative Digital Media Production Digital Publishing",30,"Page Layout and Design for Digital Media",60,"Internal"]
["Sporting Excellence and Performance","C3","Professional Sports Performer",180,"Internal",null,null,null,null,null,null,null,"Coding for Web-based Media","Creative Digital Media Production Digital Publishing",31,"Coding for Web-based Media",60,"Internal"]
["Sporting Excellence and Performance","D3","Applied Anatomy and Physiology for Professional Performance",180,"Internal",null,null,null,null,null,null,null,"App Production","Creative Digital Media Production Digital Games Design and Development",9,"App Production",60,"Internal"]
["Sporting Excellence and Performance",4,"Nutrition for Physical Performance",60,"Internal",null,null,null,null,null,null,null,"Concept Art for Computer Games","Creative Digital Media Production Digital Games Design and Development",32,"Concept Art for Computer Games",60,"Internal"]
["Sports Coaching and Development","A","Careers in the Sport and Active Leisure Industry",90,"Internal",null,null,null,null,null,null,null,"2D Animation","Creative Digital Media Production Digital Games Design and Development",33,"2D Animation",60,"Internal"]
["Sports Coaching and Development","B","Health, Wellbeing and Sport",90,"Internal",null,null,null,null,null,null,null,"Games Engine Scripting","Creative Digital Media Production Digital Games Design and Development",34,"Games Engine Scripting",60,"Internal"]
["Sports Coaching and Development","C1","Developing Coaching Skills",180,"Internal",null,null,null,null,null,null,null,"3D Modelling","Creative Digital Media Production Digital Games Design and Development",40,"3D Modelling",60,"Internal"]
["Sports Coaching and Development","D1","Applied Coaching Skills",180,"Internal",null,null,null,null,null,null,null,"3D Environments","Creative Digital Media Production Digital Games Design and Development",41,"3D Environments",60,"Internal"]
["Sports Coaching and Development",1,"Sport Development",60,"Internal",null,null,null,null,null,null,null,"Games Testing","Creative Digital Media Production Digital Games Design and Development",42,"Games Testing",60,"Internal"]
["Sports Coaching and Development",2,"Self-employment in Sport and Physical Activity",60,"Internal",null,null,null,null,null,null,null,"3D Digital Animation","Creative Digital Media Production Digital Games Design and Development",43,"3D Digital Animation",60,"Internal"]
["Travel and Tourism",1,"The World of Travel and Tourism",90,"External",null,null,null,null,null,null,null,"Electrical Installation of Hardware and Cables","Engineering",14,"Electrical Installation of Hardware and Cables",60,"Internal"]
["Travel and Tourism",2,"Global Destinations",120,"External",null,null,null,null,null,null,null,"Electrical Machines","Engineering",15,"Electrical Machines",60,"Internal"]
["Travel and Tourism",3,"Principles of Marketing in Travel and Tourism",90,"Internal",null,null,null,null,null,null,null,"Three Phase Electrical Systems","Engineering",16,"Three Phase Electrical Systems",60,"Internal"]
["Travel and Tourism",4,"Managing the Customer Experience in Travel and Tourism",90,"Internal",null,null,null,null,null,null,null,"Power and Energy Electronics","Engineering",17,"Power and Energy Electronics",60,"Internal"]
["Travel and Tourism",5,"Travel and Tourism Enterprises",90,"Internal",null,null,null,null,null,null,null,"Electrical Power Distribution and Transmission","Engineering",18,"Electrical Power Distribution and Transmission",60,"Internal"]
["Travel and Tourism",16,"Researching Current Travel Trends and Key Issues in Travel and Tourism",120,"Internal",null,null,null,null,null,null,null,"Electronic Devices and Circuits","Engineering",19,"Electronic Devices and Circuits",60,"Internal"]
["Uniformed Protective Services",1,"Citizenship and Diversity",120,"Internal",null,null,null,null,null,null,null,"Analogue Electronic Circuits","Engineering",20,"Analogue Electronic Circuits",60,"Internal"]
["Uniformed Protective Services",2,"Behaviour and Discipline in the Uniformed Protective Services",120,"External",null,null,null,null,null,null,null,"Electronic Measurement and Testing of Circuits","Engineering",21,"Electronic Measurement and Testing of Circuits",60,"Internal"]
["Uniformed Protective Services",4,"Physical Preparation, Health and Wellbeing",90,"Internal",null,null,null,null,null,null,null,"Electronic Printed Circuit Board Design and Manufacture","Engineering",22,"Electronic Printed Circuit Board Design and Manufacture",60,"Internal"]
["Uniformed Protective Services",5,"Teamwork, Leadership and Communication in the Uniformed Protective Services",120,"Internal",null,null,null,null,null,null,null,"Digital and Analogue Electronic Systems","Engineering",23,"Digital and Analogue Electronic Systems",60,"Internal"]
["Uniformed Protective Services",6,"Government and the Protective Services",90,"External",null,null,null,null,null,null,null,"Energy Management","Engineering",58,"Energy Management",60,"Internal"]
["Marketing",1,"Careers in Marketing",60,"Internal",null,null,null,null,null,null,null,"Electrical Installation of Hardware and Cables","Electrical and Electronic Engineering",14,"Electrical Installation of Hardware and Cables",60,"Internal"]
["Marketing",2,"Marketing Principles",120,"External",null,null,null,null,null,null,null,"Electrical Machines","Electrical and Electronic Engineering",15,"Electrical Machines",60,"Internal"]
["Marketing",3,"Customer Communications",180,"Internal",null,null,null,null,null,null,null,"Three Phase Electrical Systems","Electrical and Electronic Engineering",16,"Three Phase Electrical Systems",60,"Internal"]
["Marketing",4,"Applying Digital Marketing",180,"Internal",null,null,null,null,null,null,null,"Power and Energy Electronics","Electrical and Electronic Engineering",17,"Power and Energy Electronics",60,"Internal"]
["Marketing",5,"Branding Products and Services",60,"Internal",null,null,null,null,null,null,null,"Electrical Power Distribution and Transmission","Electrical and Electronic Engineering",18,"Electrical Power Distribution and Transmission",60,"Internal"]
["Marketing",6,"Generating Customer Loyalty",60,"Internal",null,null,null,null,null,null,null,"Electronic Devices and Circuits","Electrical and Electronic Engineering",19,"Electronic Devices and Circuits",60,"Internal"]
[null,null,null,null,null,null,null,null,null,null,null,null,"Analogue Electronic Circuits","Electrical and Electronic Engineering",20,"Analogue Electronic Circuits",60,"Internal"]
[null,null,null,null,null,null,null,null,null,null,null,null,"Electronic Measurement and Testing of Circuits","Electrical and Electronic Engineering",21,"Electronic Measurement and Testing of Circuits",60,"Internal"]
[null,null,null,null,null,null,null,null,null,null,null,null,"Electronic Printed Circuit Board Design and Manufacture","Electrical and Electronic Engineering",22,"Electronic Printed Circuit Board Design and Manufacture",60,"Internal"]
[null,null,null,null,null,null,null,null,null,null,null,null,"Digital and Analogue Electronic Systems","Electrical and Electronic Engineering",23,"Digital and Analogue Electronic Systems",60,"Internal"]
[null,null,null,null,null,null,null,null,null,null,null,null,"Computer Programming","Electrical and Electronic Engineering",35,"Computer Programming",60,"Internal"]
[null,null,null,null,null,null,null,null,null,null,null,null,"Programmable Logic Controllers","Electrical and Electronic Engineering",36,"Programmable Logic Controllers",60,"Internal"]
[null,null,null,null,null,null,null,null,null,null,null,null,"Industrial Robotics","Electrical and Electronic Engineering",56,"Industrial Robotics",60,"Internal"]
[null,null,null,null,null,null,null,null,null,null,null,null,"Computer Aided Design in Engineering","Mechanical Engineering",10,"Computer Aided Design in Engineering",60,"Internal"]
[null,null,null,null,null,null,null,null,null,null,null,null,"Engineering Maintenance and Condition Monitoring Techniques","Mechanical Engineering",11,"Engineering Maintenance and Condition Monitoring Techniques",60,"Internal"]
[null,null,null,null,null,null,null,null,null,null,null,null,"Pneumatic and Hydraulic Systems","Mechanical Engineering",12,"Pneumatic and Hydraulic Systems",60,"Internal"]
[null,null,null,null,null,null,null,null,null,null,null,null,"Maintenance of Mechanical Systems","Mechanical Engineering",24,"Maintenance of Mechanical Systems",60,"Internal"]
[null,null,null,null,null,null,null,null,null,null,null,null,"Mechanical Behaviour of Metallic Materials","Mechanical Engineering",25,"Mechanical Behaviour of Metallic Materials",60,"Internal"]
[null,null,null,null,null,null,null,null,null,null,null,null,"Mechanical Behaviour of Non-metallic Materials","Mechanical Engineering",26,"Mechanical Behaviour of Non-metallic Materials",60,"Internal"]
[null,null,null,null,null,null,null,null,null,null,null,null,"Static Mechanical Principles in Practice","Mechanical Engineering",27,"Static Mechanical Principles in Practice",60,"Internal"]
[null,null,null,null,null,null,null,null,null,null,null,null,"Dynamic Mechanical Principles in Practice","Mechanical Engineering",28,"Dynamic Mechanical Principles in Practice",60,"Internal"]
[null,null,null,null,null,null,null,null,null,null,null,null,"Principles and Applications of Fluid Mechanics","Mechanical Engineering",29,"Principles and Applications of Fluid Mechanics",60,"Internal"]
[null,null,null,null,null,null,null,null,null,null,null,null,"Mechanical Measurement and Inspection Technology","Mechanical Engineering",30,"Mechanical Measurement and Inspection Technology",60,"Internal"]
[null,null,null,null,null,null,null,null,null,null,null,null,"Thermodynamic Principles and Practice","Mechanical Engineering",31,"Thermodynamic Principles and Practice",60,"Internal"]
[null,null,null,null,null,null,null,null,null,null,null,null,"Electronic Devices and Circuits","Computer Engineering",19,"Electronic Devices and Circuits",60,"Internal"]
[null,null,null,null,null,null,null,null,null,null,null,null,"Computer Systems Security","Computer Engineering",33,"Computer Systems Security",60,"Internal"]
[null,null,null,null,null,null,null,null,null,null,null,null,"Computer Systems Support and Performance","Computer Engineering",34,"Computer Systems Support and Performance",60,"Internal"]
[null,null,null,null,null,null,null,null,null,null,null,null,"Computer Programming","Computer Engineering",35,"Computer Programming",60,"Internal"]
[null,null,null,null,null,null,null,null,null,null,null,null,"Programmable Logic Controllers","Computer Engineering",36,"Programmable Logic Controllers",60,"Internal"]
[null,null,null,null,null,null,null,null,null,null,null,null,"Computer Networks","Computer Engineering",37,"Computer Networks",60,"Internal"]
[null,null,null,null,null,null,null,null,null,null,null,null,"Website Production to Control Devices","Computer Engineering",38,"Website Production to Control Devices",60,"Internal"]
[null,null,null,null,null,null,null,null,null,null,null,null,"Computer Aided Manufacturing and Planning","Computer Engineering",40,"Computer Aided Manufacturing and Planning",60,"Internal"]
[null,null,null,null,null,null,null,null,null,null,null,null,"Manufacturing Computer Numerical Control Machining Processes","Computer Engineering",43,"Manufacturing Computer Numerical Control Machining Processes",60,"Internal"]
[null,null,null,null,null,null,null,null,null,null,null,null,"Industrial Robotics","Computer Engineering",56,"Industrial Robotics",60,"Internal"]
[null,null,null,null,null,null,null,null,null,null,null,null,"Computer Aided Design in Engineering","Manufacturing Engineering",10,"Computer Aided Design in Engineering",60,"Internal"]
[null,null,null,null,null,null,null,null,null,null,null,null,"Welding Technology","Manufacturing Engineering",13,"Welding Technology",60,"Internal"]
[null,null,null,null,null,null,null,null,null,null,null,null,"Electronic Printed Circuit Board Design and Manufacture","Manufacturing Engineering",22,"Electronic Printed Circuit Board Design and Manufacture",60,"Internal"]
[null,null,null,null,null,null,null,null,null,null,null,null,"Mechanical Measurement and Inspection Technology","Manufacturing Engineering",30,"Mechanical Measurement and Inspection Technology",60,"Internal"]
[null,null,null,null,null,null,null,null,null,null,null,null,"Computer Aided Manufacturing and Planning","Manufacturing Engineering",40,"Computer Aided Manufacturing and Planning",60,"Internal"]
[null,null,null,null,null,null,null,null,null,null,null,null,"Manufacturing Secondary Machining Processes","Manufacturing Engineering",41,"Manufacturing Secondary Machining Processes",60,"Internal"]
[null,null,null,null,null,null,null,null,null,null,null,null,"Manufacturing Primary Forming Processes","Manufacturing Engineering",42,"Manufacturing Primary Forming Processes",60,"Internal"]
[null,null,null,null,null,null,null,null,null,null,null,null,"Manufacturing Computer Numerical Control Machining Processes","Manufacturing Engineering",43,"Manufacturing Computer Numerical Control Machining Processes",60,"Internal"]
[null,null,null,null,null,null,null,null,null,null,null,null,"Fabrication Manufacturing Processes","Manufacturing Engineering",44,"Fabrication Manufacturing Processes",60,"Internal"]
[null,null,null,null,null,null,null,null,null,null,null,null,"Additive Manufacturing Processes","Manufacturing Engineering",45,"Additive Manufacturing Processes",60,"Internal"]
[null,null,null,null,null,null,null,null,null,null,null,null,"Manufacturing Joining, Finishing and Assembly Processes","Manufacturing Engineering",46,"Manufacturing Joining, Finishing and Assembly Processes",60,"Internal"]
[null,null,null,null,null,null,null,null,null,null,null,null,"Composites Manufacture and Repair Processes","Manufacturing Engineering",47,"Composites Manufacture and Repair Processes",60,"Internal"]
[null,null,null,null,null,null,null,null,null,null,null,null,"Industrial Robotics","Manufacturing Engineering",56,"Industrial Robotics",60,"Internal"]
[null,null,null,null,null,null,null,null,null,null,null,null,"Computer Aided Design in Engineering","Aeronautical Engineering",10,"Computer Aided Design in Engineering",60,"Internal"]
[null,null,null,null,null,null,null,null,null,null,null,null,"Pneumatic and Hydraulic Systems","Aeronautical Engineering",12,"Pneumatic and Hydraulic Systems",60,"Internal"]
[null,null,null,null,null,null,null,null,null,null,null,null,"Electronic Devices and Circuits","Aeronautical Engineering",19,"Electronic Devices and Circuits",60,"Internal"]
[null,null,null,null,null,null,null,null,null,null,null,null,"Mechanical Behaviour of Metallic Materials","Aeronautical Engineering",25,"Mechanical Behaviour of Metallic Materials",60,"Internal"]
[null,null,null,null,null,null,null,null,null,null,null,null,"Aircraft Workshop Methods and Practice","Aeronautical Engineering",49,"Aircraft Workshop Methods and Practice",60,"Internal"]
[null,null,null,null,null,null,null,null,null,null,null,null,"Aircraft Gas Turbine Engines","Aeronautical Engineering",50,"Aircraft Gas Turbine Engines",60,"Internal"]
[null,null,null,null,null,null,null,null,null,null,null,null,"Aircraft Propulsion Systems","Aeronautical Engineering",51,"Aircraft Propulsion Systems",60,"Internal"]
[null,null,null,null,null,null,null,null,null,null,null,null,"Airframe Construction and Repair","Aeronautical Engineering",52,"Airframe Construction and Repair",60,"Internal"]
[null,null,null,null,null,null,null,null,null,null,null,null,"Airframe Mechanical Systems","Aeronautical Engineering",53,"Airframe Mechanical Systems",60,"Internal"]
[null,null,null,null,null,null,null,null,null,null,null,null,"Aircraft Electrical and Instrument Systems","Aeronautical Engineering",54,"Aircraft Electrical and Instrument Systems",60,"Internal"]
[null,null,null,null,null,null,null,null,null,null,null,null,"Aircraft First Line Maintenance Operations","Aeronautical Engineering",55,"Aircraft First Line Maintenance Operations",60,"Internal"]
[null,null,null,null,null,null,null,null,null,null,null,null,"Social Enterprise","Enterprise and Entrepreneurship",7,"Social Enterprise",60,"Internal"]
[null,null,null,null,null,null,null,null,null,null,null,null,"Entrepreneurship and Intrapreneurship in Practice","Enterprise and Entrepreneurship",8,"Entrepreneurship and Intrapreneurship in Practice",60,"Internal"]
[null,null,null,null,null,null,null,null,null,null,null,null,"Innovation and Enterprises","Enterprise and Entrepreneurship",9,"Innovation and Enterprises",60,"Internal"]
[null,null,null,null,null,null,null,null,null,null,null,null,"Preparation and Presentation for Competition Disciplines","Equine Management Yard Management",7,"Preparation and Presentation for Competition Disciplines",60,"Internal"]
[null,null,null,null,null,null,null,null,null,null,null,null,"Equine Behaviour","Equine Management Yard Management",8,"Equine Behaviour",60,"Internal"]
[null,null,null,null,null,null,null,null,null,null,null,null,"Riding Horses in the Open","Equine Management Yard Management",15,"Riding Horses in the Open",60,"Internal"]
[null,null,null,null,null,null,null,null,null,null,null,null,"Estates Skills and Grassland Management","Equine Management Yard Management",18,"Estates Skills and Grassland Management",60,"Internal"]
[null,null,null,null,null,null,null,null,null,null,null,null,"Working Horses from the Ground","Equine Management Yard Management",19,"Working Horses from the Ground",60,"Internal"]
[null,null,null,null,null,null,null,null,null,null,null,null,"Introduction to Equestrian Coaching","Equine Management Yard Management",20,"Introduction to Equestrian Coaching",60,"Internal"]
[null,null,null,null,null,null,null,null,null,null,null,null,"Equine Stud Management","Equine Management Yard Management",21,"Equine Stud Management",60,"Internal"]
[null,null,null,null,null,null,null,null,null,null,null,null,"Managing Equine Injuries and Rehabilitation","Equine Management Yard Management",22,"Managing Equine Injuries and Rehabilitation",60,"Internal"]
[null,null,null,null,null,null,null,null,null,null,null,null,"Equine Behaviour","Equine Management Equitation",8,"Equine Behaviour",60,"Internal"]
[null,null,null,null,null,null,null,null,null,null,null,null,"Theory of Training Horses","Equine Management Equitation",14,"Theory of Training Horses",60,"Internal"]
[null,null,null,null,null,null,null,null,null,null,null,null,"Riding Horses in the Open","Equine Management Equitation",15,"Riding Horses in the Open",60,"Internal"]
[null,null,null,null,null,null,null,null,null,null,null,null,"Ground Poles and Gridwork for Horses","Equine Management Equitation",16,"Ground Poles and Gridwork for Horses",60,"Internal"]
[null,null,null,null,null,null,null,null,null,null,null,null,"Showjumping and Cross-country Courses","Equine Management Equitation",17,"Showjumping and Cross-country Courses",60,"Internal"]
[null,null,null,null,null,null,null,null,null,null,null,null,"Estates Skills and Grassland Management","Equine Management Equitation",18,"Estates Skills and Grassland Management",60,"Internal"]
[null,null,null,null,null,null,null,null,null,null,null,null,"Working Horses from the Ground","Equine Management Equitation",19,"Working Horses from the Ground",60,"Internal"]
[null,null,null,null,null,null,null,null,null,null,null,null,"Introduction to Equestrian Coaching","Equine Management Equitation",20,"Introduction to Equestrian Coaching",60,"Internal"]
[null,null,null,null,null,null,null,null,null,null,null,null,"Managing Equine Injuries and Rehabilitation","Equine Management Equitation",22,"Managing Equine Injuries and Rehabilitation",60,"Internal"]
[null,null,null,null,null,null,null,null,null,null,null,null,"Physiology of Human Body Systems","Forensic and Criminal Investigation",8,"Physiology of Human Body Systems",60,"Internal"]
[null,null,null,null,null,null,null,null,null,null,null,null,"Environmental Forensics","Forensic and Criminal Investigation",9,"Environmental Forensics",60,"Internal"]
[null,null,null,null,null,null,null,null,null,null,null,null,"Forensic Fire Investigation","Forensic and Criminal Investigation",10,"Forensic Fire Investigation",60,"Internal"]
[null,null,null,null,null,null,null,null,null,null,null,null,"Forensic Traffic Collision Investigation","Forensic and Criminal Investigation",11,"Forensic Traffic Collision Investigation",60,"Internal"]
[null,null,null,null,null,null,null,null,null,null,null,null,"Forensic Photography","Forensic and Criminal Investigation",12,"Forensic Photography",60,"Internal"]
[null,null,null,null,null,null,null,null,null,null,null,null,"Forensic Genetics","Forensic and Criminal Investigation",13,"Forensic Genetics",60,"Internal"]
[null,null,null,null,null,null,null,null,null,null,null,null,"Forensic Anthropology and Archaeology","Forensic and Criminal Investigation",14,"Forensic Anthropology and Archaeology",60,"Internal"]
[null,null,null,null,null,null,null,null,null,null,null,null,"Practical Chemical Analysis","Forensic and Criminal Investigation",15,"Practical Chemical Analysis",60,"Internal"]
[null,null,null,null,null,null,null,null,null,null,null,null,"Work Experience in Health and Social Care","Health and Social Care",6,"Work Experience in Health and Social Care",60,"Internal"]
[null,null,null,null,null,null,null,null,null,null,null,null,"Sociological Perspectives","Health and Social Care",10,"Sociological Perspectives",60,"Internal"]
[null,null,null,null,null,null,null,null,null,null,null,null,"Psychological Perspectives","Health and Social Care",11,"Psychological Perspectives",60,"Internal"]
[null,null,null,null,null,null,null,null,null,null,null,null,"Supporting Individuals with Additional Needs","Health and Social Care",12,"Supporting Individuals with Additional Needs",60,"Internal"]
[null,null,null,null,null,null,null,null,null,null,null,null,"Physiological Disorders and their Care","Health and Social Care",14,"Physiological Disorders and their Care",60,"Internal"]
[null,null,null,null,null,null,null,null,null,null,null,null,"Nutritional Health","Health and Social Care",19,"Nutritional Health",60,"Internal"]
[null,null,null,null,null,null,null,null,null,null,null,null,"Data Modelling","Information Technology",5,"Data Modelling",60,"Internal"]
[null,null,null,null,null,null,null,null,null,null,null,null,"Website Development","Information Technology",6,"Website Development",60,"Internal"]
[null,null,null,null,null,null,null,null,null,null,null,null,"Mobile Apps Development","Information Technology",7,"Mobile Apps Development",60,"Internal"]
[null,null,null,null,null,null,null,null,null,null,null,null,"Computer Games Development","Information Technology",8,"Computer Games Development",60,"Internal"]
[null,null,null,null,null,null,null,null,null,null,null,null,"Big Data and Business Analytics","Information Technology",10,"Big Data and Business Analytics",60,"Internal"]
[null,null,null,null,null,null,null,null,null,null,null,null,"IT Technical Support and Management","Information Technology",12,"IT Technical Support and Management",60,"Internal"]
[null,null,null,null,null,null,null,null,null,null,null,null,"Software Testing","Information Technology",13,"Software Testing",60,"Internal"]
[null,null,null,null,null,null,null,null,null,null,null,null,"Customising and Integrating Applications","Information Technology",15,"Customising and Integrating Applications",60,"Internal"]
[null,null,null,null,null,null,null,null,null,null,null,null,"Cloud Storage and Collaboration Tools","Information Technology",16,"Cloud Storage and Collaboration Tools",60,"Internal"]
[null,null,null,null,null,null,null,null,null,null,null,null,"Digital 2D and 3D Graphics","Information Technology",17,"Digital 2D and 3D Graphics",60,"Internal"]
[null,null,null,null,null,null,null,null,null,null,null,null,"Digital Animation and Effects","Information Technology",18,"Digital Animation and Effects",60,"Internal"]
[null,null,null,null,null,null,null,null,null,null,null,null,"The Internet of Things","Information Technology",19,"The Internet of Things",60,"Internal"]
[null,null,null,null,null,null,null,null,null,null,null,null,"Enterprise in IT","Information Technology",20,"Enterprise in IT",60,"Internal"]
[null,null,null,null,null,null,null,null,null,null,null,null,"Business Process Modelling Tools","Information Technology",21,"Business Process Modelling Tools",60,"Internal"]
[null,null,null,null,null,null,null,null,null,null,null,null,"Creative Synthesis and Sampling","Music Technology",8,"Creative Synthesis and Sampling",60,"Internal"]
[null,null,null,null,null,null,null,null,null,null,null,null,"Remixing and Reworking","Music Technology",10,"Remixing and Reworking",60,"Internal"]
[null,null,null,null,null,null,null,null,null,null,null,null,"Music Technology in Performance","Music Technology",12,"Music Technology in Performance",60,"Internal"]
[null,null,null,null,null,null,null,null,null,null,null,null,"Mixing and Mastering Techniques","Music Technology",13,"Mixing and Mastering Techniques",60,"Internal"]
[null,null,null,null,null,null,null,null,null,null,null,null,"Music Investigation","Music Technology",15,"Music Investigation",60,"Internal"]
[null,null,null,null,null,null,null,null,null,null,null,null,"Music Technology and Musicianship","Music Technology",17,"Music Technology and Musicianship",60,"Internal"]
[null,null,null,null,null,null,null,null,null,null,null,null,"Working and Developing as a Production Team","Music Technology",18,"Working and Developing as a Production Team",60,"Internal"]
[null,null,null,null,null,null,null,null,null,null,null,null,"Classical Ballet Technique","Performing Arts",8,"Classical Ballet Technique",60,"Internal"]
[null,null,null,null,null,null,null,null,null,null,null,null,"Tap Dance Technique","Performing Arts",9,"Tap Dance Technique",60,"Internal"]
[null,null,null,null,null,null,null,null,null,null,null,null,"Jazz Dance Technique","Performing Arts",10,"Jazz Dance Technique",60,"Internal"]
[null,null,null,null,null,null,null,null,null,null,null,null,"Street Dance Technique","Performing Arts",11,"Street Dance Technique",60,"Internal"]
[null,null,null,null,null,null,null,null,null,null,null,null,"Contemporary Dance Technique","Performing Arts",12,"Contemporary Dance Technique",60,"Internal"]
[null,null,null,null,null,null,null,null,null,null,null,null,"Healthy Dancer","Performing Arts",13,"Healthy Dancer",60,"Internal"]
[null,null,null,null,null,null,null,null,null,null,null,null,"Choreography for Live Performance","Performing Arts",14,"Choreography for Live Performance",60,"Internal"]
[null,null,null,null,null,null,null,null,null,null,null,null,"Theatre Directing","Performing Arts",15,"Theatre Directing",60,"Internal"]
[null,null,null,null,null,null,null,null,null,null,null,null,"Writing for Performance","Performing Arts",16,"Writing for Performance",60,"Internal"]
[null,null,null,null,null,null,null,null,null,null,null,null,"Interpreting Classical Text for Performance","Performing Arts",18,"Interpreting Classical Text for Performance",60,"Internal"]
[null,null,null,null,null,null,null,null,null,null,null,null,"Acting Styles","Performing Arts",19,"Acting Styles",60,"Internal"]
[null,null,null,null,null,null,null,null,null,null,null,null,"Developing the Voice for Performance","Performing Arts",20,"Developing the Voice for Performance",60,"Internal"]
[null,null,null,null,null,null,null,null,null,null,null,null,"Improvisation","Performing Arts",21,"Improvisation",60,"Internal"]
[null,null,null,null,null,null,null,null,null,null,null,null,"Movement in Performance","Performing Arts",22,"Movement in Performance",60,"Internal"]
[null,null,null,null,null,null,null,null,null,null,null,null,"Singing Techniques for Performers","Performing Arts",23,"Singing Techniques for Performers",60,"Internal"]
[null,null,null,null,null,null,null,null,null,null,null,null,"Physical Theatre Techniques","Performing Arts",26,"Physical Theatre Techniques",60,"Internal"]
[null,null,null,null,null,null,null,null,null,null,null,null,"Musical Theatre Techniques","Performing Arts",27,"Musical Theatre Techniques",60,"Internal"]
[null,null,null,null,null,null,null,null,null,null,null,null,"Variety Performance","Performing Arts",28,"Variety Performance",60,"Internal"]
[null,null,null,null,null,null,null,null,null,null,null,null,"Storytelling","Performing Arts",29,"Storytelling",60,"Internal"]
[null,null,null,null,null,null,null,null,null,null,null,null,"Stand-up Comedy Technique","Performing Arts",31,"Stand-up Comedy Technique",60,"Internal"]
[null,null,null,null,null,null,null,null,null,null,null,null,"Application of Fitness Testing","Sport",5,"Application of Fitness Testing",60,"Internal"]
[null,null,null,null,null,null,null,null,null,null,null,null,"Sports Psychology","Sport",6,"Sports Psychology",60,"Internal"]
[null,null,null,null,null,null,null,null,null,null,null,null,"Practical Sports Performance","Sport",7,"Practical Sports Performance",60,"Internal"]
[null,null,null,null,null,null,null,null,null,null,null,null,"Coaching for Performance","Sport",8,"Coaching for Performance",60,"Internal"]
[null,null,null,null,null,null,null,null,null,null,null,null,"Research Methods in Sport","Sport",9,"Research Methods in Sport",60,"Internal"]
[null,null,null,null,null,null,null,null,null,null,null,null,"Sports Event Organisation","Sport",10,"Sports Event Organisation",60,"Internal"]
[null,null,null,null,null,null,null,null,null,null,null,null,"Research Project in Sport","Sport",11,"Research Project in Sport",60,"Internal"]
[null,null,null,null,null,null,null,null,null,null,null,null,"Sports Injury Management","Sport",17,"Sports Injury Management",60,"Internal"]
[null,null,null,null,null,null,null,null,null,null,null,null,"Work Experience in Active Leisure","Sport",18,"Work Experience in Active Leisure",60,"Internal"]
[null,null,null,null,null,null,null,null,null,null,null,null,"Leisure Management","Sport",20,"Leisure Management",60,"Internal"]
[null,null,null,null,null,null,null,null,null,null,null,null,"Leisure Centre Operations","Sport",21,"Leisure Centre Operations",60,"Internal"]
[null,null,null,null,null,null,null,null,null,null,null,null,"Sports Performance Analysis","Sport",24,"Sports Performance Analysis",60,"Internal"]
[null,null,null,null,null,null,null,null,null,null,null,null,"Rules, Regulations and Officiating in Sport","Sport",25,"Rules, Regulations and Officiating in Sport",60,"Internal"]
[null,null,null,null,null,null,null,null,null,null,null,null,"Technical and Tactical Demands of Sport","Sport",26,"Technical and Tactical Demands of Sport",60,"Internal"]
[null,null,null,null,null,null,null,null,null,null,null,null,"Principles and Practices for Outdoor and Adventurous Activities","Sport",27,"Principles and Practices for Outdoor and Adventurous Activities",60,"Internal"]
[null,null,null,null,null,null,null,null,null,null,null,null,"Environmental Sustainability for Outdoor and Adventurous Activities","Sport",28,"Environmental Sustainability for Outdoor and Adventurous Activities",60,"Internal"]
[null,null,null,null,null,null,null,null,null,null,null,null,"Sports Leadership","Sport Fitness Services",4,"Sports Leadership",60,"Internal"]
[null,null,null,null,null,null,null,null,null,null,null,null,"Instructing Exercise to Music","Sport Fitness Services",15,"Instructing Exercise to Music",60,"Internal"]
[null,null,null,null,null,null,null,null,null,null,null,null,"Instructing Water-based Exercise","Sport Fitness Services",16,"Instructing Water-based Exercise",60,"Internal"]
[null,null,null,null,null,null,null,null,null,null,null,null,"Sports Injury Management","Sport Fitness Services",17,"Sports Injury Management",60,"Internal"]
[null,null,null,null,null,null,null,null,null,null,null,null,"Work Experience in Active Leisure","Sport Fitness Services",18,"Work Experience in Active Leisure",60,"Internal"]
[null,null,null,null,null,null,null,null,null,null,null,null,"Biomechanics in Sport and Exercise Science","Sport and Exercise Science",7,"Biomechanics in Sport and Exercise Science",60,"Internal"]
[null,null,null,null,null,null,null,null,null,null,null,null,"Specialised Fitness Training","Sport and Exercise Science",8,"Specialised Fitness Training",60,"Internal"]
[null,null,null,null,null,null,null,null,null,null,null,null,"Research Project in Sport and Exercise Science","Sport and Exercise Science",9,"Research Project in Sport and Exercise Science",60,"Internal"]
[null,null,null,null,null,null,null,null,null,null,null,null,"Physical Activity for Individual and Group-based Exercise","Sport and Exercise Science",10,"Physical Activity for Individual and Group-based Exercise",60,"Internal"]
[null,null,null,null,null,null,null,null,null,null,null,null,"Sports Massage","Sport and Exercise Science",11,"Sports Massage",60,"Internal"]
[null,null,null,null,null,null,null,null,null,null,null,null,"Sociocultural Issues in Sport and Exercise","Sport and Exercise Science",12,"Sociocultural Issues in Sport and Exercise",60,"Internal"]
[null,null,null,null,null,null,null,null,null,null,null,null,"Tree and Shrub Pruning and Maintenance","Horticulture",9,"Tree and Shrub Pruning and Maintenance",60,"Internal"]
[null,null,null,null,null,null,null,null,null,null,null,null,"Land-based Machinery Operations","Horticulture",10,"Land-based Machinery Operations",60,"Internal"]
[null,null,null,null,null,null,null,null,null,null,null,null,"Nursery Stock Production","Horticulture",11,"Nursery Stock Production",60,"Internal"]
[null,null,null,null,null,null,null,null,null,null,null,null,"Maintenance of Sports and Amenity Turf","Horticulture",12,"Maintenance of Sports and Amenity Turf",60,"Internal"]
[null,null,null,null,null,null,null,null,null,null,null,null,"Pests and Disease in Plants","Horticulture",13,"Pests and Disease in Plants",60,"Internal"]
[null,null,null,null,null,null,null,null,null,null,null,null,"Identification, Planting and Care of Trees","Horticulture",14,"Identification, Planting and Care of Trees",60,"Internal"]
[null,null,null,null,null,null,null,null,null,null,null,null,"Developing a Land-based Enterprise","Horticulture",15,"Developing a Land-based Enterprise",60,"Internal"]
[null,null,null,null,null,null,null,null,null,null,null,null,"Maintaining the Health and Quality of Turf in Parks and Gardens","Horticulture",18,"Maintaining the Health and Quality of Turf in Parks and Gardens",60,"Internal"]
[null,null,null,null,null,null,null,null,null,null,null,null,"Protected Horticultural Crop Production","Horticulture",19,"Protected Horticultural Crop Production",60,"Internal"]
[null,null,null,null,null,null,null,null,null,null,null,null,"Outdoor Horticultural Crop Production","Horticulture",20,"Outdoor Horticultural Crop Production",60,"Internal"]
[null,null,null,null,null,null,null,null,null,null,null,null,"Zoological Horticulture","Horticulture",21,"Zoological Horticulture",60,"Internal"]
[null,null,null,null,null,null,null,null,null,null,null,null,"Wildlife Ecology and Conservation Management","Horticulture",22,"Wildlife Ecology and Conservation Management",60,"Internal"]
[null,null,null,null,null,null,null,null,null,null,null,null,"History of Landscape and Garden Design","Horticulture",23,"History of Landscape and Garden Design",60,"Internal"]
[null,null,null,null,null,null,null,null,null,null,null,null,"Landscape and Garden Design","Horticulture",24,"Landscape and Garden Design",60,"Internal"]
[null,null,null,null,null,null,null,null,null,null,null,null,"Constructing Decorative Landscape Features","Horticulture",25,"Constructing Decorative Landscape Features",60,"Internal"]
[null,null,null,null,null,null,null,null,null,null,null,null,"Linear and Level Surveying","Horticulture",26,"Linear and Level Surveying",60,"Internal"]
[null,null,null,null,null,null,null,null,null,null,null,null,"Effective Management of Personal Debt","Business",31,"Effective Management of Personal Debt",60,"Internal"]
[null,null,null,null,null,null,null,null,null,null,null,null,"Live-streamed Broadcasting","Esports",6,"Live-streamed Broadcasting",60,"Internal"]
[null,null,null,null,null,null,null,null,null,null,null,null,"Producing an Esports Brand","Esports",7,"Producing an Esports Brand",60,"Internal"]
[null,null,null,null,null,null,null,null,null,null,null,null,"Video Production","Esports",8,"Video Production",60,"Internal"]
[null,null,null,null,null,null,null,null,null,null,null,null,"Games Design","Esports",9,"Games Design",60,"Internal"]
[null,null,null,null,null,null,null,null,null,null,null,null,"Business Applications of Esports in Social Media","Esports",10,"Business Applications of Esports in Social Media",60,"Internal"]
[null,null,null,null,null,null,null,null,null,null,null,null,"Shoutcasting","Esports",11,"Shoutcasting",60,"Internal"]
[null,null,null,null,null,null,null,null,null,null,null,null,"Esports Coaching","Esports",12,"Esports Coaching",60,"Internal"]
[null,null,null,null,null,null,null,null,null,null,null,null,"Psychology for Esports Performance","Esports",13,"Psychology for Esports Performance",60,"Internal"]
[null,null,null,null,null,null,null,null,null,null,null,null,"Nutrition for Esports Performance","Esports",14,"Nutrition for Esports Performance",60,"Internal"]
[null,null,null,null,null,null,null,null,null,null,null,null,"Ethical and Current Issues in Esports","Esports",15,"Ethical and Current Issues in Esports",60,"Internal"]
[null,null,null,null,null,null,null,null,null,null,null,null,"Corporate Social Responsibility in Sport","Esports",16,"Corporate Social Responsibility in Sport",60,"Internal"]
[null,null,null,null,null,null,null,null,null,null,null,null,"Sports and Esports Law and Legislation","Esports",17,"Sports and Esports Law and Legislation",60,"Internal"]
[null,null,null,null,null,null,null,null,null,null,null,null,"Launching Your Esports Enterprise","Esports",18,"Launching Your Esports Enterprise",60,"Internal"]
[null,null,null,null,null,null,null,null,null,null,null,null,"Customer Immersion Experiences","Esports",19,"Customer Immersion Experiences",60,"Internal"]
[null,null,null,null,null,null,null,null,null,null,null,null,"Computer Networking","Esports",20,"Computer Networking",60,"Internal"]
[null,null,null,null,null,null,null,null,null,null,null,null,"Sport Development","Sport and Outdoor Activities",1,"Sport Development",60,"Internal"]
[null,null,null,null,null,null,null,null,null,null,null,null,"Nutrition for Physical Performance","Sport and Outdoor Activities",4,"Nutrition for Physical Performance",60,"Internal"]
[null,null,null,null,null,null,null,null,null,null,null,null,"Anatomy and Physiology in Sport","Sport and Outdoor Activities",5,"Anatomy and Physiology in Sport",60,"Internal"]
[null,null,null,null,null,null,null,null,null,null,null,null,"Organising Events in Sport and Physical Activities","Sport and Outdoor Activities",14,"Organising Events in Sport and Physical Activities",60,"Internal"]
[null,null,null,null,null,null,null,null,null,null,null,null,"Impacts and Sustainability of Outdoor Activities","Sport and Outdoor Activities",26,"Impacts and Sustainability of Outdoor Activities",60,"Internal"]
[null,null,null,null,null,null,null,null,null,null,null,null,"Expedition Experience","Sport and Outdoor Activities",27,"Expedition Experience",60,"Internal"]
[null,null,null,null,null,null,null,null,null,null,null,null,"Research Project in Sport","Sporting Excellence and Performance","E","Research Project in Sport",120,"Internal"]
[null,null,null,null,null,null,null,null,null,null,null,null,"Sport Development","Sporting Excellence and Performance",1,"Sport Development",60,"Internal"]
[null,null,null,null,null,null,null,null,null,null,null,null,"Functional Sports Massage","Sporting Excellence and Performance",7,"Functional Sports Massage",60,"Internal"]
[null,null,null,null,null,null,null,null,null,null,null,null,"Rules, Regulations and Officiating in Sport","Sporting Excellence and Performance",11,"Rules, Regulations and Officiating in Sport",60,"Internal"]
[null,null,null,null,null,null,null,null,null,null,null,null,"Influence of Technology in Sport and Physical Activity","Sporting Excellence and Performance",13,"Influence of Technology in Sport and Physical Activity",60,"Internal"]
[null,null,null,null,null,null,null,null,null,null,null,null,"Organising Events in Sport and Physical Activities","Sporting Excellence and Performance",14,"Organising Events in Sport and Physical Activities",60,"Internal"]
[null,null,null,null,null,null,null,null,null,null,null,null,"Ethical and Current Issues in Sport","Sporting Excellence and Performance",15,"Ethical and Current Issues in Sport",60,"Internal"]
[null,null,null,null,null,null,null,null,null,null,null,null,"School Sport Delivery","Sporting Excellence and Performance",20,"School Sport Delivery",60,"Internal"]
[null,null,null,null,null,null,null,null,null,null,null,null,"Sports Law and Legislation","Sporting Excellence and Performance",22,"Sports Law and Legislation",60,"Internal"]
[null,null,null,null,null,null,null,null,null,null,null,null,"Psychology for Professional Sports Performance","Sporting Excellence and Performance",23,"Psychology for Professional Sports Performance",60,"Internal"]
[null,null,null,null,null,null,null,null,null,null,null,null,"Sports Psychology","Sports Coaching and Development",3,"Sports Psychology",60,"Internal"]
[null,null,null,null,null,null,null,null,null,null,null,null,"Nutrition for Physical Performance","Sports Coaching and Development",4,"Nutrition for Physical Performance",60,"Internal"]
[null,null,null,null,null,null,null,null,null,null,null,null,"Anatomy and Physiology in Sport","Sports Coaching and Development",5,"Anatomy and Physiology in Sport",60,"Internal"]
[null,null,null,null,null,null,null,null,null,null,null,null,"Sporting Injuries","Sports Coaching and Development",6,"Sporting Injuries",60,"Internal"]
[null,null,null,null,null,null,null,null,null,null,null,null,"Rules, Regulations and Officiating in Sport","Sports Coaching and Development",11,"Rules, Regulations and Officiating in Sport",60,"Internal"]
[null,null,null,null,null,null,null,null,null,null,null,null,"Practical Sports Application","Sports Coaching and Development",12,"Practical Sports Application",60,"Internal"]
[null,null,null,null,null,null,null,null,null,null,null,null,"Influence of Technology in Sport and Physical Activity","Sports Coaching and Development",13,"Influence of Technology in Sport and Physical Activity",60,"Internal"]
[null,null,null,null,null,null,null,null,null,null,null,null,"Organising Events in Sport and Physical Activities","Sports Coaching and Development",14,"Organising Events in Sport and Physical Activities",60,"Internal"]
[null,null,null,null,null,null,null,null,null,null,null,null,"School Sport Delivery","Sports Coaching and Development",20,"School Sport Delivery",60,"Internal"]
[null,null,null,null,null,null,null,null,null,null,null,null,"Specialist Tourism","Travel and Tourism",6,"Specialist Tourism",60,"Internal"]
[null,null,null,null,null,null,null,null,null,null,null,null,"Sustainable Tourism","Travel and Tourism",7,"Sustainable Tourism",60,"Internal"]
[null,null,null,null,null,null,null,null,null,null,null,null,"The Airport Experience","Travel and Tourism",8,"The Airport Experience",60,"Internal"]
[null,null,null,null,null,null,null,null,null,null,null,null,"Visitor Attractions","Travel and Tourism",9,"Visitor Attractions",60,"Internal"]
[null,null,null,null,null,null,null,null,null,null,null,null,"Passenger Transport","Travel and Tourism",10,"Passenger Transport",60,"Internal"]
[null,null,null,null,null,null,null,null,null,null,null,null,"Events, Conferences and Exhibitions","Travel and Tourism",11,"Events, Conferences and Exhibitions",60,"Internal"]
[null,null,null,null,null,null,null,null,null,null,null,null,"Working Overseas","Travel and Tourism",12,"Working Overseas",60,"Internal"]
[null,null,null,null,null,null,null,null,null,null,null,null,"Work Experience in Travel and Tourism","Travel and Tourism",13,"Work Experience in Travel and Tourism",60,"Internal"]
[null,null,null,null,null,null,null,null,null,null,null,null,"The Cruise Industry","Travel and Tourism",14,"The Cruise Industry",60,"Internal"]
[null,null,null,null,null,null,null,null,null,null,null,null,"Recruitment and selection in Travel and Tourism","Travel and Tourism",15,"Recruitment and selection in Travel and Tourism",60,"Internal"]
[null,null,null,null,null,null,null,null,null,null,null,null,"Global Affairs, the Media and the Uniformed Protective Services","Uniformed Protective Services",3,"Global Affairs, the Media and the Uniformed Protective Services",60,"Internal"]
[null,null,null,null,null,null,null,null,null,null,null,null,"Planning for and Responding to Emergency Incidents","Uniformed Protective Services",7,"Planning for and Responding to Emergency Incidents",120,"Internal"]
[null,null,null,null,null,null,null,null,null,null,null,null,"Custodial Care","Uniformed Protective Services",8,"Custodial Care",60,"Internal"]
[null,null,null,null,null,null,null,null,null,null,null,null,"Sociological Perspectives","Uniformed Protective Services",9,"Sociological Perspectives",60,"Internal"]
[null,null,null,null,null,null,null,null,null,null,null,null,"Skills for Outdoor Activities and the Uniformed Protective Services","Uniformed Protective Services",10,"Skills for Outdoor Activities and the Uniformed Protective Services",60,"Internal"]
[null,null,null,null,null,null,null,null,null,null,null,null,"Expedition Skills","Uniformed Protective Services",11,"Expedition Skills",60,"Internal"]
[null,null,null,null,null,null,null,null,null,null,null,null,"Developing Personal Fitness Programmes","Uniformed Protective Services",12,"Developing Personal Fitness Programmes",60,"Internal"]
[null,null,null,null,null,null,null,null,null,null,null,null,"Introduction to Criminology","Uniformed Protective Services",13,"Introduction to Criminology",60,"Internal"]
[null,null,null,null,null,null,null,null,null,null,null,null,"Police Powers and the Law","Uniformed Protective Services",15,"Police Powers and the Law",60,"Internal"]
[null,null,null,null,null,null,null,null,null,null,null,null,"Research Skills in the Uniformed Protective Services","Uniformed Protective Services",16,"Research Skills in the Uniformed Protective Services",60,"Internal"]
[null,null,null,null,null,null,null,null,null,null,null,null,"Understanding the Third Sector","Uniformed Protective Services",17,"Understanding the Third Sector",60,"Internal"]
[null,null,null,null,null,null,null,null,null,null,null,null,"Criminal Investigation Procedures and Practice","Uniformed Protective Services",18,"Criminal Investigation Procedures and Practice",60,"Internal"]
[null,null,null,null,null,null,null,null,null,null,null,null,"Professional Development in the Uniformed Protective Services","Uniformed Protective Services",19,"Professional Development in the Uniformed Protective Services",60,"Internal"]
[null,null,null,null,null,null,null,null,null,null,null,null,"Technological Systems to Support Service Delivery","Uniformed Protective Services",20,"Technological Systems to Support Service Delivery",60,"Internal"]
[null,null,null,null,null,null,null,null,null,null,null,null,"Customer Immersion Experiences","Marketing",8,"Customer Immersion Experiences",60,"Internal"]
[null,null,null,null,null,null,null,null,null,null,null,null,"Activating a Brand","Marketing",9,"Activating a Brand",60,"Internal"]
[null,null,null,null,null,null,null,null,null,null,null,null,"Work Experience in Marketing","Marketing",10,"Work Experience in Marketing",60,"Internal"]
[null,null,null,null,null,null,null,null,null,null,null,null,"Influencer Marketing","Marketing",11,"Influencer Marketing",60,"Internal"]
[null,null,null,null,null,null,null,null,null,null,null,null,"Market Research for a Start-up Business","Marketing",12,"Market Research for a Start-up Business",60,"Internal"]
[null,null,null,null,null,null,null,null,null,null,null,null,"Corporate Social Responsibility","Marketing",13,"Corporate Social Responsibility",60,"Internal"]

{"sheet":"F Diploma 540 Data Sheet","index":19,"n_rows":137,"n_cols":18,"rows_kept":137,"cut":false,"hidden":true,"merged":[]}
["Mandatory units",null,null,null,null,null,"Mandatory units B",null,null,null,null,null,null,"optional Units A"]
["Sector","Unit number","Unit Name","GLH","Assessment type",null,"Sector","Unit number","Unit Name","GLH","Assessment type",null,null,"Sector","Unit Number","Unit Name","GLH","Assessment type"]
["Agriculture",1,"Professional Working Responsibilities",120,"External",null,"Agriculture",4,"Work Experience in the Land-based Sectors",60,"Internal",null,"Estate Skills","Agriculture",5,"Estate Skills",60,"Internal"]
["Agriculture",2,"Plant and Soil Science",120,"External",null,"Animal Management",5,"Animal Behaviour",60,"Internal",null,"Crop Production","Agriculture",6,"Crop Production",60,"Internal"]
["Agriculture",8,"Land-based Machinery Operations",60,"Internal",null,"Animal Management",6,"Animal Health and Diseases",60,"Internal",null,"Farm Livestock Husbandry","Agriculture",7,"Farm Livestock Husbandry",60,"Internal"]
["Agriculture",9,"Managing Agricultural Environments",60,"Internal",null,"Animal Management",7,"Work Experience in the Animal Sector",60,"Internal",null,"Crop Handling, Storage and Quality Assurance","Agriculture",10,"Crop Handling, Storage and Quality Assurance",60,"Internal"]
["Animal Management",2,"Animal Biology",120,"External",null,"Construction and the Built Environment",4,"Construction Technology",60,"Internal",null,"Livestock Health and Diseases","Agriculture",11,"Livestock Health and Diseases",60,"Internal"]
["Animal Management",3,"Animal Welfare and Ethics",120,"External",null,"Construction and the Built Environment",5,"Health and Safety in Construction",60,"Internal",null,"Developing a Land-based Enterprise","Agriculture",12,"Developing a Land-based Enterprise",60,"Internal"]
["Animal Management",4,"Practical Animal Husbandry",60,"Internal",null,"Countryside Management",4,"Work Experience in the Land-based Sectors",60,"Internal",null,"Business Management in the Animal Sector","Animal Management",12,"Business Management in the Animal Sector",60,"Internal"]
["CPLD",1,"Children's Development",120,"External",null,"Equine Management",4,"Work Experience in the Equine Sector",60,"Internal",null,"Animal Management in a Retail Environment","Animal Management",13,"Animal Management in a Retail Environment",60,"Internal"]
["CPLD",2,"Development of Children’s Communication, Literacy and Numeracy Skills",120,"External",null,"Equine Management",7,"Preparation and Presentation for Competition Disciplines",60,"Internal",null,"Animals in Boarding Establishments","Animal Management",14,"Animals in Boarding Establishments",60,"Internal"]
["CPLD",3,"Play and Learning",60,"Internal",null,"Horticulture",4,"Work Experience in the Land-based Sectors",60,"Internal",null,"Developing an Enterprise in the Animal Sector","Animal Management",15,"Developing an Enterprise in the Animal Sector",60,"Internal"]
["CPLD",5,"Keeping Children Safe",60,"Internal",null,"Forestry and Arboriculture",4,"Worik Experience in the Land-based Sectors",60,"Internal",null,"Animal Grooming","Animal Management",16,"Animal Grooming",60,"Internal"]
["CPLD",6,"Children’s Physical Development, Care and Health Needs",60,"Internal",null,"Forestry and Arboriculture",9,"Tree-felling Activities",60,"Internal",null,"Principles of Animal Nursing","Animal Management",17,"Principles of Animal Nursing",60,"Internal"]
["CPLD",8,"Working with Parents and Others in Early Years",60,"Internal",null,null,null,null,null,null,null,"Aquatic Animal Health and Husbandry","Animal Management",18,"Aquatic Animal Health and Husbandry",60,"Internal"]
["CPLD",11,"The Early Years Foundation Stage",60,"Internal",null,null,null,null,null,null,null,"Fram Livestock Husbandry","Animal Management",19,"Fram Livestock Husbandry",60,"Internal"]
["Construction and the Built Environment",1,"Construction Principles",120,"External",null,null,null,null,null,null,null,"Human and Animal Interaction","Animal Management",20,"Human and Animal Interaction",60,"Internal"]
["Construction and the Built Environment",2,"Construction Design",120,"External",null,null,null,null,null,null,null,"Exotic Animal Husbandry","Animal Management",21,"Exotic Animal Husbandry",60,"Internal"]
["Countryside Management",1,"Professional Working Responsibilities",120,"External",null,null,null,null,null,null,null,"Practical Estate Planning, Construction and Maintenance","Animal Management",22,"Practical Estate Planning, Construction and Maintenance",60,"Internal"]
["Countryside Management",2,"Plant and Soil Science",120,"External",null,null,null,null,null,null,null,"Zoological Animal Health and Husbandry","Animal Management",23,"Zoological Animal Health and Husbandry",60,"Internal"]
["Countryside Management",5,"Estate Skills",60,"Internal",null,null,null,null,null,null,null,"Wildlife Ecology and Conservation Management","Animal Management",24,"Wildlife Ecology and Conservation Management",60,"Internal"]
["Countryside Management",6,"Managing Environmental Habitats",60,"Internal",null,null,null,null,null,null,null,"Surveying in Construction","Construction and the Built Environment",6,"Surveying in Construction",60,"Internal"]
["Engineering",1,"Engineering Principles",120,"External",null,null,null,null,null,null,null,"Graphical Detailing in Construction","Construction and the Built Environment",7,"Graphical Detailing in Construction",60,"Internal"]
["Engineering",2,"Delivery of Engineering Processes Safely as a Team",60,"Internal",null,null,null,null,null,null,null,"Building Regulations and Control in Construction","Construction and the Built Environment",8,"Building Regulations and Control in Construction",60,"Internal"]
["Engineering",3,"Engineering Product Design and Manufacture",120,"External",null,null,null,null,null,null,null,"Management of a Construction Project","Construction and the Built Environment",9,"Management of a Construction Project",60,"Internal"]
["Engineering",4,"Applied Commercial and Quality Principles in Engineering",60,"Internal",null,null,null,null,null,null,null,"Building Surveying in Construction","Construction and the Built Environment",10,"Building Surveying in Construction",60,"Internal"]
["Equine Management",1,"Equine Structure, Form and Function",120,"External",null,null,null,null,null,null,null,"Site Engineering for Construction","Construction and the Built Environment",11,"Site Engineering for Construction",60,"Internal"]
["Equine Management",2,"Equine Diet and Nutrition",120,"External",null,null,null,null,null,null,null,"Measurement Techniques in Construction","Construction and the Built Environment",13,"Measurement Techniques in Construction",60,"Internal"]
["Equine Management",5,"Horse Tack, Equipment and Rugs",60,"Internal",null,null,null,null,null,null,null,"Provision of Primary Services in Buildings","Construction and the Built Environment",14,"Provision of Primary Services in Buildings",60,"Internal"]
["Equine Management",6,"Equine Health and Husbandry",60,"Internal",null,null,null,null,null,null,null,"Quantity Surveying","Construction and the Built Environment",19,"Quantity Surveying",60,"Internal"]
["Horticulture",1,"Professional Working Responsibilities",120,"External",null,null,null,null,null,null,null,"Woodland Management","Countryside Management",7,"Woodland Management",60,"Internal"]
["Horticulture",2,"Plant and Soil Science",120,"External",null,null,null,null,null,null,null,"Identification, Planting and Care of Trees","Countryside Management",8,"Identification, Planting and Care of Trees",60,"Internal"]
["Horticulture",6,"Identification, Planting and Care of Plants",60,"Internal",null,null,null,null,null,null,null,"Developing a Land-based Enterprise","Countryside Management",9,"Developing a Land-based Enterprise",60,"Internal"]
["Horticulture",7,"Routine Plant Management",60,"Internal",null,null,null,null,null,null,null,"Land-based Machinery Operations","Countryside Management",10,"Land-based Machinery Operations",60,"Internal"]
["Music Technology",2,"Studio Recording Techniques",60,"Internal",null,null,null,null,null,null,null,"Wildlife Ecology and Conservation Management","Countryside Management",11,"Wildlife Ecology and Conservation Management",60,"Internal"]
["Music Technology",3,"Music and Sound for Media",60,"Internal",null,null,null,null,null,null,null,"Controlling Countryside Pests and Predators","Countryside Management",12,"Controlling Countryside Pests and Predators",60,"Internal"]
["Music Technology",5,"Music Technology in Context",120,"External",null,null,null,null,null,null,null,"Gamekeeping","Countryside Management",13,"Gamekeeping",60,"Internal"]
["Music Technology",6,"DAW Production",120,"External",null,null,null,null,null,null,null,"Calculus to Solve Engineering Problems","Engineering",7,"Calculus to Solve Engineering Problems",60,"Internal"]
["Sport",1,"Anatomy and Physiology",120,"External",null,null,null,null,null,null,null,"Work Experience in the Engineering Sector","Engineering",9,"Work Experience in the Engineering Sector",60,"Internal"]
["Sport",2,"Fitness Training and Programming for Health, Sport and Well-being",120,"External",null,null,null,null,null,null,null,"Computer Aided Design in Engineering","Engineering",10,"Computer Aided Design in Engineering",60,"Internal"]
["Sport",3,"Professional Development in the Sports Industry",60,"Internal",null,null,null,null,null,null,null,"Engineering Maintenance and Condition Monitoring Techniques","Engineering",11,"Engineering Maintenance and Condition Monitoring Techniques",60,"Internal"]
["Sport",4,"Sports Leadership",60,"Internal",null,null,null,null,null,null,null,"Pneumatic and Hydraulic Systems","Engineering",12,"Pneumatic and Hydraulic Systems",60,"Internal"]
["Music","A1","Performing as an ensemble",150,"Internal",null,null,null,null,null,null,null,"Welding Technology","Engineering",13,"Welding Technology",60,"Internal"]
["Music","A2","Creating musical material",150,"Internal",null,null,null,null,null,null,null,"Electrical Machines","Engineering",15,"Electrical Machines",60,"Internal"]
["Music","A3","Using musical styles",150,"Internal",null,null,null,null,null,null,null,"Electronic Devices and Circuits","Engineering",19,"Electronic Devices and Circuits",60,"Internal"]
["Music","C7","Planning a career in the industry",90,"Internal",null,null,null,null,null,null,null,"Electronic Measurement and Testing of Circuits","Engineering",21,"Electronic Measurement and Testing of Circuits",60,"Internal"]
["Music (Production)","B4","Studio recording",150,"Internal",null,null,null,null,null,null,null,"Electronic Printed Circuit Board Design and Manufacture","Engineering",22,"Electronic Printed Circuit Board Design and Manufacture",60,"Internal"]
["Music (Production)","B5","Creating musical material through production",150,"Internal",null,null,null,null,null,null,null,"Maintenance of Mechanical Systems","Engineering",24,"Maintenance of Mechanical Systems",60,"Internal"]
["Music (Production)","B6","Music technology and live events",150,"Internal",null,null,null,null,null,null,null,"Mechanical Behaviour of Metallic Materials","Engineering",25,"Mechanical Behaviour of Metallic Materials",60,"Internal"]
["Music (Production)","C7","Planning a career in the industry",90,"Internal",null,null,null,null,null,null,null,"Static Mechanical Principles in Practice","Engineering",27,"Static Mechanical Principles in Practice",60,"Internal"]
["Performing Arts Practice","A1","Exploring Performance Styles",150,"Internal",null,null,null,null,null,null,null,"Mechanical Measurement and Inspection Technology","Engineering",30,"Mechanical Measurement and Inspection Technology",60,"Internal"]
["Performing Arts Practice","A2","Creating Performance Material",150,"Internal",null,null,null,null,null,null,null,"Computer Programming","Engineering",35,"Computer Programming",60,"Internal"]
["Performing Arts Practice","A3","Performing for an Audience",150,"Internal",null,null,null,null,null,null,null,"Programmable Logic Controllers","Engineering",36,"Programmable Logic Controllers",60,"Internal"]
["Performing Arts Practice","F16","Planning a Career in the Industry",90,"Internal",null,null,null,null,null,null,null,"Manufacturing Secondary Machining Processes","Engineering",41,"Manufacturing Secondary Machining Processes",60,"Internal"]
["Performing Arts Practice (Acting)","B4","Exploring Performance Styles",150,"Internal",null,null,null,null,null,null,null,"Manufacturing Computer Numerical Control Machining Processes","Engineering",43,"Manufacturing Computer Numerical Control Machining Processes",60,"Internal"]
["Performing Arts Practice (Acting)","B5","Creating Performance Material",150,"Internal",null,null,null,null,null,null,null,"Fabrication Manufacturing Processes","Engineering",44,"Fabrication Manufacturing Processes",60,"Internal"]
["Performing Arts Practice (Acting)","B6","Performing as an Actor for an Audience",150,"Internal",null,null,null,null,null,null,null,"Additive Manufacturing Processes","Engineering",45,"Additive Manufacturing Processes",60,"Internal"]
["Performing Arts Practice (Acting)","F16","Planning a Career in the Industry",90,"Internal",null,null,null,null,null,null,null,"Sustainable Transport","Engineering",57,"Sustainable Transport",60,"Internal"]
["Performing Arts Practice (Dance)","C7","Exploring Performance Styles",150,"Internal",null,null,null,null,null,null,null,"Estate Skills","Horticulture",5,"Estate Skills",60,"Internal"]
["Performing Arts Practice (Dance)","C8","Creating Performance Material",150,"Internal",null,null,null,null,null,null,null,"Plant Propagation Activities","Horticulture",8,"Plant Propagation Activities",60,"Internal"]
["Performing Arts Practice (Dance)","C9","Performing as a Dancer as Part of an Ensemble",150,"Internal",null,null,null,null,null,null,null,"Tree and Shrub Pruning and Maintenance","Horticulture",9,"Tree and Shrub Pruning and Maintenance",60,"Internal"]
["Performing Arts Practice (Dance)","F16","Planning a Career in the Industry",90,"Internal",null,null,null,null,null,null,null,"Land-based Machinery Operations","Horticulture",10,"Land-based Machinery Operations",60,"Internal"]
["Performing Arts Practice (Musical Theatre)","D10","Exploring Performance Styles",150,"Internal",null,null,null,null,null,null,null,"Nursery Stock Production","Horticulture",11,"Nursery Stock Production",60,"Internal"]
["Performing Arts Practice (Musical Theatre)","D11","Creating Performance Material",150,"Internal",null,null,null,null,null,null,null,"Maintenance of Sports and Amenity Turf","Horticulture",12,"Maintenance of Sports and Amenity Turf",60,"Internal"]
["Performing Arts Practice (Musical Theatre)","D12","Performing Musical Theatre for an Audience",150,"Internal",null,null,null,null,null,null,null,"Plant Pests and Disease","Horticulture",13,"Plant Pests and Disease",60,"Internal"]
["Performing Arts Practice (Musical Theatre)","F16","Planning a Career in the Industry",90,"Internal",null,null,null,null,null,null,null,"Identification, Planting and Care of Trees","Horticulture",14,"Identification, Planting and Care of Trees",60,"Internal"]
["Performing Arts Practice (Circus)","E13","Exploring Performance Styles",150,"Internal",null,null,null,null,null,null,null,"Developing a Land-based Enterprise","Horticulture",15,"Developing a Land-based Enterprise",60,"Internal"]
["Performing Arts Practice (Circus)","E14","Creating Performance Material",150,"Internal",null,null,null,null,null,null,null,"Creative Synthesis and Sampling","Music Technology",8,"Creative Synthesis and Sampling",60,"Internal"]
["Performing Arts Practice (Circus)","E15","Performing for an Audience",150,"Internal",null,null,null,null,null,null,null,"Remixing and Reworking","Music Technology",10,"Remixing and Reworking",60,"Internal"]
["Performing Arts Practice (Circus)","F16","Planning a Career in the Industry",90,"Internal",null,null,null,null,null,null,null,"Mixing and Mastering Techniques","Music Technology",13,"Mixing and Mastering Techniques",60,"Internal"]
["Production Arts Practice","A1","Developing Production Skill and Techniques",150,"Internal",null,null,null,null,null,null,null,"Music Investigation","Music Technology",15,"Music Investigation",60,"Internal"]
["Production Arts Practice","A2","Responding to production requirements and purpose",150,"Internal",null,null,null,null,null,null,null,"Commercial Music Production","Music Technology",16,"Commercial Music Production",60,"Internal"]
["Production Arts Practice","A3","Contributing to a production",150,"Internal",null,null,null,null,null,null,null,"Music Technology and Musicianship","Music Technology",17,"Music Technology and Musicianship",60,"Internal"]
["Production Arts Practice","F16","Planning a Career in the Industry",90,"Internal",null,null,null,null,null,null,null,"Working and Developing as a Production Team","Music Technology",18,"Working and Developing as a Production Team",60,"Internal"]
["Production Arts Practice (Design)","B4","Developing Production Skill and Techniques",150,"Internal",null,null,null,null,null,null,null,"Application of Fitness Testing","Sport",5,"Application of Fitness Testing",60,"Internal"]
["Production Arts Practice (Design)","B5","Responding to production requirements and purpose",150,"Internal",null,null,null,null,null,null,null,"Sports Psychology","Sport",6,"Sports Psychology",60,"Internal"]
["Production Arts Practice (Design)","B6","Contributing to a production",150,"Internal",null,null,null,null,null,null,null,"Practical Sports Performance","Sport",7,"Practical Sports Performance",60,"Internal"]
["Production Arts Practice (Design)","F16","Planning a Career in the Industry",90,"Internal",null,null,null,null,null,null,null,"Coaching for Performance","Sport",8,"Coaching for Performance",60,"Internal"]
["Production Arts Practice (Technical)","C7","Developing Production Skill and Techniques",150,"Internal",null,null,null,null,null,null,null,"Research Methods in Sport","Sport",9,"Research Methods in Sport",60,"Internal"]
["Production Arts Practice (Technical)","C8","Responding to production requirements and purpose",150,"Internal",null,null,null,null,null,null,null,"Sports Event Organisation","Sport",10,"Sports Event Organisation",60,"Internal"]
["Production Arts Practice (Technical)","C9","Contributing to a production",150,"Internal",null,null,null,null,null,null,null,"Research Project in Sport","Sport",11,"Research Project in Sport",60,"Internal"]
["Production Arts Practice (Technical)","F16","Planning a Career in the Industry",90,"Internal",null,null,null,null,null,null,null,"Equine Behaviour","Equine Management",8,"Equine Behaviour",60,"Internal"]
["Production Arts Practice (Management)","D10","Developing Production Skill and Techniques",150,"Internal",null,null,null,null,null,null,null,"Equine Business Management","Equine Management",10,"Equine Business Management",60,"Internal"]
["Production Arts Practice (Management)","D11","Responding to production requirements and purpose",150,"Internal",null,null,null,null,null,null,null,"Riding Horses in the Open","Equine Management",15,"Riding Horses in the Open",60,"Internal"]
["Production Arts Practice (Management)","D12","Contributing to a production",150,"Internal",null,null,null,null,null,null,null,"Estates Skills and Grassland Management","Equine Management",18,"Estates Skills and Grassland Management",60,"Internal"]
["Production Arts Practice (Management)","F16","Planning a Career in the Industry",90,"Internal",null,null,null,null,null,null,null,"Introduction to Equestrian Coaching","Equine Management",20,"Introduction to Equestrian Coaching",60,"Internal"]
["Production Arts Practice (Make Up)","E13","Developing Production Skill and Techniques",150,"Internal",null,null,null,null,null,null,null,"Live-streamed Broadcasting","Esports",6,"Live-streamed Broadcasting",60,"Internal"]
["Production Arts Practice (Make Up)","E14","Responding to production requirements and purpose",150,"Internal",null,null,null,null,null,null,null,"Producing an Esports Brand","Esports",7,"Producing an Esports Brand",60,"Internal"]
["Production Arts Practice (Make Up)","E15","Contributing to a production",150,"Internal",null,null,null,null,null,null,null,"Video Production","Esports",8,"Video Production",60,"Internal"]
["Production Arts Practice (Make Up)","F16","Planning a Career in the Industry",90,"Internal",null,null,null,null,null,null,null,"Games Design","Esports",9,"Games Design",60,"Internal"]
["Esports",1,"Introduction to Esports",60,"Internal",null,null,null,null,null,null,null,"Business Applications of Esports in Social Media","Esports",10,"Business Applications of Esports in Social Media",60,"Internal"]
["Esports",2,"Esports Skills, Strategies and Analysis",120,"Internal",null,null,null,null,null,null,null,"Shoutcasting","Esports",11,"Shoutcasting",60,"Internal"]
["Esports",3,"Enterprise and Entrepreneurship in the Esports Industry",90,"Internal",null,null,null,null,null,null,null,"Esports Coaching","Esports",12,"Esports Coaching",60,"Internal"]
["Esports",4,"Health, Wellbeing and Fitness for Esports Players",90,"Internal",null,null,null,null,null,null,null,"Psychology for Esports Performance","Esports",13,"Psychology for Esports Performance",60,"Internal"]
["Sport and Outdoor Activities","A","Careers in the Sport and Active Leisure Industry",90,"Internal",null,null,null,null,null,null,null,"Nutrition for Esports Performance","Esports",14,"Nutrition for Esports Performance",60,"Internal"]
["Sport and Outdoor Activities","B","Health, Wellbeing and Sport",90,"Internal",null,null,null,null,null,null,null,"Ethical and Current Issues in Esports","Esports",15,"Ethical and Current Issues in Esports",60,"Internal"]
["Sport and Outdoor Activities","C4","Personal Skills Development in Outdoor Activities",180,"Internal",null,null,null,null,null,null,null,"Corporate Social Responsibility in Sport","Esports",16,"Corporate Social Responsibility in Sport",60,"Internal"]
["Sport and Outdoor Activities",24,"Health and Safety Factors in Outdoor Learning",60,"Internal",null,null,null,null,null,null,null,"Sports and Esports Law and Legislation","Esports",17,"Sports and Esports Law and Legislation",60,"Internal"]
["Sport and Outdoor Activities",25,"Outdoor Activity Provision",60,"Internal",null,null,null,null,null,null,null,"Launching Your Esports Enterprise","Esports",18,"Launching Your Esports Enterprise",60,"Internal"]
["Sport and Fitness","A","Careers in the Sport and Active Leisure Industry",90,"Internal",null,null,null,null,null,null,null,"Sport Development","Sport and Outdoor Activities",1,"Sport Development",60,"Internal"]
["Sport and Fitness","B","Health, Wellbeing and Sport",90,"Internal",null,null,null,null,null,null,null,"Nutrition for Physical Performance","Sport and Outdoor Activities",4,"Nutrition for Physical Performance",60,"Internal"]
["Sport and Fitness","C2","Fitness Skills Development",180,"Internal",null,null,null,null,null,null,null,"Impacts and Sustainability of Outdoor Activities","Sport and Outdoor Activities",26,"Impacts and Sustainability of Outdoor Activities",60,"Internal"]
["Sport and Fitness",2,"Self-employment in Sport and Physical Activity",60,"Internal",null,null,null,null,null,null,null,"Expedition Experience","Sport and Outdoor Activities",27,"Expedition Experience",60,"Internal"]
["Sports Coaching and Development","A","Careers in the Sport and Active Leisure Industry",90,"Internal",null,null,null,null,null,null,null,"Nutrition for Physical Performance","Sport and Fitness",4,"Nutrition for Physical Performance",60,"Internal"]
["Sports Coaching and Development","B","Health, Wellbeing and Sport",90,"Internal",null,null,null,null,null,null,null,"Fitness Testing","Sport and Fitness",8,"Fitness Testing",60,"Internal"]
["Sports Coaching and Development","C1","Developing Coaching Skills",180,"Internal",null,null,null,null,null,null,null,"Fitness Training","Sport and Fitness",9,"Fitness Training",60,"Internal"]
["Sports Coaching and Development",1,"Sport Development",60,"Internal",null,null,null,null,null,null,null,"Organising Events in Sport and Physical Activities","Sport and Fitness",14,"Organising Events in Sport and Physical Activities",60,"Internal"]
["Sports Coaching and Development",2,"Self-employment in Sport and Physical Activity",60,"Internal",null,null,null,null,null,null,null,"Business and Technology in Personal Training","Sport and Fitness",21,"Business and Technology in Personal Training",60,"Internal"]
["Art and Design Practice","A","Exploring and Developing Art and Design Skills",540,"Internal",null,null,null,null,null,null,null,"Anatomy and Physiology in Sport","Sports Coaching and Development",5,"Anatomy and Physiology in Sport",60,"Internal"]
["Art and Design Practice","A1","Skills Development",405,"Internal",null,null,null,null,null,null,null,"Rules, Regulations and Officiating in Sport","Sports Coaching and Development",11,"Rules, Regulations and Officiating in Sport",60,"Internal"]
["Art and Design Practice","A1.1","Explore and develop investigation skills for informing ideas",81,"Internal",null,null,null,null,null,null,null,"Practical Sports Application","Sports Coaching and Development",12,"Practical Sports Application",60,"Internal"]
["Art and Design Practice","A1.2","Explore and develop problem solving skills",81,"Internal",null,null,null,null,null,null,null,"Organising Events in Sport and Physical Activities","Sports Coaching and Development",14,"Organising Events in Sport and Physical Activities",60,"Internal"]
["Art and Design Practice","A1.3","Explore and develop creative technical skills",81,"Internal",null,null,null,null,null,null,null,"Estate Skills","Forestry and Arboriculture",5,"Estate Skills",60,"Internal"]
["Art and Design Practice","A1.4","Explore and develop professional skills and behaviours",81,"Internal",null,null,null,null,null,null,null,"Tree Pests and Diseases","Forestry and Arboriculture",8,"Tree Pests and Diseases",60,"Internal"]
["Art and Design Practice","A1.5","Explore and develop communication skills",81,"Internal"]
["Art and Design Practice","A2","Creative Project",135,"Internal"]
["Art and Design Practice","A2.1","Inform ideas in response to a creative brief",27,"Internal"]
["Art and Design Practice","A2.2","Apply problem solving skills in response to a creative brief",27,"Internal"]
["Art and Design Practice","A2.3","Apply technical skills in response to a creative brief",27,"Internal"]
["Art and Design Practice","A2.4","Demonstrate professional skills and behaviours in response to a creative brief",27,"Internal"]
["Art and Design Practice","A2.5","Apply communication skills in response to a creative brief",27,"Internal"]
["Creative Media Practice","A","Exploring and Developing Creative Media Skills",540,"Internal"]
["Creative Media Practice","A1","Skills Development",405,"Internal"]
["Creative Media Practice","A1.1","Explore and develop investigation skills for informing ideas",81,"Internal"]
["Creative Media Practice","A1.2","Explore and develop problem solving skills",81,"Internal"]
["Creative Media Practice","A1.3","Explore and develop creative technical skills",81,"Internal"]
["Creative Media Practice","A1.4","Explore and develop professional skills and behaviours",81,"Internal"]
["Creative Media Practice","A1.5","Explore and develop communication skills",81,"Internal"]
["Creative Media Practice","A2","Creative Project",135,"Internal"]
["Creative Media Practice","A2.1","Inform ideas in response to a creative brief",27,"Internal"]
["Creative Media Practice","A2.2","Apply problem solving skills in response to a creative brief",27,"Internal"]
["Creative Media Practice","A2.3","Apply technical skills in response to a creative brief",27,"Internal"]
["Creative Media Practice","A2.4","Demonstrate professional skills and behaviours in response to a creative brief",27,"Internal"]
["Creative Media Practice","A2.5","Apply communication skills in response to a creative brief",27,"Internal"]
["Forestry and Arboriculture",1,"Professional Working Responsibilities",120,"External"]
["Forestry and Arboriculture",2,"Plant and Soil Science",120,"External"]
["Forestry and Arboriculture",20,"Woodland Project",120,"Internal"]

{"sheet":"Extended Diploma Dropdown","index":20,"n_rows":30,"n_cols":315,"rows_kept":30,"cut":false,"hidden":true,"merged":[]}
["Art and Design Group A",null,null,null,"Art and Design Group B",null,null,null,"Animal Management Group B",null,null,null,"Applied Science Group A",null,null,null,"Applied Science Group B",null,null,null,"Applied Science Group C",null,null,null,"Applied Science Biomedical Science Group A",null,null,null,"Applied Science Biomedical Science Group B",null,null,null,"Applied Science Analytical and Forensic Science Group A",null,null,null,"Applied Science Analytical and Forensic Science Group B",null,null,null,"Applied Science Physical Science Group A",null,null,null,"Applied Science Physical Science Group B",null,null,null,"Business Group B",null,null,null,"CPLD Group B",null,null,null,"Computing Group A",null,null,null,"Computing Group B",null,null,null,"Computing Group C",null,null,null,"Computing Group D",null,null,null,"Construction Building Services Group A",null,null,null,"Construction Building Services Group B",null,null,null,"Construction and the Built Environment Group B",null,null,null,"Construction Civil Engineering Group A",null,null,null,"Construction Civil Engineering Group B",null,null,null,"Creative Digital Media Group A",null,null,null,"Creative Digital Media Group B",null,null,null,"Creative Digital Media Production Film Television and Radio Group A",null,null,null,"Creative Digital Media Production Film, Television and Radio Group B",null,null,null,"Creative Digital Media Production Interactive Publishing and Media Group A",null,null,null,null,"Creative Digital Media Production Interactive Publishing and Media Group B",null,null,null,"Creative Digital Media Production Digital Games Group A",null,null,null,"Creative Digital Media Production Digital Games Group B",null,null,null,"Engineering Group A",null,null,null,"Engineering Group B",null,null,null,"Engineering Group C",null,null,null,"Electrical and Electronic Engineering Group B",null,null,null,"Electrical and Electronic Engineering Group C",null,null,null,"Mechanical Engineering Group B",null,null,null,"Mechanical Engineering Group C",null,null,null,"Computer Engineering Group B",null,null,null,"Computer Engineering Group C",null,null,null,"Manufacturing Engineering Group B",null,null,null,"Manufacturing Engineering Group C",null,null,null,"Aeronautical Engineering Group B",null,null,null,"Aeronautical Engineering Group C",null,null,null,"Enterprise and Entrepreneurship Group A",null,null,null,"Equine Management Group B",null,null,null,"Forensic and Criminal Investigation Group B",null,null,null,"Health and Social Care Group A",null,null,null,"Health and Social Care Group B",null,null,null,"Health and Social Care Health Studies Group A",null,null,null,"Health and Social Care Health Studies Group B",null,null,null,"Information Technology Group B",null,null,null,"Music Group B",null,null,null,"Music Technology Group B",null,null,null,"Performing Arts Group A",null,null,null,"Performing Arts Group B",null,null,null,"Performing Arts Group C",null,null,null,"Performing Arts Group D",null,null,null,"Performing Arts Dance Group A",null,null,null,"Performing Arts Dance Group B",null,null,null,"Performing Arts Acting Group A",null,null,null,"Performing Arts Acting Group B",null,null,null,"Performing Arts Musical Theatre Group A",null,null,null,"Performing Arts Musical Theatre Group A",null,null,null,"Sport Group B",null,null,null,"Sport and Exercise Science Group B",null,null,null,"Travel and Tourism Group B",null,null,null,"Agriculture Group A",null,null,"Horticulture Group B",null,null,null,"Esports Group B",null,null,null,"Sport and Outdoor Activities Group A",null,null,null,"Sport, Fitness and Personal Training Group A",null,null,null,"Sporting Excellence and Performance Group A",null,null,null,"Sports Coaching and Development Group A",null,null,null,"UPS Group A",null,null,null,"Countryside Management Group A",null,null,null,"Arboriculture Group A",null,null,null,"Forestry Group A",null,null,null,"Marketing Group A"]
["Photographic Materials, Techniques and Processes",{"$f":"IF(COUNTIF('Extended Diploma'!$E$29:$E$30,A2)>=1,\"\",ROW())","v":2},{"$f":"IF(ROW(A2)-ROW(A$2)+1>COUNT(B$2:B$9),\"\",INDEX(A:A,SMALL(B$2:B$9,1+ROW(A2)-ROW(A$2))))","v":"Photographic Materials, Techniques and Processes"},null,"Studio Photography",{"$f":"IF(COUNTIF('Extended Diploma'!$E$29:$E$86,E2)>=1,\"\",ROW())","v":2},{"$f":"IF(ROW(E2)-ROW(E$2)+1>COUNT(F$2:F$30),\"\",INDEX(E:E,SMALL(F$2:F$30,1+ROW(E2)-ROW(E$2))))","v":"Studio Photography"},null,"Practical Skills in Animal Science",{"$f":"IF(COUNTIF('Extended Diploma'!$E$29:$E$86,I2)>=1,\"\",ROW())","v":2},{"$f":"IF(ROW(I2)-ROW(I$2)+1>COUNT(J$2:J$30),\"\",INDEX(I:I,SMALL(J$2:J$30,1+ROW(I2)-ROW(I$2))))","v":"Practical Skills in Animal Science"},null,"Physiology of Human Body Systems",{"$f":"IF(COUNTIF('Extended Diploma'!$E$29:$E$86,M2)>=1,\"\",ROW())","v":2},{"$f":"IF(ROW(M2)-ROW(M$2)+1>COUNT(N$2:N$14),\"\",INDEX(M:M,SMALL(N$2:N$14,1+ROW(M2)-ROW(M$2))))","v":"Physiology of Human Body Systems"},null,"Applications of Organic Chemistry",{"$f":"IF(COUNTIF('Extended Diploma'!$E$29:$E$86,Q2)>=1,\"\",ROW())","v":2},{"$f":"IF(ROW(Q2)-ROW(Q$2)+1>COUNT(R$2:R$14),\"\",INDEX(Q:Q,SMALL(R$2:R$14,1+ROW(Q2)-ROW(Q$2))))","v":"Applications of Organic Chemistry"},null,"Applications of Inorganic Chemistry",{"$f":"IF(COUNTIF('Extended Diploma'!$E$29:$E$86,U2)>=1,\"\",ROW())","v":2},{"$f":"IF(ROW(U2)-ROW(U$2)+1>COUNT(V$2:V$14),\"\",INDEX(U:U,SMALL(V$2:V$14,1+ROW(U2)-ROW(U$2))))","v":"Applications of Inorganic Chemistry"},null,"Physiology of Human Body Systems",{"$f":"IF(COUNTIF('Extended Diploma'!$E$29:$E$86,Y2)>=1,\"\",ROW())","v":2},{"$f":"IF(ROW(Y2)-ROW(Y$2)+1>COUNT(Z$2:Z$14),\"\",INDEX(Y:Y,SMALL(Z$2:Z$14,1+ROW(Y2)-ROW(Y$2))))","v":"Physiology of Human Body Systems"},null,"Applications of Inorganic Chemistry",{"$f":"IF(COUNTIF('Extended Diploma'!$E$29:$E$86,AC2)>=1,\"\",ROW())","v":2},{"$f":"IF(ROW(AC2)-ROW(AC$2)+1>COUNT(AD$2:AD$14),\"\",INDEX(AC:AC,SMALL(AD$2:AD$14,1+ROW(AC2)-ROW(AC$2))))","v":"Applications of Inorganic Chemistry"},null,"Genetics and Genetic Engineering",{"$f":"IF(COUNTIF('Extended Diploma'!$E$29:$E$86,AG2)>=1,\"\",ROW())","v":2},{"$f":"IF(ROW(AG2)-ROW(AG$2)+1>COUNT(AH$2:AH$14),\"\",INDEX(AG:AG,SMALL(AH$2:AH$14,1+ROW(AG2)-ROW(AG$2))))","v":"Genetics and Genetic Engineering"},null,"Physiology of Human Body Systems",{"$f":"IF(COUNTIF('Extended Diploma'!$E$29:$E$86,AK2)>=1,\"\",ROW())","v":2},{"$f":"IF(ROW(AK2)-ROW(AK$2)+1>COUNT(AL$2:AL$14),\"\",INDEX(AK:AK,SMALL(AL$2:AL$14,1+ROW(AK2)-ROW(AK$2))))","v":"Physiology of Human Body Systems"},null,"Applications of Inorganic Chemistry",{"$f":"IF(COUNTIF('Extended Diploma'!$E$29:$E$86,AO2)>=1,\"\",ROW())","v":2},{"$f":"IF(ROW(AO2)-ROW(AO$2)+1>COUNT(AP$2:AP$14),\"\",INDEX(AO:AO,SMALL(AP$2:AP$14,1+ROW(AO2)-ROW(AO$2))))","v":"Applications of Inorganic Chemistry"},null,"Physiology of Human Body Systems",{"$f":"IF(COUNTIF('Extended Diploma'!$E$29:$E$86,AS2)>=1,\"\",ROW())","v":2},{"$f":"IF(ROW(AS2)-ROW(AS$2)+1>COUNT(AT$2:AT$14),\"\",INDEX(AS:AS,SMALL(AT$2:AT$14,1+ROW(AS2)-ROW(AS$2))))","v":"Physiology of Human Body Systems"},null,"Recruitment and Selection Process",{"$f":"IF(COUNTIF('Extended Diploma'!$E$29:$E$86,AW2)>=1,\"\",ROW())","v":2},{"$f":"IF(ROW(AW2)-ROW(AW$2)+1>COUNT(AX$2:AX$30),\"\",INDEX(AW:AW,SMALL(AX$2:AX$30,1+ROW(AW2)-ROW(AW$2))))","v":"Recruitment and Selection Process"},null,"Children’s Development Outdoors",{"$f":"IF(COUNTIF('Extended Diploma'!$E$29:$E$86,BA2)>=1,\"\",ROW())","v":2},{"$f":"IF(ROW(BA2)-ROW(BA$2)+1>COUNT(BB$2:BB$21),\"\",INDEX(BA:BA,SMALL(BB$2:BB$21,1+ROW(BA2)-ROW(BA$2))))","v":"Children’s Development Outdoors"},null,"Human-computer Interaction",{"$f":"IF(COUNTIF('Extended Diploma'!$E$29:$E$86,BE2)>=1,\"\",ROW())","v":2},{"$f":"IF(ROW(BE2)-ROW(BE$2)+1>COUNT(BF$2:BF$21),\"\",INDEX(BE:BE,SMALL(BF$2:BF$21,1+ROW(BE2)-ROW(BE$2))))","v":"Human-computer Interaction"},null,"Website Development",{"$f":"IF(COUNTIF('Extended Diploma'!$E$29:$E$86,BI2)>=1,\"\",ROW())","v":2},{"$f":"IF(ROW(BI2)-ROW(BI$2)+1>COUNT(BJ$2:BJ$21),\"\",INDEX(BI:BI,SMALL(BJ$2:BJ$21,1+ROW(BI2)-ROW(BI$2))))","v":"Website Development"},null,"Computer Networking",{"$f":"IF(COUNTIF('Extended Diploma'!$E$29:$E$86,BM2)>=1,\"\",ROW())","v":2},{"$f":"IF(ROW(BM2)-ROW(BM$2)+1>COUNT(BN$2:BN$21),\"\",INDEX(BM:BM,SMALL(BN$2:BN$21,1+ROW(BM2)-ROW(BM$2))))","v":"Computer Networking"},null,"Systems Analysis and Design",{"$f":"IF(COUNTIF('Extended Diploma'!$E$29:$E$86,BQ2)>=1,\"\",ROW())","v":2},{"$f":"IF(ROW(BQ2)-ROW(BQ$2)+1>COUNT(BR$2:BR$21),\"\",INDEX(BQ:BQ,SMALL(BR$2:BR$21,1+ROW(BQ2)-ROW(BQ$2))))","v":"Systems Analysis and Design"},null,"Graphical Detailing in Construction",{"$f":"IF(COUNTIF('Extended Diploma'!$E$29:$E$86,BU2)>=1,\"\",ROW())","v":2},{"$f":"IF(ROW(BU2)-ROW(BU$2)+1>COUNT(BV$2:BV$21),\"\",INDEX(BU:BU,SMALL(BV$2:BV$21,1+ROW(BU2)-ROW(BU$2))))","v":"Graphical Detailing in Construction"},null,"Building Services Control Systems",{"$f":"IF(COUNTIF('Extended Diploma'!$E$29:$E$86,BY2)>=1,\"\",ROW())","v":2},{"$f":"IF(ROW(BY2)-ROW(BY$2)+1>COUNT(BZ$2:BZ$21),\"\",INDEX(BY:BY,SMALL(BZ$2:BZ$21,1+ROW(BY2)-ROW(BY$2))))","v":"Building Services Control Systems"},null,"Building Surveying in Construction",{"$f":"IF(COUNTIF('Extended Diploma'!$E$29:$E$86,CC2)>=1,\"\",ROW())","v":2},{"$f":"IF(ROW(CC2)-ROW(CC$2)+1>COUNT(CD$2:CD$21),\"\",INDEX(CC:CC,SMALL(CD$2:CD$21,1+ROW(CC2)-ROW(CC$2))))","v":"Building Surveying in Construction"},null,"Surveying in Construction",{"$f":"IF(COUNTIF('Extended Diploma'!$E$29:$E$86,CG2)>=1,\"\",ROW())","v":2},{"$f":"IF(ROW(CG2)-ROW(CG$2)+1>COUNT(CH$2:CH$21),\"\",INDEX(CG:CG,SMALL(CH$2:CH$21,1+ROW(CG2)-ROW(CG$2))))","v":"Surveying in Construction"},null,"Principles and Applications of Structural Mechanics",{"$f":"IF(COUNTIF('Extended Diploma'!$E$29:$E$86,CK2)>=1,\"\",ROW())","v":2},{"$f":"IF(ROW(CK2)-ROW(CK$2)+1>COUNT(CL$2:CL$21),\"\",INDEX(CK:CK,SMALL(CL$2:CL$21,1+ROW(CK2)-ROW(CK$2))))","v":"Principles and Applications of Structural Mechanics"},null,"App Production",{"$f":"IF(COUNTIF('Extended Diploma'!$E$29:$E$86,CO2)>=1,\"\",ROW())","v":2},{"$f":"IF(ROW(CO2)-ROW(CO$2)+1>COUNT(CP$2:CP$21),\"\",INDEX(CO:CO,SMALL(CP$2:CP$21,1+ROW(CO2)-ROW(CO$2))))","v":"App Production"},null,"Storyboarding for Digital Media",{"$f":"IF(COUNTIF('Extended Diploma'!$E$29:$E$86,CS2)>=1,\"\",ROW())","v":2},{"$f":"IF(ROW(CS2)-ROW(CS$2)+1>COUNT(CT$2:CT$22),\"\",INDEX(CS:CS,SMALL(CT$2:CT$22,1+ROW(CS2)-ROW(CS$2))))","v":"Storyboarding for Digital Media"},null,"Film Production – Fiction",{"$f":"IF(COUNTIF('Extended Diploma'!$E$29:$E$86,CW2)>=1,\"\",ROW())","v":2},{"$f":"IF(ROW(CW2)-ROW(CW$2)+1>COUNT(CX$2:CX$22),\"\",INDEX(CW:CW,SMALL(CX$2:CX$22,1+ROW(CW2)-ROW(CW$2))))","v":"Film Production – Fiction"},null,"Storyboarding for Digital Media",{"$f":"IF(COUNTIF('Extended Diploma'!$E$29:$E$86,DA2)>=1,\"\",ROW())","v":2},{"$f":"IF(ROW(DA2)-ROW(DA$2)+1>COUNT(DB$2:DB$22),\"\",INDEX(DA:DA,SMALL(DB$2:DB$22,1+ROW(DA2)-ROW(DA$2))))","v":"Storyboarding for Digital Media"},null,"App Production",{"$f":"IF(COUNTIF('Extended Diploma'!$E$29:$E$86,DE2)>=1,\"\",ROW())","v":2},{"$f":"IF(ROW(DE2)-ROW(DE$2)+1>COUNT(DF$2:DF$22),\"\",INDEX(DE:DE,SMALL(DF$2:DF$22,1+ROW(DE2)-ROW(DE$2))))","v":"App Production"},null,null,"Interviewing Techniques",{"$f":"IF(COUNTIF('Extended Diploma'!$E$29:$E$86,DJ2)>=1,\"\",ROW())","v":2},{"$f":"IF(ROW(DJ2)-ROW(DJ$2)+1>COUNT(DK$2:DK$22),\"\",INDEX(DJ:DJ,SMALL(DK$2:DK$22,1+ROW(DJ2)-ROW(DJ$2))))","v":"Interviewing Techniques"},null,"App Production",{"$f":"IF(COUNTIF('Extended Diploma'!$E$29:$E$86,DN2)>=1,\"\",ROW())","v":2},{"$f":"IF(ROW(DN2)-ROW(DN$2)+1>COUNT(DO$2:DO$22),\"\",INDEX(DN:DN,SMALL(DO$2:DO$22,1+ROW(DN2)-ROW(DN$2))))","v":"App Production"},null,"Concept Art for Computer Games",{"$f":"IF(COUNTIF('Extended Diploma'!$E$29:$E$86,DR2)>=1,\"\",ROW())","v":2},{"$f":"IF(ROW(DR2)-ROW(DR$2)+1>COUNT(DS$2:DS$22),\"\",INDEX(DR:DR,SMALL(DS$2:DS$22,1+ROW(DR2)-ROW(DR$2))))","v":"Concept Art for Computer Games"},null,"Electrical Installation of Hardware and Cables",{"$f":"IF(COUNTIF('Extended Diploma'!$E$29:$E$86,DV2)>=1,\"\",ROW())","v":2},{"$f":"IF(ROW(DV2)-ROW(DV$2)+1>COUNT(DW$2:DW$22),\"\",INDEX(DV:DV,SMALL(DW$2:DW$22,1+ROW(DV2)-ROW(DV$2))))","v":"Electrical Installation of Hardware and Cables"},null,"Maintenance of Mechanical Systems",{"$f":"IF(COUNTIF('Extended Diploma'!$E$29:$E$86,DZ2)>=1,\"\",ROW())","v":2},{"$f":"IF(ROW(DZ2)-ROW(DZ$2)+1>COUNT(EA$2:EA$22),\"\",INDEX(DZ:DZ,SMALL(EA$2:EA$22,1+ROW(DZ2)-ROW(DZ$2))))","v":"Maintenance of Mechanical Systems"},null,"Further Engineering Mathematics",{"$f":"IF(COUNTIF('Extended Diploma'!$E$29:$E$86,ED2)>=1,\"\",ROW())","v":2},{"$f":"IF(ROW(ED2)-ROW(ED$2)+1>COUNT(EE$2:EE$24),\"\",INDEX(ED:ED,SMALL(EE$2:EE$24,1+ROW(ED2)-ROW(ED$2))))","v":"Further Engineering Mathematics"},null,"Further Engineering Mathematics",{"$f":"IF(COUNTIF('Extended Diploma'!$E$29:$E$86,EH2)>=1,\"\",ROW())","v":2},{"$f":"IF(ROW(EH2)-ROW(EH$2)+1>COUNT(EI$2:EI$23),\"\",INDEX(EH:EH,SMALL(EI$2:EI$23,1+ROW(EH2)-ROW(EH$2))))","v":"Further Engineering Mathematics"},null,"Work Experience in the Engineering Sector",{"$f":"IF(COUNTIF('Extended Diploma'!$E$29:$E$86,EL2)>=1,\"\",ROW())","v":2},{"$f":"IF(ROW(EL2)-ROW(EL$2)+1>COUNT(EM$2:EM$23),\"\",INDEX(EL:EL,SMALL(EM$2:EM$23,1+ROW(EL2)-ROW(EL$2))))","v":"Work Experience in the Engineering Sector"},null,"Further Engineering Mathematics",{"$f":"IF(OR(COUNTIF('Extended Diploma'!$E$29:$E$86,EP2)>=1,COUNTIF('Extended Diploma'!$E$29:$E$86,EP3)>=1,COUNTIF('Extended Diploma'!$E$29:$E$86,EP4)>=1,COUNTIF('Extended Diploma'!$E$29:$E$86,EP5)>=1,COUNTIF('Extended Diploma'!$E$29:$E$86,EP14)>=1),\"\",ROW())","v":2},{"$f":"IF(ROW(EP2)-ROW(EP$2)+1>COUNT(EQ$2:EQ$23),\"\",INDEX(EP:EP,SMALL(EQ$2:EQ$23,1+ROW(EP2)-ROW(EP$2))))","v":"Further Engineering Mathematics"},null,"Work Experience in the Engineering Sector",{"$f":"IF(COUNTIF('Extended Diploma'!$E$29:$E$86,ET2)>=1,\"\",ROW())","v":2},{"$f":"IF(ROW(ET2)-ROW(ET$2)+1>COUNT(EU$2:EU$23),\"\",INDEX(ET:ET,SMALL(EU$2:EU$23,1+ROW(ET2)-ROW(ET$2))))","v":"Work Experience in the Engineering Sector"},null,"Electronic Devices and Circuits",{"$f":"IF(OR(COUNTIF('Extended Diploma'!$E$29:$E$86,EX2)>=1,COUNTIF('Extended Diploma'!$E$29:$E$86,EX9)>=1,COUNTIF('Extended Diploma'!$E$29:$E$86,EX10)>=1),\"\",ROW())","v":2},{"$f":"IF(ROW(EX2)-ROW(EX$2)+1>COUNT(EY$2:EY$23),\"\",INDEX(EX:EX,SMALL(EY$2:EY$23,1+ROW(EX2)-ROW(EX$2))))","v":"Electronic Devices and Circuits"},null,"Further Engineering Mathematics",{"$f":"IF(COUNTIF('Extended Diploma'!$E$29:$E$86,FB2)>=1,\"\",ROW())","v":2},{"$f":"IF(ROW(FB2)-ROW(FB$2)+1>COUNT(FC$2:FC$23),\"\",INDEX(FB:FB,SMALL(FC$2:FC$23,1+ROW(FB2)-ROW(FB$2))))","v":"Further Engineering Mathematics"},null,"Computer Aided Design in Engineering",{"$f":"IF(OR(COUNTIF('Extended Diploma'!$E$29:$E$86,FF2)>=1,COUNTIF('Extended Diploma'!$E$29:$E$86,FF3)>=1,COUNTIF('Extended Diploma'!$E$29:$E$86,FF4)>=1,COUNTIF('Extended Diploma'!$E$29:$E$86,FF5)>=1,COUNTIF('Extended Diploma'!$E$29:$E$86,FF6)>=1),\"\",ROW())","v":2},{"$f":"IF(ROW(FF2)-ROW(FF$2)+1>COUNT(FG$2:FG$23),\"\",INDEX(FF:FF,SMALL(FG$2:FG$23,1+ROW(FF2)-ROW(FF$2))))","v":"Computer Aided Design in Engineering"},null,"Further Engineering Mathematics",{"$f":"IF(COUNTIF('Extended Diploma'!$E$29:$E$86,FJ2)>=1,\"\",ROW())","v":2},{"$f":"IF(ROW(FJ2)-ROW(FJ$2)+1>COUNT(FK$2:FK$23),\"\",INDEX(FJ:FJ,SMALL(FK$2:FK$23,1+ROW(FJ2)-ROW(FJ$2))))","v":"Further Engineering Mathematics"},null,"Computer Aided Design in Engineering",{"$f":"IF(OR(COUNTIF('Extended Diploma'!$E$29:$E$86,FN2)>=1,COUNTIF('Extended Diploma'!$E$29:$E$86,FN3)>=1,COUNTIF('Extended Diploma'!$E$29:$E$86,FN4)>=1,COUNTIF('Extended Diploma'!$E$29:$E$86,FN5)>=1,COUNTIF('Extended Diploma'!$E$29:$E$86,FN6)>=1,COUNTIF('Extended Diploma'!$E$29:$E$86,FN7)>=1),\"\",ROW())","v":2},{"$f":"IF(ROW(FN2)-ROW(FN$2)+1>COUNT(FO$2:FO$23),\"\",INDEX(FN:FN,SMALL(FO$2:FO$23,1+ROW(FN2)-ROW(FN$2))))","v":"Computer Aided Design in Engineering"},null,"Further Engineering Mathematics",{"$f":"IF(COUNTIF('Extended Diploma'!$E$29:$E$86,FR2)>=1,\"\",ROW())","v":2},{"$f":"IF(ROW(FR2)-ROW(FR$2)+1>COUNT(FS$2:FS$23),\"\",INDEX(FR:FR,SMALL(FS$2:FS$23,1+ROW(FR2)-ROW(FR$2))))","v":"Further Engineering Mathematics"},null,"Social Enterprise",{"$f":"IF(COUNTIF('Extended Diploma'!$E$29:$E$86,FV2)>=1,\"\",ROW())","v":2},{"$f":"IF(ROW(FV2)-ROW(FV$2)+1>COUNT(FW$2:FW$23),\"\",INDEX(FV:FV,SMALL(FW$2:FW$23,1+ROW(FV2)-ROW(FV$2))))","v":"Social Enterprise"},null,"Equine Business Management",{"$f":"IF(COUNTIF('Extended Diploma'!$E$29:$E$86,FZ2)>=1,\"\",ROW())","v":2},{"$f":"IF(ROW(FZ2)-ROW(FZ$2)+1>COUNT(GA$2:GA$23),\"\",INDEX(FZ:FZ,SMALL(GA$2:GA$23,1+ROW(FZ2)-ROW(FZ$2))))","v":"Equine Business Management"},null,"Physiology of Human Body Systems",{"$f":"IF(COUNTIF('Extended Diploma'!$E$29:$E$86,GD2)>=1,\"\",ROW())","v":2},{"$f":"IF(ROW(GD2)-ROW(GD$2)+1>COUNT(GE$2:GE$23),\"\",INDEX(GD:GD,SMALL(GE$2:GE$23,1+ROW(GD2)-ROW(GD$2))))","v":"Physiology of Human Body Systems"},null,"Infection Prevention and Control",{"$f":"IF(COUNTIF('Extended Diploma'!$E$29:$E$86,GH2)>=1,\"\",ROW())","v":2},{"$f":"IF(ROW(GH2)-ROW(GH$2)+1>COUNT(GI$2:GI$23),\"\",INDEX(GH:GH,SMALL(GI$2:GI$23,1+ROW(GH2)-ROW(GH$2))))","v":"Infection Prevention and Control"},null,"Sociological Perspectives",{"$f":"IF(COUNTIF('Extended Diploma'!$E$29:$E$86,GL2)>=1,\"\",ROW())","v":2},{"$f":"IF(ROW(GL2)-ROW(GL$2)+1>COUNT(GM$2:GM$23),\"\",INDEX(GL:GL,SMALL(GM$2:GM$23,1+ROW(GL2)-ROW(GL$2))))","v":"Sociological Perspectives"},null,"Infection Prevention and Control",{"$f":"IF(COUNTIF('Extended Diploma'!$E$29:$E$86,GP2)>=1,\"\",ROW())","v":2},{"$f":"IF(ROW(GP2)-ROW(GP$2)+1>COUNT(GQ$2:GQ$23),\"\",INDEX(GP:GP,SMALL(GQ$2:GQ$23,1+ROW(GP2)-ROW(GP$2))))","v":"Infection Prevention and Control"},null,"Scientific Techniques for Health Science",{"$f":"IF(COUNTIF('Extended Diploma'!$E$29:$E$86,GT2)>=1,\"\",ROW())","v":2},{"$f":"IF(ROW(GT2)-ROW(GT$2)+1>COUNT(GU$2:GU$23),\"\",INDEX(GT:GT,SMALL(GU$2:GU$23,1+ROW(GT2)-ROW(GT$2))))","v":"Scientific Techniques for Health Science"},null,"Data Modelling",{"$f":"IF(COUNTIF('Extended Diploma'!$E$29:$E$86,GX2)>=1,\"\",ROW())","v":2},{"$f":"IF(ROW(GX2)-ROW(GX$2)+1>COUNT(GY$2:GY$23),\"\",INDEX(GX:GX,SMALL(GY$2:GY$23,1+ROW(GX2)-ROW(GX$2))))","v":"Data Modelling"},null,"Arranging Music",{"$f":"IF(COUNTIF('Extended Diploma'!$E$29:$E$86,HB2)>=1,\"\",ROW())","v":2},{"$f":"IF(ROW(HB2)-ROW(HB$2)+1>COUNT(HC$2:HC$23),\"\",INDEX(HB:HB,SMALL(HC$2:HC$23,1+ROW(HB2)-ROW(HB$2))))","v":"Arranging Music"},null,"Creative Synthesis and Sampling",{"$f":"IF(COUNTIF('Extended Diploma'!$E$29:$E$86,HF2)>=1,\"\",ROW())","v":2},{"$f":"IF(ROW(HF2)-ROW(HF$2)+1>COUNT(HG$2:HG$23),\"\",INDEX(HF:HF,SMALL(HG$2:HG$23,1+ROW(HF2)-ROW(HF$2))))","v":"Creative Synthesis and Sampling"},null,"Classical Ballet Technique",{"$f":"IF(COUNTIF('Extended Diploma'!$E$29:$E$86,HJ2)>=1,\"\",ROW())","v":2},{"$f":"IF(ROW(HJ2)-ROW(HJ$2)+1>COUNT(HK$2:HK$23),\"\",INDEX(HJ:HJ,SMALL(HK$2:HK$23,1+ROW(HJ2)-ROW(HJ$2))))","v":"Classical Ballet Technique"},null,"Theatre Directing",{"$f":"IF(COUNTIF('Extended Diploma'!$E$29:$E$86,HN2)>=1,\"\",ROW())","v":2},{"$f":"IF(ROW(HN2)-ROW(HN$2)+1>COUNT(HO$2:HO$23),\"\",INDEX(HN:HN,SMALL(HO$2:HO$23,1+ROW(HN2)-ROW(HN$2))))","v":"Theatre Directing"},null,"Jazz Dance Technique",{"$f":"IF(COUNTIF('Extended Diploma'!$E$29:$E$86,HR2)>=1,\"\",ROW())","v":2},{"$f":"IF(ROW(HR2)-ROW(HR$2)+1>COUNT(HS$2:HS$23),\"\",INDEX(HR:HR,SMALL(HS$2:HS$23,1+ROW(HR2)-ROW(HR$2))))","v":"Jazz Dance Technique"},null,"Healthy Dancer",{"$f":"IF(COUNTIF('Extended Diploma'!$E$29:$E$86,HV2)>=1,\"\",ROW())","v":2},{"$f":"IF(ROW(HV2)-ROW(HV$2)+1>COUNT(HW$2:HW$23),\"\",INDEX(HV:HV,SMALL(HW$2:HW$23,1+ROW(HV2)-ROW(HV$2))))","v":"Healthy Dancer"},null,"Classical Ballet Technique",{"$f":"IF(COUNTIF('Extended Diploma'!$E$29:$E$86,HZ2)>=1,\"\",ROW())","v":2},{"$f":"IF(ROW(HZ2)-ROW(HZ$2)+1>COUNT(IA$2:IA$23),\"\",INDEX(HZ:HZ,SMALL(IA$2:IA$23,1+ROW(HZ2)-ROW(HZ$2))))","v":"Classical Ballet Technique"},null,"Healthy Dancer",{"$f":"IF(COUNTIF('Extended Diploma'!$E$29:$E$86,ID2)>=1,\"\",ROW())","v":2},{"$f":"IF(ROW(ID2)-ROW(ID$2)+1>COUNT(IE$2:IE$23),\"\",INDEX(ID:ID,SMALL(IE$2:IE$23,1+ROW(ID2)-ROW(ID$2))))","v":"Healthy Dancer"},null,"Theatre Directing",{"$f":"IF(COUNTIF('Extended Diploma'!$E$29:$E$86,IH2)>=1,\"\",ROW())","v":2},{"$f":"IF(ROW(IH2)-ROW(IH$2)+1>COUNT(II$2:II$23),\"\",INDEX(IH:IH,SMALL(II$2:II$23,1+ROW(IH2)-ROW(IH$2))))","v":"Theatre Directing"},null,"Improvisation",{"$f":"IF(COUNTIF('Extended Diploma'!$E$29:$E$86,IL2)>=1,\"\",ROW())","v":2},{"$f":"IF(ROW(IL2)-ROW(IL$2)+1>COUNT(IM$2:IM$23),\"\",INDEX(IL:IL,SMALL(IM$2:IM$23,1+ROW(IL2)-ROW(IL$2))))","v":"Improvisation"},null,"Jazz Dance Technique",{"$f":"IF(COUNTIF('Extended Diploma'!$E$29:$E$86,IP2)>=1,\"\",ROW())","v":2},{"$f":"IF(ROW(IP2)-ROW(IP$2)+1>COUNT(IQ$2:IQ$23),\"\",INDEX(IP:IP,SMALL(IQ$2:IQ$23,1+ROW(IP2)-ROW(IP$2))))","v":"Jazz Dance Technique"},null,"Classical Ballet Technique",{"$f":"IF(COUNTIF('Extended Diploma'!$E$29:$E$86,IT2)>=1,\"\",ROW())","v":2},{"$f":"IF(ROW(IT2)-ROW(IT$2)+1>COUNT(IU$2:IU$23),\"\",INDEX(IT:IT,SMALL(IU$2:IU$23,1+ROW(IT2)-ROW(IT$2))))","v":"Classical Ballet Technique"},null,"Application of Fitness Testing",{"$f":"IF(COUNTIF('Extended Diploma'!$E$29:$E$86,IX2)>=1,\"\",ROW())","v":2},{"$f":"IF(ROW(IX2)-ROW(IX$2)+1>COUNT(IY$2:IY$23),\"\",INDEX(IX:IX,SMALL(IY$2:IY$23,1+ROW(IX2)-ROW(IX$2))))","v":"Application of Fitness Testing"},null,"Biomechanics in Sport and Exercise Science",{"$f":"IF(COUNTIF('Extended Diploma'!$E$29:$E$86,JB2)>=1,\"\",ROW())","v":2},{"$f":"IF(ROW(JB2)-ROW(JB$2)+1>COUNT(JC$2:JC$23),\"\",INDEX(JB:JB,SMALL(JC$2:JC$23,1+ROW(JB2)-ROW(JB$2))))","v":"Biomechanics in Sport and Exercise Science"},null,"Specialist Tourism",{"$f":"IF(COUNTIF('Extended Diploma'!$E$29:$E$86,JF2)>=1,\"\",ROW())","v":2},{"$f":"IF(ROW(JF2)-ROW(JF$2)+1>COUNT(JG$2:JG$23),\"\",INDEX(JF:JF,SMALL(JG$2:JG$23,1+ROW(JF2)-ROW(JF$2))))","v":"Specialist Tourism"},null,"Crop Production",{"$f":"IF(COUNTIF('Extended Diploma'!$E$29:$E$86,JJ2)>=1,\"\",ROW())","v":2},{"$f":"IF(ROW(JJ2)-ROW(JJ$2)+1>COUNT(JK$2:JK$23),\"\",INDEX(JJ:JJ,SMALL(JK$2:JK$23,1+ROW(JJ2)-ROW(JJ$2))))","v":"Crop Production"},"Estate Skills",{"$f":"IF(COUNTIF('Extended Diploma'!$E$29:$E$86,JM2)>=1,\"\",ROW())","v":2},{"$f":"IF(ROW(JM2)-ROW(JM$2)+1>COUNT(JN$2:JN$23),\"\",INDEX(JM:JM,SMALL(JN$2:JN$23,1+ROW(JM2)-ROW(JM$2))))","v":"Estate Skills"},null,"Live-streamed Broadcasting",{"$f":"IF(COUNTIF('Extended Diploma'!$E$29:$E$86,JQ2)>=1,\"\",ROW())","v":2},{"$f":"IF(ROW(JQ2)-ROW(JQ$2)+1>COUNT(JR$2:JR$23),\"\",INDEX(JQ:JQ,SMALL(JR$2:JR$23,1+ROW(JQ2)-ROW(JQ$2))))","v":"Live-streamed Broadcasting"},null,"Sport Development",{"$f":"IF(COUNTIF('Extended Diploma'!$E$29:$E$86,JU2)>=1,\"\",ROW())","v":2},{"$f":"IF(ROW(JU2)-ROW(JU$2)+1>COUNT(JV$2:JV$23),\"\",INDEX(JU:JU,SMALL(JV$2:JV$23,1+ROW(JU2)-ROW(JU$2))))","v":"Sport Development"},null,"Sporting Injuries",{"$f":"IF(COUNTIF('Extended Diploma'!$E$29:$E$86,JY2)>=1,\"\",ROW())","v":2},{"$f":"IF(ROW(JY2)-ROW(JY$2)+1>COUNT(JZ$2:JZ$23),\"\",INDEX(JY:JY,SMALL(JZ$2:JZ$23,1+ROW(JY2)-ROW(JY$2))))","v":"Sporting Injuries"},null,"Developing Coaching Skills",{"$f":"IF(COUNTIF('Extended Diploma'!$E$29:$E$86,KC2)>=1,\"\",ROW())","v":2},{"$f":"IF(ROW(KC2)-ROW(KC$2)+1>COUNT(KD$2:KD$23),\"\",INDEX(KC:KC,SMALL(KD$2:KD$23,1+ROW(KC2)-ROW(KC$2))))","v":"Developing Coaching Skills"},null,"Sports Psychology",{"$f":"IF(COUNTIF('Extended Diploma'!$E$29:$E$86,KG2)>=1,\"\",ROW())","v":2},{"$f":"IF(ROW(KG2)-ROW(KG$2)+1>COUNT(KH$2:KH$23),\"\",INDEX(KG:KG,SMALL(KH$2:KH$23,1+ROW(KG2)-ROW(KG$2))))","v":"Sports Psychology"},null,"Custodial Care",{"$f":"IF(COUNTIF('Extended Diploma'!$E$29:$E$86,KK2)>=1,\"\",ROW())","v":2},{"$f":"IF(ROW(KK2)-ROW(KK$2)+1>COUNT(KL$2:KL$23),\"\",INDEX(KK:KK,SMALL(KL$2:KL$23,1+ROW(KK2)-ROW(KK$2))))","v":"Custodial Care"},null,"Identification, Planting and Care of Trees",{"$f":"IF(COUNTIF('Extended Diploma'!$E$29:$E$86,KO2)>=1,\"\",ROW())","v":2},{"$f":"IF(ROW(KO2)-ROW(KO$2)+1>COUNT(KP$2:KP$23),\"\",INDEX(KO:KO,SMALL(KP$2:KP$23,1+ROW(KO2)-ROW(KO$2))))","v":"Identification, Planting and Care of Trees"},null,"Surveying, Inspecting and Measuring Trees",{"$f":"IF(COUNTIF('Extended Diploma'!$E$29:$E$86,KS2)>=1,\"\",ROW())","v":2},{"$f":"IF(ROW(KS2)-ROW(KS$2)+1>COUNT(KT$2:KT$23),\"\",INDEX(KS:KS,SMALL(KT$2:KT$23,1+ROW(KS2)-ROW(KS$2))))","v":"Surveying, Inspecting and Measuring Trees"},null,"Woodland Management",{"$f":"IF(COUNTIF('Extended Diploma'!$E$29:$E$86,KW2)>=1,\"\",ROW())","v":2},{"$f":"IF(ROW(KW2)-ROW(KW$2)+1>COUNT(KX$2:KX$23),\"\",INDEX(KW:KW,SMALL(KX$2:KX$23,1+ROW(KW2)-ROW(KW$2))))","v":"Woodland Management"},null,"Customer Immersion Experiences",{"$f":"IF(COUNTIF('Extended Diploma'!$E$29:$E$86,LA2)>=1,\"\",ROW())","v":2},{"$f":"IF(ROW(LA2)-ROW(LA$2)+1>COUNT(LB$2:LB$23),\"\",INDEX(LA:LA,SMALL(LB$2:LB$23,1+ROW(LA2)-ROW(LA$2))))","v":"Customer Immersion Experiences"}]
["Graphic Materials, Techniques and Processes",{"$f":"IF(COUNTIF('Extended Diploma'!$E$29:$E$30,A3)>=1,\"\",ROW())","v":3},{"$f":"IF(ROW(A3)-ROW(A$2)+1>COUNT(B$2:B$9),\"\",INDEX(A:A,SMALL(B$2:B$9,1+ROW(A3)-ROW(A$2))))","v":"Graphic Materials, Techniques and Processes"},null,"Location Photography",{"$f":"IF(COUNTIF('Extended Diploma'!$E$29:$E$86,E3)>=1,\"\",ROW())","v":3},{"$f":"IF(ROW(E3)-ROW(E$2)+1>COUNT(F$2:F$30),\"\",INDEX(E:E,SMALL(F$2:F$30,1+ROW(E3)-ROW(E$2))))","v":"Location Photography"},null,"Animal Metabolism",{"$f":"IF(COUNTIF('Extended Diploma'!$E$29:$E$86,I3)>=1,\"\",ROW())","v":3},{"$f":"IF(ROW(I3)-ROW(I$2)+1>COUNT(J$2:J$30),\"\",INDEX(I:I,SMALL(J$2:J$30,1+ROW(I3)-ROW(I$2))))","v":"Animal Metabolism"},null,"Human Regulation and Reproduction",{"$f":"IF(COUNTIF('Extended Diploma'!$E$29:$E$86,M3)>=1,\"\",ROW())","v":3},{"$f":"IF(ROW(M3)-ROW(M$2)+1>COUNT(N$2:N$14),\"\",INDEX(M:M,SMALL(N$2:N$14,1+ROW(M3)-ROW(M$2))))","v":"Human Regulation and Reproduction"},null,"Practical Chemical Analysis",{"$f":"IF(COUNTIF('Extended Diploma'!$E$29:$E$86,Q3)>=1,\"\",ROW())","v":3},"Practical Chemical Analysis",null,"Electrical Circuits and their Application",{"$f":"IF(COUNTIF('Extended Diploma'!$E$29:$E$86,U3)>=1,\"\",ROW())","v":3},"Electrical Circuits and their Application",null,"Human Regulation and Reproduction",{"$f":"IF(COUNTIF('Extended Diploma'!$E$29:$E$86,Y3)>=1,\"\",ROW())","v":3},{"$f":"IF(ROW(Y3)-ROW(Y$2)+1>COUNT(Z$2:Z$14),\"\",INDEX(Y:Y,SMALL(Z$2:Z$14,1+ROW(Y3)-ROW(Y$2))))","v":"Human Regulation and Reproduction"},null,"Applications of Organic Chemistry",{"$f":"IF(COUNTIF('Extended Diploma'!$E$29:$E$86,AC3)>=1,\"\",ROW())","v":3},{"$f":"IF(ROW(AC3)-ROW(AC$2)+1>COUNT(AD$2:AD$14),\"\",INDEX(AC:AC,SMALL(AD$2:AD$14,1+ROW(AC3)-ROW(AC$2))))","v":"Applications of Organic Chemistry"},null,"Applications of Inorganic Chemistry",{"$f":"IF(COUNTIF('Extended Diploma'!$E$29:$E$86,AG3)>=1,\"\",ROW())","v":3},{"$f":"IF(ROW(AG3)-ROW(AG$2)+1>COUNT(AH$2:AH$14),\"\",INDEX(AG:AG,SMALL(AH$2:AH$14,1+ROW(AG3)-ROW(AG$2))))","v":"Applications of Inorganic Chemistry"},null,"Human Regulation and Reproduction",{"$f":"IF(COUNTIF('Extended Diploma'!$E$29:$E$86,AK3)>=1,\"\",ROW())","v":3},{"$f":"IF(ROW(AK3)-ROW(AK$2)+1>COUNT(AL$2:AL$14),\"\",INDEX(AK:AK,SMALL(AL$2:AL$14,1+ROW(AK3)-ROW(AK$2))))","v":"Human Regulation and Reproduction"},null,"Electrical Circuits and their Application",{"$f":"IF(COUNTIF('Extended Diploma'!$E$29:$E$86,AO3)>=1,\"\",ROW())","v":3},{"$f":"IF(ROW(AO3)-ROW(AO$2)+1>COUNT(AP$2:AP$14),\"\",INDEX(AO:AO,SMALL(AP$2:AP$14,1+ROW(AO3)-ROW(AO$2))))","v":"Electrical Circuits and their Application"},null,"Human Regulation and Reproduction",{"$f":"IF(COUNTIF('Extended Diploma'!$E$29:$E$86,AS3)>=1,\"\",ROW())","v":3},{"$f":"IF(ROW(AS3)-ROW(AS$2)+1>COUNT(AT$2:AT$14),\"\",INDEX(AS:AS,SMALL(AT$2:AT$14,1+ROW(AS3)-ROW(AS$2))))","v":"Human Regulation and Reproduction"},null,"Team Building in Business",{"$f":"IF(COUNTIF('Extended Diploma'!$E$29:$E$86,AW3)>=1,\"\",ROW())","v":3},{"$f":"IF(ROW(AW3)-ROW(AW$2)+1>COUNT(AX$2:AX$30),\"\",INDEX(AW:AW,SMALL(AX$2:AX$30,1+ROW(AW3)-ROW(AW$2))))","v":"Team Building in Business"},null,"Healthy Eating in Early Years",{"$f":"IF(COUNTIF('Extended Diploma'!$E$29:$E$86,BA3)>=1,\"\",ROW())","v":3},{"$f":"IF(ROW(BA3)-ROW(BA$2)+1>COUNT(BB$2:BB$21),\"\",INDEX(BA:BA,SMALL(BB$2:BB$21,1+ROW(BA3)-ROW(BA$2))))","v":"Healthy Eating in Early Years"},null,"Digital Graphics and Animation",{"$f":"IF(COUNTIF('Extended Diploma'!$E$29:$E$86,BE3)>=1,\"\",ROW())","v":3},{"$f":"IF(ROW(BE3)-ROW(BE$2)+1>COUNT(BF$2:BF$21),\"\",INDEX(BE:BE,SMALL(BF$2:BF$21,1+ROW(BE3)-ROW(BE$2))))","v":"Digital Graphics and Animation"},null,"Object-oriented Programming",{"$f":"IF(COUNTIF('Extended Diploma'!$E$29:$E$86,BI3)>=1,\"\",ROW())","v":3},{"$f":"IF(ROW(BI3)-ROW(BI$2)+1>COUNT(BJ$2:BJ$21),\"\",INDEX(BI:BI,SMALL(BJ$2:BJ$21,1+ROW(BI3)-ROW(BI$2))))","v":"Object-oriented Programming"},null,"Managing and Supporting Systems",{"$f":"IF(COUNTIF('Extended Diploma'!$E$29:$E$86,BM3)>=1,\"\",ROW())","v":3},{"$f":"IF(ROW(BM3)-ROW(BM$2)+1>COUNT(BN$2:BN$21),\"\",INDEX(BM:BM,SMALL(BN$2:BN$21,1+ROW(BM3)-ROW(BM$2))))","v":"Managing and Supporting Systems"},null,"Systems Methodology",{"$f":"IF(COUNTIF('Extended Diploma'!$E$29:$E$86,BQ3)>=1,\"\",ROW())","v":3},{"$f":"IF(ROW(BQ3)-ROW(BQ$2)+1>COUNT(BR$2:BR$21),\"\",INDEX(BQ:BQ,SMALL(BR$2:BR$21,1+ROW(BQ3)-ROW(BQ$2))))","v":"Systems Methodology"},null,"Management of a Construction Project",{"$f":"IF(COUNTIF('Extended Diploma'!$E$29:$E$86,BU3)>=1,\"\",ROW())","v":3},{"$f":"IF(ROW(BU3)-ROW(BU$2)+1>COUNT(BV$2:BV$21),\"\",INDEX(BU:BU,SMALL(BV$2:BV$21,1+ROW(BU3)-ROW(BU$2))))","v":"Management of a Construction Project"},null,"Heating, Ventilation and Air Conditioning Design",{"$f":"IF(COUNTIF('Extended Diploma'!$E$29:$E$86,BY3)>=1,\"\",ROW())","v":3},{"$f":"IF(ROW(BY3)-ROW(BY$2)+1>COUNT(BZ$2:BZ$21),\"\",INDEX(BY:BY,SMALL(BZ$2:BZ$21,1+ROW(BY3)-ROW(BY$2))))","v":"Heating, Ventilation and Air Conditioning Design"},null,"Site Engineering for Construction",{"$f":"IF(COUNTIF('Extended Diploma'!$E$29:$E$86,CC3)>=1,\"\",ROW())","v":3},{"$f":"IF(ROW(CC3)-ROW(CC$2)+1>COUNT(CD$2:CD$21),\"\",INDEX(CC:CC,SMALL(CD$2:CD$21,1+ROW(CC3)-ROW(CC$2))))","v":"Site Engineering for Construction"},null,"Graphical Detailing in Construction",{"$f":"IF(COUNTIF('Extended Diploma'!$E$29:$E$86,CG3)>=1,\"\",ROW())","v":3},{"$f":"IF(ROW(CG3)-ROW(CG$2)+1>COUNT(CH$2:CH$21),\"\",INDEX(CG:CG,SMALL(CH$2:CH$21,1+ROW(CG3)-ROW(CG$2))))","v":"Graphical Detailing in Construction"},null,"Public Health Engineering",{"$f":"IF(COUNTIF('Extended Diploma'!$E$29:$E$86,CK3)>=1,\"\",ROW())","v":3},{"$f":"IF(ROW(CK3)-ROW(CK$2)+1>COUNT(CL$2:CL$21),\"\",INDEX(CK:CK,SMALL(CL$2:CL$21,1+ROW(CK3)-ROW(CK$2))))","v":"Public Health Engineering"},null,"Film Production – Fiction",{"$f":"IF(COUNTIF('Extended Diploma'!$E$29:$E$86,CO3)>=1,\"\",ROW())","v":3},{"$f":"IF(ROW(CO3)-ROW(CO$2)+1>COUNT(CP$2:CP$21),\"\",INDEX(CO:CO,SMALL(CP$2:CP$21,1+ROW(CO3)-ROW(CO$2))))","v":"Film Production – Fiction"},null,"Scriptwriting",{"$f":"IF(COUNTIF('Extended Diploma'!$E$29:$E$86,CS3)>=1,\"\",ROW())","v":3},{"$f":"IF(ROW(CS3)-ROW(CS$2)+1>COUNT(CT$2:CT$22),\"\",INDEX(CS:CS,SMALL(CT$2:CT$22,1+ROW(CS3)-ROW(CS$2))))","v":"Scriptwriting"},null,"Radio Production – Fiction",{"$f":"IF(COUNTIF('Extended Diploma'!$E$29:$E$86,CW3)>=1,\"\",ROW())","v":3},{"$f":"IF(ROW(CW3)-ROW(CW$2)+1>COUNT(CX$2:CX$22),\"\",INDEX(CW:CW,SMALL(CX$2:CX$22,1+ROW(CW3)-ROW(CW$2))))","v":"Radio Production – Fiction"},null,"Scriptwriting",{"$f":"IF(COUNTIF('Extended Diploma'!$E$29:$E$86,DA3)>=1,\"\",ROW())","v":3},{"$f":"IF(ROW(DA3)-ROW(DA$2)+1>COUNT(DB$2:DB$22),\"\",INDEX(DA:DA,SMALL(DB$2:DB$22,1+ROW(DA3)-ROW(DA$2))))","v":"Scriptwriting"},null,"Website Production",{"$f":"IF(COUNTIF('Extended Diploma'!$E$29:$E$86,DE3)>=1,\"\",ROW())","v":3},{"$f":"IF(ROW(DE3)-ROW(DE$2)+1>COUNT(DF$2:DF$22),\"\",INDEX(DE:DE,SMALL(DF$2:DF$22,1+ROW(DE3)-ROW(DE$2))))","v":"Website Production"},null,null,"Writing Copy",{"$f":"IF(COUNTIF('Extended Diploma'!$E$29:$E$86,DJ3)>=1,\"\",ROW())","v":3},{"$f":"IF(ROW(DJ3)-ROW(DJ$2)+1>COUNT(DK$2:DK$22),\"\",INDEX(DJ:DJ,SMALL(DK$2:DK$22,1+ROW(DJ3)-ROW(DJ$2))))","v":"Writing Copy"},null,"Film Production – Fiction",{"$f":"IF(COUNTIF('Extended Diploma'!$E$29:$E$86,DN3)>=1,\"\",ROW())","v":3},{"$f":"IF(ROW(DN3)-ROW(DN$2)+1>COUNT(DO$2:DO$22),\"\",INDEX(DN:DN,SMALL(DO$2:DO$22,1+ROW(DN3)-ROW(DN$2))))","v":"Film Production – Fiction"},null,"2D Animation",{"$f":"IF(COUNTIF('Extended Diploma'!$E$29:$E$86,DR3)>=1,\"\",ROW())","v":3},{"$f":"IF(ROW(DR3)-ROW(DR$2)+1>COUNT(DS$2:DS$22),\"\",INDEX(DR:DR,SMALL(DS$2:DS$22,1+ROW(DR3)-ROW(DR$2))))","v":"2D Animation"},null,"Electrical Machines",{"$f":"IF(COUNTIF('Extended Diploma'!$E$29:$E$86,DV3)>=1,\"\",ROW())","v":3},{"$f":"IF(ROW(DV3)-ROW(DV$2)+1>COUNT(DW$2:DW$22),\"\",INDEX(DV:DV,SMALL(DW$2:DW$22,1+ROW(DV3)-ROW(DV$2))))","v":"Electrical Machines"},null,"Mechanical Behaviour of Metallic Materials",{"$f":"IF(COUNTIF('Extended Diploma'!$E$29:$E$86,DZ3)>=1,\"\",ROW())","v":3},{"$f":"IF(ROW(DZ3)-ROW(DZ$2)+1>COUNT(EA$2:EA$22),\"\",INDEX(DZ:DZ,SMALL(EA$2:EA$22,1+ROW(DZ3)-ROW(DZ$2))))","v":"Mechanical Behaviour of Metallic Materials"},null,"Work Experience in the Engineering Sector",{"$f":"IF(COUNTIF('Extended Diploma'!$E$29:$E$86,ED3)>=1,\"\",ROW())","v":3},{"$f":"IF(ROW(ED3)-ROW(ED$2)+1>COUNT(EE$2:EE$24),\"\",INDEX(ED:ED,SMALL(EE$2:EE$24,1+ROW(ED3)-ROW(ED$2))))","v":"Work Experience in the Engineering Sector"},null,"Electrical Installation of Hardware and Cables",{"$f":"IF(COUNTIF('Extended Diploma'!$E$29:$E$86,EH3)>=1,\"\",ROW())","v":3},{"$f":"IF(ROW(EH3)-ROW(EH$2)+1>COUNT(EI$2:EI$23),\"\",INDEX(EH:EH,SMALL(EI$2:EI$23,1+ROW(EH3)-ROW(EH$2))))","v":"Electrical Installation of Hardware and Cables"},null,"Pneumatic and Hydraulic Systems",{"$f":"IF(COUNTIF('Extended Diploma'!$E$29:$E$86,EL3)>=1,\"\",ROW())","v":3},{"$f":"IF(ROW(EL3)-ROW(EL$2)+1>COUNT(EM$2:EM$23),\"\",INDEX(EL:EL,SMALL(EM$2:EM$23,1+ROW(EL3)-ROW(EL$2))))","v":"Pneumatic and Hydraulic Systems"},null,"Computer Aided Design in Engineering",{"$f":"IF(OR(COUNTIF('Extended Diploma'!$E$29:$E$86,EP2)>=1,COUNTIF('Extended Diploma'!$E$29:$E$86,EP3)>=1,COUNTIF('Extended Diploma'!$E$29:$E$86,EP4)>=1,COUNTIF('Extended Diploma'!$E$29:$E$86,EP5)>=1,COUNTIF('Extended Diploma'!$E$29:$E$86,EP14)>=1),\"\",ROW())","v":3},{"$f":"IF(ROW(EP3)-ROW(EP$2)+1>COUNT(EQ$2:EQ$23),\"\",INDEX(EP:EP,SMALL(EQ$2:EQ$23,1+ROW(EP3)-ROW(EP$2))))","v":"Computer Aided Design in Engineering"},null,"Electrical Machines",{"$f":"IF(COUNTIF('Extended Diploma'!$E$29:$E$86,ET3)>=1,\"\",ROW())","v":3},{"$f":"IF(ROW(ET3)-ROW(ET$2)+1>COUNT(EU$2:EU$23),\"\",INDEX(ET:ET,SMALL(EU$2:EU$23,1+ROW(ET3)-ROW(ET$2))))","v":"Electrical Machines"},null,"Computer Systems Security",{"$f":"IF(COUNTIF('Extended Diploma'!$E$29:$E$86,EX3)>=1,\"\",ROW())","v":3},{"$f":"IF(ROW(EX3)-ROW(EX$2)+1>COUNT(EY$2:EY$23),\"\",INDEX(EX:EX,SMALL(EY$2:EY$23,1+ROW(EX3)-ROW(EX$2))))","v":"Computer Systems Security"},null,"Work Experience in the Engineering Sector",{"$f":"IF(COUNTIF('Extended Diploma'!$E$29:$E$86,FB3)>=1,\"\",ROW())","v":3},{"$f":"IF(ROW(FB3)-ROW(FB$2)+1>COUNT(FC$2:FC$23),\"\",INDEX(FB:FB,SMALL(FC$2:FC$23,1+ROW(FB3)-ROW(FB$2))))","v":"Work Experience in the Engineering Sector"},null,"Welding Technology",{"$f":"IF(OR(COUNTIF('Extended Diploma'!$E$29:$E$86,FF2)>=1,COUNTIF('Extended Diploma'!$E$29:$E$86,FF3)>=1,COUNTIF('Extended Diploma'!$E$29:$E$86,FF4)>=1,COUNTIF('Extended Diploma'!$E$29:$E$86,FF5)>=1,COUNTIF('Extended Diploma'!$E$29:$E$86,FF6)>=1),\"\",ROW())","v":3},{"$f":"IF(ROW(FF3)-ROW(FF$2)+1>COUNT(FG$2:FG$23),\"\",INDEX(FF:FF,SMALL(FG$2:FG$23,1+ROW(FF3)-ROW(FF$2))))","v":"Welding Technology"},null,"Work Experience in the Engineering Sector",{"$f":"IF(COUNTIF('Extended Diploma'!$E$29:$E$86,FJ3)>=1,\"\",ROW())","v":3},{"$f":"IF(ROW(FJ3)-ROW(FJ$2)+1>COUNT(FK$2:FK$23),\"\",INDEX(FJ:FJ,SMALL(FK$2:FK$23,1+ROW(FJ3)-ROW(FJ$2))))","v":"Work Experience in the Engineering Sector"},null,"Engineering Maintenance and Condition Monitoring Techniques",{"$f":"IF(OR(COUNTIF('Extended Diploma'!$E$29:$E$86,FN2)>=1,COUNTIF('Extended Diploma'!$E$29:$E$86,FN3)>=1,COUNTIF('Extended Diploma'!$E$29:$E$86,FN4)>=1,COUNTIF('Extended Diploma'!$E$29:$E$86,FN5)>=1,COUNTIF('Extended Diploma'!$E$29:$E$86,FN6)>=1,COUNTIF('Extended Diploma'!$E$29:$E$86,FN7)>=1),\"\",ROW())","v":3},{"$f":"IF(ROW(FN3)-ROW(FN$2)+1>COUNT(FO$2:FO$23),\"\",INDEX(FN:FN,SMALL(FO$2:FO$23,1+ROW(FN3)-ROW(FN$2))))","v":"Engineering Maintenance and Condition Monitoring Techniques"},null,"Work Experience in the Engineering Sector",{"$f":"IF(COUNTIF('Extended Diploma'!$E$29:$E$86,FR3)>=1,\"\",ROW())","v":3},{"$f":"IF(ROW(FR3)-ROW(FR$2)+1>COUNT(FS$2:FS$23),\"\",INDEX(FR:FR,SMALL(FS$2:FS$23,1+ROW(FR3)-ROW(FR$2))))","v":"Work Experience in the Engineering Sector"},null,"Entrepreneurship and Intrapreneurship in Practice",{"$f":"IF(COUNTIF('Extended Diploma'!$E$29:$E$86,FV3)>=1,\"\",ROW())","v":3},{"$f":"IF(ROW(FV3)-ROW(FV$2)+1>COUNT(FW$2:FW$23),\"\",INDEX(FV:FV,SMALL(FW$2:FW$23,1+ROW(FV3)-ROW(FV$2))))","v":"Entrepreneurship and Intrapreneurship in Practice"},null,"Horse Fitness",{"$f":"IF(COUNTIF('Extended Diploma'!$E$29:$E$86,FZ3)>=1,\"\",ROW())","v":3},{"$f":"IF(ROW(FZ3)-ROW(FZ$2)+1>COUNT(GA$2:GA$23),\"\",INDEX(FZ:FZ,SMALL(GA$2:GA$23,1+ROW(FZ3)-ROW(FZ$2))))","v":"Horse Fitness"},null,"Environmental Forensics",{"$f":"IF(COUNTIF('Extended Diploma'!$E$29:$E$86,GD3)>=1,\"\",ROW())","v":3},{"$f":"IF(ROW(GD3)-ROW(GD$2)+1>COUNT(GE$2:GE$23),\"\",INDEX(GD:GD,SMALL(GE$2:GE$23,1+ROW(GD3)-ROW(GD$2))))","v":"Environmental Forensics"},null,"Psychological Perspectives",{"$f":"IF(COUNTIF('Extended Diploma'!$E$29:$E$86,GH3)>=1,\"\",ROW())","v":3},{"$f":"IF(ROW(GH3)-ROW(GH$2)+1>COUNT(GI$2:GI$23),\"\",INDEX(GH:GH,SMALL(GI$2:GI$23,1+ROW(GH3)-ROW(GH$2))))","v":"Psychological Perspectives"},null,"Supporting Individuals with Additional Needs",{"$f":"IF(COUNTIF('Extended Diploma'!$E$29:$E$86,GL3)>=1,\"\",ROW())","v":3},{"$f":"IF(ROW(GL3)-ROW(GL$2)+1>COUNT(GM$2:GM$23),\"\",INDEX(GL:GL,SMALL(GM$2:GM$23,1+ROW(GL3)-ROW(GL$2))))","v":"Supporting Individuals with Additional Needs"},null,"Psychological Perspectives",{"$f":"IF(COUNTIF('Extended Diploma'!$E$29:$E$86,GP3)>=1,\"\",ROW())","v":3},{"$f":"IF(ROW(GP3)-ROW(GP$2)+1>COUNT(GQ$2:GQ$23),\"\",INDEX(GP:GP,SMALL(GQ$2:GQ$23,1+ROW(GP3)-ROW(GP$2))))","v":"Psychological Perspectives"},null,"Microbiology for Health Science",{"$f":"IF(COUNTIF('Extended Diploma'!$E$29:$E$86,GT3)>=1,\"\",ROW())","v":3},{"$f":"IF(ROW(GT3)-ROW(GT$2)+1>COUNT(GU$2:GU$23),\"\",INDEX(GT:GT,SMALL(GU$2:GU$23,1+ROW(GT3)-ROW(GT$2))))","v":"Microbiology for Health Science"},null,"Website Development",{"$f":"IF(COUNTIF('Extended Diploma'!$E$29:$E$86,GX3)>=1,\"\",ROW())","v":3},{"$f":"IF(ROW(GX3)-ROW(GX$2)+1>COUNT(GY$2:GY$23),\"\",INDEX(GX:GX,SMALL(GY$2:GY$23,1+ROW(GX3)-ROW(GX$2))))","v":"Website Development"},null,"Composing Music",{"$f":"IF(COUNTIF('Extended Diploma'!$E$29:$E$86,HB3)>=1,\"\",ROW())","v":3},{"$f":"IF(ROW(HB3)-ROW(HB$2)+1>COUNT(HC$2:HC$23),\"\",INDEX(HB:HB,SMALL(HC$2:HC$23,1+ROW(HB3)-ROW(HB$2))))","v":"Composing Music"},null,"Composing Music",{"$f":"IF(COUNTIF('Extended Diploma'!$E$29:$E$86,HF3)>=1,\"\",ROW())","v":3},{"$f":"IF(ROW(HF3)-ROW(HF$2)+1>COUNT(HG$2:HG$23),\"\",INDEX(HF:HF,SMALL(HG$2:HG$23,1+ROW(HF3)-ROW(HF$2))))","v":"Composing Music"},null,"Tap Dance Technique",{"$f":"IF(COUNTIF('Extended Diploma'!$E$29:$E$86,HJ3)>=1,\"\",ROW())","v":3},{"$f":"IF(ROW(HJ3)-ROW(HJ$2)+1>COUNT(HK$2:HK$23),\"\",INDEX(HJ:HJ,SMALL(HK$2:HK$23,1+ROW(HJ3)-ROW(HJ$2))))","v":"Tap Dance Technique"},null,"Writing for Performance",{"$f":"IF(COUNTIF('Extended Diploma'!$E$29:$E$86,HN3)>=1,\"\",ROW())","v":3},{"$f":"IF(ROW(HN3)-ROW(HN$2)+1>COUNT(HO$2:HO$23),\"\",INDEX(HN:HN,SMALL(HO$2:HO$23,1+ROW(HN3)-ROW(HN$2))))","v":"Writing for Performance"},null,"Acting Styles",{"$f":"IF(COUNTIF('Extended Diploma'!$E$29:$E$86,HR3)>=1,\"\",ROW())","v":3},{"$f":"IF(ROW(HR3)-ROW(HR$2)+1>COUNT(HS$2:HS$23),\"\",INDEX(HR:HR,SMALL(HS$2:HS$23,1+ROW(HR3)-ROW(HR$2))))","v":"Acting Styles"},null,"Improvisation",{"$f":"IF(COUNTIF('Extended Diploma'!$E$29:$E$86,HV3)>=1,\"\",ROW())","v":3},{"$f":"IF(ROW(HV3)-ROW(HV$2)+1>COUNT(HW$2:HW$23),\"\",INDEX(HV:HV,SMALL(HW$2:HW$23,1+ROW(HV3)-ROW(HV$2))))","v":"Improvisation"},null,"Tap Dance Technique",{"$f":"IF(COUNTIF('Extended Diploma'!$E$29:$E$86,HZ3)>=1,\"\",ROW())","v":3},"Tap Dance Technique",null,"Improvisation",{"$f":"IF(COUNTIF('Extended Diploma'!$E$29:$E$86,ID3)>=1,\"\",ROW())","v":3},{"$f":"IF(ROW(ID3)-ROW(ID$2)+1>COUNT(IE$2:IE$23),\"\",INDEX(ID:ID,SMALL(IE$2:IE$23,1+ROW(ID3)-ROW(ID$2))))","v":"Improvisation"},null,"Writing for Performance",{"$f":"IF(COUNTIF('Extended Diploma'!$E$29:$E$86,IH3)>=1,\"\",ROW())","v":3},"Writing for Performance",null,"Movement in Performance",{"$f":"IF(COUNTIF('Extended Diploma'!$E$29:$E$86,IL3)>=1,\"\",ROW())","v":3},{"$f":"IF(ROW(IL3)-ROW(IL$2)+1>COUNT(IM$2:IM$23),\"\",INDEX(IL:IL,SMALL(IM$2:IM$23,1+ROW(IL3)-ROW(IL$2))))","v":"Movement in Performance"},null,"Acting Styles",{"$f":"IF(COUNTIF('Extended Diploma'!$E$29:$E$86,IP3)>=1,\"\",ROW())","v":3},{"$f":"IF(ROW(IP3)-ROW(IP$2)+1>COUNT(IQ$2:IQ$23),\"\",INDEX(IP:IP,SMALL(IQ$2:IQ$23,1+ROW(IP3)-ROW(IP$2))))","v":"Acting Styles"},null,"Tap Dance Technique",{"$f":"IF(COUNTIF('Extended Diploma'!$E$29:$E$86,IT3)>=1,\"\",ROW())","v":3},{"$f":"IF(ROW(IT3)-ROW(IT$2)+1>COUNT(IU$2:IU$23),\"\",INDEX(IT:IT,SMALL(IU$2:IU$23,1+ROW(IT3)-ROW(IT$2))))","v":"Tap Dance Technique"},null,"Sports Psychology",{"$f":"IF(COUNTIF('Extended Diploma'!$E$29:$E$86,IX3)>=1,\"\",ROW())","v":3},{"$f":"IF(ROW(IX3)-ROW(IX$2)+1>COUNT(IY$2:IY$23),\"\",INDEX(IX:IX,SMALL(IY$2:IY$23,1+ROW(IX3)-ROW(IX$2))))","v":"Sports Psychology"},null,"Specialised Fitness Training",{"$f":"IF(COUNTIF('Extended Diploma'!$E$29:$E$86,JB3)>=1,\"\",ROW())","v":3},{"$f":"IF(ROW(JB3)-ROW(JB$2)+1>COUNT(JC$2:JC$23),\"\",INDEX(JB:JB,SMALL(JC$2:JC$23,1+ROW(JB3)-ROW(JB$2))))","v":"Specialised Fitness Training"},null,"Sustainable Tourism",{"$f":"IF(COUNTIF('Extended Diploma'!$E$29:$E$86,JF3)>=1,\"\",ROW())","v":3},{"$f":"IF(ROW(JF3)-ROW(JF$2)+1>COUNT(JG$2:JG$23),\"\",INDEX(JF:JF,SMALL(JG$2:JG$23,1+ROW(JF3)-ROW(JF$2))))","v":"Sustainable Tourism"},null,"Farm Livestock Husbandry",{"$f":"IF(COUNTIF('Extended Diploma'!$E$29:$E$86,JJ3)>=1,\"\",ROW())","v":3},{"$f":"IF(ROW(JJ3)-ROW(JJ$2)+1>COUNT(JK$2:JK$23),\"\",INDEX(JJ:JJ,SMALL(JK$2:JK$23,1+ROW(JJ3)-ROW(JJ$2))))","v":"Farm Livestock Husbandry"},"Land-based Machinery Operations",{"$f":"IF(COUNTIF('Extended Diploma'!$E$29:$E$86,JM3)>=1,\"\",ROW())","v":3},{"$f":"IF(ROW(JM3)-ROW(JM$2)+1>COUNT(JN$2:JN$23),\"\",INDEX(JM:JM,SMALL(JN$2:JN$23,1+ROW(JM3)-ROW(JM$2))))","v":"Land-based Machinery Operations"},null,"Producing an Esports Brand",{"$f":"IF(COUNTIF('Extended Diploma'!$E$29:$E$86,JQ3)>=1,\"\",ROW())","v":3},{"$f":"IF(ROW(JQ3)-ROW(JQ$2)+1>COUNT(JR$2:JR$23),\"\",INDEX(JQ:JQ,SMALL(JR$2:JR$23,1+ROW(JQ3)-ROW(JQ$2))))","v":"Producing an Esports Brand"},null,"Self-Employment in Sport and Physical Activity",{"$f":"IF(COUNTIF('Extended Diploma'!$E$29:$E$86,JU3)>=1,\"\",ROW())","v":3},{"$f":"IF(ROW(JU3)-ROW(JU$2)+1>COUNT(JV$2:JV$23),\"\",INDEX(JU:JU,SMALL(JV$2:JV$23,1+ROW(JU3)-ROW(JU$2))))","v":"Self-Employment in Sport and Physical Activity"},null,"Functional Sports Massage",{"$f":"IF(COUNTIF('Extended Diploma'!$E$29:$E$86,JY3)>=1,\"\",ROW())","v":3},{"$f":"IF(ROW(JY3)-ROW(JY$2)+1>COUNT(JZ$2:JZ$23),\"\",INDEX(JY:JY,SMALL(JZ$2:JZ$23,1+ROW(JY3)-ROW(JY$2))))","v":"Functional Sports Massage"},null,"Fitness Skills Development",{"$f":"IF(COUNTIF('Extended Diploma'!$E$29:$E$86,KC3)>=1,\"\",ROW())","v":3},{"$f":"IF(ROW(KC3)-ROW(KC$2)+1>COUNT(KD$2:KD$23),\"\",INDEX(KC:KC,SMALL(KD$2:KD$23,1+ROW(KC3)-ROW(KC$2))))","v":"Fitness Skills Development"},null,"Nutrition for Physical Performance",{"$f":"IF(COUNTIF('Extended Diploma'!$E$29:$E$86,KG3)>=1,\"\",ROW())","v":3},{"$f":"IF(ROW(KG3)-ROW(KG$2)+1>COUNT(KH$2:KH$23),\"\",INDEX(KG:KG,SMALL(KH$2:KH$23,1+ROW(KG3)-ROW(KG$2))))","v":"Nutrition for Physical Performance"},null,"Sociological Perspectives",{"$f":"IF(COUNTIF('Extended Diploma'!$E$29:$E$86,KK3)>=1,\"\",ROW())","v":3},{"$f":"IF(ROW(KK3)-ROW(KK$2)+1>COUNT(KL$2:KL$23),\"\",INDEX(KK:KK,SMALL(KL$2:KL$23,1+ROW(KK3)-ROW(KK$2))))","v":"Sociological Perspectives"},null,"Developing a Land-based Enterprise",{"$f":"IF(COUNTIF('Extended Diploma'!$E$29:$E$86,KO3)>=1,\"\",ROW())","v":3},{"$f":"IF(ROW(KO3)-ROW(KO$2)+1>COUNT(KP$2:KP$23),\"\",INDEX(KO:KO,SMALL(KP$2:KP$23,1+ROW(KO3)-ROW(KO$2))))","v":"Developing a Land-based Enterprise"},null,"Timber Conversion and Utilisation",{"$f":"IF(COUNTIF('Extended Diploma'!$E$29:$E$86,KS3)>=1,\"\",ROW())","v":3},{"$f":"IF(ROW(KS3)-ROW(KS$2)+1>COUNT(KT$2:KT$23),\"\",INDEX(KS:KS,SMALL(KT$2:KT$23,1+ROW(KS3)-ROW(KS$2))))","v":"Timber Conversion and Utilisation"},null,"Forest Recreation",{"$f":"IF(COUNTIF('Extended Diploma'!$E$29:$E$86,KW3)>=1,\"\",ROW())","v":3},{"$f":"IF(ROW(KW3)-ROW(KW$2)+1>COUNT(KX$2:KX$23),\"\",INDEX(KW:KW,SMALL(KX$2:KX$23,1+ROW(KW3)-ROW(KW$2))))","v":"Forest Recreation"},null,"Activating a Brand",{"$f":"IF(COUNTIF('Extended Diploma'!$E$29:$E$86,LA3)>=1,\"\",ROW())","v":3},{"$f":"IF(ROW(LA3)-ROW(LA$2)+1>COUNT(LB$2:LB$23),\"\",INDEX(LA:LA,SMALL(LB$2:LB$23,1+ROW(LA3)-ROW(LA$2))))","v":"Activating a Brand"}]
["Interactive Design Materials, Techniques and Processes",{"$f":"IF(COUNTIF('Extended Diploma'!$E$29:$E$30,A4)>=1,\"\",ROW())","v":4},"Interactive Design Materials, Techniques and Processes",null,"Digital Image Capture and Editing",{"$f":"IF(COUNTIF('Extended Diploma'!$E$29:$E$86,E4)>=1,\"\",ROW())","v":4},"Digital Image Capture and Editing",null,"Advanced Animal Nutrition",{"$f":"IF(COUNTIF('Extended Diploma'!$E$29:$E$86,I4)>=1,\"\",ROW())","v":4},"Advanced Animal Nutrition",null,"Biological Molecules and Metabolic Pathways",{"$f":"IF(COUNTIF('Extended Diploma'!$E$29:$E$86,M4)>=1,\"\",ROW())","v":4},"Biological Molecules and Metabolic Pathways",null,"Materials Science",{"$f":"IF(COUNTIF('Extended Diploma'!$E$29:$E$86,Q4)>=1,\"\",ROW())","v":4},"Materials Science",null,"Astronomy and Space Science",{"$f":"IF(COUNTIF('Extended Diploma'!$E$29:$E$86,U4)>=1,\"\",ROW())","v":4},"Astronomy and Space Science",null,"Biological Molecules and Metabolic Pathways",{"$f":"IF(COUNTIF('Extended Diploma'!$E$29:$E$86,Y4)>=1,\"\",ROW())","v":4},"Biological Molecules and Metabolic Pathways",null,"Electrical Circuits and their Application",{"$f":"IF(COUNTIF('Extended Diploma'!$E$29:$E$86,AC4)>=1,\"\",ROW())","v":4},"Electrical Circuits and their Application",null,"Applications of Organic Chemistry",{"$f":"IF(COUNTIF('Extended Diploma'!$E$29:$E$86,AG4)>=1,\"\",ROW())","v":4},"Applications of Organic Chemistry",null,"Biological Molecules and Metabolic Pathways",{"$f":"IF(COUNTIF('Extended Diploma'!$E$29:$E$86,AK4)>=1,\"\",ROW())","v":4},"Biological Molecules and Metabolic Pathways",null,"Astronomy and Space Science",{"$f":"IF(COUNTIF('Extended Diploma'!$E$29:$E$86,AO4)>=1,\"\",ROW())","v":4},"Astronomy and Space Science",null,"Biological Molecules and Metabolic Pathways",{"$f":"IF(COUNTIF('Extended Diploma'!$E$29:$E$86,AS4)>=1,\"\",ROW())","v":4},"Biological Molecules and Metabolic Pathways",null,"Recording Financial Transactions",{"$f":"IF(COUNTIF('Extended Diploma'!$E$29:$E$86,AW4)>=1,\"\",ROW())","v":4},"Recording Financial Transactions",null,"Montessori Approach in Early Years",{"$f":"IF(COUNTIF('Extended Diploma'!$E$29:$E$86,BA4)>=1,\"\",ROW())","v":4},"Montessori Approach in Early Years",null,"Digital Audio",{"$f":"IF(COUNTIF('Extended Diploma'!$E$29:$E$86,BE4)>=1,\"\",ROW())","v":4},{"$f":"IF(ROW(BE4)-ROW(BE$2)+1>COUNT(BF$2:BF$21),\"\",INDEX(BE:BE,SMALL(BF$2:BF$21,1+ROW(BE4)-ROW(BE$2))))","v":"Digital Audio"},null,"Mobile Apps Development",{"$f":"IF(COUNTIF('Extended Diploma'!$E$29:$E$86,BI4)>=1,\"\",ROW())","v":4},{"$f":"IF(ROW(BI4)-ROW(BI$2)+1>COUNT(BJ$2:BJ$21),\"\",INDEX(BI:BI,SMALL(BJ$2:BJ$21,1+ROW(BI4)-ROW(BI$2))))","v":"Mobile Apps Development"},null,"Virtualisation",{"$f":"IF(COUNTIF('Extended Diploma'!$E$29:$E$86,BM4)>=1,\"\",ROW())","v":4},{"$f":"IF(ROW(BM4)-ROW(BM$2)+1>COUNT(BN$2:BN$21),\"\",INDEX(BM:BM,SMALL(BN$2:BN$21,1+ROW(BM4)-ROW(BM$2))))","v":"Virtualisation"},null,null,null,null,null,"Low Temperature Hot Water Systems in Building Services",{"$f":"IF(COUNTIF('Extended Diploma'!$E$29:$E$86,BU4)>=1,\"\",ROW())","v":4},"Low Temperature Hot Water Systems in Building Services",null,"Use of Static and Dynamic Fluids in Building Services Engineering",{"$f":"IF(COUNTIF('Extended Diploma'!$E$29:$E$86,BY4)>=1,\"\",ROW())","v":4},"Use of Static and Dynamic Fluids in Building Services Engineering",null,"Low Temperature Hot Water Systems in Building Services",{"$f":"IF(COUNTIF('Extended Diploma'!$E$29:$E$86,CC4)>=1,\"\",ROW())","v":4},"Low Temperature Hot Water Systems in Building Services",null,"Building Regulations and Control in Construction",{"$f":"IF(COUNTIF('Extended Diploma'!$E$29:$E$86,CG4)>=1,\"\",ROW())","v":4},"Building Regulations and Control in Construction",null,"Specialist Civil Engineering Techniques",{"$f":"IF(COUNTIF('Extended Diploma'!$E$29:$E$86,CK4)>=1,\"\",ROW())","v":4},{"$f":"IF(ROW(CK4)-ROW(CK$2)+1>COUNT(CL$2:CL$21),\"\",INDEX(CK:CK,SMALL(CL$2:CL$21,1+ROW(CK4)-ROW(CK$2))))","v":"Specialist Civil Engineering Techniques"},null,"Radio Production – Fiction",{"$f":"IF(COUNTIF('Extended Diploma'!$E$29:$E$86,CO4)>=1,\"\",ROW())","v":4},"Radio Production – Fiction",null,"Single Camera Techniques",{"$f":"IF(COUNTIF('Extended Diploma'!$E$29:$E$86,CS4)>=1,\"\",ROW())","v":4},"Single Camera Techniques",null,"Advertising Production",{"$f":"IF(COUNTIF('Extended Diploma'!$E$29:$E$86,CW4)>=1,\"\",ROW())","v":4},{"$f":"IF(ROW(CW4)-ROW(CW$2)+1>COUNT(CX$2:CX$22),\"\",INDEX(CW:CW,SMALL(CX$2:CX$22,1+ROW(CW4)-ROW(CW$2))))","v":"Advertising Production"},null,"Single Camera Techniques",{"$f":"IF(COUNTIF('Extended Diploma'!$E$29:$E$86,DA4)>=1,\"\",ROW())","v":4},"Single Camera Techniques",null,"Digital Magazine Production",{"$f":"IF(COUNTIF('Extended Diploma'!$E$29:$E$86,DE4)>=1,\"\",ROW())","v":4},{"$f":"IF(ROW(DE4)-ROW(DE$2)+1>COUNT(DF$2:DF$22),\"\",INDEX(DE:DE,SMALL(DF$2:DF$22,1+ROW(DE4)-ROW(DE$2))))","v":"Digital Magazine Production"},null,null,"Digital Photography",{"$f":"IF(COUNTIF('Extended Diploma'!$E$29:$E$86,DJ4)>=1,\"\",ROW())","v":4},"Digital Photography",null,"Website Production",{"$f":"IF(COUNTIF('Extended Diploma'!$E$29:$E$86,DN4)>=1,\"\",ROW())","v":4},{"$f":"IF(ROW(DN4)-ROW(DN$2)+1>COUNT(DO$2:DO$22),\"\",INDEX(DN:DN,SMALL(DO$2:DO$22,1+ROW(DN4)-ROW(DN$2))))","v":"Website Production"},null,"Games Engine Scripting",{"$f":"IF(COUNTIF('Extended Diploma'!$E$29:$E$86,DR4)>=1,\"\",ROW())","v":4},"Games Engine Scripting",null,"Three Phase Electrical Systems",{"$f":"IF(COUNTIF('Extended Diploma'!$E$29:$E$86,DV4)>=1,\"\",ROW())","v":4},"Three Phase Electrical Systems",null,"Mechanical Behaviour of Non-metallic Materials",{"$f":"IF(COUNTIF('Extended Diploma'!$E$29:$E$86,DZ4)>=1,\"\",ROW())","v":4},"Mechanical Behaviour of Non-metallic Materials",null,"Computer Aided Design in Engineering",{"$f":"IF(COUNTIF('Extended Diploma'!$E$29:$E$86,ED4)>=1,\"\",ROW())","v":4},"Computer Aided Design in Engineering",null,"Electrical Machines",{"$f":"IF(COUNTIF('Extended Diploma'!$E$29:$E$86,EH4)>=1,\"\",ROW())","v":4},"Electrical Machines",null,"Maintenance of Mechanical Systems",{"$f":"IF(COUNTIF('Extended Diploma'!$E$29:$E$86,EL4)>=1,\"\",ROW())","v":4},"Maintenance of Mechanical Systems",null,"Engineering Maintenance and Condition Monitoring Techniques",{"$f":"IF(OR(COUNTIF('Extended Diploma'!$E$29:$E$86,EP2)>=1,COUNTIF('Extended Diploma'!$E$29:$E$86,EP3)>=1,COUNTIF('Extended Diploma'!$E$29:$E$86,EP4)>=1,COUNTIF('Extended Diploma'!$E$29:$E$86,EP5)>=1,COUNTIF('Extended Diploma'!$E$29:$E$86,EP14)>=1),\"\",ROW())","v":4},"Engineering Maintenance and Condition Monitoring Techniques",null,"Electrical Power Distribution and Transmission",{"$f":"IF(COUNTIF('Extended Diploma'!$E$29:$E$86,ET4)>=1,\"\",ROW())","v":4},"Electrical Power Distribution and Transmission",null,"Computer Systems Support and Performance",{"$f":"IF(COUNTIF('Extended Diploma'!$E$29:$E$86,EX4)>=1,\"\",ROW())","v":4},"Computer Systems Support and Performance",null,"Computer Aided Design in Engineering",{"$f":"IF(COUNTIF('Extended Diploma'!$E$29:$E$86,FB4)>=1,\"\",ROW())","v":4},"Computer Aided Design in Engineering",null,"Electronic Printed Circuit Board Design and Manufacture",{"$f":"IF(OR(COUNTIF('Extended Diploma'!$E$29:$E$86,FF2)>=1,COUNTIF('Extended Diploma'!$E$29:$E$86,FF3)>=1,COUNTIF('Extended Diploma'!$E$29:$E$86,FF4)>=1,COUNTIF('Extended Diploma'!$E$29:$E$86,FF5)>=1,COUNTIF('Extended Diploma'!$E$29:$E$86,FF6)>=1),\"\",ROW())","v":4},"Electronic Printed Circuit Board Design and Manufacture",null,"Engineering Maintenance and Condition Monitoring Techniques",{"$f":"IF(COUNTIF('Extended Diploma'!$E$29:$E$86,FJ4)>=1,\"\",ROW())","v":4},"Engineering Maintenance and Condition Monitoring Techniques",null,"Pneumatic and Hydraulic Systems",{"$f":"IF(OR(COUNTIF('Extended Diploma'!$E$29:$E$86,FN2)>=1,COUNTIF('Extended Diploma'!$E$29:$E$86,FN3)>=1,COUNTIF('Extended Diploma'!$E$29:$E$86,FN4)>=1,COUNTIF('Extended Diploma'!$E$29:$E$86,FN5)>=1,COUNTIF('Extended Diploma'!$E$29:$E$86,FN6)>=1,COUNTIF('Extended Diploma'!$E$29:$E$86,FN7)>=1),\"\",ROW())","v":4},"Pneumatic and Hydraulic Systems",null,"Welding Technology",{"$f":"IF(COUNTIF('Extended Diploma'!$E$29:$E$86,FR4)>=1,\"\",ROW())","v":4},"Welding Technology",null,"Innovation and Enterprises",{"$f":"IF(COUNTIF('Extended Diploma'!$E$29:$E$86,FV4)>=1,\"\",ROW())","v":4},{"$f":"IF(ROW(FV4)-ROW(FV$2)+1>COUNT(FW$2:FW$23),\"\",INDEX(FV:FV,SMALL(FW$2:FW$23,1+ROW(FV4)-ROW(FV$2))))","v":"Innovation and Enterprises"},null,"Schooling Horses on the Flat",{"$f":"IF(COUNTIF('Extended Diploma'!$E$29:$E$86,FZ4)>=1,\"\",ROW())","v":4},"Schooling Horses on the Flat",null,"Forensic Fire Investigation",{"$f":"IF(COUNTIF('Extended Diploma'!$E$29:$E$86,GD4)>=1,\"\",ROW())","v":4},"Forensic Fire Investigation",null,"Physiological Disorders and their Care",{"$f":"IF(COUNTIF('Extended Diploma'!$E$29:$E$86,GH4)>=1,\"\",ROW())","v":4},"Physiological Disorders and their Care",null,"Policy in Health and Social Care",{"$f":"IF(COUNTIF('Extended Diploma'!$E$29:$E$86,GL4)>=1,\"\",ROW())","v":4},{"$f":"IF(ROW(GL4)-ROW(GL$2)+1>COUNT(GM$2:GM$23),\"\",INDEX(GL:GL,SMALL(GM$2:GM$23,1+ROW(GL4)-ROW(GL$2))))","v":"Policy in Health and Social Care"},null,"Physiological Disorders and their Care",{"$f":"IF(COUNTIF('Extended Diploma'!$E$29:$E$86,GP4)>=1,\"\",ROW())","v":4},"Physiological Disorders and their Care",null,"Medical Physics Applications in the Health Sector",{"$f":"IF(COUNTIF('Extended Diploma'!$E$29:$E$86,GT4)>=1,\"\",ROW())","v":4},"Medical Physics Applications in the Health Sector",null,"Mobile Apps Development",{"$f":"IF(COUNTIF('Extended Diploma'!$E$29:$E$86,GX4)>=1,\"\",ROW())","v":4},"Mobile Apps Development",null,"Music and Sound for the Moving Image",{"$f":"IF(COUNTIF('Extended Diploma'!$E$29:$E$86,HB4)>=1,\"\",ROW())","v":4},"Music and Sound for the Moving Image",null,"Remixing and Reworking",{"$f":"IF(COUNTIF('Extended Diploma'!$E$29:$E$86,HF4)>=1,\"\",ROW())","v":4},"Remixing and Reworking",null,"Street Dance Technique",{"$f":"IF(COUNTIF('Extended Diploma'!$E$29:$E$86,HJ4)>=1,\"\",ROW())","v":4},{"$f":"IF(ROW(HJ4)-ROW(HJ$2)+1>COUNT(HK$2:HK$23),\"\",INDEX(HJ:HJ,SMALL(HK$2:HK$23,1+ROW(HJ4)-ROW(HJ$2))))","v":"Street Dance Technique"},null,"Screen Acting",{"$f":"IF(COUNTIF('Extended Diploma'!$E$29:$E$86,HN4)>=1,\"\",ROW())","v":4},{"$f":"IF(ROW(HN4)-ROW(HN$2)+1>COUNT(HO$2:HO$23),\"\",INDEX(HN:HN,SMALL(HO$2:HO$23,1+ROW(HN4)-ROW(HN$2))))","v":"Screen Acting"},null,"Singing Techniques for Performers",{"$f":"IF(COUNTIF('Extended Diploma'!$E$29:$E$86,HR4)>=1,\"\",ROW())","v":4},{"$f":"IF(ROW(HR4)-ROW(HR$2)+1>COUNT(HS$2:HS$23),\"\",INDEX(HR:HR,SMALL(HS$2:HS$23,1+ROW(HR4)-ROW(HR$2))))","v":"Singing Techniques for Performers"},null,"Movement in Performance",{"$f":"IF(COUNTIF('Extended Diploma'!$E$29:$E$86,HV4)>=1,\"\",ROW())","v":4},"Movement in Performance",null,"Jazz Dance Technique",{"$f":"IF(COUNTIF('Extended Diploma'!$E$29:$E$86,HZ4)>=1,\"\",ROW())","v":4},"Jazz Dance Technique",null,"Movement in Performance",{"$f":"IF(COUNTIF('Extended Diploma'!$E$29:$E$86,ID4)>=1,\"\",ROW())","v":4},"Movement in Performance",null,"Screen Acting",{"$f":"IF(COUNTIF('Extended Diploma'!$E$29:$E$86,IH4)>=1,\"\",ROW())","v":4},"Screen Acting",null,"Singing Techniques for Performers",{"$f":"IF(COUNTIF('Extended Diploma'!$E$29:$E$86,IL4)>=1,\"\",ROW())","v":4},"Singing Techniques for Performers",null,"Singing Techniques for Performers",{"$f":"IF(COUNTIF('Extended Diploma'!$E$29:$E$86,IP4)>=1,\"\",ROW())","v":4},{"$f":"IF(ROW(IP4)-ROW(IP$2)+1>COUNT(IQ$2:IQ$23),\"\",INDEX(IP:IP,SMALL(IQ$2:IQ$23,1+ROW(IP4)-ROW(IP$2))))","v":"Singing Techniques for Performers"},null,"Street Dance Technique",{"$f":"IF(COUNTIF('Extended Diploma'!$E$29:$E$86,IT4)>=1,\"\",ROW())","v":4},"Street Dance Technique",null,"Sports Event Organisation",{"$f":"IF(COUNTIF('Extended Diploma'!$E$29:$E$86,IX4)>=1,\"\",ROW())","v":4},"Sports Event Organisation",null,"Research Project in Sport and Exercise Science",{"$f":"IF(COUNTIF('Extended Diploma'!$E$29:$E$86,JB4)>=1,\"\",ROW())","v":4},"Research Project in Sport and Exercise Science",null,"The Airport Experience",{"$f":"IF(COUNTIF('Extended Diploma'!$E$29:$E$86,JF4)>=1,\"\",ROW())","v":4},"The Airport Experience",null,"Crop Handling, Storage and Quality Assurance",{"$f":"IF(COUNTIF('Extended Diploma'!$E$29:$E$86,JJ4)>=1,\"\",ROW())","v":4},"Crop Handling, Storage and Quality Assurance","Nursery Stock Production",{"$f":"IF(COUNTIF('Extended Diploma'!$E$29:$E$86,JM4)>=1,\"\",ROW())","v":4},"Nursery Stock Production",null,"Video Production",{"$f":"IF(COUNTIF('Extended Diploma'!$E$29:$E$86,JQ4)>=1,\"\",ROW())","v":4},"Video Production",null,"Nutrition for Physical Performance",{"$f":"IF(COUNTIF('Extended Diploma'!$E$29:$E$86,JU4)>=1,\"\",ROW())","v":4},"Nutrition for Physical Performance",null,"Fitness Testing",{"$f":"IF(COUNTIF('Extended Diploma'!$E$29:$E$86,JY4)>=1,\"\",ROW())","v":4},"Fitness Testing",null,"Sport Development",{"$f":"IF(COUNTIF('Extended Diploma'!$E$29:$E$86,KC4)>=1,\"\",ROW())","v":4},"Sport Development",null,"Anatomy and Physiology in Sport",{"$f":"IF(COUNTIF('Extended Diploma'!$E$29:$E$86,KG4)>=1,\"\",ROW())","v":4},"Anatomy and Physiology in Sport",null,"Skills for Outdoor Activities and the Uniformed Protective Services",{"$f":"IF(COUNTIF('Extended Diploma'!$E$29:$E$86,KK4)>=1,\"\",ROW())","v":4},"Skills for Outdoor Activities and the Uniformed Protective Services",null,"Land-based Machinery Operations",{"$f":"IF(COUNTIF('Extended Diploma'!$E$29:$E$86,KO4)>=1,\"\",ROW())","v":4},{"$f":"IF(ROW(KO4)-ROW(KO$2)+1>COUNT(KP$2:KP$23),\"\",INDEX(KO:KO,SMALL(KP$2:KP$23,1+ROW(KO4)-ROW(KO$2))))","v":"Land-based Machinery Operations"},null,"Woodland Management",{"$f":"IF(COUNTIF('Extended Diploma'!$E$29:$E$86,KS4)>=1,\"\",ROW())","v":4},{"$f":"IF(ROW(KS4)-ROW(KS$2)+1>COUNT(KT$2:KT$23),\"\",INDEX(KS:KS,SMALL(KT$2:KT$23,1+ROW(KS4)-ROW(KS$2))))","v":"Woodland Management"},null,"Wildlife Ecology and Conservation Management",{"$f":"IF(COUNTIF('Extended Diploma'!$E$29:$E$86,KW4)>=1,\"\",ROW())","v":4},{"$f":"IF(ROW(KW4)-ROW(KW$2)+1>COUNT(KX$2:KX$23),\"\",INDEX(KW:KW,SMALL(KX$2:KX$23,1+ROW(KW4)-ROW(KW$2))))","v":"Wildlife Ecology and Conservation Management"},null,"Work Experience in Marketing",{"$f":"IF(COUNTIF('Extended Diploma'!$E$29:$E$86,LA4)>=1,\"\",ROW())","v":4},{"$f":"IF(ROW(LA4)-ROW(LA$2)+1>COUNT(LB$2:LB$23),\"\",INDEX(LA:LA,SMALL(LB$2:LB$23,1+ROW(LA4)-ROW(LA$2))))","v":"Work Experience in Marketing"}]
["Fine Art Materials, Techniques and Processes",{"$f":"IF(COUNTIF('Extended Diploma'!$E$29:$E$30,A5)>=1,\"\",ROW())","v":5},"Fine Art Materials, Techniques and Processes",null,"Non-Digital Photographic Techniques",{"$f":"IF(COUNTIF('Extended Diploma'!$E$29:$E$86,E5)>=1,\"\",ROW())","v":5},"Non-Digital Photographic Techniques",null,"Business Management in the Animal Sector",{"$f":"IF(COUNTIF('Extended Diploma'!$E$29:$E$86,I5)>=1,\"\",ROW())","v":5},"Business Management in the Animal Sector",null,"Genetics and Genetic Engineering",{"$f":"IF(COUNTIF('Extended Diploma'!$E$29:$E$86,M5)>=1,\"\",ROW())","v":5},"Genetics and Genetic Engineering",null,"Forensic Evidence, Collection and Analysis",{"$f":"IF(COUNTIF('Extended Diploma'!$E$29:$E$86,Q5)>=1,\"\",ROW())","v":5},"Forensic Evidence, Collection and Analysis",null,"Industrial Chemical Reactions",{"$f":"IF(COUNTIF('Extended Diploma'!$E$29:$E$86,U5)>=1,\"\",ROW())","v":5},"Industrial Chemical Reactions",null,"Genetics and Genetic Engineering",{"$f":"IF(COUNTIF('Extended Diploma'!$E$29:$E$86,Y5)>=1,\"\",ROW())","v":5},"Genetics and Genetic Engineering",null,"Astronomy and Space Science",{"$f":"IF(COUNTIF('Extended Diploma'!$E$29:$E$86,AC5)>=1,\"\",ROW())","v":5},"Astronomy and Space Science",null,"Practical Chemical Analysis",{"$f":"IF(COUNTIF('Extended Diploma'!$E$29:$E$86,AG5)>=1,\"\",ROW())","v":5},"Practical Chemical Analysis",null,"Diseases and Infections",{"$f":"IF(COUNTIF('Extended Diploma'!$E$29:$E$86,AK5)>=1,\"\",ROW())","v":5},"Diseases and Infections",null,"Industrial Chemical Reactions",{"$f":"IF(COUNTIF('Extended Diploma'!$E$29:$E$86,AO5)>=1,\"\",ROW())","v":5},"Industrial Chemical Reactions",null,"Genetics and Genetic Engineering",{"$f":"IF(COUNTIF('Extended Diploma'!$E$29:$E$86,AS5)>=1,\"\",ROW())","v":5},"Genetics and Genetic Engineering",null,"Final Accounts for Public Limited Companies",{"$f":"IF(COUNTIF('Extended Diploma'!$E$29:$E$86,AW5)>=1,\"\",ROW())","v":5},"Final Accounts for Public Limited Companies",null,"Development of English for Children with another Home Language",{"$f":"IF(COUNTIF('Extended Diploma'!$E$29:$E$86,BA5)>=1,\"\",ROW())","v":5},"Development of English for Children with another Home Language",null,"Digital Video",{"$f":"IF(COUNTIF('Extended Diploma'!$E$29:$E$86,BE5)>=1,\"\",ROW())","v":5},{"$f":"IF(ROW(BE5)-ROW(BE$2)+1>COUNT(BF$2:BF$21),\"\",INDEX(BE:BE,SMALL(BF$2:BF$21,1+ROW(BE5)-ROW(BE$2))))","v":"Digital Video"},null,"Relational Database Development",{"$f":"IF(COUNTIF('Extended Diploma'!$E$29:$E$86,BI5)>=1,\"\",ROW())","v":5},{"$f":"IF(ROW(BI5)-ROW(BI$2)+1>COUNT(BJ$2:BJ$21),\"\",INDEX(BI:BI,SMALL(BJ$2:BJ$21,1+ROW(BI5)-ROW(BI$2))))","v":"Relational Database Development"},null,null,null,null,null,null,null,null,null,"Further Mathematics for Construction",{"$f":"IF(COUNTIF('Extended Diploma'!$E$29:$E$86,BU5)>=1,\"\",ROW())","v":5},"Further Mathematics for Construction",null,"Plumbing Technology in Building Services Engineering",{"$f":"IF(COUNTIF('Extended Diploma'!$E$29:$E$86,BY5)>=1,\"\",ROW())","v":5},"Plumbing Technology in Building Services Engineering",null,"Measurement Techniques in Construction",{"$f":"IF(COUNTIF('Extended Diploma'!$E$29:$E$86,CC5)>=1,\"\",ROW())","v":5},"Measurement Techniques in Construction",null,"Management of a Construction Project",{"$f":"IF(COUNTIF('Extended Diploma'!$E$29:$E$86,CG5)>=1,\"\",ROW())","v":5},"Management of a Construction Project",null,"Highway Construction and Maintenance in Civil Engineering",{"$f":"IF(COUNTIF('Extended Diploma'!$E$29:$E$86,CK5)>=1,\"\",ROW())","v":5},{"$f":"IF(ROW(CK5)-ROW(CK$2)+1>COUNT(CL$2:CL$21),\"\",INDEX(CK:CK,SMALL(CL$2:CL$21,1+ROW(CK5)-ROW(CK$2))))","v":"Highway Construction and Maintenance in Civil Engineering"},null,"Website Production",{"$f":"IF(COUNTIF('Extended Diploma'!$E$29:$E$86,CO5)>=1,\"\",ROW())","v":5},"Website Production",null,"Film Editing",{"$f":"IF(COUNTIF('Extended Diploma'!$E$29:$E$86,CS5)>=1,\"\",ROW())","v":5},"Film Editing",null,"Factual Production",{"$f":"IF(COUNTIF('Extended Diploma'!$E$29:$E$86,CW5)>=1,\"\",ROW())","v":5},{"$f":"IF(ROW(CW5)-ROW(CW$2)+1>COUNT(CX$2:CX$22),\"\",INDEX(CW:CW,SMALL(CX$2:CX$22,1+ROW(CW5)-ROW(CW$2))))","v":"Factual Production"},null,"Film Editing",{"$f":"IF(COUNTIF('Extended Diploma'!$E$29:$E$86,DA5)>=1,\"\",ROW())","v":5},"Film Editing",null,"Advertising Production",{"$f":"IF(COUNTIF('Extended Diploma'!$E$29:$E$86,DE5)>=1,\"\",ROW())","v":5},{"$f":"IF(ROW(DE5)-ROW(DE$2)+1>COUNT(DF$2:DF$22),\"\",INDEX(DE:DE,SMALL(DF$2:DF$22,1+ROW(DE5)-ROW(DE$2))))","v":"Advertising Production"},null,null,"Image Manipulation Techniques",{"$f":"IF(COUNTIF('Extended Diploma'!$E$29:$E$86,DJ5)>=1,\"\",ROW())","v":5},"Image Manipulation Techniques",null,"Digital Games Production",{"$f":"IF(COUNTIF('Extended Diploma'!$E$29:$E$86,DN5)>=1,\"\",ROW())","v":5},{"$f":"IF(ROW(DN5)-ROW(DN$2)+1>COUNT(DO$2:DO$22),\"\",INDEX(DN:DN,SMALL(DO$2:DO$22,1+ROW(DN5)-ROW(DN$2))))","v":"Digital Games Production"},null,"3D Modelling",{"$f":"IF(COUNTIF('Extended Diploma'!$E$29:$E$86,DR5)>=1,\"\",ROW())","v":5},"3D Modelling",null,"Power and Energy Electronics",{"$f":"IF(COUNTIF('Extended Diploma'!$E$29:$E$86,DV5)>=1,\"\",ROW())","v":5},"Power and Energy Electronics",null,"Static Mechanical Principles in Practice",{"$f":"IF(COUNTIF('Extended Diploma'!$E$29:$E$86,DZ5)>=1,\"\",ROW())","v":5},"Static Mechanical Principles in Practice",null,"Engineering Maintenance and Condition Monitoring Techniques",{"$f":"IF(COUNTIF('Extended Diploma'!$E$29:$E$86,ED5)>=1,\"\",ROW())","v":5},"Engineering Maintenance and Condition Monitoring Techniques",null,"Three Phase Electrical Systems",{"$f":"IF(COUNTIF('Extended Diploma'!$E$29:$E$86,EH5)>=1,\"\",ROW())","v":5},"Three Phase Electrical Systems",null,"Mechanical Behaviour of Metallic Materials",{"$f":"IF(COUNTIF('Extended Diploma'!$E$29:$E$86,EL5)>=1,\"\",ROW())","v":5},"Mechanical Behaviour of Metallic Materials",null,"Pneumatic and Hydraulic Systems",{"$f":"IF(OR(COUNTIF('Extended Diploma'!$E$29:$E$86,EP2)>=1,COUNTIF('Extended Diploma'!$E$29:$E$86,EP3)>=1,COUNTIF('Extended Diploma'!$E$29:$E$86,EP4)>=1,COUNTIF('Extended Diploma'!$E$29:$E$86,EP5)>=1,COUNTIF('Extended Diploma'!$E$29:$E$86,EP14)>=1),\"\",ROW())","v":5},"Pneumatic and Hydraulic Systems",null,"Electronic Devices and Circuits",{"$f":"IF(COUNTIF('Extended Diploma'!$E$29:$E$86,ET5)>=1,\"\",ROW())","v":5},"Electronic Devices and Circuits",null,"Computer Programming",{"$f":"IF(COUNTIF('Extended Diploma'!$E$29:$E$86,EX5)>=1,\"\",ROW())","v":5},"Computer Programming",null,"Engineering Maintenance and Condition Monitoring Techniques",{"$f":"IF(COUNTIF('Extended Diploma'!$E$29:$E$86,FB5)>=1,\"\",ROW())","v":5},"Engineering Maintenance and Condition Monitoring Techniques",null,"Mechanical Measurement and Inspection Technology",{"$f":"IF(OR(COUNTIF('Extended Diploma'!$E$29:$E$86,FF2)>=1,COUNTIF('Extended Diploma'!$E$29:$E$86,FF3)>=1,COUNTIF('Extended Diploma'!$E$29:$E$86,FF4)>=1,COUNTIF('Extended Diploma'!$E$29:$E$86,FF5)>=1,COUNTIF('Extended Diploma'!$E$29:$E$86,FF6)>=1),\"\",ROW())","v":5},"Mechanical Measurement and Inspection Technology",null,"Pneumatic and Hydraulic Systems",{"$f":"IF(COUNTIF('Extended Diploma'!$E$29:$E$86,FJ5)>=1,\"\",ROW())","v":5},"Pneumatic and Hydraulic Systems",null,"Electronic Devices and Circuits",{"$f":"IF(OR(COUNTIF('Extended Diploma'!$E$29:$E$86,FN2)>=1,COUNTIF('Extended Diploma'!$E$29:$E$86,FN3)>=1,COUNTIF('Extended Diploma'!$E$29:$E$86,FN4)>=1,COUNTIF('Extended Diploma'!$E$29:$E$86,FN5)>=1,COUNTIF('Extended Diploma'!$E$29:$E$86,FN6)>=1,COUNTIF('Extended Diploma'!$E$29:$E$86,FN7)>=1),\"\",ROW())","v":5},"Electronic Devices and Circuits",null,"Electrical Machines",{"$f":"IF(COUNTIF('Extended Diploma'!$E$29:$E$86,FR5)>=1,\"\",ROW())","v":5},"Electrical Machines",null,"Recruitment and Selection Processes",{"$f":"IF(COUNTIF('Extended Diploma'!$E$29:$E$86,FV5)>=1,\"\",ROW())","v":5},{"$f":"IF(ROW(FV5)-ROW(FV$2)+1>COUNT(FW$2:FW$23),\"\",INDEX(FV:FV,SMALL(FW$2:FW$23,1+ROW(FV5)-ROW(FV$2))))","v":"Recruitment and Selection Processes"},null,"Managing an Equine Event",{"$f":"IF(COUNTIF('Extended Diploma'!$E$29:$E$86,FZ5)>=1,\"\",ROW())","v":5},"Managing an Equine Event",null,"Forensic Traffic Collision Investigation",{"$f":"IF(COUNTIF('Extended Diploma'!$E$29:$E$86,GD5)>=1,\"\",ROW())","v":5},"Forensic Traffic Collision Investigation",null,"Caring for Individuals with Dementia",{"$f":"IF(COUNTIF('Extended Diploma'!$E$29:$E$86,GH5)>=1,\"\",ROW())","v":5},"Caring for Individuals with Dementia",null,"Assessing Children’s Development Support Needs",{"$f":"IF(COUNTIF('Extended Diploma'!$E$29:$E$86,GL5)>=1,\"\",ROW())","v":5},{"$f":"IF(ROW(GL5)-ROW(GL$2)+1>COUNT(GM$2:GM$23),\"\",INDEX(GL:GL,SMALL(GM$2:GM$23,1+ROW(GL5)-ROW(GL$2))))","v":"Assessing Children’s Development Support Needs"},null,"Caring for Individuals with Dementia",{"$f":"IF(COUNTIF('Extended Diploma'!$E$29:$E$86,GP5)>=1,\"\",ROW())","v":5},"Caring for Individuals with Dementia",null,"Genetics",{"$f":"IF(COUNTIF('Extended Diploma'!$E$29:$E$86,GT5)>=1,\"\",ROW())","v":5},"Genetics",null,"Computer Games Development",{"$f":"IF(COUNTIF('Extended Diploma'!$E$29:$E$86,GX5)>=1,\"\",ROW())","v":5},"Computer Games Development",null,"Contemporary Songwriting Techniques",{"$f":"IF(COUNTIF('Extended Diploma'!$E$29:$E$86,HB5)>=1,\"\",ROW())","v":5},"Contemporary Songwriting Techniques",null,"DJ Performance Techniques",{"$f":"IF(COUNTIF('Extended Diploma'!$E$29:$E$86,HF5)>=1,\"\",ROW())","v":5},"DJ Performance Techniques",null,"Contemporary Dance Technique",{"$f":"IF(COUNTIF('Extended Diploma'!$E$29:$E$86,HJ5)>=1,\"\",ROW())","v":5},{"$f":"IF(ROW(HJ5)-ROW(HJ$2)+1>COUNT(HK$2:HK$23),\"\",INDEX(HJ:HJ,SMALL(HK$2:HK$23,1+ROW(HJ5)-ROW(HJ$2))))","v":"Contemporary Dance Technique"},null,"Interpreting Classical Text for Performance",{"$f":"IF(COUNTIF('Extended Diploma'!$E$29:$E$86,HN5)>=1,\"\",ROW())","v":5},{"$f":"IF(ROW(HN5)-ROW(HN$2)+1>COUNT(HO$2:HO$23),\"\",INDEX(HN:HN,SMALL(HO$2:HO$23,1+ROW(HN5)-ROW(HN$2))))","v":"Interpreting Classical Text for Performance"},null,"Musical Theatre Techniques",{"$f":"IF(COUNTIF('Extended Diploma'!$E$29:$E$86,HR5)>=1,\"\",ROW())","v":5},{"$f":"IF(ROW(HR5)-ROW(HR$2)+1>COUNT(HS$2:HS$23),\"\",INDEX(HR:HR,SMALL(HS$2:HS$23,1+ROW(HR5)-ROW(HR$2))))","v":"Musical Theatre Techniques"},null,"Children's Theatre Performance",{"$f":"IF(COUNTIF('Extended Diploma'!$E$29:$E$86,HV5)>=1,\"\",ROW())","v":5},"Children's Theatre Performance",null,"Street Dance Technique",{"$f":"IF(COUNTIF('Extended Diploma'!$E$29:$E$86,HZ5)>=1,\"\",ROW())","v":5},"Street Dance Technique",null,"Singing Techniques for Performers",{"$f":"IF(COUNTIF('Extended Diploma'!$E$29:$E$86,ID5)>=1,\"\",ROW())","v":5},"Singing Techniques for Performers",null,"Interpreting Classical Text for Performance",{"$f":"IF(COUNTIF('Extended Diploma'!$E$29:$E$86,IH5)>=1,\"\",ROW())","v":5},"Interpreting Classical Text for Performance",null,"Children's Theatre Performance",{"$f":"IF(COUNTIF('Extended Diploma'!$E$29:$E$86,IL5)>=1,\"\",ROW())","v":5},"Children's Theatre Performance",null,"Musical Theatre Techniques",{"$f":"IF(COUNTIF('Extended Diploma'!$E$29:$E$86,IP5)>=1,\"\",ROW())","v":5},{"$f":"IF(ROW(IP5)-ROW(IP$2)+1>COUNT(IQ$2:IQ$23),\"\",INDEX(IP:IP,SMALL(IQ$2:IQ$23,1+ROW(IP5)-ROW(IP$2))))","v":"Musical Theatre Techniques"},null,"Contemporary Dance Technique",{"$f":"IF(COUNTIF('Extended Diploma'!$E$29:$E$86,IT5)>=1,\"\",ROW())","v":5},"Contemporary Dance Technique",null,"Research Project in Sport",{"$f":"IF(COUNTIF('Extended Diploma'!$E$29:$E$86,IX5)>=1,\"\",ROW())","v":5},"Research Project in Sport",null,"Physical Activity for Individual and Group-based Exercise",{"$f":"IF(COUNTIF('Extended Diploma'!$E$29:$E$86,JB5)>=1,\"\",ROW())","v":5},"Physical Activity for Individual and Group-based Exercise",null,"Visitor Attractions",{"$f":"IF(COUNTIF('Extended Diploma'!$E$29:$E$86,JF5)>=1,\"\",ROW())","v":5},"Visitor Attractions",null,"Livestock Health and Diseases",{"$f":"IF(COUNTIF('Extended Diploma'!$E$29:$E$86,JJ5)>=1,\"\",ROW())","v":5},"Livestock Health and Diseases","Maintenance of Sports and Amenity Turf",{"$f":"IF(COUNTIF('Extended Diploma'!$E$29:$E$86,JM5)>=1,\"\",ROW())","v":5},"Maintenance of Sports and Amenity Turf",null,"Games Design",{"$f":"IF(COUNTIF('Extended Diploma'!$E$29:$E$86,JQ5)>=1,\"\",ROW())","v":5},"Games Design",null,"Anatomy and Physiology in Sport",{"$f":"IF(COUNTIF('Extended Diploma'!$E$29:$E$86,JU5)>=1,\"\",ROW())","v":5},"Anatomy and Physiology in Sport",null,"Fitness Training",{"$f":"IF(COUNTIF('Extended Diploma'!$E$29:$E$86,JY5)>=1,\"\",ROW())","v":5},"Fitness Training",null,"Functional Sports Massage",{"$f":"IF(COUNTIF('Extended Diploma'!$E$29:$E$86,KC5)>=1,\"\",ROW())","v":5},"Functional Sports Massage",null,"Sporting Injuries",{"$f":"IF(COUNTIF('Extended Diploma'!$E$29:$E$86,KG5)>=1,\"\",ROW())","v":5},"Sporting Injuries",null,"Expedition Skills",{"$f":"IF(COUNTIF('Extended Diploma'!$E$29:$E$86,KK5)>=1,\"\",ROW())","v":5},"Expedition Skills",null,"Controlling Countryside Pests and Predators",{"$f":"IF(COUNTIF('Extended Diploma'!$E$29:$E$86,KO5)>=1,\"\",ROW())","v":5},{"$f":"IF(ROW(KO5)-ROW(KO$2)+1>COUNT(KP$2:KP$23),\"\",INDEX(KO:KO,SMALL(KP$2:KP$23,1+ROW(KO5)-ROW(KO$2))))","v":"Controlling Countryside Pests and Predators"},null,"Wildlife Ecology and Conservation Management",{"$f":"IF(COUNTIF('Extended Diploma'!$E$29:$E$86,KS5)>=1,\"\",ROW())","v":5},{"$f":"IF(ROW(KS5)-ROW(KS$2)+1>COUNT(KT$2:KT$23),\"\",INDEX(KS:KS,SMALL(KT$2:KT$23,1+ROW(KS5)-ROW(KS$2))))","v":"Wildlife Ecology and Conservation Management"},null,"Developing a Land-based Enterprise",{"$f":"IF(COUNTIF('Extended Diploma'!$E$29:$E$86,KW5)>=1,\"\",ROW())","v":5},{"$f":"IF(ROW(KW5)-ROW(KW$2)+1>COUNT(KX$2:KX$23),\"\",INDEX(KW:KW,SMALL(KX$2:KX$23,1+ROW(KW5)-ROW(KW$2))))","v":"Developing a Land-based Enterprise"},null,"Influencer Marketing",{"$f":"IF(COUNTIF('Extended Diploma'!$E$29:$E$86,LA5)>=1,\"\",ROW())","v":5},{"$f":"IF(ROW(LA5)-ROW(LA$2)+1>COUNT(LB$2:LB$23),\"\",INDEX(LA:LA,SMALL(LB$2:LB$23,1+ROW(LA5)-ROW(LA$2))))","v":"Influencer Marketing"}]
["3D Design Materials, Techniques and Processes",{"$f":"IF(COUNTIF('Extended Diploma'!$E$29:$E$30,A6)>=1,\"\",ROW())","v":6},"3D Design Materials, Techniques and Processes",null,"Typography and Typographic Design",{"$f":"IF(COUNTIF('Extended Diploma'!$E$29:$E$86,E6)>=1,\"\",ROW())","v":6},"Typography and Typographic Design",null,"Animal Management in a Retail Environment",{"$f":"IF(COUNTIF('Extended Diploma'!$E$29:$E$86,I6)>=1,\"\",ROW())","v":6},"Animal Management in a Retail Environment",null,"Diseases and Infections",{"$f":"IF(COUNTIF('Extended Diploma'!$E$29:$E$86,M6)>=1,\"\",ROW())","v":6},"Diseases and Infections",null,"Forensic Fire Investigation",{"$f":"IF(COUNTIF('Extended Diploma'!$E$29:$E$86,Q6)>=1,\"\",ROW())","v":6},"Forensic Fire Investigation",null,"Medical Physics Applications",{"$f":"IF(COUNTIF('Extended Diploma'!$E$29:$E$86,U6)>=1,\"\",ROW())","v":6},"Medical Physics Applications",null,"Diseases and Infections",{"$f":"IF(COUNTIF('Extended Diploma'!$E$29:$E$86,Y6)>=1,\"\",ROW())","v":6},"Diseases and Infections",null,"Industrial Chemical Reactions",{"$f":"IF(COUNTIF('Extended Diploma'!$E$29:$E$86,AC6)>=1,\"\",ROW())","v":6},"Industrial Chemical Reactions",null,"Materials Science",{"$f":"IF(COUNTIF('Extended Diploma'!$E$29:$E$86,AG6)>=1,\"\",ROW())","v":6},"Materials Science",null,"Electrical Circuits and their Application",{"$f":"IF(COUNTIF('Extended Diploma'!$E$29:$E$86,AK6)>=1,\"\",ROW())","v":6},"Electrical Circuits and their Application",null,"Practical Chemical Analysis",{"$f":"IF(COUNTIF('Extended Diploma'!$E$29:$E$86,AO6)>=1,\"\",ROW())","v":6},"Practical Chemical Analysis",null,"Diseases and Infections",{"$f":"IF(COUNTIF('Extended Diploma'!$E$29:$E$86,AS6)>=1,\"\",ROW())","v":6},"Diseases and Infections",null,"Financial Statements for Specific Businesses",{"$f":"IF(COUNTIF('Extended Diploma'!$E$29:$E$86,AW6)>=1,\"\",ROW())","v":6},"Financial Statements for Specific Businesses",null,"Working with Children who have Additional Needs",{"$f":"IF(COUNTIF('Extended Diploma'!$E$29:$E$86,BA6)>=1,\"\",ROW())","v":6},"Working with Children who have Additional Needs",null,"Computer Games Development",{"$f":"IF(COUNTIF('Extended Diploma'!$E$29:$E$86,BE6)>=1,\"\",ROW())","v":6},{"$f":"IF(ROW(BE6)-ROW(BE$2)+1>COUNT(BF$2:BF$21),\"\",INDEX(BE:BE,SMALL(BF$2:BF$21,1+ROW(BE6)-ROW(BE$2))))","v":"Computer Games Development"},null,null,null,null,null,null,null,null,null,null,null,null,null,"Work Experience in the Construction Sector",{"$f":"IF(COUNTIF('Extended Diploma'!$E$29:$E$86,BU6)>=1,\"\",ROW())","v":6},"Work Experience in the Construction Sector",null,"Electrical Principles in Building Services Engineering",{"$f":"IF(COUNTIF('Extended Diploma'!$E$29:$E$86,BY6)>=1,\"\",ROW())","v":6},"Electrical Principles in Building Services Engineering",null,"Provision of Primary Services in Buildings",{"$f":"IF(COUNTIF('Extended Diploma'!$E$29:$E$86,CC6)>=1,\"\",ROW())","v":6},"Provision of Primary Services in Buildings",null,"Building Surveying in Construction",{"$f":"IF(COUNTIF('Extended Diploma'!$E$29:$E$86,CG6)>=1,\"\",ROW())","v":6},"Building Surveying in Construction",null,null,null,null,null,"Digital Games Production",{"$f":"IF(COUNTIF('Extended Diploma'!$E$29:$E$86,CO6)>=1,\"\",ROW())","v":6},"Digital Games Production",null,"Interviewing Techniques",{"$f":"IF(COUNTIF('Extended Diploma'!$E$29:$E$86,CS6)>=1,\"\",ROW())","v":6},"Interviewing Techniques",null,"News Production",{"$f":"IF(COUNTIF('Extended Diploma'!$E$29:$E$86,CW6)>=1,\"\",ROW())","v":6},{"$f":"IF(ROW(CW6)-ROW(CW$2)+1>COUNT(CX$2:CX$22),\"\",INDEX(CW:CW,SMALL(CX$2:CX$22,1+ROW(CW6)-ROW(CW$2))))","v":"News Production"},null,"Interviewing Techniques",{"$f":"IF(COUNTIF('Extended Diploma'!$E$29:$E$86,DA6)>=1,\"\",ROW())","v":6},"Interviewing Techniques",null,null,null,null,null,null,"2D Digital Graphics",{"$f":"IF(COUNTIF('Extended Diploma'!$E$29:$E$86,DJ6)>=1,\"\",ROW())","v":6},"2D Digital Graphics",null,null,null,null,null,"3D Environments",{"$f":"IF(COUNTIF('Extended Diploma'!$E$29:$E$86,DR6)>=1,\"\",ROW())","v":6},"3D Environments",null,"Electrical Power Distribution and Transmission",{"$f":"IF(COUNTIF('Extended Diploma'!$E$29:$E$86,DV6)>=1,\"\",ROW())","v":6},"Electrical Power Distribution and Transmission",null,"Dynamic Mechanical Principles in Practice",{"$f":"IF(COUNTIF('Extended Diploma'!$E$29:$E$86,DZ6)>=1,\"\",ROW())","v":6},"Dynamic Mechanical Principles in Practice",null,"Pneumatic and Hydraulic Systems",{"$f":"IF(COUNTIF('Extended Diploma'!$E$29:$E$86,ED6)>=1,\"\",ROW())","v":6},"Pneumatic and Hydraulic Systems",null,"Power and Energy Electronics",{"$f":"IF(COUNTIF('Extended Diploma'!$E$29:$E$86,EH6)>=1,\"\",ROW())","v":6},"Power and Energy Electronics",null,"Mechanical Behaviour of Non-metallic Materials",{"$f":"IF(COUNTIF('Extended Diploma'!$E$29:$E$86,EL6)>=1,\"\",ROW())","v":6},"Mechanical Behaviour of Non-metallic Materials",null,"Maintenance of Mechanical Systems",{"$f":"IF(COUNTIF('Extended Diploma'!$E$29:$E$86,EP6)>=1,\"\",ROW())","v":6},"Maintenance of Mechanical Systems",null,"Analogue Electronic Circuits",{"$f":"IF(COUNTIF('Extended Diploma'!$E$29:$E$86,ET6)>=1,\"\",ROW())","v":6},"Analogue Electronic Circuits",null,"Programmable Logic Controllers",{"$f":"IF(COUNTIF('Extended Diploma'!$E$29:$E$86,EX6)>=1,\"\",ROW())","v":6},"Programmable Logic Controllers",null,"Pneumatic and Hydraulic Systems",{"$f":"IF(COUNTIF('Extended Diploma'!$E$29:$E$86,FB6)>=1,\"\",ROW())","v":6},"Pneumatic and Hydraulic Systems",null,"Programmable Logic Controllers",{"$f":"IF(OR(COUNTIF('Extended Diploma'!$E$29:$E$86,FF2)>=1,COUNTIF('Extended Diploma'!$E$29:$E$86,FF3)>=1,COUNTIF('Extended Diploma'!$E$29:$E$86,FF4)>=1,COUNTIF('Extended Diploma'!$E$29:$E$86,FF5)>=1,COUNTIF('Extended Diploma'!$E$29:$E$86,FF6)>=1),\"\",ROW())","v":6},"Programmable Logic Controllers",null,"Electrical Installation of Hardware and Cables",{"$f":"IF(COUNTIF('Extended Diploma'!$E$29:$E$86,FJ6)>=1,\"\",ROW())","v":6},"Electrical Installation of Hardware and Cables",null,"Mechanical Behaviour of Metallic Materials",{"$f":"IF(OR(COUNTIF('Extended Diploma'!$E$29:$E$86,FN2)>=1,COUNTIF('Extended Diploma'!$E$29:$E$86,FN3)>=1,COUNTIF('Extended Diploma'!$E$29:$E$86,FN4)>=1,COUNTIF('Extended Diploma'!$E$29:$E$86,FN5)>=1,COUNTIF('Extended Diploma'!$E$29:$E$86,FN6)>=1,COUNTIF('Extended Diploma'!$E$29:$E$86,FN7)>=1),\"\",ROW())","v":6},"Mechanical Behaviour of Metallic Materials",null,"Three Phase Electrical Systems",{"$f":"IF(COUNTIF('Extended Diploma'!$E$29:$E$86,FR6)>=1,\"\",ROW())","v":6},"Three Phase Electrical Systems",null,"Marketing Communications",{"$f":"IF(COUNTIF('Extended Diploma'!$E$29:$E$86,FV6)>=1,\"\",ROW())","v":6},{"$f":"IF(ROW(FV6)-ROW(FV$2)+1>COUNT(FW$2:FW$23),\"\",INDEX(FV:FV,SMALL(FW$2:FW$23,1+ROW(FV6)-ROW(FV$2))))","v":"Marketing Communications"},null,"Theory of Training Horses",{"$f":"IF(COUNTIF('Extended Diploma'!$E$29:$E$86,FZ6)>=1,\"\",ROW())","v":6},"Theory of Training Horses",null,"Forensic Photography",{"$f":"IF(COUNTIF('Extended Diploma'!$E$29:$E$86,GD6)>=1,\"\",ROW())","v":6},"Forensic Photography",null,"Nutritional Health",{"$f":"IF(COUNTIF('Extended Diploma'!$E$29:$E$86,GH6)>=1,\"\",ROW())","v":6},"Nutritional Health",null,null,null,null,null,"Nutritional Health",{"$f":"IF(COUNTIF('Extended Diploma'!$E$29:$E$86,GP6)>=1,\"\",ROW())","v":6},"Nutritional Health",null,"Biomedical Science",{"$f":"IF(COUNTIF('Extended Diploma'!$E$29:$E$86,GT6)>=1,\"\",ROW())","v":6},"Biomedical Science",null,"Big Data and Business Analytics",{"$f":"IF(COUNTIF('Extended Diploma'!$E$29:$E$86,GX6)>=1,\"\",ROW())","v":6},"Big Data and Business Analytics",null,"Music Promotion",{"$f":"IF(COUNTIF('Extended Diploma'!$E$29:$E$86,HB6)>=1,\"\",ROW())","v":6},"Music Promotion",null,"Music Technology in Performance",{"$f":"IF(COUNTIF('Extended Diploma'!$E$29:$E$86,HF6)>=1,\"\",ROW())","v":6},"Music Technology in Performance",null,"Choreography for Live Performance",{"$f":"IF(COUNTIF('Extended Diploma'!$E$29:$E$86,HJ6)>=1,\"\",ROW())","v":6},{"$f":"IF(ROW(HJ6)-ROW(HJ$2)+1>COUNT(HK$2:HK$23),\"\",INDEX(HJ:HJ,SMALL(HK$2:HK$23,1+ROW(HJ6)-ROW(HJ$2))))","v":"Choreography for Live Performance"},null,"Developing the Voice for Performance",{"$f":"IF(COUNTIF('Extended Diploma'!$E$29:$E$86,HN6)>=1,\"\",ROW())","v":6},{"$f":"IF(ROW(HN6)-ROW(HN$2)+1>COUNT(HO$2:HO$23),\"\",INDEX(HN:HN,SMALL(HO$2:HO$23,1+ROW(HN6)-ROW(HN$2))))","v":"Developing the Voice for Performance"},null,null,null,null,null,"Site Specific Performance",{"$f":"IF(COUNTIF('Extended Diploma'!$E$29:$E$86,HV6)>=1,\"\",ROW())","v":6},"Site Specific Performance",null,"Contemporary Dance Technique",{"$f":"IF(COUNTIF('Extended Diploma'!$E$29:$E$86,HZ6)>=1,\"\",ROW())","v":6},"Contemporary Dance Technique",null,"Site Specific Performance",{"$f":"IF(COUNTIF('Extended Diploma'!$E$29:$E$86,ID6)>=1,\"\",ROW())","v":6},"Site Specific Performance",null,"Acting Styles",{"$f":"IF(COUNTIF('Extended Diploma'!$E$29:$E$86,IH6)>=1,\"\",ROW())","v":6},"Acting Styles",null,"Site Specific Performance",{"$f":"IF(COUNTIF('Extended Diploma'!$E$29:$E$86,IL6)>=1,\"\",ROW())","v":6},"Site Specific Performance",null,null,null,null,null,"Healthy Dancer",{"$f":"IF(COUNTIF('Extended Diploma'!$E$29:$E$86,IT6)>=1,\"\",ROW())","v":6},"Healthy Dancer",null,"Sports Injury Management",{"$f":"IF(COUNTIF('Extended Diploma'!$E$29:$E$86,IX6)>=1,\"\",ROW())","v":6},"Sports Injury Management",null,"Sports Massage",{"$f":"IF(COUNTIF('Extended Diploma'!$E$29:$E$86,JB6)>=1,\"\",ROW())","v":6},"Sports Massage",null,"Passenger Transport",{"$f":"IF(COUNTIF('Extended Diploma'!$E$29:$E$86,JF6)>=1,\"\",ROW())","v":6},"Passenger Transport",null,"Developing a Land-based Enterprise",{"$f":"IF(COUNTIF('Extended Diploma'!$E$29:$E$86,JJ6)>=1,\"\",ROW())","v":6},"Developing a Land-based Enterprise","Pests and Disease in Plants",{"$f":"IF(COUNTIF('Extended Diploma'!$E$29:$E$86,JM6)>=1,\"\",ROW())","v":6},"Pests and Disease in Plants",null,"Business Applications of Esports in Social Media",{"$f":"IF(COUNTIF('Extended Diploma'!$E$29:$E$86,JQ6)>=1,\"\",ROW())","v":6},"Business Applications of Esports in Social Media",null,"Sporting Injuries",{"$f":"IF(COUNTIF('Extended Diploma'!$E$29:$E$86,JU6)>=1,\"\",ROW())","v":6},"Sporting Injuries",null,"Organising Events in Sport and Physical Activities",{"$f":"IF(COUNTIF('Extended Diploma'!$E$29:$E$86,JY6)>=1,\"\",ROW())","v":6},"Organising Events in Sport and Physical Activities",null,"Rules, Regulations and Officiating in Sport",{"$f":"IF(COUNTIF('Extended Diploma'!$E$29:$E$86,KC6)>=1,\"\",ROW())","v":6},"Rules, Regulations and Officiating in Sport",null,"Functional Sports Massage",{"$f":"IF(COUNTIF('Extended Diploma'!$E$29:$E$86,KG6)>=1,\"\",ROW())","v":6},"Functional Sports Massage",null,"Developing Personal Fitness Programmes",{"$f":"IF(COUNTIF('Extended Diploma'!$E$29:$E$86,KK6)>=1,\"\",ROW())","v":6},"Developing Personal Fitness Programmes",null,"Gamekeeping",{"$f":"IF(COUNTIF('Extended Diploma'!$E$29:$E$86,KO6)>=1,\"\",ROW())","v":6},{"$f":"IF(ROW(KO6)-ROW(KO$2)+1>COUNT(KP$2:KP$23),\"\",INDEX(KO:KO,SMALL(KP$2:KP$23,1+ROW(KO6)-ROW(KO$2))))","v":"Gamekeeping"},null,"Developing a Land-based Enterprise",{"$f":"IF(COUNTIF('Extended Diploma'!$E$29:$E$86,KS6)>=1,\"\",ROW())","v":6},{"$f":"IF(ROW(KS6)-ROW(KS$2)+1>COUNT(KT$2:KT$23),\"\",INDEX(KS:KS,SMALL(KT$2:KT$23,1+ROW(KS6)-ROW(KS$2))))","v":"Developing a Land-based Enterprise"},null,null,null,null,null,"Market Research for a Start-up Business",{"$f":"IF(COUNTIF('Extended Diploma'!$E$29:$E$86,LA6)>=1,\"\",ROW())","v":6},{"$f":"IF(ROW(LA6)-ROW(LA$2)+1>COUNT(LB$2:LB$23),\"\",INDEX(LA:LA,SMALL(LB$2:LB$23,1+ROW(LA6)-ROW(LA$2))))","v":"Market Research for a Start-up Business"}]
["Textiles Materials, Techniques and Processes",{"$f":"IF(COUNTIF('Extended Diploma'!$E$29:$E$30,A7)>=1,\"\",ROW())","v":7},"Textiles Materials, Techniques and Processes",null,"Graphics for 3D",{"$f":"IF(COUNTIF('Extended Diploma'!$E$29:$E$86,E7)>=1,\"\",ROW())","v":7},"Graphics for 3D",null,"Animals in Boarding Establishments",{"$f":"IF(COUNTIF('Extended Diploma'!$E$29:$E$86,I7)>=1,\"\",ROW())","v":7},"Animals in Boarding Establishments",null,"Microbiology and Microbiological Techniques",{"$f":"IF(COUNTIF('Extended Diploma'!$E$29:$E$86,M7)>=1,\"\",ROW())","v":7},"Microbiology and Microbiological Techniques",null,"Forensic Traffic Collision Investigation",{"$f":"IF(COUNTIF('Extended Diploma'!$E$29:$E$86,Q7)>=1,\"\",ROW())","v":7},"Forensic Traffic Collision Investigation",null,"Cryogenics and Vacuum Technology",{"$f":"IF(COUNTIF('Extended Diploma'!$E$29:$E$86,U7)>=1,\"\",ROW())","v":7},"Cryogenics and Vacuum Technology",null,"Microbiology and Microbiological Techniques",{"$f":"IF(COUNTIF('Extended Diploma'!$E$29:$E$86,Y7)>=1,\"\",ROW())","v":7},"Microbiology and Microbiological Techniques",null,"Practical Chemical Analysis",{"$f":"IF(COUNTIF('Extended Diploma'!$E$29:$E$86,AC7)>=1,\"\",ROW())","v":7},"Practical Chemical Analysis",null,"Forensic Evidence, Collection and Analysis",{"$f":"IF(COUNTIF('Extended Diploma'!$E$29:$E$86,AG7)>=1,\"\",ROW())","v":7},"Forensic Evidence, Collection and Analysis",null,"Astronomy and Space Science",{"$f":"IF(COUNTIF('Extended Diploma'!$E$29:$E$86,AK7)>=1,\"\",ROW())","v":7},"Astronomy and Space Science",null,"Medical Physics Applications",{"$f":"IF(COUNTIF('Extended Diploma'!$E$29:$E$86,AO7)>=1,\"\",ROW())","v":7},"Medical Physics Applications",null,"Applications of Organic Chemistry",{"$f":"IF(COUNTIF('Extended Diploma'!$E$29:$E$86,AS7)>=1,\"\",ROW())","v":7},"Applications of Organic Chemistry",null,"Cost and Management Accounting",{"$f":"IF(COUNTIF('Extended Diploma'!$E$29:$E$86,AW7)>=1,\"\",ROW())","v":7},"Cost and Management Accounting",null,"Services for Children and their Families",{"$f":"IF(COUNTIF('Extended Diploma'!$E$29:$E$86,BA7)>=1,\"\",ROW())","v":7},"Services for Children and their Families",null,null,null,null,null,null,null,null,null,null,null,null,null,null,null,null,null,"Projects in Construction",{"$f":"IF(COUNTIF('Extended Diploma'!$E$29:$E$86,BU7)>=1,\"\",ROW())","v":7},"Projects in Construction",null,"Electrical Installation Standards, Components and Design",{"$f":"IF(COUNTIF('Extended Diploma'!$E$29:$E$86,BY7)>=1,\"\",ROW())","v":7},"Electrical Installation Standards, Components and Design",null,"Further Mathematics for Construction",{"$f":"IF(COUNTIF('Extended Diploma'!$E$29:$E$86,CC7)>=1,\"\",ROW())","v":7},"Further Mathematics for Construction",null,"Measurement Techniques in Construction",{"$f":"IF(COUNTIF('Extended Diploma'!$E$29:$E$86,CG7)>=1,\"\",ROW())","v":7},"Measurement Techniques in Construction",null,null,null,null,null,"Digital Magazine Production",{"$f":"IF(COUNTIF('Extended Diploma'!$E$29:$E$86,CO7)>=1,\"\",ROW())","v":7},"Digital Magazine Production",null,"Sound Editing",{"$f":"IF(COUNTIF('Extended Diploma'!$E$29:$E$86,CS7)>=1,\"\",ROW())","v":7},"Sound Editing",null,null,null,null,null,"Sound Editing",{"$f":"IF(COUNTIF('Extended Diploma'!$E$29:$E$86,DA7)>=1,\"\",ROW())","v":7},"Sound Editing",null,null,null,null,null,null,"Page Layout and Design for Digital Media",{"$f":"IF(COUNTIF('Extended Diploma'!$E$29:$E$86,DJ7)>=1,\"\",ROW())","v":7},"Page Layout and Design for Digital Media",null,null,null,null,null,"Games Testing",{"$f":"IF(COUNTIF('Extended Diploma'!$E$29:$E$86,DR7)>=1,\"\",ROW())","v":7},"Games Testing",null,"Electronic Devices and Circuits",{"$f":"IF(COUNTIF('Extended Diploma'!$E$29:$E$86,DV7)>=1,\"\",ROW())","v":7},"Electronic Devices and Circuits",null,"Principles and Applications of Fluid Mechanics",{"$f":"IF(COUNTIF('Extended Diploma'!$E$29:$E$86,DZ7)>=1,\"\",ROW())","v":7},"Principles and Applications of Fluid Mechanics",null,"Welding Technology",{"$f":"IF(COUNTIF('Extended Diploma'!$E$29:$E$86,ED7)>=1,\"\",ROW())","v":7},"Welding Technology",null,"Electrical Power Distribution and Transmission",{"$f":"IF(COUNTIF('Extended Diploma'!$E$29:$E$86,EH7)>=1,\"\",ROW())","v":7},"Electrical Power Distribution and Transmission",null,"Static Mechanical Principles in Practice",{"$f":"IF(COUNTIF('Extended Diploma'!$E$29:$E$86,EL7)>=1,\"\",ROW())","v":7},"Static Mechanical Principles in Practice",null,"Mechanical Behaviour of Metallic Materials",{"$f":"IF(COUNTIF('Extended Diploma'!$E$29:$E$86,EP7)>=1,\"\",ROW())","v":7},"Mechanical Behaviour of Metallic Materials",null,"Electronic Measurement and Testing of Circuits",{"$f":"IF(COUNTIF('Extended Diploma'!$E$29:$E$86,ET7)>=1,\"\",ROW())","v":7},"Electronic Measurement and Testing of Circuits",null,"Computer Networks",{"$f":"IF(COUNTIF('Extended Diploma'!$E$29:$E$86,EX7)>=1,\"\",ROW())","v":7},"Computer Networks",null,"Electrical Installation of Hardware and Cables",{"$f":"IF(COUNTIF('Extended Diploma'!$E$29:$E$86,FB7)>=1,\"\",ROW())","v":7},"Electrical Installation of Hardware and Cables",null,"Computer Aided Manufacturing and Planning",{"$f":"IF(COUNTIF('Extended Diploma'!$E$29:$E$86,FF7)>=1,\"\",ROW())","v":7},"Computer Aided Manufacturing and Planning",null,"Three Phase Electrical Systems",{"$f":"IF(COUNTIF('Extended Diploma'!$E$29:$E$86,FJ7)>=1,\"\",ROW())","v":7},"Three Phase Electrical Systems",null,"Programmable Logic Controllers",{"$f":"IF(OR(COUNTIF('Extended Diploma'!$E$29:$E$86,FN2)>=1,COUNTIF('Extended Diploma'!$E$29:$E$86,FN3)>=1,COUNTIF('Extended Diploma'!$E$29:$E$86,FN4)>=1,COUNTIF('Extended Diploma'!$E$29:$E$86,FN5)>=1,COUNTIF('Extended Diploma'!$E$29:$E$86,FN6)>=1,COUNTIF('Extended Diploma'!$E$29:$E$86,FN7)>=1),\"\",ROW())","v":7},"Programmable Logic Controllers",null,"Electronic Measurement and Testing of Circuits",{"$f":"IF(COUNTIF('Extended Diploma'!$E$29:$E$86,FR7)>=1,\"\",ROW())","v":7},"Electronic Measurement and Testing of Circuits",null,null,null,null,null,"Riding Horses in the Open",{"$f":"IF(COUNTIF('Extended Diploma'!$E$29:$E$86,FZ7)>=1,\"\",ROW())","v":7},"Riding Horses in the Open",null,"Forensic Genetics",{"$f":"IF(COUNTIF('Extended Diploma'!$E$29:$E$86,GD7)>=1,\"\",ROW())","v":7},"Forensic Genetics",null,"Understanding Mental Wellbeing",{"$f":"IF(COUNTIF('Extended Diploma'!$E$29:$E$86,GH7)>=1,\"\",ROW())","v":7},"Understanding Mental Wellbeing",null,null,null,null,null,"Understanding Mental Wellbeing",{"$f":"IF(COUNTIF('Extended Diploma'!$E$29:$E$86,GP7)>=1,\"\",ROW())","v":7},"Understanding Mental Wellbeing",null,"Complementary Therapies for Health and Social Care",{"$f":"IF(COUNTIF('Extended Diploma'!$E$29:$E$86,GT7)>=1,\"\",ROW())","v":7},"Complementary Therapies for Health and Social Care",null,"IT Technical Support and Management",{"$f":"IF(COUNTIF('Extended Diploma'!$E$29:$E$86,GX7)>=1,\"\",ROW())","v":7},"IT Technical Support and Management",null,"Live Music Events",{"$f":"IF(COUNTIF('Extended Diploma'!$E$29:$E$86,HB7)>=1,\"\",ROW())","v":7},"Live Music Events",null,"Mixing and Mastering Techniques",{"$f":"IF(COUNTIF('Extended Diploma'!$E$29:$E$86,HF7)>=1,\"\",ROW())","v":7},"Mixing and Mastering Techniques",null,null,null,null,null,null,null,null,null,null,null,null,null,"Physical Theatre Techniques",{"$f":"IF(COUNTIF('Extended Diploma'!$E$29:$E$86,HV7)>=1,\"\",ROW())","v":7},"Physical Theatre Techniques",null,"Choreography for Live Performance",{"$f":"IF(COUNTIF('Extended Diploma'!$E$29:$E$86,HZ7)>=1,\"\",ROW())","v":7},"Choreography for Live Performance",null,"Physical Theatre Techniques",{"$f":"IF(COUNTIF('Extended Diploma'!$E$29:$E$86,ID7)>=1,\"\",ROW())","v":7},"Physical Theatre Techniques",null,"Developing the Voice for Performance",{"$f":"IF(COUNTIF('Extended Diploma'!$E$29:$E$86,IH7)>=1,\"\",ROW())","v":7},"Developing the Voice for Performance",null,"Physical Theatre Techniques",{"$f":"IF(COUNTIF('Extended Diploma'!$E$29:$E$86,IL7)>=1,\"\",ROW())","v":7},"Physical Theatre Techniques",null,null,null,null,null,"Developing the Voice for Performance",{"$f":"IF(COUNTIF('Extended Diploma'!$E$29:$E$86,IT7)>=1,\"\",ROW())","v":7},"Developing the Voice for Performance",null,"Work Experience in Active Leisure",{"$f":"IF(COUNTIF('Extended Diploma'!$E$29:$E$86,IX7)>=1,\"\",ROW())","v":7},"Work Experience in Active Leisure",null,"Sociocultural Issues in Sport and Exercise",{"$f":"IF(COUNTIF('Extended Diploma'!$E$29:$E$86,JB7)>=1,\"\",ROW())","v":7},"Sociocultural Issues in Sport and Exercise",null,"Events, Conferences and Exhibitions",{"$f":"IF(COUNTIF('Extended Diploma'!$E$29:$E$86,JF7)>=1,\"\",ROW())","v":7},"Events, Conferences and Exhibitions",null,"Root Crop and Field Vegetable Production",{"$f":"IF(COUNTIF('Extended Diploma'!$E$29:$E$86,JJ7)>=1,\"\",ROW())","v":7},"Root Crop and Field Vegetable Production","Identification, Planting and Care of Trees",{"$f":"IF(COUNTIF('Extended Diploma'!$E$29:$E$86,JM7)>=1,\"\",ROW())","v":7},"Identification, Planting and Care of Trees",null,"Shoutcasting",{"$f":"IF(COUNTIF('Extended Diploma'!$E$29:$E$86,JQ7)>=1,\"\",ROW())","v":7},"Shoutcasting",null,"Fitness Training",{"$f":"IF(COUNTIF('Extended Diploma'!$E$29:$E$86,JU7)>=1,\"\",ROW())","v":7},"Fitness Training",null,"Ethical and Current Issues in Sport",{"$f":"IF(COUNTIF('Extended Diploma'!$E$29:$E$86,JY7)>=1,\"\",ROW())","v":7},"Ethical and Current Issues in Sport",null,"Influence of Technology in Sport and Physical Activity",{"$f":"IF(COUNTIF('Extended Diploma'!$E$29:$E$86,KC7)>=1,\"\",ROW())","v":7},"Influence of Technology in Sport and Physical Activity",null,"Fitness Testing",{"$f":"IF(COUNTIF('Extended Diploma'!$E$29:$E$86,KG7)>=1,\"\",ROW())","v":7},"Fitness Testing",null,"Introduction to Criminology",{"$f":"IF(COUNTIF('Extended Diploma'!$E$29:$E$86,KK7)>=1,\"\",ROW())","v":7},"Introduction to Criminology",null,"Managing a Shoot",{"$f":"IF(COUNTIF('Extended Diploma'!$E$29:$E$86,KO7)>=1,\"\",ROW())","v":7},{"$f":"IF(ROW(KO7)-ROW(KO$2)+1>COUNT(KP$2:KP$23),\"\",INDEX(KO:KO,SMALL(KP$2:KP$23,1+ROW(KO7)-ROW(KO$2))))","v":"Managing a Shoot"},null,null,null,null,null,null,null,null,null,"Corporate Social Responsibility",{"$f":"IF(COUNTIF('Extended Diploma'!$E$29:$E$86,LA7)>=1,\"\",ROW())","v":7},{"$f":"IF(ROW(LA7)-ROW(LA$2)+1>COUNT(LB$2:LB$23),\"\",INDEX(LA:LA,SMALL(LB$2:LB$23,1+ROW(LA7)-ROW(LA$2))))","v":"Corporate Social Responsibility"}]
["Fashion Materials, Techniques and Processes",{"$f":"IF(COUNTIF('Extended Diploma'!$E$29:$E$30,A8)>=1,\"\",ROW())","v":8},"Fashion Materials, Techniques and Processes",null,"Branding in Graphic Design",{"$f":"IF(COUNTIF('Extended Diploma'!$E$29:$E$86,E8)>=1,\"\",ROW())","v":8},"Branding in Graphic Design",null,"Developing an Enterprise in the Animal Sector",{"$f":"IF(COUNTIF('Extended Diploma'!$E$29:$E$86,I8)>=1,\"\",ROW())","v":8},"Developing an Enterprise in the Animal Sector",null,"Biomedical Science",{"$f":"IF(COUNTIF('Extended Diploma'!$E$29:$E$86,M8)>=1,\"\",ROW())","v":8},"Biomedical Science",null,null,null,null,null,null,null,null,null,"Biomedical Science",{"$f":"IF(COUNTIF('Extended Diploma'!$E$29:$E$86,Y8)>=1,\"\",ROW())","v":8},"Biomedical Science",null,"Materials Science",{"$f":"IF(COUNTIF('Extended Diploma'!$E$29:$E$86,AC8)>=1,\"\",ROW())","v":8},"Materials Science",null,"Forensic Fire Investigation",{"$f":"IF(COUNTIF('Extended Diploma'!$E$29:$E$86,AG8)>=1,\"\",ROW())","v":8},"Forensic Fire Investigation",null,"Microbiology and Microbiological Techniques",{"$f":"IF(COUNTIF('Extended Diploma'!$E$29:$E$86,AK8)>=1,\"\",ROW())","v":8},"Microbiology and Microbiological Techniques",null,"Materials Science",{"$f":"IF(COUNTIF('Extended Diploma'!$E$29:$E$86,AO8)>=1,\"\",ROW())","v":8},"Materials Science",null,"Microbiology and Microbiological Techniques",{"$f":"IF(COUNTIF('Extended Diploma'!$E$29:$E$86,AS8)>=1,\"\",ROW())","v":8},"Microbiology and Microbiological Techniques",null,"Investigating Customer Service",{"$f":"IF(COUNTIF('Extended Diploma'!$E$29:$E$86,AW8)>=1,\"\",ROW())","v":8},"Investigating Customer Service",null,"Working with Children Under 3 Years",{"$f":"IF(COUNTIF('Extended Diploma'!$E$29:$E$86,BA8)>=1,\"\",ROW())","v":8},"Working with Children Under 3 Years",null,null,null,null,null,null,null,null,null,null,null,null,null,null,null,null,null,"Building Information Modelling",{"$f":"IF(COUNTIF('Extended Diploma'!$E$29:$E$86,BU8)>=1,\"\",ROW())","v":8},"Building Information Modelling",null,"Quantity Surveying Measurement Techniques in Building Services Engineering",{"$f":"IF(COUNTIF('Extended Diploma'!$E$29:$E$86,BY8)>=1,\"\",ROW())","v":8},"Quantity Surveying Measurement Techniques in Building Services Engineering",null,"Work Experience in the Construction Sector",{"$f":"IF(COUNTIF('Extended Diploma'!$E$29:$E$86,CC8)>=1,\"\",ROW())","v":8},"Work Experience in the Construction Sector",null,"Work Experience in the Construction Sector",{"$f":"IF(COUNTIF('Extended Diploma'!$E$29:$E$86,CG8)>=1,\"\",ROW())","v":8},"Work Experience in the Construction Sector",null,null,null,null,null,"Advertising Production",{"$f":"IF(COUNTIF('Extended Diploma'!$E$29:$E$86,CO8)>=1,\"\",ROW())","v":8},"Advertising Production",null,"Sound Recording",{"$f":"IF(COUNTIF('Extended Diploma'!$E$29:$E$86,CS8)>=1,\"\",ROW())","v":8},"Sound Recording",null,null,null,null,null,"Sound Recording",{"$f":"IF(COUNTIF('Extended Diploma'!$E$29:$E$86,DA8)>=1,\"\",ROW())","v":8},"Sound Recording",null,null,null,null,null,null,"Coding for Web-based Media",{"$f":"IF(COUNTIF('Extended Diploma'!$E$29:$E$86,DJ8)>=1,\"\",ROW())","v":8},"Coding for Web-based Media",null,null,null,null,null,"3D Digital Animation",{"$f":"IF(COUNTIF('Extended Diploma'!$E$29:$E$86,DR8)>=1,\"\",ROW())","v":8},"3D Digital Animation",null,"Analogue Electronic Circuits",{"$f":"IF(COUNTIF('Extended Diploma'!$E$29:$E$86,DV8)>=1,\"\",ROW())","v":8},"Analogue Electronic Circuits",null,"Mechanical Measurement and Inspection Technology",{"$f":"IF(COUNTIF('Extended Diploma'!$E$29:$E$86,DZ8)>=1,\"\",ROW())","v":8},"Mechanical Measurement and Inspection Technology",null,"Computer System Principles and Practice",{"$f":"IF(COUNTIF('Extended Diploma'!$E$29:$E$86,ED8)>=1,\"\",ROW())","v":8},"Computer System Principles and Practice",null,"Electronic Devices and Circuits",{"$f":"IF(COUNTIF('Extended Diploma'!$E$29:$E$86,EH8)>=1,\"\",ROW())","v":8},"Electronic Devices and Circuits",null,"Dynamic Mechanical Principles in Practice",{"$f":"IF(COUNTIF('Extended Diploma'!$E$29:$E$86,EL8)>=1,\"\",ROW())","v":8},"Dynamic Mechanical Principles in Practice",null,"Mechanical Behaviour of Non-metallic Materials",{"$f":"IF(COUNTIF('Extended Diploma'!$E$29:$E$86,EP8)>=1,\"\",ROW())","v":8},"Mechanical Behaviour of Non-metallic Materials",null,"Computer Systems Security",{"$f":"IF(COUNTIF('Extended Diploma'!$E$29:$E$86,ET8)>=1,\"\",ROW())","v":8},"Computer Systems Security",null,"Website Production to Control Devices",{"$f":"IF(COUNTIF('Extended Diploma'!$E$29:$E$86,EX8)>=1,\"\",ROW())","v":8},"Website Production to Control Devices",null,"Electrical Machines",{"$f":"IF(COUNTIF('Extended Diploma'!$E$29:$E$86,FB8)>=1,\"\",ROW())","v":8},"Electrical Machines",null,"Manufacturing Secondary Machining Processes",{"$f":"IF(COUNTIF('Extended Diploma'!$E$29:$E$86,FF8)>=1,\"\",ROW())","v":8},"Manufacturing Secondary Machining Processes",null,"Electronic Devices and Circuits",{"$f":"IF(COUNTIF('Extended Diploma'!$E$29:$E$86,FJ8)>=1,\"\",ROW())","v":8},"Electronic Devices and Circuits",null,"Aircraft Workshop Methods and Practice",{"$f":"IF(COUNTIF('Extended Diploma'!$E$29:$E$86,FN8)>=1,\"\",ROW())","v":8},"Aircraft Workshop Methods and Practice",null,"Mechanical Behaviour of Non-metallic Materials",{"$f":"IF(COUNTIF('Extended Diploma'!$E$29:$E$86,FR8)>=1,\"\",ROW())","v":8},"Mechanical Behaviour of Non-metallic Materials",null,null,null,null,null,"Ground Poles and Gridwork for Horses",{"$f":"IF(COUNTIF('Extended Diploma'!$E$29:$E$86,FZ8)>=1,\"\",ROW())","v":8},"Ground Poles and Gridwork for Horses",null,"Forensic Anthropology and Archaeology",{"$f":"IF(COUNTIF('Extended Diploma'!$E$29:$E$86,GD8)>=1,\"\",ROW())","v":8},"Forensic Anthropology and Archaeology",null,"Biochemistry for Health",{"$f":"IF(COUNTIF('Extended Diploma'!$E$29:$E$86,GH8)>=1,\"\",ROW())","v":8},"Biochemistry for Health",null,null,null,null,null,"Biochemistry for Health",{"$f":"IF(COUNTIF('Extended Diploma'!$E$29:$E$86,GP8)>=1,\"\",ROW())","v":8},"Biochemistry for Health",null,"Health Psychology",{"$f":"IF(COUNTIF('Extended Diploma'!$E$29:$E$86,GT8)>=1,\"\",ROW())","v":8},"Health Psychology",null,"Software Testing",{"$f":"IF(COUNTIF('Extended Diploma'!$E$29:$E$86,GX8)>=1,\"\",ROW())","v":8},"Software Testing",null,"Music Investigation",{"$f":"IF(COUNTIF('Extended Diploma'!$E$29:$E$86,HB8)>=1,\"\",ROW())","v":8},"Music Investigation",null,"Studio Design and Acoustics",{"$f":"IF(COUNTIF('Extended Diploma'!$E$29:$E$86,HF8)>=1,\"\",ROW())","v":8},"Studio Design and Acoustics",null,null,null,null,null,null,null,null,null,null,null,null,null,"Variety Performance",{"$f":"IF(COUNTIF('Extended Diploma'!$E$29:$E$86,HV8)>=1,\"\",ROW())","v":8},"Variety Performance",null,null,null,null,null,"Musical Theatre Techniques",{"$f":"IF(COUNTIF('Extended Diploma'!$E$29:$E$86,ID8)>=1,\"\",ROW())","v":8},"Musical Theatre Techniques",null,null,null,null,null,"Variety Performance",{"$f":"IF(COUNTIF('Extended Diploma'!$E$29:$E$86,IL8)>=1,\"\",ROW())","v":8},"Variety Performance",null,null,null,null,null,"Movement in Performance",{"$f":"IF(COUNTIF('Extended Diploma'!$E$29:$E$86,IT8)>=1,\"\",ROW())","v":8},"Movement in Performance",null,"Leisure Management",{"$f":"IF(COUNTIF('Extended Diploma'!$E$29:$E$86,IX8)>=1,\"\",ROW())","v":8},"Leisure Management",null,"Technology in Sport and Exercise Science",{"$f":"IF(COUNTIF('Extended Diploma'!$E$29:$E$86,JB8)>=1,\"\",ROW())","v":8},"Technology in Sport and Exercise Science",null,"Working Overseas",{"$f":"IF(COUNTIF('Extended Diploma'!$E$29:$E$86,JF8)>=1,\"\",ROW())","v":8},"Working Overseas",null,"Combinable Crop Production and Processing",{"$f":"IF(COUNTIF('Extended Diploma'!$E$29:$E$86,JJ8)>=1,\"\",ROW())","v":8},"Combinable Crop Production and Processing","Developing a Land-based Enterprise",{"$f":"IF(COUNTIF('Extended Diploma'!$E$29:$E$86,JM8)>=1,\"\",ROW())","v":8},"Developing a Land-based Enterprise",null,"Esports Coaching",{"$f":"IF(COUNTIF('Extended Diploma'!$E$29:$E$86,JQ8)>=1,\"\",ROW())","v":8},"Esports Coaching",null,"Influence of Technology in Sport and Physical Activity",{"$f":"IF(COUNTIF('Extended Diploma'!$E$29:$E$86,JU8)>=1,\"\",ROW())","v":8},"Influence of Technology in Sport and Physical Activity",null,"Marketing Communications",{"$f":"IF(COUNTIF('Extended Diploma'!$E$29:$E$86,JY8)>=1,\"\",ROW())","v":8},"Marketing Communications",null,"Organising Events in Sport and Physical Activities",{"$f":"IF(COUNTIF('Extended Diploma'!$E$29:$E$86,KC8)>=1,\"\",ROW())","v":8},"Organising Events in Sport and Physical Activities",null,"Fitness Training",{"$f":"IF(COUNTIF('Extended Diploma'!$E$29:$E$86,KG8)>=1,\"\",ROW())","v":8},"Fitness Training",null,"Principles of Managing Security Threats",{"$f":"IF(COUNTIF('Extended Diploma'!$E$29:$E$86,KK8)>=1,\"\",ROW())","v":8},"Principles of Managing Security Threats",null,"Water Quality Management",{"$f":"IF(COUNTIF('Extended Diploma'!$E$29:$E$86,KO8)>=1,\"\",ROW())","v":8},{"$f":"IF(ROW(KO8)-ROW(KO$2)+1>COUNT(KP$2:KP$23),\"\",INDEX(KO:KO,SMALL(KP$2:KP$23,1+ROW(KO8)-ROW(KO$2))))","v":"Water Quality Management"}]
["3D Design Craft Materials, Techniques and Processes",{"$f":"IF(COUNTIF('Extended Diploma'!$E$29:$E$30,A9)>=1,\"\",ROW())","v":9},"3D Design Craft Materials, Techniques and Processes",null,"Graphic Illustration",{"$f":"IF(COUNTIF('Extended Diploma'!$E$29:$E$86,E9)>=1,\"\",ROW())","v":9},"Graphic Illustration",null,"Animal Grooming",{"$f":"IF(COUNTIF('Extended Diploma'!$E$29:$E$86,I9)>=1,\"\",ROW())","v":9},"Animal Grooming",null,null,null,null,null,null,null,null,null,null,null,null,null,"Medical Physics Applications",{"$f":"IF(COUNTIF('Extended Diploma'!$E$29:$E$86,Y9)>=1,\"\",ROW())","v":9},"Medical Physics Applications",null,"Forensic Evidence, Collection and Analysis",{"$f":"IF(COUNTIF('Extended Diploma'!$E$29:$E$86,AC9)>=1,\"\",ROW())","v":9},"Forensic Evidence, Collection and Analysis",null,"Forensic Traffic Collision Investigation",{"$f":"IF(COUNTIF('Extended Diploma'!$E$29:$E$86,AG9)>=1,\"\",ROW())","v":9},"Forensic Traffic Collision Investigation",null,"Industrial Chemical Reactions",{"$f":"IF(COUNTIF('Extended Diploma'!$E$29:$E$86,AK9)>=1,\"\",ROW())","v":9},"Industrial Chemical Reactions",null,"Cryogenics and Vacuum Technology",{"$f":"IF(COUNTIF('Extended Diploma'!$E$29:$E$86,AO9)>=1,\"\",ROW())","v":9},"Cryogenics and Vacuum Technology",null,"Biomedical Science",{"$f":"IF(COUNTIF('Extended Diploma'!$E$29:$E$86,AS9)>=1,\"\",ROW())","v":9},"Biomedical Science",null,"Investigation Retail Business",{"$f":"IF(COUNTIF('Extended Diploma'!$E$29:$E$86,AW9)>=1,\"\",ROW())","v":9},"Investigation Retail Business",null,"Digital Technologies in Early Years Practice",{"$f":"IF(COUNTIF('Extended Diploma'!$E$29:$E$86,BA9)>=1,\"\",ROW())","v":9},"Digital Technologies in Early Years Practice",null,null,null,null,null,null,null,null,null,null,null,null,null,null,null,null,null,"Quantity Surveying",{"$f":"IF(COUNTIF('Extended Diploma'!$E$29:$E$86,BU9)>=1,\"\",ROW())","v":9},"Quantity Surveying",null,"Building Regulations and Control in Building Services Engineering",{"$f":"IF(COUNTIF('Extended Diploma'!$E$29:$E$86,BY9)>=1,\"\",ROW())","v":9},"Building Regulations and Control in Building Services Engineering",null,"Projects in Construction",{"$f":"IF(COUNTIF('Extended Diploma'!$E$29:$E$86,CC9)>=1,\"\",ROW())","v":9},"Projects in Construction",null,"Projects in Construction",{"$f":"IF(COUNTIF('Extended Diploma'!$E$29:$E$86,CG9)>=1,\"\",ROW())","v":9},"Projects in Construction",null,null,null,null,null,"Factual Production",{"$f":"IF(COUNTIF('Extended Diploma'!$E$29:$E$86,CO9)>=1,\"\",ROW())","v":9},"Factual Production",null,"Writing Copy",{"$f":"IF(COUNTIF('Extended Diploma'!$E$29:$E$86,CS9)>=1,\"\",ROW())","v":9},"Writing Copy",null,null,null,null,null,"Sound Mixing",{"$f":"IF(COUNTIF('Extended Diploma'!$E$29:$E$86,DA9)>=1,\"\",ROW())","v":9},"Sound Mixing",null,null,null,null,null,null,null,null,null,null,null,null,null,null,null,null,null,null,"Electronic Measurement and Testing of Circuits",{"$f":"IF(COUNTIF('Extended Diploma'!$E$29:$E$86,DV9)>=1,\"\",ROW())","v":9},"Electronic Measurement and Testing of Circuits",null,"Thermodynamic Principles and Practice",{"$f":"IF(COUNTIF('Extended Diploma'!$E$29:$E$86,DZ9)>=1,\"\",ROW())","v":9},"Thermodynamic Principles and Practice",null,"Computer Systems Security",{"$f":"IF(COUNTIF('Extended Diploma'!$E$29:$E$86,ED9)>=1,\"\",ROW())","v":9},"Computer Systems Security",null,"Analogue Electronic Circuits",{"$f":"IF(COUNTIF('Extended Diploma'!$E$29:$E$86,EH9)>=1,\"\",ROW())","v":9},"Analogue Electronic Circuits",null,"Mechanical Measurement and Inspection Technology",{"$f":"IF(COUNTIF('Extended Diploma'!$E$29:$E$86,EL9)>=1,\"\",ROW())","v":9},"Mechanical Measurement and Inspection Technology",null,"Static Mechanical Principles in Practice",{"$f":"IF(COUNTIF('Extended Diploma'!$E$29:$E$86,EP9)>=1,\"\",ROW())","v":9},"Static Mechanical Principles in Practice",null,"Computer Systems Support and Performance",{"$f":"IF(COUNTIF('Extended Diploma'!$E$29:$E$86,ET9)>=1,\"\",ROW())","v":9},"Computer Systems Support and Performance",null,"Computer Aided Manufacturing and Planning",{"$f":"IF(OR(COUNTIF('Extended Diploma'!$E$29:$E$86,EX2)>=1,COUNTIF('Extended Diploma'!$E$29:$E$86,EX9)>=1,COUNTIF('Extended Diploma'!$E$29:$E$86,EX10)>=1),\"\",ROW())","v":9},"Computer Aided Manufacturing and Planning",null,"Three Phase Electrical Systems",{"$f":"IF(COUNTIF('Extended Diploma'!$E$29:$E$86,FB9)>=1,\"\",ROW())","v":9},"Three Phase Electrical Systems",null,"Manufacturing Primary Forming Processes",{"$f":"IF(COUNTIF('Extended Diploma'!$E$29:$E$86,FF9)>=1,\"\",ROW())","v":9},"Manufacturing Primary Forming Processes",null,"Electronic Measurement and Testing of Circuits",{"$f":"IF(COUNTIF('Extended Diploma'!$E$29:$E$86,FJ9)>=1,\"\",ROW())","v":9},"Electronic Measurement and Testing of Circuits",null,"Aircraft Gas Turbine Engines",{"$f":"IF(COUNTIF('Extended Diploma'!$E$29:$E$86,FN9)>=1,\"\",ROW())","v":9},"Aircraft Gas Turbine Engines",null,"Dynamic Mechanical Principles in Practice",{"$f":"IF(COUNTIF('Extended Diploma'!$E$29:$E$86,FR9)>=1,\"\",ROW())","v":9},"Dynamic Mechanical Principles in Practice",null,null,null,null,null,"Showjumping and Cross-country Courses",{"$f":"IF(COUNTIF('Extended Diploma'!$E$29:$E$86,FZ9)>=1,\"\",ROW())","v":9},"Showjumping and Cross-country Courses",null,"Practical Chemical Analysis",{"$f":"IF(COUNTIF('Extended Diploma'!$E$29:$E$86,GD9)>=1,\"\",ROW())","v":9},"Practical Chemical Analysis",null,null,null,null,null,null,null,null,null,null,null,null,null,null,null,null,null,"Customising and Integrating Applications",{"$f":"IF(COUNTIF('Extended Diploma'!$E$29:$E$86,GX9)>=1,\"\",ROW())","v":9},"Customising and Integrating Applications",null,"Contemporary Art Music in Practice",{"$f":"IF(COUNTIF('Extended Diploma'!$E$29:$E$86,HB9)>=1,\"\",ROW())","v":9},"Contemporary Art Music in Practice",null,"Music Investigation",{"$f":"IF(COUNTIF('Extended Diploma'!$E$29:$E$86,HF9)>=1,\"\",ROW())","v":9},"Music Investigation",null,null,null,null,null,null,null,null,null,null,null,null,null,"Storytelling",{"$f":"IF(COUNTIF('Extended Diploma'!$E$29:$E$86,HV9)>=1,\"\",ROW())","v":9},"Storytelling",null,null,null,null,null,"Variety Performance",{"$f":"IF(COUNTIF('Extended Diploma'!$E$29:$E$86,ID9)>=1,\"\",ROW())","v":9},"Variety Performance",null,null,null,null,null,"Storytelling",{"$f":"IF(COUNTIF('Extended Diploma'!$E$29:$E$86,IL9)>=1,\"\",ROW())","v":9},"Storytelling",null,null,null,null,null,"Physical Theatre Techniques",{"$f":"IF(COUNTIF('Extended Diploma'!$E$29:$E$86,IT9)>=1,\"\",ROW())","v":9},"Physical Theatre Techniques",null,"Leisure Centre Operations",{"$f":"IF(COUNTIF('Extended Diploma'!$E$29:$E$86,IX9)>=1,\"\",ROW())","v":9},"Leisure Centre Operations",null,"Sports Injury and Assessment",{"$f":"IF(COUNTIF('Extended Diploma'!$E$29:$E$86,JB9)>=1,\"\",ROW())","v":9},"Sports Injury and Assessment",null,"Work Experience in Travel and Tourism",{"$f":"IF(COUNTIF('Extended Diploma'!$E$29:$E$86,JF9)>=1,\"\",ROW())","v":9},"Work Experience in Travel and Tourism",null,"Grass and Forage Crop Production",{"$f":"IF(COUNTIF('Extended Diploma'!$E$29:$E$86,JJ9)>=1,\"\",ROW())","v":9},"Grass and Forage Crop Production","Maintaining the Health and Quality of Turf in Parks and Gardens",{"$f":"IF(COUNTIF('Extended Diploma'!$E$29:$E$86,JM9)>=1,\"\",ROW())","v":9},"Maintaining the Health and Quality of Turf in Parks and Gardens",null,"Psychology for Esports Performance",{"$f":"IF(COUNTIF('Extended Diploma'!$E$29:$E$86,JQ9)>=1,\"\",ROW())","v":9},"Psychology for Esports Performance",null,"Organising Events in Sport and Physical Activities",{"$f":"IF(COUNTIF('Extended Diploma'!$E$29:$E$86,JU9)>=1,\"\",ROW())","v":9},"Organising Events in Sport and Physical Activities",null,"Corporate Social Responsibility in Sport",{"$f":"IF(COUNTIF('Extended Diploma'!$E$29:$E$86,JY9)>=1,\"\",ROW())","v":9},"Corporate Social Responsibility in Sport",null,"Ethical and Current Issues in Sport",{"$f":"IF(COUNTIF('Extended Diploma'!$E$29:$E$86,KC9)>=1,\"\",ROW())","v":9},"Ethical and Current Issues in Sport",null,"Technical and Tactical Skills in Sport",{"$f":"IF(COUNTIF('Extended Diploma'!$E$29:$E$86,KG9)>=1,\"\",ROW())","v":9},"Technical and Tactical Skills in Sport",null,"Police Powers and the Law",{"$f":"IF(COUNTIF('Extended Diploma'!$E$29:$E$86,KK9)>=1,\"\",ROW())","v":9},"Police Powers and the Law",null,"Management of Deer in the UK",{"$f":"IF(COUNTIF('Extended Diploma'!$E$29:$E$86,KO9)>=1,\"\",ROW())","v":9},{"$f":"IF(ROW(KO9)-ROW(KO$2)+1>COUNT(KP$2:KP$23),\"\",INDEX(KO:KO,SMALL(KP$2:KP$23,1+ROW(KO9)-ROW(KO$2))))","v":"Management of Deer in the UK"}]
[null,null,null,null,"Conceptual Art for Games",{"$f":"IF(COUNTIF('Extended Diploma'!$E$29:$E$86,E10)>=1,\"\",ROW())","v":10},"Conceptual Art for Games",null,"Principles of Animal Nursing",{"$f":"IF(COUNTIF('Extended Diploma'!$E$29:$E$86,I10)>=1,\"\",ROW())","v":10},"Principles of Animal Nursing",null,null,null,null,null,null,null,null,null,null,null,null,null,null,null,null,null,"Cryogenics and Vacuum Technology",{"$f":"IF(COUNTIF('Extended Diploma'!$E$29:$E$86,AC10)>=1,\"\",ROW())","v":10},"Cryogenics and Vacuum Technology",null,null,null,null,null,"Biomedical Science",{"$f":"IF(COUNTIF('Extended Diploma'!$E$29:$E$86,AK10)>=1,\"\",ROW())","v":10},"Biomedical Science",null,null,null,null,null,"Forensic Evidence, Collection and Analysis",{"$f":"IF(COUNTIF('Extended Diploma'!$E$29:$E$86,AS10)>=1,\"\",ROW())","v":10},"Forensic Evidence, Collection and Analysis",null,"Visual Merchandising",{"$f":"IF(COUNTIF('Extended Diploma'!$E$29:$E$86,AW10)>=1,\"\",ROW())","v":10},"Visual Merchandising",null,"Career Development in the Early Years sector",{"$f":"IF(COUNTIF('Extended Diploma'!$E$29:$E$86,BA10)>=1,\"\",ROW())","v":10},"Career Development in the Early Years sector",null,null,null,null,null,null,null,null,null,null,null,null,null,null,null,null,null,"Quality Control Management in Construction",{"$f":"IF(COUNTIF('Extended Diploma'!$E$29:$E$86,BU10)>=1,\"\",ROW())","v":10},"Quality Control Management in Construction",null,null,null,null,null,"Building Information Modelling",{"$f":"IF(COUNTIF('Extended Diploma'!$E$29:$E$86,CC10)>=1,\"\",ROW())","v":10},"Building Information Modelling",null,"Building Information Modelling",{"$f":"IF(COUNTIF('Extended Diploma'!$E$29:$E$86,CG10)>=1,\"\",ROW())","v":10},"Building Information Modelling",null,null,null,null,null,"News Production",{"$f":"IF(COUNTIF('Extended Diploma'!$E$29:$E$86,CO10)>=1,\"\",ROW())","v":10},"News Production",null,"Digital Photography",{"$f":"IF(COUNTIF('Extended Diploma'!$E$29:$E$86,CS10)>=1,\"\",ROW())","v":10},"Digital Photography",null,null,null,null,null,null,null,null,null,null,null,null,null,null,null,null,null,null,null,null,null,null,null,null,null,null,"Electronic Printed Circuit Board Design and Manufacture",{"$f":"IF(COUNTIF('Extended Diploma'!$E$29:$E$86,DV10)>=1,\"\",ROW())","v":10},"Electronic Printed Circuit Board Design and Manufacture",null,"Sustainable Transport",{"$f":"IF(COUNTIF('Extended Diploma'!$E$29:$E$86,DZ10)>=1,\"\",ROW())","v":10},{"$f":"IF(ROW(DZ10)-ROW(DZ$2)+1>COUNT(EA$2:EA$22),\"\",INDEX(DZ:DZ,SMALL(EA$2:EA$22,1+ROW(DZ10)-ROW(DZ$2))))","v":"Sustainable Transport"},null,"Computer Systems Support and Performance",{"$f":"IF(COUNTIF('Extended Diploma'!$E$29:$E$86,ED10)>=1,\"\",ROW())","v":10},"Computer Systems Support and Performance",null,"Electronic Measurement and Testing of Circuits",{"$f":"IF(COUNTIF('Extended Diploma'!$E$29:$E$86,EH10)>=1,\"\",ROW())","v":10},"Electronic Measurement and Testing of Circuits",null,"Computer Systems Security",{"$f":"IF(COUNTIF('Extended Diploma'!$E$29:$E$86,EL10)>=1,\"\",ROW())","v":10},"Computer Systems Security",null,"Dynamic Mechanical Principles in Practice",{"$f":"IF(COUNTIF('Extended Diploma'!$E$29:$E$86,EP10)>=1,\"\",ROW())","v":10},"Dynamic Mechanical Principles in Practice",null,"Computer Programming",{"$f":"IF(COUNTIF('Extended Diploma'!$E$29:$E$86,ET10)>=1,\"\",ROW())","v":10},"Computer Programming",null,"Manufacturing Computer Numerical Control Machining Processes",{"$f":"IF(OR(COUNTIF('Extended Diploma'!$E$29:$E$86,EX2)>=1,COUNTIF('Extended Diploma'!$E$29:$E$86,EX9)>=1,COUNTIF('Extended Diploma'!$E$29:$E$86,EX10)>=1),\"\",ROW())","v":10},"Manufacturing Computer Numerical Control Machining Processes",null,"Electrical Power Distribution and Transmission",{"$f":"IF(COUNTIF('Extended Diploma'!$E$29:$E$86,FB10)>=1,\"\",ROW())","v":10},"Electrical Power Distribution and Transmission",null,"Manufacturing Computer Numerical Control Machining Processes",{"$f":"IF(COUNTIF('Extended Diploma'!$E$29:$E$86,FF10)>=1,\"\",ROW())","v":10},"Manufacturing Computer Numerical Control Machining Processes",null,"Maintenance of Mechanical Systems",{"$f":"IF(COUNTIF('Extended Diploma'!$E$29:$E$86,FJ10)>=1,\"\",ROW())","v":10},"Maintenance of Mechanical Systems",null,"Aircraft Propulsion Systems",{"$f":"IF(COUNTIF('Extended Diploma'!$E$29:$E$86,FN10)>=1,\"\",ROW())","v":10},"Aircraft Propulsion Systems",null,"Principles and Applications of Fluid Mechanics",{"$f":"IF(COUNTIF('Extended Diploma'!$E$29:$E$86,FR10)>=1,\"\",ROW())","v":10},"Principles and Applications of Fluid Mechanics",null,null,null,null,null,"Estates Skills and Grassland Management",{"$f":"IF(COUNTIF('Extended Diploma'!$E$29:$E$86,FZ10)>=1,\"\",ROW())","v":10},"Estates Skills and Grassland Management",null,"Microbiology and Microbiological Techniques",{"$f":"IF(COUNTIF('Extended Diploma'!$E$29:$E$86,GD10)>=1,\"\",ROW())","v":10},"Microbiology and Microbiological Techniques",null,null,null,null,null,null,null,null,null,null,null,null,null,null,null,null,null,"Cloud Storage and Collaboration Tools",{"$f":"IF(COUNTIF('Extended Diploma'!$E$29:$E$86,GX10)>=1,\"\",ROW())","v":10},"Cloud Storage and Collaboration Tools",null,"Music Performance Session Styles",{"$f":"IF(COUNTIF('Extended Diploma'!$E$29:$E$86,HB10)>=1,\"\",ROW())","v":10},"Music Performance Session Styles",null,"Commercial Music Production",{"$f":"IF(COUNTIF('Extended Diploma'!$E$29:$E$86,HF10)>=1,\"\",ROW())","v":10},"Commercial Music Production",null,null,null,null,null,null,null,null,null,null,null,null,null,"Audio Performance",{"$f":"IF(COUNTIF('Extended Diploma'!$E$29:$E$86,HV10)>=1,\"\",ROW())","v":10},"Audio Performance",null,null,null,null,null,null,null,null,null,null,null,null,null,"Audio Performance",{"$f":"IF(COUNTIF('Extended Diploma'!$E$29:$E$86,IL10)>=1,\"\",ROW())","v":10},"Audio Performance",null,null,null,null,null,null,null,null,null,"Sports Performance Analysis",{"$f":"IF(COUNTIF('Extended Diploma'!$E$29:$E$86,IX10)>=1,\"\",ROW())","v":10},"Sports Performance Analysis",null,null,null,null,null,"The Cruise Industry",{"$f":"IF(COUNTIF('Extended Diploma'!$E$29:$E$86,JF10)>=1,\"\",ROW())","v":10},"The Cruise Industry",null,"Poultry Production",{"$f":"IF(COUNTIF('Extended Diploma'!$E$29:$E$86,JJ10)>=1,\"\",ROW())","v":10},"Poultry Production","Outdoor Horticultural Crop Production",{"$f":"IF(COUNTIF('Extended Diploma'!$E$29:$E$86,JM10)>=1,\"\",ROW())","v":10},"Outdoor Horticultural Crop Production",null,"Nutrition for Esports Performance",{"$f":"IF(COUNTIF('Extended Diploma'!$E$29:$E$86,JQ10)>=1,\"\",ROW())","v":10},"Nutrition for Esports Performance",null,"Ethical and Current Issues in Sport",{"$f":"IF(COUNTIF('Extended Diploma'!$E$29:$E$86,JU10)>=1,\"\",ROW())","v":10},"Ethical and Current Issues in Sport",null,"Sport and Leisure Facility Operations",{"$f":"IF(COUNTIF('Extended Diploma'!$E$29:$E$86,JY10)>=1,\"\",ROW())","v":10},"Sport and Leisure Facility Operations",null,"Marketing Communications",{"$f":"IF(COUNTIF('Extended Diploma'!$E$29:$E$86,KC10)>=1,\"\",ROW())","v":10},"Marketing Communications",null,"Rules, Regulations and Officiating in Sport",{"$f":"IF(COUNTIF('Extended Diploma'!$E$29:$E$86,KG10)>=1,\"\",ROW())","v":10},"Rules, Regulations and Officiating in Sport",null,"Research Skills in the Uniformed Protective Services",{"$f":"IF(COUNTIF('Extended Diploma'!$E$29:$E$86,KK10)>=1,\"\",ROW())","v":10},"Research Skills in the Uniformed Protective Services",null,"Tree Felling and Chainsaw Safety",{"$f":"IF(COUNTIF('Extended Diploma'!$E$29:$E$86,KO10)>=1,\"\",ROW())","v":10},{"$f":"IF(ROW(KO10)-ROW(KO$2)+1>COUNT(KP$2:KP$23),\"\",INDEX(KO:KO,SMALL(KP$2:KP$23,1+ROW(KO10)-ROW(KO$2))))","v":"Tree Felling and Chainsaw Safety"}]
[null,null,null,null,"Web Design",{"$f":"IF(COUNTIF('Extended Diploma'!$E$29:$E$86,E11)>=1,\"\",ROW())","v":11},"Web Design",null,"Aquatic Animal Health and Husbandry",{"$f":"IF(COUNTIF('Extended Diploma'!$E$29:$E$86,I11)>=1,\"\",ROW())","v":11},"Aquatic Animal Health and Husbandry",null,null,null,null,null,null,null,null,null,null,null,null,null,null,null,null,null,"Forensic Fire Investigation",{"$f":"IF(COUNTIF('Extended Diploma'!$E$29:$E$86,AC11)>=1,\"\",ROW())","v":11},"Forensic Fire Investigation",null,null,null,null,null,"Medical Physics Applications",{"$f":"IF(COUNTIF('Extended Diploma'!$E$29:$E$86,AK11)>=1,\"\",ROW())","v":11},"Medical Physics Applications",null,null,null,null,null,"Forensic Fire Investigation",{"$f":"IF(COUNTIF('Extended Diploma'!$E$29:$E$86,AS11)>=1,\"\",ROW())","v":11},"Forensic Fire Investigation",null,"Digital Marketing",{"$f":"IF(COUNTIF('Extended Diploma'!$E$29:$E$86,AW11)>=1,\"\",ROW())","v":11},"Digital Marketing",null,"Children’s Imaginative Play and Creativity",{"$f":"IF(COUNTIF('Extended Diploma'!$E$29:$E$86,BA11)>=1,\"\",ROW())","v":11},"Children’s Imaginative Play and Creativity",null,null,null,null,null,null,null,null,null,null,null,null,null,null,null,null,null,null,null,null,null,null,null,null,null,"Quantity Surveying",{"$f":"IF(COUNTIF('Extended Diploma'!$E$29:$E$86,CC11)>=1,\"\",ROW())","v":11},"Quantity Surveying",null,"Quality Control Management in Construction",{"$f":"IF(COUNTIF('Extended Diploma'!$E$29:$E$86,CG11)>=1,\"\",ROW())","v":11},"Quality Control Management in Construction",null,null,null,null,null,null,null,null,null,"Image Manipulation Techniques",{"$f":"IF(COUNTIF('Extended Diploma'!$E$29:$E$86,CS11)>=1,\"\",ROW())","v":11},"Image Manipulation Techniques",null,null,null,null,null,null,null,null,null,null,null,null,null,null,null,null,null,null,null,null,null,null,null,null,null,null,"Digital and Analogue Electronic Systems",{"$f":"IF(COUNTIF('Extended Diploma'!$E$29:$E$86,DV11)>=1,\"\",ROW())","v":11},"Digital and Analogue Electronic Systems",null,null,null,null,null,"Computer Programming",{"$f":"IF(COUNTIF('Extended Diploma'!$E$29:$E$86,ED11)>=1,\"\",ROW())","v":11},"Computer Programming",null,"Electronic Printed Circuit Board Design and Manufacture",{"$f":"IF(COUNTIF('Extended Diploma'!$E$29:$E$86,EH11)>=1,\"\",ROW())","v":11},"Electronic Printed Circuit Board Design and Manufacture",null,"Computer Systems Support and Performance",{"$f":"IF(COUNTIF('Extended Diploma'!$E$29:$E$86,EL11)>=1,\"\",ROW())","v":11},"Computer Systems Support and Performance",null,"Principles and Applications of Fluid Mechanics",{"$f":"IF(COUNTIF('Extended Diploma'!$E$29:$E$86,EP11)>=1,\"\",ROW())","v":11},"Principles and Applications of Fluid Mechanics",null,"Computer Aided Manufacturing and Planning",{"$f":"IF(COUNTIF('Extended Diploma'!$E$29:$E$86,ET11)>=1,\"\",ROW())","v":11},"Computer Aided Manufacturing and Planning",null,"Industrial Robotics",{"$f":"IF(OR(COUNTIF('Extended Diploma'!$E$29:$E$86,EX3)>=1,COUNTIF('Extended Diploma'!$E$29:$E$86,EX10)>=1,COUNTIF('Extended Diploma'!$E$29:$E$86,EX11)>=1),\"\",ROW())","v":11},{"$f":"IF(ROW(EX11)-ROW(EX$2)+1>COUNT(EY$2:EY$23),\"\",INDEX(EX:EX,SMALL(EY$2:EY$23,1+ROW(EX11)-ROW(EX$2))))","v":"Industrial Robotics"},null,"Analogue Electronic Circuits",{"$f":"IF(COUNTIF('Extended Diploma'!$E$29:$E$86,FB11)>=1,\"\",ROW())","v":11},"Analogue Electronic Circuits",null,"Fabrication Manufacturing Processes",{"$f":"IF(COUNTIF('Extended Diploma'!$E$29:$E$86,FF11)>=1,\"\",ROW())","v":11},"Fabrication Manufacturing Processes",null,"Mechanical Behaviour of Metallic Materials",{"$f":"IF(COUNTIF('Extended Diploma'!$E$29:$E$86,FJ11)>=1,\"\",ROW())","v":11},"Mechanical Behaviour of Metallic Materials",null,"Airframe Construction and Repair",{"$f":"IF(COUNTIF('Extended Diploma'!$E$29:$E$86,FN11)>=1,\"\",ROW())","v":11},"Airframe Construction and Repair",null,"Thermodynamic Principles and Practice",{"$f":"IF(COUNTIF('Extended Diploma'!$E$29:$E$86,FR11)>=1,\"\",ROW())","v":11},"Thermodynamic Principles and Practice",null,null,null,null,null,"Working Horses from the Ground",{"$f":"IF(COUNTIF('Extended Diploma'!$E$29:$E$86,FZ11)>=1,\"\",ROW())","v":11},"Working Horses from the Ground",null,null,null,null,null,null,null,null,null,null,null,null,null,null,null,null,null,null,null,null,null,"Digital 2D and 3D Graphics",{"$f":"IF(COUNTIF('Extended Diploma'!$E$29:$E$86,GX11)>=1,\"\",ROW())","v":11},"Digital 2D and 3D Graphics",null,"Vocal Development",{"$f":"IF(COUNTIF('Extended Diploma'!$E$29:$E$86,HB11)>=1,\"\",ROW())","v":11},"Vocal Development",null,"Music Technology and Musicianship",{"$f":"IF(COUNTIF('Extended Diploma'!$E$29:$E$86,HF11)>=1,\"\",ROW())","v":11},"Music Technology and Musicianship",null,null,null,null,null,null,null,null,null,null,null,null,null,"Stand-up Comedy Technique",{"$f":"IF(COUNTIF('Extended Diploma'!$E$29:$E$86,HV11)>=1,\"\",ROW())","v":11},"Stand-up Comedy Technique",null,null,null,null,null,null,null,null,null,null,null,null,null,"Puppetry Technique",{"$f":"IF(COUNTIF('Extended Diploma'!$E$29:$E$86,IL11)>=1,\"\",ROW())","v":11},"Puppetry Technique",null,null,null,null,null,null,null,null,null,"Rules, Regulations and Officiating in Sport",{"$f":"IF(COUNTIF('Extended Diploma'!$E$29:$E$86,IX11)>=1,\"\",ROW())","v":11},"Rules, Regulations and Officiating in Sport",null,null,null,null,null,"Recruitment and selection in Travel and Tourism",{"$f":"IF(COUNTIF('Extended Diploma'!$E$29:$E$86,JF11)>=1,\"\",ROW())","v":11},"Recruitment and selection in Travel and Tourism",null,"Pig Production",{"$f":"IF(COUNTIF('Extended Diploma'!$E$29:$E$86,JJ11)>=1,\"\",ROW())","v":11},"Pig Production","Zoological Horticulture",{"$f":"IF(COUNTIF('Extended Diploma'!$E$29:$E$86,JM11)>=1,\"\",ROW())","v":11},"Zoological Horticulture",null,"Ethical and Current Issues in Esports",{"$f":"IF(COUNTIF('Extended Diploma'!$E$29:$E$86,JQ11)>=1,\"\",ROW())","v":11},"Ethical and Current Issues in Esports",null,"Marketing Communications",{"$f":"IF(COUNTIF('Extended Diploma'!$E$29:$E$86,JU11)>=1,\"\",ROW())","v":11},"Marketing Communications",null,"Sports Tourism",{"$f":"IF(COUNTIF('Extended Diploma'!$E$29:$E$86,JY11)>=1,\"\",ROW())","v":11},"Sports Tourism",null,"Corporate Social Responsibility in Sport",{"$f":"IF(COUNTIF('Extended Diploma'!$E$29:$E$86,KC11)>=1,\"\",ROW())","v":11},"Corporate Social Responsibility in Sport",null,"Practical Sports Application",{"$f":"IF(COUNTIF('Extended Diploma'!$E$29:$E$86,KG11)>=1,\"\",ROW())","v":11},"Practical Sports Application",null,"Understanding the Third Sector",{"$f":"IF(COUNTIF('Extended Diploma'!$E$29:$E$86,KK11)>=1,\"\",ROW())","v":11},"Understanding the Third Sector",null,"Coastal Habitats Management",{"$f":"IF(COUNTIF('Extended Diploma'!$E$29:$E$86,KO11)>=1,\"\",ROW())","v":11},{"$f":"IF(ROW(KO11)-ROW(KO$2)+1>COUNT(KP$2:KP$23),\"\",INDEX(KO:KO,SMALL(KP$2:KP$23,1+ROW(KO11)-ROW(KO$2))))","v":"Coastal Habitats Management"}]
[null,null,null,null,"Animation",{"$f":"IF(COUNTIF('Extended Diploma'!$E$29:$E$86,E12)>=1,\"\",ROW())","v":12},"Animation",null,"Farm Livestock Husbandry",{"$f":"IF(COUNTIF('Extended Diploma'!$E$29:$E$86,I12)>=1,\"\",ROW())","v":12},"Farm Livestock Husbandry",null,null,null,null,null,null,null,null,null,null,null,null,null,null,null,null,null,"Forensic Traffic Collision Investigation",{"$f":"IF(COUNTIF('Extended Diploma'!$E$29:$E$86,AC12)>=1,\"\",ROW())","v":12},"Forensic Traffic Collision Investigation",null,null,null,null,null,"Cryogenics and Vacuum Technology",{"$f":"IF(COUNTIF('Extended Diploma'!$E$29:$E$86,AK12)>=1,\"\",ROW())","v":12},"Cryogenics and Vacuum Technology",null,null,null,null,null,"Forensic Traffic Collision Investigation",{"$f":"IF(COUNTIF('Extended Diploma'!$E$29:$E$86,AS12)>=1,\"\",ROW())","v":12},"Forensic Traffic Collision Investigation",null,"Creative Promotion",{"$f":"IF(COUNTIF('Extended Diploma'!$E$29:$E$86,AW12)>=1,\"\",ROW())","v":12},"Creative Promotion",null,null,null,null,null,null,null,null,null,null,null,null,null,null,null,null,null,null,null,null,null,null,null,null,null,null,null,null,null,"Quality Control Management in Construction",{"$f":"IF(COUNTIF('Extended Diploma'!$E$29:$E$86,CC12)>=1,\"\",ROW())","v":12},"Quality Control Management in Construction",null,null,null,null,null,null,null,null,null,null,null,null,null,"2D Digital Graphics",{"$f":"IF(COUNTIF('Extended Diploma'!$E$29:$E$86,CS12)>=1,\"\",ROW())","v":12},"2D Digital Graphics",null,null,null,null,null,null,null,null,null,null,null,null,null,null,null,null,null,null,null,null,null,null,null,null,null,null,"Energy Management",{"$f":"IF(COUNTIF('Extended Diploma'!$E$29:$E$86,DV12)>=1,\"\",ROW())","v":12},{"$f":"IF(ROW(DV12)-ROW(DV$2)+1>COUNT(DW$2:DW$22),\"\",INDEX(DV:DV,SMALL(DW$2:DW$22,1+ROW(DV12)-ROW(DV$2))))","v":"Energy Management"},null,null,null,null,null,"Programmable Logic Controllers",{"$f":"IF(COUNTIF('Extended Diploma'!$E$29:$E$86,ED12)>=1,\"\",ROW())","v":12},"Programmable Logic Controllers",null,"Digital and Analogue Electronic Systems",{"$f":"IF(COUNTIF('Extended Diploma'!$E$29:$E$86,EH12)>=1,\"\",ROW())","v":12},"Digital and Analogue Electronic Systems",null,"Computer Programming",{"$f":"IF(COUNTIF('Extended Diploma'!$E$29:$E$86,EL12)>=1,\"\",ROW())","v":12},"Computer Programming",null,"Mechanical Measurement and Inspection Technology",{"$f":"IF(COUNTIF('Extended Diploma'!$E$29:$E$86,EP12)>=1,\"\",ROW())","v":12},"Mechanical Measurement and Inspection Technology",null,"Manufacturing Secondary Machining Processes",{"$f":"IF(COUNTIF('Extended Diploma'!$E$29:$E$86,ET12)>=1,\"\",ROW())","v":12},"Manufacturing Secondary Machining Processes",null,null,null,null,null,"Electronic Measurement and Testing of Circuits",{"$f":"IF(COUNTIF('Extended Diploma'!$E$29:$E$86,FB12)>=1,\"\",ROW())","v":12},"Electronic Measurement and Testing of Circuits",null,"Additive Manufacturing Processes",{"$f":"IF(COUNTIF('Extended Diploma'!$E$29:$E$86,FF12)>=1,\"\",ROW())","v":12},"Additive Manufacturing Processes",null,"Mechanical Behaviour of Non-metallic Materials",{"$f":"IF(COUNTIF('Extended Diploma'!$E$29:$E$86,FJ12)>=1,\"\",ROW())","v":12},"Mechanical Behaviour of Non-metallic Materials",null,"Airframe Mechanical Systems",{"$f":"IF(COUNTIF('Extended Diploma'!$E$29:$E$86,FN12)>=1,\"\",ROW())","v":12},"Airframe Mechanical Systems",null,"Computer Programming",{"$f":"IF(COUNTIF('Extended Diploma'!$E$29:$E$86,FR12)>=1,\"\",ROW())","v":12},"Computer Programming",null,null,null,null,null,"Introduction to Equestrian Coaching",{"$f":"IF(COUNTIF('Extended Diploma'!$E$29:$E$86,FZ12)>=1,\"\",ROW())","v":12},"Introduction to Equestrian Coaching",null,null,null,null,null,null,null,null,null,null,null,null,null,null,null,null,null,null,null,null,null,"Digital Animation and Effects",{"$f":"IF(COUNTIF('Extended Diploma'!$E$29:$E$86,GX12)>=1,\"\",ROW())","v":12},"Digital Animation and Effects",null,"Solo Performance",{"$f":"IF(COUNTIF('Extended Diploma'!$E$29:$E$86,HB12)>=1,\"\",ROW())","v":12},"Solo Performance",null,"Working and Developing as a Production Team",{"$f":"IF(COUNTIF('Extended Diploma'!$E$29:$E$86,HF12)>=1,\"\",ROW())","v":12},"Working and Developing as a Production Team",null,null,null,null,null,null,null,null,null,null,null,null,null,"Puppetry Technique",{"$f":"IF(COUNTIF('Extended Diploma'!$E$29:$E$86,HV12)>=1,\"\",ROW())","v":12},"Puppetry Technique",null,null,null,null,null,null,null,null,null,null,null,null,null,"Performing with Masks",{"$f":"IF(COUNTIF('Extended Diploma'!$E$29:$E$86,IL12)>=1,\"\",ROW())","v":12},"Performing with Masks",null,null,null,null,null,null,null,null,null,"Technical and Tactical Demands of Sport",{"$f":"IF(COUNTIF('Extended Diploma'!$E$29:$E$86,IX12)>=1,\"\",ROW())","v":12},"Technical and Tactical Demands of Sport",null,null,null,null,null,null,null,null,null,"Sheep Production",{"$f":"IF(COUNTIF('Extended Diploma'!$E$29:$E$86,JJ12)>=1,\"\",ROW())","v":12},"Sheep Production","Wildlife Ecology and Conservation Management",{"$f":"IF(COUNTIF('Extended Diploma'!$E$29:$E$86,JM12)>=1,\"\",ROW())","v":12},"Wildlife Ecology and Conservation Management",null,"Corporate Social Responsibility in Sport",{"$f":"IF(COUNTIF('Extended Diploma'!$E$29:$E$86,JQ12)>=1,\"\",ROW())","v":12},"Corporate Social Responsibility in Sport",null,"Sport and Leisure Facility Operations",{"$f":"IF(COUNTIF('Extended Diploma'!$E$29:$E$86,JU12)>=1,\"\",ROW())","v":12},"Sport and Leisure Facility Operations",null,null,null,null,null,"Sport and Leisure Facility Operations",{"$f":"IF(COUNTIF('Extended Diploma'!$E$29:$E$86,KC12)>=1,\"\",ROW())","v":12},"Sport and Leisure Facility Operations",null,"Influence of Technology in Sport and Physical Activity",{"$f":"IF(COUNTIF('Extended Diploma'!$E$29:$E$86,KG12)>=1,\"\",ROW())","v":12},"Influence of Technology in Sport and Physical Activity",null,"Criminal Investigation Procedures and Practice",{"$f":"IF(COUNTIF('Extended Diploma'!$E$29:$E$86,KK12)>=1,\"\",ROW())","v":12},"Criminal Investigation Procedures and Practice",null,"Working Dogs",{"$f":"IF(COUNTIF('Extended Diploma'!$E$29:$E$86,KO12)>=1,\"\",ROW())","v":12},{"$f":"IF(ROW(KO12)-ROW(KO$2)+1>COUNT(KP$2:KP$23),\"\",INDEX(KO:KO,SMALL(KP$2:KP$23,1+ROW(KO12)-ROW(KO$2))))","v":"Working Dogs"}]
[null,null,null,null,"App Design",{"$f":"IF(COUNTIF('Extended Diploma'!$E$29:$E$86,E13)>=1,\"\",ROW())","v":13},"App Design",null,"Human and Animal Interaction",{"$f":"IF(COUNTIF('Extended Diploma'!$E$29:$E$86,I13)>=1,\"\",ROW())","v":13},"Human and Animal Interaction",null,null,null,null,null,null,null,null,null,null,null,null,null,null,null,null,null,null,null,null,null,null,null,null,null,null,null,null,null,null,null,null,null,null,null,null,null,"Pitching for a New Business",{"$f":"IF(COUNTIF('Extended Diploma'!$E$29:$E$86,AW13)>=1,\"\",ROW())","v":13},"Pitching for a New Business",null,null,null,null,null,null,null,null,null,null,null,null,null,null,null,null,null,null,null,null,null,null,null,null,null,null,null,null,null,"Building Services Science",{"$f":"IF(COUNTIF('Extended Diploma'!$E$29:$E$86,CC13)>=1,\"\",ROW())","v":13},"Building Services Science",null,null,null,null,null,null,null,null,null,null,null,null,null,"Page Layout and Design for Digital Media",{"$f":"IF(COUNTIF('Extended Diploma'!$E$29:$E$86,CS13)>=1,\"\",ROW())","v":13},"Page Layout and Design for Digital Media",null,null,null,null,null,null,null,null,null,null,null,null,null,null,null,null,null,null,null,null,null,null,null,null,null,null,null,null,null,null,null,null,null,null,"Computer Networks",{"$f":"IF(COUNTIF('Extended Diploma'!$E$29:$E$86,ED13)>=1,\"\",ROW())","v":13},"Computer Networks",null,"Programmable Logic Controllers",{"$f":"IF(COUNTIF('Extended Diploma'!$E$29:$E$86,EH13)>=1,\"\",ROW())","v":13},"Programmable Logic Controllers",null,"Computer Networks",{"$f":"IF(COUNTIF('Extended Diploma'!$E$29:$E$86,EL13)>=1,\"\",ROW())","v":13},"Computer Networks",null,"Thermodynamic Principles and Practice",{"$f":"IF(COUNTIF('Extended Diploma'!$E$29:$E$86,EP13)>=1,\"\",ROW())","v":13},"Thermodynamic Principles and Practice",null,"Manufacturing Primary Forming Processes",{"$f":"IF(COUNTIF('Extended Diploma'!$E$29:$E$86,ET13)>=1,\"\",ROW())","v":13},"Manufacturing Primary Forming Processes",null,null,null,null,null,"Electronic Printed Circuit Board Design and Manufacture",{"$f":"IF(COUNTIF('Extended Diploma'!$E$29:$E$86,FB13)>=1,\"\",ROW())","v":13},"Electronic Printed Circuit Board Design and Manufacture",null,"Manufacturing Joining, Finishing and Assembly Processes",{"$f":"IF(COUNTIF('Extended Diploma'!$E$29:$E$86,FF13)>=1,\"\",ROW())","v":13},"Manufacturing Joining, Finishing and Assembly Processes",null,"Static Mechanical Principles in Practice",{"$f":"IF(COUNTIF('Extended Diploma'!$E$29:$E$86,FJ13)>=1,\"\",ROW())","v":13},"Static Mechanical Principles in Practice",null,"Aircraft Electrical and Instrument Systems",{"$f":"IF(COUNTIF('Extended Diploma'!$E$29:$E$86,FN13)>=1,\"\",ROW())","v":13},"Aircraft Electrical and Instrument Systems",null,"Manufacturing Secondary Machining Processes",{"$f":"IF(COUNTIF('Extended Diploma'!$E$29:$E$86,FR13)>=1,\"\",ROW())","v":13},"Manufacturing Secondary Machining Processes",null,null,null,null,null,"Equine Stud Management",{"$f":"IF(COUNTIF('Extended Diploma'!$E$29:$E$86,FZ13)>=1,\"\",ROW())","v":13},"Equine Stud Management",null,null,null,null,null,null,null,null,null,null,null,null,null,null,null,null,null,null,null,null,null,"The Internet of Things",{"$f":"IF(COUNTIF('Extended Diploma'!$E$29:$E$86,GX13)>=1,\"\",ROW())","v":13},"The Internet of Things",null,"Improvising Music",{"$f":"IF(COUNTIF('Extended Diploma'!$E$29:$E$86,HB13)>=1,\"\",ROW())","v":13},"Improvising Music",null,"Designing a Music Technology Product",{"$f":"IF(COUNTIF('Extended Diploma'!$E$29:$E$86,HF13)>=1,\"\",ROW())","v":13},"Designing a Music Technology Product",null,null,null,null,null,null,null,null,null,null,null,null,null,"Performing with Masks",{"$f":"IF(COUNTIF('Extended Diploma'!$E$29:$E$86,HV13)>=1,\"\",ROW())","v":13},"Performing with Masks",null,null,null,null,null,null,null,null,null,null,null,null,null,null,null,null,null,null,null,null,null,null,null,null,null,"Principles and Practices for Outdoor and Adventurous Activities",{"$f":"IF(COUNTIF('Extended Diploma'!$E$29:$E$86,IX13)>=1,\"\",ROW())","v":13},"Principles and Practices for Outdoor and Adventurous Activities",null,null,null,null,null,null,null,null,null,"Beef Production",{"$f":"IF(COUNTIF('Extended Diploma'!$E$29:$E$86,JJ13)>=1,\"\",ROW())","v":13},"Beef Production","History of Landscape and Garden Design",{"$f":"IF(COUNTIF('Extended Diploma'!$E$29:$E$86,JM13)>=1,\"\",ROW())","v":13},"History of Landscape and Garden Design",null,"Sports and Esports Law and Legislation",{"$f":"IF(COUNTIF('Extended Diploma'!$E$29:$E$86,JQ13)>=1,\"\",ROW())","v":13},"Sports and Esports Law and Legislation",null,"Sports Tourism",{"$f":"IF(COUNTIF('Extended Diploma'!$E$29:$E$86,JU13)>=1,\"\",ROW())","v":13},"Sports Tourism",null,null,null,null,null,"Sports Tourism",{"$f":"IF(COUNTIF('Extended Diploma'!$E$29:$E$86,KC13)>=1,\"\",ROW())","v":13},"Sports Tourism",null,"Organising Events in Sport and Physical Activities",{"$f":"IF(COUNTIF('Extended Diploma'!$E$29:$E$86,KG13)>=1,\"\",ROW())","v":13},"Organising Events in Sport and Physical Activities",null,"Professional Development in the Uniformed Protective Services",{"$f":"IF(COUNTIF('Extended Diploma'!$E$29:$E$86,KK13)>=1,\"\",ROW())","v":13},"Professional Development in the Uniformed Protective Services",null,"Controlling Firearm Safety in the Land-based Sectors",{"$f":"IF(COUNTIF('Extended Diploma'!$E$29:$E$86,KO13)>=1,\"\",ROW())","v":13},{"$f":"IF(ROW(KO13)-ROW(KO$2)+1>COUNT(KP$2:KP$23),\"\",INDEX(KO:KO,SMALL(KP$2:KP$23,1+ROW(KO13)-ROW(KO$2))))","v":"Controlling Firearm Safety in the Land-based Sectors"}]
[null,null,null,null,"Constructed Textiles",{"$f":"IF(COUNTIF('Extended Diploma'!$E$29:$E$86,E14)>=1,\"\",ROW())","v":14},"Constructed Textiles",null,"Exotic Animal Husbandry",{"$f":"IF(COUNTIF('Extended Diploma'!$E$29:$E$86,I14)>=1,\"\",ROW())","v":14},"Exotic Animal Husbandry",null,null,null,null,null,null,null,null,null,null,null,null,null,null,null,null,null,null,null,null,null,null,null,null,null,null,null,null,null,null,null,null,null,null,null,null,null,"Investigating Corporate Social Responsibility",{"$f":"IF(COUNTIF('Extended Diploma'!$E$29:$E$86,AW14)>=1,\"\",ROW())","v":14},"Investigating Corporate Social Responsibility",null,null,null,null,null,null,null,null,null,null,null,null,null,null,null,null,null,null,null,null,null,null,null,null,null,null,null,null,null,"Economics and Finance in Construction",{"$f":"IF(COUNTIF('Extended Diploma'!$E$29:$E$86,CC14)>=1,\"\",ROW())","v":14},"Economics and Finance in Construction",null,null,null,null,null,null,null,null,null,null,null,null,null,"Coding for Web-based Media",{"$f":"IF(COUNTIF('Extended Diploma'!$E$29:$E$86,CS14)>=1,\"\",ROW())","v":14},"Coding for Web-based Media",null,null,null,null,null,null,null,null,null,null,null,null,null,null,null,null,null,null,null,null,null,null,null,null,null,null,null,null,null,null,null,null,null,null,"Website Production to Control Devices",{"$f":"IF(COUNTIF('Extended Diploma'!$E$29:$E$86,ED14)>=1,\"\",ROW())","v":14},"Website Production to Control Devices",null,"Industrial Robotics",{"$f":"IF(COUNTIF('Extended Diploma'!$E$29:$E$86,EH14)>=1,\"\",ROW())","v":14},"Industrial Robotics",null,"Website Production to Control Devices",{"$f":"IF(COUNTIF('Extended Diploma'!$E$29:$E$86,EL14)>=1,\"\",ROW())","v":14},"Website Production to Control Devices",null,"Programmable Logic Controllers",{"$f":"IF(OR(COUNTIF('Extended Diploma'!$E$29:$E$86,EP2)>=1,COUNTIF('Extended Diploma'!$E$29:$E$86,EP3)>=1,COUNTIF('Extended Diploma'!$E$29:$E$86,EP4)>=1,COUNTIF('Extended Diploma'!$E$29:$E$86,EP5)>=1,COUNTIF('Extended Diploma'!$E$29:$E$86,EP14)>=1),\"\",ROW())","v":14},"Programmable Logic Controllers",null,"Manufacturing Computer Numerical Control Machining Processes",{"$f":"IF(COUNTIF('Extended Diploma'!$E$29:$E$86,ET14)>=1,\"\",ROW())","v":14},"Manufacturing Computer Numerical Control Machining Processes",null,null,null,null,null,"Maintenance of Mechanical Systems",{"$f":"IF(COUNTIF('Extended Diploma'!$E$29:$E$86,FB14)>=1,\"\",ROW())","v":14},"Maintenance of Mechanical Systems",null,"Composites Manufacture and Repair Processes",{"$f":"IF(COUNTIF('Extended Diploma'!$E$29:$E$86,FF14)>=1,\"\",ROW())","v":14},"Composites Manufacture and Repair Processes",null,"Dynamic Mechanical Principles in Practice",{"$f":"IF(COUNTIF('Extended Diploma'!$E$29:$E$86,FJ14)>=1,\"\",ROW())","v":14},"Dynamic Mechanical Principles in Practice",null,"Aircraft First Line Maintenance Operations",{"$f":"IF(COUNTIF('Extended Diploma'!$E$29:$E$86,FN14)>=1,\"\",ROW())","v":14},"Aircraft First Line Maintenance Operations",null,"Manufacturing Computer Numerical Control Machining Processes",{"$f":"IF(COUNTIF('Extended Diploma'!$E$29:$E$86,FR14)>=1,\"\",ROW())","v":14},"Manufacturing Computer Numerical Control Machining Processes",null,null,null,null,null,"Managing Equine Injuries and Rehabilitation",{"$f":"IF(COUNTIF('Extended Diploma'!$E$29:$E$86,FZ14)>=1,\"\",ROW())","v":14},"Managing Equine Injuries and Rehabilitation",null,null,null,null,null,null,null,null,null,null,null,null,null,null,null,null,null,null,null,null,null,"Enterprise in IT",{"$f":"IF(COUNTIF('Extended Diploma'!$E$29:$E$86,GX14)>=1,\"\",ROW())","v":14},"Enterprise in IT",null,"Music Software Skills",{"$f":"IF(COUNTIF('Extended Diploma'!$E$29:$E$86,HB14)>=1,\"\",ROW())","v":14},"Music Software Skills",null,null,null,null,null,null,null,null,null,null,null,null,null,null,null,null,null,null,null,null,null,null,null,null,null,null,null,null,null,null,null,null,null,null,null,null,null,null,null,null,null,null,null,null,null,"Environmental Sustainability for Outdoor and Adventurous Activities",{"$f":"IF(COUNTIF('Extended Diploma'!$E$29:$E$86,IX14)>=1,\"\",ROW())","v":14},"Environmental Sustainability for Outdoor and Adventurous Activities",null,null,null,null,null,null,null,null,null,"Dairy Production",{"$f":"IF(COUNTIF('Extended Diploma'!$E$29:$E$86,JJ14)>=1,\"\",ROW())","v":14},"Dairy Production","Landscape and Garden Design",{"$f":"IF(COUNTIF('Extended Diploma'!$E$29:$E$86,JM14)>=1,\"\",ROW())","v":14},"Landscape and Garden Design",null,"Launching Your Esports Enterprise",{"$f":"IF(COUNTIF('Extended Diploma'!$E$29:$E$86,JQ14)>=1,\"\",ROW())","v":14},"Launching Your Esports Enterprise",null,"Expedition Experience",{"$f":"IF(COUNTIF('Extended Diploma'!$E$29:$E$86,JU14)>=1,\"\",ROW())","v":14},"Expedition Experience",null,null,null,null,null,"School Sport Delivery",{"$f":"IF(COUNTIF('Extended Diploma'!$E$29:$E$86,KC14)>=1,\"\",ROW())","v":14},"School Sport Delivery",null,"Ethical and Current Issues in Sport",{"$f":"IF(COUNTIF('Extended Diploma'!$E$29:$E$86,KG14)>=1,\"\",ROW())","v":14},"Ethical and Current Issues in Sport",null,"Technological Systems to Support Service Delivery",{"$f":"IF(COUNTIF('Extended Diploma'!$E$29:$E$86,KK14)>=1,\"\",ROW())","v":14},"Technological Systems to Support Service Delivery",null,"Freshwater and Wetland Management",{"$f":"IF(COUNTIF('Extended Diploma'!$E$29:$E$86,KO14)>=1,\"\",ROW())","v":14},{"$f":"IF(ROW(KO14)-ROW(KO$2)+1>COUNT(KP$2:KP$23),\"\",INDEX(KO:KO,SMALL(KP$2:KP$23,1+ROW(KO14)-ROW(KO$2))))","v":"Freshwater and Wetland Management"}]
[null,null,null,null,"Woven Textiles",{"$f":"IF(COUNTIF('Extended Diploma'!$E$29:$E$86,E15)>=1,\"\",ROW())","v":15},"Woven Textiles",null,"Practical Estate Planning, Construction and Maintenance",{"$f":"IF(COUNTIF('Extended Diploma'!$E$29:$E$86,I15)>=1,\"\",ROW())","v":15},"Practical Estate Planning, Construction and Maintenance",null,null,null,null,null,null,null,null,null,null,null,null,null,null,null,null,null,null,null,null,null,null,null,null,null,null,null,null,null,null,null,null,null,null,null,null,null,"Training and Development",{"$f":"IF(COUNTIF('Extended Diploma'!$E$29:$E$86,AW15)>=1,\"\",ROW())","v":15},"Training and Development",null,null,null,null,null,null,null,null,null,null,null,null,null,null,null,null,null,null,null,null,null,null,null,null,null,null,null,null,null,"Construction in Civil Engineering",{"$f":"IF(COUNTIF('Extended Diploma'!$E$29:$E$86,CC15)>=1,\"\",ROW())","v":15},"Construction in Civil Engineering",null,null,null,null,null,null,null,null,null,null,null,null,null,"Concept Art for Computer Games",{"$f":"IF(COUNTIF('Extended Diploma'!$E$29:$E$86,CS15)>=1,\"\",ROW())","v":15},"Concept Art for Computer Games",null,null,null,null,null,null,null,null,null,null,null,null,null,null,null,null,null,null,null,null,null,null,null,null,null,null,null,null,null,null,null,null,null,null,"Modern Manufacturing Systems",{"$f":"IF(COUNTIF('Extended Diploma'!$E$29:$E$86,ED15)>=1,\"\",ROW())","v":15},"Modern Manufacturing Systems",null,null,null,null,null,"Manufacturing Secondary Machining Processes",{"$f":"IF(COUNTIF('Extended Diploma'!$E$29:$E$86,EL15)>=1,\"\",ROW())","v":15},"Manufacturing Secondary Machining Processes",null,null,null,null,null,"Fabrication Manufacturing Processes",{"$f":"IF(COUNTIF('Extended Diploma'!$E$29:$E$86,ET15)>=1,\"\",ROW())","v":15},"Fabrication Manufacturing Processes",null,null,null,null,null,"Mechanical Behaviour of Metallic Materials",{"$f":"IF(COUNTIF('Extended Diploma'!$E$29:$E$86,FB15)>=1,\"\",ROW())","v":15},"Mechanical Behaviour of Metallic Materials",null,"Industrial Robotics",{"$f":"IF(COUNTIF('Extended Diploma'!$E$29:$E$86,FF15)>=1,\"\",ROW())","v":15},{"$f":"IF(ROW(FF15)-ROW(FF$2)+1>COUNT(FG$2:FG$23),\"\",INDEX(FF:FF,SMALL(FG$2:FG$23,1+ROW(FF15)-ROW(FF$2))))","v":"Industrial Robotics"},null,"Principles and Applications of Fluid Mechanics",{"$f":"IF(COUNTIF('Extended Diploma'!$E$29:$E$86,FJ15)>=1,\"\",ROW())","v":15},"Principles and Applications of Fluid Mechanics",null,null,null,null,null,"Fabrication Manufacturing Processes",{"$f":"IF(COUNTIF('Extended Diploma'!$E$29:$E$86,FR15)>=1,\"\",ROW())","v":15},"Fabrication Manufacturing Processes",null,null,null,null,null,"Investigative Research Project",{"$f":"IF(COUNTIF('Extended Diploma'!$E$29:$E$86,FZ15)>=1,\"\",ROW())","v":15},"Investigative Research Project",null,null,null,null,null,null,null,null,null,null,null,null,null,null,null,null,null,null,null,null,null,"Business Process Modelling Tools",{"$f":"IF(COUNTIF('Extended Diploma'!$E$29:$E$86,GX15)>=1,\"\",ROW())","v":15},"Business Process Modelling Tools",null,null,null,null,null,null,null,null,null,null,null,null,null,null,null,null,null,null,null,null,null,null,null,null,null,null,null,null,null,null,null,null,null,null,null,null,null,null,null,null,null,null,null,null,null,null,null,null,null,"Exercise for Specific Groups",{"$f":"IF(COUNTIF('Extended Diploma'!$E$29:$E$86,IX15)>=1,\"\",ROW())","v":15},"Exercise for Specific Groups",null,null,null,null,null,null,null,null,null,"Livestock Nutrition",{"$f":"IF(COUNTIF('Extended Diploma'!$E$29:$E$86,JJ15)>=1,\"\",ROW())","v":15},"Livestock Nutrition","Constructing Decorative Landscape Features",{"$f":"IF(COUNTIF('Extended Diploma'!$E$29:$E$86,JM15)>=1,\"\",ROW())","v":15},"Constructing Decorative Landscape Features",null,"Customer Immersion Experiences",{"$f":"IF(COUNTIF('Extended Diploma'!$E$29:$E$86,JQ15)>=1,\"\",ROW())","v":15},"Customer Immersion Experiences",null,null,null,null,null,null,null,null,null,"Sports Law and Legislation",{"$f":"IF(COUNTIF('Extended Diploma'!$E$29:$E$86,KC15)>=1,\"\",ROW())","v":15},"Sports Law and Legislation",null,"Marketing Communications",{"$f":"IF(COUNTIF('Extended Diploma'!$E$29:$E$86,KG15)>=1,\"\",ROW())","v":15},"Marketing Communications",null,null,null,null,null,"Applied Ecological Management",{"$f":"IF(COUNTIF('Extended Diploma'!$E$29:$E$86,KO15)>=1,\"\",ROW())","v":15},{"$f":"IF(ROW(KO15)-ROW(KO$2)+1>COUNT(KP$2:KP$23),\"\",INDEX(KO:KO,SMALL(KP$2:KP$23,1+ROW(KO15)-ROW(KO$2))))","v":"Applied Ecological Management"}]
[null,null,null,null,"Surface Design for Textiles",{"$f":"IF(COUNTIF('Extended Diploma'!$E$29:$E$86,E16)>=1,\"\",ROW())","v":16},"Surface Design for Textiles",null,"Zoological Animal Health and Husbandry",{"$f":"IF(COUNTIF('Extended Diploma'!$E$29:$E$86,I16)>=1,\"\",ROW())","v":16},"Zoological Animal Health and Husbandry",null,null,null,null,null,null,null,null,null,null,null,null,null,null,null,null,null,null,null,null,null,null,null,null,null,null,null,null,null,null,null,null,null,null,null,null,null,"Market Research",{"$f":"IF(COUNTIF('Extended Diploma'!$E$29:$E$86,AW16)>=1,\"\",ROW())","v":16},"Market Research",null,null,null,null,null,null,null,null,null,null,null,null,null,null,null,null,null,null,null,null,null,null,null,null,null,null,null,null,null,"Planning Application Procedures in Construction",{"$f":"IF(COUNTIF('Extended Diploma'!$E$29:$E$86,CC16)>=1,\"\",ROW())","v":16},"Planning Application Procedures in Construction",null,null,null,null,null,null,null,null,null,null,null,null,null,"2D Animation",{"$f":"IF(COUNTIF('Extended Diploma'!$E$29:$E$86,CS16)>=1,\"\",ROW())","v":16},"2D Animation",null,null,null,null,null,null,null,null,null,null,null,null,null,null,null,null,null,null,null,null,null,null,null,null,null,null,null,null,null,null,null,null,null,null,"Computer Aided Manufacturing and Planning",{"$f":"IF(COUNTIF('Extended Diploma'!$E$29:$E$86,ED16)>=1,\"\",ROW())","v":16},"Computer Aided Manufacturing and Planning",null,null,null,null,null,"Manufacturing Computer Numerical Control Machining Processes",{"$f":"IF(COUNTIF('Extended Diploma'!$E$29:$E$86,EL16)>=1,\"\",ROW())","v":16},"Manufacturing Computer Numerical Control Machining Processes",null,null,null,null,null,"Additive Manufacturing Processes",{"$f":"IF(COUNTIF('Extended Diploma'!$E$29:$E$86,ET16)>=1,\"\",ROW())","v":16},"Additive Manufacturing Processes",null,null,null,null,null,"Static Mechanical Principles in Practice",{"$f":"IF(COUNTIF('Extended Diploma'!$E$29:$E$86,FB16)>=1,\"\",ROW())","v":16},"Static Mechanical Principles in Practice",null,null,null,null,null,"Computer Systems Support and Performance",{"$f":"IF(COUNTIF('Extended Diploma'!$E$29:$E$86,FJ16)>=1,\"\",ROW())","v":16},"Computer Systems Support and Performance",null,null,null,null,null,"Additive Manufacturing Processes",{"$f":"IF(COUNTIF('Extended Diploma'!$E$29:$E$86,FR16)>=1,\"\",ROW())","v":16},{"$f":"IF(ROW(FR16)-ROW(FR$2)+1>COUNT(FS$2:FS$23),\"\",INDEX(FR:FR,SMALL(FS$2:FS$23,1+ROW(FR16)-ROW(FR$2))))","v":"Additive Manufacturing Processes"},null,null,null,null,null,"Practical Skills in Animal Science",{"$f":"IF(COUNTIF('Extended Diploma'!$E$29:$E$86,FZ16)>=1,\"\",ROW())","v":16},"Practical Skills in Animal Science",null,null,null,null,null,null,null,null,null,null,null,null,null,null,null,null,null,null,null,null,null,null,null,null,null,null,null,null,null,null,null,null,null,null,null,null,null,null,null,null,null,null,null,null,null,null,null,null,null,null,null,null,null,null,null,null,null,null,null,null,null,null,null,null,null,null,null,null,null,null,null,null,null,"Exercise, Health and Lifestyle",{"$f":"IF(COUNTIF('Extended Diploma'!$E$29:$E$86,IX16)>=1,\"\",ROW())","v":16},"Exercise, Health and Lifestyle",null,null,null,null,null,null,null,null,null,"Organic Agricultural Production",{"$f":"IF(COUNTIF('Extended Diploma'!$E$29:$E$86,JJ16)>=1,\"\",ROW())","v":16},"Organic Agricultural Production","Linear and Level Surveying",{"$f":"IF(COUNTIF('Extended Diploma'!$E$29:$E$86,JM16)>=1,\"\",ROW())","v":16},"Linear and Level Surveying",null,"Computer Networking",{"$f":"IF(COUNTIF('Extended Diploma'!$E$29:$E$86,JQ16)>=1,\"\",ROW())","v":16},"Computer Networking",null,null,null,null,null,null,null,null,null,null,null,null,null,"Corporate Social Responsibility in Sport",{"$f":"IF(COUNTIF('Extended Diploma'!$E$29:$E$86,KG16)>=1,\"\",ROW())","v":16},"Corporate Social Responsibility in Sport",null,null,null,null,null,"Ecological Concepts",{"$f":"IF(COUNTIF('Extended Diploma'!$E$29:$E$86,KO16)>=1,\"\",ROW())","v":16},{"$f":"IF(ROW(KO16)-ROW(KO$2)+1>COUNT(KP$2:KP$23),\"\",INDEX(KO:KO,SMALL(KP$2:KP$23,1+ROW(KO16)-ROW(KO$2))))","v":"Ecological Concepts"}]
[null,null,null,null,"Digital Applications for Textiles",{"$f":"IF(COUNTIF('Extended Diploma'!$E$29:$E$86,E17)>=1,\"\",ROW())","v":17},"Digital Applications for Textiles",null,"Wildlife Ecology and Conservation Management",{"$f":"IF(COUNTIF('Extended Diploma'!$E$29:$E$86,I17)>=1,\"\",ROW())","v":17},"Wildlife Ecology and Conservation Management",null,null,null,null,null,null,null,null,null,null,null,null,null,null,null,null,null,null,null,null,null,null,null,null,null,null,null,null,null,null,null,null,null,null,null,null,null,"The English Legal System",{"$f":"IF(COUNTIF('Extended Diploma'!$E$29:$E$86,AW17)>=1,\"\",ROW())","v":17},"The English Legal System",null,null,null,null,null,null,null,null,null,null,null,null,null,null,null,null,null,null,null,null,null,null,null,null,null,null,null,null,null,"Property Law",{"$f":"IF(COUNTIF('Extended Diploma'!$E$29:$E$86,CC17)>=1,\"\",ROW())","v":17},"Property Law",null,null,null,null,null,null,null,null,null,null,null,null,null,"Games Engine Scripting",{"$f":"IF(COUNTIF('Extended Diploma'!$E$29:$E$86,CS17)>=1,\"\",ROW())","v":17},"Games Engine Scripting",null,null,null,null,null,null,null,null,null,null,null,null,null,null,null,null,null,null,null,null,null,null,null,null,null,null,null,null,null,null,null,null,null,null,"Manufacturing Secondary Machining Processes",{"$f":"IF(COUNTIF('Extended Diploma'!$E$29:$E$86,ED17)>=1,\"\",ROW())","v":17},"Manufacturing Secondary Machining Processes",null,null,null,null,null,"Fabrication Manufacturing Processes",{"$f":"IF(COUNTIF('Extended Diploma'!$E$29:$E$86,EL17)>=1,\"\",ROW())","v":17},"Fabrication Manufacturing Processes",null,null,null,null,null,"Industrial Robotics",{"$f":"IF(COUNTIF('Extended Diploma'!$E$29:$E$86,ET17)>=1,\"\",ROW())","v":17},{"$f":"IF(ROW(ET17)-ROW(ET$2)+1>COUNT(EU$2:EU$23),\"\",INDEX(ET:ET,SMALL(EU$2:EU$23,1+ROW(ET17)-ROW(ET$2))))","v":"Industrial Robotics"},null,null,null,null,null,"Mechanical Measurement and Inspection Technology",{"$f":"IF(COUNTIF('Extended Diploma'!$E$29:$E$86,FB17)>=1,\"\",ROW())","v":17},"Mechanical Measurement and Inspection Technology",null,null,null,null,null,"Computer Programming",{"$f":"IF(COUNTIF('Extended Diploma'!$E$29:$E$86,FJ17)>=1,\"\",ROW())","v":17},"Computer Programming",null,null,null,null,null,"Composites Manufacture and Repair Processes",{"$f":"IF(COUNTIF('Extended Diploma'!$E$29:$E$86,FR17)>=1,\"\",ROW())","v":17},{"$f":"IF(ROW(FR17)-ROW(FR$2)+1>COUNT(FS$2:FS$23),\"\",INDEX(FR:FR,SMALL(FS$2:FS$23,1+ROW(FR17)-ROW(FR$2))))","v":"Composites Manufacture and Repair Processes"},null,null,null,null,null,"Animal Metabolism",{"$f":"IF(COUNTIF('Extended Diploma'!$E$29:$E$86,FZ17)>=1,\"\",ROW())","v":17},"Animal Metabolism",null,null,null,null,null,null,null,null,null,null,null,null,null,null,null,null,null,null,null,null,null,null,null,null,null,null,null,null,null,null,null,null,null,null,null,null,null,null,null,null,null,null,null,null,null,null,null,null,null,null,null,null,null,null,null,null,null,null,null,null,null,null,null,null,null,null,null,null,null,null,null,null,null,"Current Issues in Sport",{"$f":"IF(COUNTIF('Extended Diploma'!$E$29:$E$86,IX17)>=1,\"\",ROW())","v":17},"Current Issues in Sport",null,null,null,null,null,null,null,null,null,"Land-based Workshop Practices",{"$f":"IF(COUNTIF('Extended Diploma'!$E$29:$E$86,JJ17)>=1,\"\",ROW())","v":17},"Land-based Workshop Practices","Computer-aided Design in Horticulture",{"$f":"IF(COUNTIF('Extended Diploma'!$E$29:$E$86,JM17)>=1,\"\",ROW())","v":17},"Computer-aided Design in Horticulture",null,null,null,null,null,null,null,null,null,null,null,null,null,null,null,null,null,"Sport and Leisure Facility Operations",{"$f":"IF(COUNTIF('Extended Diploma'!$E$29:$E$86,KG17)>=1,\"\",ROW())","v":17},"Sport and Leisure Facility Operations",null,null,null,null,null,"Physical and Biological Environmental Processes",{"$f":"IF(COUNTIF('Extended Diploma'!$E$29:$E$86,KO17)>=1,\"\",ROW())","v":17},{"$f":"IF(ROW(KO17)-ROW(KO$2)+1>COUNT(KP$2:KP$23),\"\",INDEX(KO:KO,SMALL(KP$2:KP$23,1+ROW(KO17)-ROW(KO$2))))","v":"Physical and Biological Environmental Processes"}]
[null,null,null,null,"Fashion Design",{"$f":"IF(COUNTIF('Extended Diploma'!$E$29:$E$86,E18)>=1,\"\",ROW())","v":18},"Fashion Design",null,null,null,null,null,null,null,null,null,null,null,null,null,null,null,null,null,null,null,null,null,null,null,null,null,null,null,null,null,null,null,null,null,null,null,null,null,null,null,null,null,"Employment Law",{"$f":"IF(COUNTIF('Extended Diploma'!$E$29:$E$86,AW18)>=1,\"\",ROW())","v":18},"Employment Law",null,null,null,null,null,null,null,null,null,null,null,null,null,null,null,null,null,null,null,null,null,null,null,null,null,null,null,null,null,"Conversion, Adaptation and Maintenance of Buildings",{"$f":"IF(COUNTIF('Extended Diploma'!$E$29:$E$86,CC18)>=1,\"\",ROW())","v":18},"Conversion, Adaptation and Maintenance of Buildings",null,null,null,null,null,null,null,null,null,null,null,null,null,"Sound Mixing",{"$f":"IF(COUNTIF('Extended Diploma'!$E$29:$E$86,CS18)>=1,\"\",ROW())","v":18},"Sound Mixing",null,null,null,null,null,null,null,null,null,null,null,null,null,null,null,null,null,null,null,null,null,null,null,null,null,null,null,null,null,null,null,null,null,null,"Manufacturing Primary Forming Processes",{"$f":"IF(COUNTIF('Extended Diploma'!$E$29:$E$86,ED18)>=1,\"\",ROW())","v":18},"Manufacturing Primary Forming Processes",null,null,null,null,null,"Additive Manufacturing Processes",{"$f":"IF(COUNTIF('Extended Diploma'!$E$29:$E$86,EL18)>=1,\"\",ROW())","v":18},"Additive Manufacturing Processes",null,null,null,null,null,null,null,null,null,null,null,null,null,"Manufacturing Secondary Machining Processes",{"$f":"IF(COUNTIF('Extended Diploma'!$E$29:$E$86,FB18)>=1,\"\",ROW())","v":18},"Manufacturing Secondary Machining Processes",null,null,null,null,null,null,null,null,null,null,null,null,null,"Industrial Robotics",{"$f":"IF(COUNTIF('Extended Diploma'!$E$29:$E$86,FR18)>=1,\"\",ROW())","v":18},{"$f":"IF(ROW(FR18)-ROW(FR$2)+1>COUNT(FS$2:FS$23),\"\",INDEX(FR:FR,SMALL(FS$2:FS$23,1+ROW(FR18)-ROW(FR$2))))","v":"Industrial Robotics"},null,null,null,null,null,"Equine Function at the Cellular Level",{"$f":"IF(COUNTIF('Extended Diploma'!$E$29:$E$86,FZ18)>=1,\"\",ROW())","v":18},"Equine Function at the Cellular Level",null,null,null,null,null,null,null,null,null,null,null,null,null,null,null,null,null,null,null,null,null,null,null,null,null,null,null,null,null,null,null,null,null,null,null,null,null,null,null,null,null,null,null,null,null,null,null,null,null,null,null,null,null,null,null,null,null,null,null,null,null,null,null,null,null,null,null,null,null,null,null,null,null,"Sports Massage",{"$f":"IF(COUNTIF('Extended Diploma'!$E$29:$E$86,IX18)>=1,\"\",ROW())","v":18},"Sports Massage",null,null,null,null,null,null,null,null,null,"Selecting and Managing Land-based Machinery",{"$f":"IF(COUNTIF('Extended Diploma'!$E$29:$E$86,JJ18)>=1,\"\",ROW())","v":18},"Selecting and Managing Land-based Machinery",null,null,null,null,null,null,null,null,null,null,null,null,null,null,null,null,null,null,null,null,"Sports Tourism",{"$f":"IF(COUNTIF('Extended Diploma'!$E$29:$E$86,KG18)>=1,\"\",ROW())","v":18},"Sports Tourism"]
[null,null,null,null,"Pattern Development Methods and Techniques",{"$f":"IF(COUNTIF('Extended Diploma'!$E$29:$E$86,E19)>=1,\"\",ROW())","v":19},"Pattern Development Methods and Techniques",null,null,null,null,null,null,null,null,null,null,null,null,null,null,null,null,null,null,null,null,null,null,null,null,null,null,null,null,null,null,null,null,null,null,null,null,null,null,null,null,null,"Aspects of Civil Liability Affecting Business",{"$f":"IF(COUNTIF('Extended Diploma'!$E$29:$E$86,AW19)>=1,\"\",ROW())","v":19},"Aspects of Civil Liability Affecting Business",null,null,null,null,null,null,null,null,null,null,null,null,null,null,null,null,null,null,null,null,null,null,null,null,null,null,null,null,null,null,null,null,null,null,null,null,null,null,null,null,null,null,null,null,null,"3D Modelling",{"$f":"IF(COUNTIF('Extended Diploma'!$E$29:$E$86,CS19)>=1,\"\",ROW())","v":19},"3D Modelling",null,null,null,null,null,null,null,null,null,null,null,null,null,null,null,null,null,null,null,null,null,null,null,null,null,null,null,null,null,null,null,null,null,null,"Manufacturing Computer Numerical Control Machining Processes",{"$f":"IF(COUNTIF('Extended Diploma'!$E$29:$E$86,ED19)>=1,\"\",ROW())","v":19},"Manufacturing Computer Numerical Control Machining Processes",null,null,null,null,null,null,null,null,null,null,null,null,null,null,null,null,null,null,null,null,null,"Additive Manufacturing Processes",{"$f":"IF(COUNTIF('Extended Diploma'!$E$29:$E$86,FB19)>=1,\"\",ROW())","v":19},"Additive Manufacturing Processes",null,null,null,null,null,null,null,null,null,null,null,null,null,null,null,null,null,null,null,null,null,null,null,null,null,null,null,null,null,null,null,null,null,null,null,null,null,null,null,null,null,null,null,null,null,null,null,null,null,null,null,null,null,null,null,null,null,null,null,null,null,null,null,null,null,null,null,null,null,null,null,null,null,null,null,null,null,null,null,null,null,null,null,null,null,null,null,null,null,null,null,null,null,null,null,null,null,null,null,null,null,null,null,null,null,null,null,null,null,"Animal Genetics",{"$f":"IF(COUNTIF('Extended Diploma'!$E$29:$E$86,JJ19)>=1,\"\",ROW())","v":19},"Animal Genetics",null,null,null,null,null,null,null,null,null,null,null,null,null,null,null,null,null,null,null,null,"School Sport Delivery",{"$f":"IF(COUNTIF('Extended Diploma'!$E$29:$E$86,KG19)>=1,\"\",ROW())","v":19},"School Sport Delivery"]
[null,null,null,null,"Fashion Promotion",{"$f":"IF(COUNTIF('Extended Diploma'!$E$29:$E$86,E20)>=1,\"\",ROW())","v":20},"Fashion Promotion",null,null,null,null,null,null,null,null,null,null,null,null,null,null,null,null,null,null,null,null,null,null,null,null,null,null,null,null,null,null,null,null,null,null,null,null,null,null,null,null,null,"Aspects of Criminal Law Impacting on Business and Individuals",{"$f":"IF(COUNTIF('Extended Diploma'!$E$29:$E$86,AW20)>=1,\"\",ROW())","v":20},"Aspects of Criminal Law Impacting on Business and Individuals",null,null,null,null,null,null,null,null,null,null,null,null,null,null,null,null,null,null,null,null,null,null,null,null,null,null,null,null,null,null,null,null,null,null,null,null,null,null,null,null,null,null,null,null,null,"3D Environments",{"$f":"IF(COUNTIF('Extended Diploma'!$E$29:$E$86,CS20)>=1,\"\",ROW())","v":20},"3D Environments",null,null,null,null,null,null,null,null,null,null,null,null,null,null,null,null,null,null,null,null,null,null,null,null,null,null,null,null,null,null,null,null,null,null,"Fabrication Manufacturing Processes",{"$f":"IF(COUNTIF('Extended Diploma'!$E$29:$E$86,ED20)>=1,\"\",ROW())","v":20},"Fabrication Manufacturing Processes"]
[null,null,null,null,"Manufacturing Methods for Fashion",{"$f":"IF(COUNTIF('Extended Diploma'!$E$29:$E$86,E21)>=1,\"\",ROW())","v":21},"Manufacturing Methods for Fashion",null,null,null,null,null,null,null,null,null,null,null,null,null,null,null,null,null,null,null,null,null,null,null,null,null,null,null,null,null,null,null,null,null,null,null,null,null,null,null,null,null,"Work Experience in Business",{"$f":"IF(COUNTIF('Extended Diploma'!$E$29:$E$86,AW21)>=1,\"\",ROW())","v":21},"Work Experience in Business",null,null,null,null,null,null,null,null,null,null,null,null,null,null,null,null,null,null,null,null,null,null,null,null,null,null,null,null,null,null,null,null,null,null,null,null,null,null,null,null,null,null,null,null,null,"Games Testing",{"$f":"IF(COUNTIF('Extended Diploma'!$E$29:$E$86,CS21)>=1,\"\",ROW())","v":21},"Games Testing",null,null,null,null,null,null,null,null,null,null,null,null,null,null,null,null,null,null,null,null,null,null,null,null,null,null,null,null,null,null,null,null,null,null,"Additive Manufacturing Processes",{"$f":"IF(COUNTIF('Extended Diploma'!$E$29:$E$86,ED21)>=1,\"\",ROW())","v":21},"Additive Manufacturing Processes"]
[null,null,null,null,"3D Model Making",{"$f":"IF(COUNTIF('Extended Diploma'!$E$29:$E$86,E22)>=1,\"\",ROW())","v":22},"3D Model Making",null,null,null,null,null,null,null,null,null,null,null,null,null,null,null,null,null,null,null,null,null,null,null,null,null,null,null,null,null,null,null,null,null,null,null,null,null,null,null,null,null,"Branding",{"$f":"IF(COUNTIF('Extended Diploma'!$E$29:$E$86,AW22)>=1,\"\",ROW())","v":22},"Branding",null,null,null,null,null,null,null,null,null,null,null,null,null,null,null,null,null,null,null,null,null,null,null,null,null,null,null,null,null,null,null,null,null,null,null,null,null,null,null,null,null,null,null,null,null,"3D Digital Animation",{"$f":"IF(COUNTIF('Extended Diploma'!$E$29:$E$86,CS22)>=1,\"\",ROW())","v":22},"3D Digital Animation",null,null,null,null,null,null,null,null,null,null,null,null,null,null,null,null,null,null,null,null,null,null,null,null,null,null,null,null,null,null,null,null,null,null,"Manufacturing Joining, Finishing and Assembly Processes",{"$f":"IF(COUNTIF('Extended Diploma'!$E$29:$E$86,ED22)>=1,\"\",ROW())","v":22},"Manufacturing Joining, Finishing and Assembly Processes"]
[null,null,null,null,"Extending 3D Design Materials, Techniques and Processes",{"$f":"IF(COUNTIF('Extended Diploma'!$E$29:$E$86,E23)>=1,\"\",ROW())","v":23},"Extending 3D Design Materials, Techniques and Processes",null,null,null,null,null,null,null,null,null,null,null,null,null,null,null,null,null,null,null,null,null,null,null,null,null,null,null,null,null,null,null,null,null,null,null,null,null,null,null,null,null,"Relationship Marketing",{"$f":"IF(COUNTIF('Extended Diploma'!$E$29:$E$86,AW23)>=1,\"\",ROW())","v":23},"Relationship Marketing",null,null,null,null,null,null,null,null,null,null,null,null,null,null,null,null,null,null,null,null,null,null,null,null,null,null,null,null,null,null,null,null,null,null,null,null,null,null,null,null,null,null,null,null,null,null,null,null,null,null,null,null,null,null,null,null,null,null,null,null,null,null,null,null,null,null,null,null,null,null,null,null,null,null,null,null,null,null,null,null,null,null,"Composites Manufacture and Repair Processes",{"$f":"IF(COUNTIF('Extended Diploma'!$E$29:$E$86,ED23)>=1,\"\",ROW())","v":23},"Composites Manufacture and Repair Processes"]
[null,null,null,null,"Working to Scales",{"$f":"IF(COUNTIF('Extended Diploma'!$E$29:$E$86,E24)>=1,\"\",ROW())","v":24},"Working to Scales",null,null,null,null,null,null,null,null,null,null,null,null,null,null,null,null,null,null,null,null,null,null,null,null,null,null,null,null,null,null,null,null,null,null,null,null,null,null,null,null,null,"Legal Principles and Professional Ethics in Financial Services",{"$f":"IF(COUNTIF('Extended Diploma'!$E$29:$E$86,AW24)>=1,\"\",ROW())","v":24},"Legal Principles and Professional Ethics in Financial Services",null,null,null,null,null,null,null,null,null,null,null,null,null,null,null,null,null,null,null,null,null,null,null,null,null,null,null,null,null,null,null,null,null,null,null,null,null,null,null,null,null,null,null,null,null,null,null,null,null,null,null,null,null,null,null,null,null,null,null,null,null,null,null,null,null,null,null,null,null,null,null,null,null,null,null,null,null,null,null,null,null,null,"Industrial Robotics",{"$f":"IF(COUNTIF('Extended Diploma'!$E$29:$E$86,ED24)>=1,\"\",ROW())","v":24},"Industrial Robotics"]
[null,null,null,null,"Contemporary Fine Art Practice",{"$f":"IF(COUNTIF('Extended Diploma'!$E$29:$E$86,E25)>=1,\"\",ROW())","v":25},"Contemporary Fine Art Practice",null,null,null,null,null,null,null,null,null,null,null,null,null,null,null,null,null,null,null,null,null,null,null,null,null,null,null,null,null,null,null,null,null,null,null,null,null,null,null,null,null,"Effective Management of Personal Debt",{"$f":"IF(COUNTIF('Extended Diploma'!$E$29:$E$86,AW25)>=1,\"\",ROW())","v":25},"Effective Management of Personal Debt"]
[null,null,null,null,"Painting",{"$f":"IF(COUNTIF('Extended Diploma'!$E$29:$E$86,E26)>=1,\"\",ROW())","v":26},"Painting",null,null,null,null,null,null,null,null,null,null,null,null,null,null,null,null,null,null,null,null,null,null,null,null,null,null,null,null,null,null,null,null,null,null,null,null,null,null,null,null,null,"Buying for Business",{"$f":"IF(COUNTIF('Extended Diploma'!$E$29:$E$86,AW26)>=1,\"\",ROW())","v":26},"Buying for Business"]
[null,null,null,null,"Printmaking",{"$f":"IF(COUNTIF('Extended Diploma'!$E$29:$E$86,E27)>=1,\"\",ROW())","v":27},"Printmaking",null,null,null,null,null,null,null,null,null,null,null,null,null,null,null,null,null,null,null,null,null,null,null,null,null,null,null,null,null,null,null,null,null,null,null,null,null,null,null,null,null,"Supply Chain Operations",{"$f":"IF(COUNTIF('Extended Diploma'!$E$29:$E$86,AW27)>=1,\"\",ROW())","v":27},"Supply Chain Operations"]
[null,null,null,null,"Time-Based Techniques in Art and Design",{"$f":"IF(COUNTIF('Extended Diploma'!$E$29:$E$86,E28)>=1,\"\",ROW())","v":28},"Time-Based Techniques in Art and Design",null,null,null,null,null,null,null,null,null,null,null,null,null,null,null,null,null,null,null,null,null,null,null,null,null,null,null,null,null,null,null,null,null,null,null,null,null,null,null,null,null,"Investment Opportunities and Financial Planning",{"$f":"IF(COUNTIF('Extended Diploma'!$E$29:$E$86,AW28)>=1,\"\",ROW())","v":28},"Investment Opportunities and Financial Planning"]
[null,null,null,null,"Public Art",{"$f":"IF(COUNTIF('Extended Diploma'!$E$29:$E$86,E29)>=1,\"\",ROW())","v":29},"Public Art",null,null,null,null,null,null,null,null,null,null,null,null,null,null,null,null,null,null,null,null,null,null,null,null,null,null,null,null,null,null,null,null,null,null,null,null,null,null,null,null,null,"Insurance Principles and Policies",{"$f":"IF(COUNTIF('Extended Diploma'!$E$29:$E$86,AW29)>=1,\"\",ROW())","v":29},"Insurance Principles and Policies"]
[null,null,null,null,"Curating an Exhibition",{"$f":"IF(COUNTIF('Extended Diploma'!$E$29:$E$86,E30)>=1,\"\",ROW())","v":30},"Curating an Exhibition"]

{"sheet":"ED Aero Eng Unit List","index":21,"n_rows":14,"n_cols":19,"rows_kept":14,"cut":false,"hidden":true,"merged":[]}
[]
["Computer Aided Design in Engineering",{"$f":"IF(COUNTIF('Extended Diploma'!$E$29:$E$86,A2)>=1,\"\",ROW())","v":2},10,"Computer Aided Design in Engineering","Computer Aided Design in Engineering",{"$f":"IF(COUNTIF('Extended Diploma'!$E$29:$E$86,E2)>=1,0,ROW())","v":2},{"$f":"IF(OR(AND(COUNTIF('Extended Diploma'!$E$29:$E$86,$A$2)>=1,COUNTIF('Extended Diploma'!$E$29:$E$86,$A$3)>=1),AND(COUNTIF('Extended Diploma'!$E$29:$E$86,$A$2)>=1,COUNTIF('Extended Diploma'!$E$29:$E$86,$A$4)>=1),AND(COUNTIF('Extended Diploma'!$E$29:$E$86,$A$2)>=1,COUNTIF('Extended Diploma'!$E$29:$E$86,$A$5)>=1),AND(COUNTIF('Extended Diploma'!$E$29:$E$86,$A$2)>=1,COUNTIF('Extended Diploma'!$E$29:$E$86,$A$6)>=1),AND(COUNTIF('Extended Diploma'!$E$29:$E$86,$A$2)>=1,COUNTIF('Extended Diploma'!$E$29:$E$86,$A$7)>=1),AND(COUNTIF('Extended Diploma'!$E$29:$E$86,$A$3)>=1,COUNTIF('Extended Diploma'!$E$29:$E$86,$A$4)>=1),AND(COUNTIF('Extended Diploma'!$E$29:$E$86,$A$3)>=1,COUNTIF('Extended Diploma'!$E$29:$E$86,$A$5)>=1),AND(COUNTIF('Extended Diploma'!$E$29:$E$86,$A$3)>=1,COUNTIF('Extended Diploma'!$E$29:$E$86,$A$6)>=1),AND(COUNTIF('Extended Diploma'!$E$29:$E$86,$A$3)>=1,COUNTIF('Extended Diploma'!$E$29:$E$86,$A$7)>=1),AND(COUNTIF('Extended Diploma'!$E$29:$E$86,$A$4)>=1,COUNTIF('Extended Diploma'!$E$29:$E$86,$A$5)>=1),AND(COUNTIF('Extended Diploma'!$E$29:$E$86,$A$4)>=1,COUNTIF('Extended Diploma'!$E$29:$E$86,$A$6)>=1),AND(COUNTIF('Extended Diploma'!$E$29:$E$86,$A$4)>=1,COUNTIF('Extended Diploma'!$E$29:$E$86,$A$7)>=1),AND(COUNTIF('Extended Diploma'!$E$29:$E$86,$A$5)>=1,COUNTIF('Extended Diploma'!$E$29:$E$86,$A$6)>=1),AND(COUNTIF('Extended Diploma'!$E$29:$E$86,$A$5)>=1,COUNTIF('Extended Diploma'!$E$29:$E$86,$A$7)>=1),AND(COUNTIF('Extended Diploma'!$E$29:$E$86,$A$6)>=1,COUNTIF('Extended Diploma'!$E$29:$E$86,$A$7)>=1)),0,ROW())","v":2},{"$f":"IF(G2=0,\"\",SMALL(F2:G2,1))","v":2},{"$f":"IF(ROW(E2)-ROW(E$2)+1>COUNT(H$2:H$25),\"\",INDEX(E:E,SMALL(H$2:H$25,1+ROW(E2)-ROW(E$2))))","v":"Computer Aided Design in Engineering"},{"$f":"IF(ISERROR(I2),\"\",I2)","v":"Computer Aided Design in Engineering"},{"$f":"IF(J2=\"\",\"\",ROW())","v":2},{"$f":"IF(J2=\"\",\"\",VLOOKUP(J2,$A$1:$C$25,3,FALSE))","v":10},"Aircraft Workshop Methods and Practice",{"$f":"IF(COUNTIF('Extended Diploma'!$E$29:$E$86,M2)>=1,\"\",ROW())","v":2},{"$f":"IF(ROW(M2)-ROW(M$2)+1>COUNT(N$2:N$25),\"\",INDEX(M:M,SMALL(N$2:N$25,1+ROW(M2)-ROW(M$2))))","v":"Aircraft Workshop Methods and Practice"},{"$f":"IF(O2=\"\",\"\",VLOOKUP(O2,$A$1:$C$25,3,FALSE))","v":49},{"$f":"IF(ISBLANK(L2),\"\",L2)","v":10},{"$f":"_xlfn._xlws.SORT(Q2:Q14)","v":10},{"$f":"IF(R2=\"\",\"\",VLOOKUP(R2,$C$1:$D$25,2,FALSE))","v":"Computer Aided Design in Engineering"}]
["Engineering Maintenance and Condition Monitoring Techniques",{"$f":"IF(COUNTIF('Extended Diploma'!$E$29:$E$86,A3)>=1,\"\",ROW())","v":3},11,"Engineering Maintenance and Condition Monitoring Techniques","Engineering Maintenance and Condition Monitoring Techniques",{"$f":"IF(COUNTIF('Extended Diploma'!$E$29:$E$86,E3)>=1,0,ROW())","v":3},{"$f":"IF(OR(AND(COUNTIF('Extended Diploma'!$E$29:$E$86,$A$2)>=1,COUNTIF('Extended Diploma'!$E$29:$E$86,$A$3)>=1),AND(COUNTIF('Extended Diploma'!$E$29:$E$86,$A$2)>=1,COUNTIF('Extended Diploma'!$E$29:$E$86,$A$4)>=1),AND(COUNTIF('Extended Diploma'!$E$29:$E$86,$A$2)>=1,COUNTIF('Extended Diploma'!$E$29:$E$86,$A$5)>=1),AND(COUNTIF('Extended Diploma'!$E$29:$E$86,$A$2)>=1,COUNTIF('Extended Diploma'!$E$29:$E$86,$A$6)>=1),AND(COUNTIF('Extended Diploma'!$E$29:$E$86,$A$2)>=1,COUNTIF('Extended Diploma'!$E$29:$E$86,$A$7)>=1),AND(COUNTIF('Extended Diploma'!$E$29:$E$86,$A$3)>=1,COUNTIF('Extended Diploma'!$E$29:$E$86,$A$4)>=1),AND(COUNTIF('Extended Diploma'!$E$29:$E$86,$A$3)>=1,COUNTIF('Extended Diploma'!$E$29:$E$86,$A$5)>=1),AND(COUNTIF('Extended Diploma'!$E$29:$E$86,$A$3)>=1,COUNTIF('Extended Diploma'!$E$29:$E$86,$A$6)>=1),AND(COUNTIF('Extended Diploma'!$E$29:$E$86,$A$3)>=1,COUNTIF('Extended Diploma'!$E$29:$E$86,$A$7)>=1),AND(COUNTIF('Extended Diploma'!$E$29:$E$86,$A$4)>=1,COUNTIF('Extended Diploma'!$E$29:$E$86,$A$5)>=1),AND(COUNTIF('Extended Diploma'!$E$29:$E$86,$A$4)>=1,COUNTIF('Extended Diploma'!$E$29:$E$86,$A$6)>=1),AND(COUNTIF('Extended Diploma'!$E$29:$E$86,$A$4)>=1,COUNTIF('Extended Diploma'!$E$29:$E$86,$A$7)>=1),AND(COUNTIF('Extended Diploma'!$E$29:$E$86,$A$5)>=1,COUNTIF('Extended Diploma'!$E$29:$E$86,$A$6)>=1),AND(COUNTIF('Extended Diploma'!$E$29:$E$86,$A$5)>=1,COUNTIF('Extended Diploma'!$E$29:$E$86,$A$7)>=1),AND(COUNTIF('Extended Diploma'!$E$29:$E$86,$A$6)>=1,COUNTIF('Extended Diploma'!$E$29:$E$86,$A$7)>=1)),0,ROW())","v":3},3,{"$f":"IF(ROW(E3)-ROW(E$2)+1>COUNT(H$2:H$25),\"\",INDEX(E:E,SMALL(H$2:H$25,1+ROW(E3)-ROW(E$2))))","v":"Engineering Maintenance and Condition Monitoring Techniques"},"Engineering Maintenance and Condition Monitoring Techniques",3,11,"Aircraft Gas Turbine Engines",{"$f":"IF(COUNTIF('Extended Diploma'!$E$29:$E$86,M3)>=1,\"\",ROW())","v":3},{"$f":"IF(ROW(M3)-ROW(M$2)+1>COUNT(N$2:N$25),\"\",INDEX(M:M,SMALL(N$2:N$25,1+ROW(M3)-ROW(M$2))))","v":"Aircraft Gas Turbine Engines"},{"$f":"IF(O3=\"\",\"\",VLOOKUP(O3,$A$1:$C$25,3,FALSE))","v":50},11,11,{"$f":"IF(R3=\"\",\"\",VLOOKUP(R3,$C$1:$D$25,2,FALSE))","v":"Engineering Maintenance and Condition Monitoring Techniques"}]
["Pneumatic and Hydraulic Systems",{"$f":"IF(COUNTIF('Extended Diploma'!$E$29:$E$86,A4)>=1,\"\",ROW())","v":4},12,"Pneumatic and Hydraulic Systems","Pneumatic and Hydraulic Systems",{"$f":"IF(COUNTIF('Extended Diploma'!$E$29:$E$86,E4)>=1,0,ROW())","v":4},{"$f":"IF(OR(AND(COUNTIF('Extended Diploma'!$E$29:$E$86,$A$2)>=1,COUNTIF('Extended Diploma'!$E$29:$E$86,$A$3)>=1),AND(COUNTIF('Extended Diploma'!$E$29:$E$86,$A$2)>=1,COUNTIF('Extended Diploma'!$E$29:$E$86,$A$4)>=1),AND(COUNTIF('Extended Diploma'!$E$29:$E$86,$A$2)>=1,COUNTIF('Extended Diploma'!$E$29:$E$86,$A$5)>=1),AND(COUNTIF('Extended Diploma'!$E$29:$E$86,$A$2)>=1,COUNTIF('Extended Diploma'!$E$29:$E$86,$A$6)>=1),AND(COUNTIF('Extended Diploma'!$E$29:$E$86,$A$2)>=1,COUNTIF('Extended Diploma'!$E$29:$E$86,$A$7)>=1),AND(COUNTIF('Extended Diploma'!$E$29:$E$86,$A$3)>=1,COUNTIF('Extended Diploma'!$E$29:$E$86,$A$4)>=1),AND(COUNTIF('Extended Diploma'!$E$29:$E$86,$A$3)>=1,COUNTIF('Extended Diploma'!$E$29:$E$86,$A$5)>=1),AND(COUNTIF('Extended Diploma'!$E$29:$E$86,$A$3)>=1,COUNTIF('Extended Diploma'!$E$29:$E$86,$A$6)>=1),AND(COUNTIF('Extended Diploma'!$E$29:$E$86,$A$3)>=1,COUNTIF('Extended Diploma'!$E$29:$E$86,$A$7)>=1),AND(COUNTIF('Extended Diploma'!$E$29:$E$86,$A$4)>=1,COUNTIF('Extended Diploma'!$E$29:$E$86,$A$5)>=1),AND(COUNTIF('Extended Diploma'!$E$29:$E$86,$A$4)>=1,COUNTIF('Extended Diploma'!$E$29:$E$86,$A$6)>=1),AND(COUNTIF('Extended Diploma'!$E$29:$E$86,$A$4)>=1,COUNTIF('Extended Diploma'!$E$29:$E$86,$A$7)>=1),AND(COUNTIF('Extended Diploma'!$E$29:$E$86,$A$5)>=1,COUNTIF('Extended Diploma'!$E$29:$E$86,$A$6)>=1),AND(COUNTIF('Extended Diploma'!$E$29:$E$86,$A$5)>=1,COUNTIF('Extended Diploma'!$E$29:$E$86,$A$7)>=1),AND(COUNTIF('Extended Diploma'!$E$29:$E$86,$A$6)>=1,COUNTIF('Extended Diploma'!$E$29:$E$86,$A$7)>=1)),0,ROW())","v":4},4,{"$f":"IF(ROW(E4)-ROW(E$2)+1>COUNT(H$2:H$25),\"\",INDEX(E:E,SMALL(H$2:H$25,1+ROW(E4)-ROW(E$2))))","v":"Pneumatic and Hydraulic Systems"},"Pneumatic and Hydraulic Systems",4,12,"Aircraft Propulsion Systems",{"$f":"IF(COUNTIF('Extended Diploma'!$E$29:$E$86,M4)>=1,\"\",ROW())","v":4},{"$f":"IF(ROW(M4)-ROW(M$2)+1>COUNT(N$2:N$25),\"\",INDEX(M:M,SMALL(N$2:N$25,1+ROW(M4)-ROW(M$2))))","v":"Aircraft Propulsion Systems"},51,12,12,"Pneumatic and Hydraulic Systems"]
["Electronic Devices and Circuits",{"$f":"IF(COUNTIF('Extended Diploma'!$E$29:$E$86,A5)>=1,\"\",ROW())","v":5},19,"Electronic Devices and Circuits","Electronic Devices and Circuits",{"$f":"IF(COUNTIF('Extended Diploma'!$E$29:$E$86,E5)>=1,0,ROW())","v":5},{"$f":"IF(OR(AND(COUNTIF('Extended Diploma'!$E$29:$E$86,$A$2)>=1,COUNTIF('Extended Diploma'!$E$29:$E$86,$A$3)>=1),AND(COUNTIF('Extended Diploma'!$E$29:$E$86,$A$2)>=1,COUNTIF('Extended Diploma'!$E$29:$E$86,$A$4)>=1),AND(COUNTIF('Extended Diploma'!$E$29:$E$86,$A$2)>=1,COUNTIF('Extended Diploma'!$E$29:$E$86,$A$5)>=1),AND(COUNTIF('Extended Diploma'!$E$29:$E$86,$A$2)>=1,COUNTIF('Extended Diploma'!$E$29:$E$86,$A$6)>=1),AND(COUNTIF('Extended Diploma'!$E$29:$E$86,$A$2)>=1,COUNTIF('Extended Diploma'!$E$29:$E$86,$A$7)>=1),AND(COUNTIF('Extended Diploma'!$E$29:$E$86,$A$3)>=1,COUNTIF('Extended Diploma'!$E$29:$E$86,$A$4)>=1),AND(COUNTIF('Extended Diploma'!$E$29:$E$86,$A$3)>=1,COUNTIF('Extended Diploma'!$E$29:$E$86,$A$5)>=1),AND(COUNTIF('Extended Diploma'!$E$29:$E$86,$A$3)>=1,COUNTIF('Extended Diploma'!$E$29:$E$86,$A$6)>=1),AND(COUNTIF('Extended Diploma'!$E$29:$E$86,$A$3)>=1,COUNTIF('Extended Diploma'!$E$29:$E$86,$A$7)>=1),AND(COUNTIF('Extended Diploma'!$E$29:$E$86,$A$4)>=1,COUNTIF('Extended Diploma'!$E$29:$E$86,$A$5)>=1),AND(COUNTIF('Extended Diploma'!$E$29:$E$86,$A$4)>=1,COUNTIF('Extended Diploma'!$E$29:$E$86,$A$6)>=1),AND(COUNTIF('Extended Diploma'!$E$29:$E$86,$A$4)>=1,COUNTIF('Extended Diploma'!$E$29:$E$86,$A$7)>=1),AND(COUNTIF('Extended Diploma'!$E$29:$E$86,$A$5)>=1,COUNTIF('Extended Diploma'!$E$29:$E$86,$A$6)>=1),AND(COUNTIF('Extended Diploma'!$E$29:$E$86,$A$5)>=1,COUNTIF('Extended Diploma'!$E$29:$E$86,$A$7)>=1),AND(COUNTIF('Extended Diploma'!$E$29:$E$86,$A$6)>=1,COUNTIF('Extended Diploma'!$E$29:$E$86,$A$7)>=1)),0,ROW())","v":5},5,{"$f":"IF(ROW(E5)-ROW(E$2)+1>COUNT(H$2:H$25),\"\",INDEX(E:E,SMALL(H$2:H$25,1+ROW(E5)-ROW(E$2))))","v":"Electronic Devices and Circuits"},"Electronic Devices and Circuits",5,19,"Airframe Construction and Repair",{"$f":"IF(COUNTIF('Extended Diploma'!$E$29:$E$86,M5)>=1,\"\",ROW())","v":5},{"$f":"IF(ROW(M5)-ROW(M$2)+1>COUNT(N$2:N$25),\"\",INDEX(M:M,SMALL(N$2:N$25,1+ROW(M5)-ROW(M$2))))","v":"Airframe Construction and Repair"},52,19,19,"Electronic Devices and Circuits"]
["Mechanical Behaviour of Metallic Materials",{"$f":"IF(COUNTIF('Extended Diploma'!$E$29:$E$86,A6)>=1,\"\",ROW())","v":6},25,"Mechanical Behaviour of Metallic Materials","Mechanical Behaviour of Metallic Materials",{"$f":"IF(COUNTIF('Extended Diploma'!$E$29:$E$86,E6)>=1,0,ROW())","v":6},{"$f":"IF(OR(AND(COUNTIF('Extended Diploma'!$E$29:$E$86,$A$2)>=1,COUNTIF('Extended Diploma'!$E$29:$E$86,$A$3)>=1),AND(COUNTIF('Extended Diploma'!$E$29:$E$86,$A$2)>=1,COUNTIF('Extended Diploma'!$E$29:$E$86,$A$4)>=1),AND(COUNTIF('Extended Diploma'!$E$29:$E$86,$A$2)>=1,COUNTIF('Extended Diploma'!$E$29:$E$86,$A$5)>=1),AND(COUNTIF('Extended Diploma'!$E$29:$E$86,$A$2)>=1,COUNTIF('Extended Diploma'!$E$29:$E$86,$A$6)>=1),AND(COUNTIF('Extended Diploma'!$E$29:$E$86,$A$2)>=1,COUNTIF('Extended Diploma'!$E$29:$E$86,$A$7)>=1),AND(COUNTIF('Extended Diploma'!$E$29:$E$86,$A$3)>=1,COUNTIF('Extended Diploma'!$E$29:$E$86,$A$4)>=1),AND(COUNTIF('Extended Diploma'!$E$29:$E$86,$A$3)>=1,COUNTIF('Extended Diploma'!$E$29:$E$86,$A$5)>=1),AND(COUNTIF('Extended Diploma'!$E$29:$E$86,$A$3)>=1,COUNTIF('Extended Diploma'!$E$29:$E$86,$A$6)>=1),AND(COUNTIF('Extended Diploma'!$E$29:$E$86,$A$3)>=1,COUNTIF('Extended Diploma'!$E$29:$E$86,$A$7)>=1),AND(COUNTIF('Extended Diploma'!$E$29:$E$86,$A$4)>=1,COUNTIF('Extended Diploma'!$E$29:$E$86,$A$5)>=1),AND(COUNTIF('Extended Diploma'!$E$29:$E$86,$A$4)>=1,COUNTIF('Extended Diploma'!$E$29:$E$86,$A$6)>=1),AND(COUNTIF('Extended Diploma'!$E$29:$E$86,$A$4)>=1,COUNTIF('Extended Diploma'!$E$29:$E$86,$A$7)>=1),AND(COUNTIF('Extended Diploma'!$E$29:$E$86,$A$5)>=1,COUNTIF('Extended Diploma'!$E$29:$E$86,$A$6)>=1),AND(COUNTIF('Extended Diploma'!$E$29:$E$86,$A$5)>=1,COUNTIF('Extended Diploma'!$E$29:$E$86,$A$7)>=1),AND(COUNTIF('Extended Diploma'!$E$29:$E$86,$A$6)>=1,COUNTIF('Extended Diploma'!$E$29:$E$86,$A$7)>=1)),0,ROW())","v":6},6,{"$f":"IF(ROW(E6)-ROW(E$2)+1>COUNT(H$2:H$25),\"\",INDEX(E:E,SMALL(H$2:H$25,1+ROW(E6)-ROW(E$2))))","v":"Mechanical Behaviour of Metallic Materials"},"Mechanical Behaviour of Metallic Materials",6,25,"Airframe Mechanical Systems",{"$f":"IF(COUNTIF('Extended Diploma'!$E$29:$E$86,M6)>=1,\"\",ROW())","v":6},{"$f":"IF(ROW(M6)-ROW(M$2)+1>COUNT(N$2:N$25),\"\",INDEX(M:M,SMALL(N$2:N$25,1+ROW(M6)-ROW(M$2))))","v":"Airframe Mechanical Systems"},53,25,25,"Mechanical Behaviour of Metallic Materials"]
["Programmable Logic Controllers",{"$f":"IF(COUNTIF('Extended Diploma'!$E$29:$E$86,A7)>=1,\"\",ROW())","v":7},36,"Programmable Logic Controllers","Programmable Logic Controllers",{"$f":"IF(COUNTIF('Extended Diploma'!$E$29:$E$86,E7)>=1,0,ROW())","v":7},{"$f":"IF(OR(AND(COUNTIF('Extended Diploma'!$E$29:$E$86,$A$2)>=1,COUNTIF('Extended Diploma'!$E$29:$E$86,$A$3)>=1),AND(COUNTIF('Extended Diploma'!$E$29:$E$86,$A$2)>=1,COUNTIF('Extended Diploma'!$E$29:$E$86,$A$4)>=1),AND(COUNTIF('Extended Diploma'!$E$29:$E$86,$A$2)>=1,COUNTIF('Extended Diploma'!$E$29:$E$86,$A$5)>=1),AND(COUNTIF('Extended Diploma'!$E$29:$E$86,$A$2)>=1,COUNTIF('Extended Diploma'!$E$29:$E$86,$A$6)>=1),AND(COUNTIF('Extended Diploma'!$E$29:$E$86,$A$2)>=1,COUNTIF('Extended Diploma'!$E$29:$E$86,$A$7)>=1),AND(COUNTIF('Extended Diploma'!$E$29:$E$86,$A$3)>=1,COUNTIF('Extended Diploma'!$E$29:$E$86,$A$4)>=1),AND(COUNTIF('Extended Diploma'!$E$29:$E$86,$A$3)>=1,COUNTIF('Extended Diploma'!$E$29:$E$86,$A$5)>=1),AND(COUNTIF('Extended Diploma'!$E$29:$E$86,$A$3)>=1,COUNTIF('Extended Diploma'!$E$29:$E$86,$A$6)>=1),AND(COUNTIF('Extended Diploma'!$E$29:$E$86,$A$3)>=1,COUNTIF('Extended Diploma'!$E$29:$E$86,$A$7)>=1),AND(COUNTIF('Extended Diploma'!$E$29:$E$86,$A$4)>=1,COUNTIF('Extended Diploma'!$E$29:$E$86,$A$5)>=1),AND(COUNTIF('Extended Diploma'!$E$29:$E$86,$A$4)>=1,COUNTIF('Extended Diploma'!$E$29:$E$86,$A$6)>=1),AND(COUNTIF('Extended Diploma'!$E$29:$E$86,$A$4)>=1,COUNTIF('Extended Diploma'!$E$29:$E$86,$A$7)>=1),AND(COUNTIF('Extended Diploma'!$E$29:$E$86,$A$5)>=1,COUNTIF('Extended Diploma'!$E$29:$E$86,$A$6)>=1),AND(COUNTIF('Extended Diploma'!$E$29:$E$86,$A$5)>=1,COUNTIF('Extended Diploma'!$E$29:$E$86,$A$7)>=1),AND(COUNTIF('Extended Diploma'!$E$29:$E$86,$A$6)>=1,COUNTIF('Extended Diploma'!$E$29:$E$86,$A$7)>=1)),0,ROW())","v":7},7,{"$f":"IF(ROW(E7)-ROW(E$2)+1>COUNT(H$2:H$25),\"\",INDEX(E:E,SMALL(H$2:H$25,1+ROW(E7)-ROW(E$2))))","v":"Programmable Logic Controllers"},"Programmable Logic Controllers",7,36,"Aircraft Electrical and Instrument Systems",{"$f":"IF(COUNTIF('Extended Diploma'!$E$29:$E$86,M7)>=1,\"\",ROW())","v":7},{"$f":"IF(ROW(M7)-ROW(M$2)+1>COUNT(N$2:N$25),\"\",INDEX(M:M,SMALL(N$2:N$25,1+ROW(M7)-ROW(M$2))))","v":"Aircraft Electrical and Instrument Systems"},54,36,36,"Programmable Logic Controllers"]
["Aircraft Workshop Methods and Practice",{"$f":"IF(COUNTIF('Extended Diploma'!$E$29:$E$86,A8)>=1,\"\",ROW())","v":8},49,"Aircraft Workshop Methods and Practice",null,null,null,null,null,null,null,null,"Aircraft First Line Maintenance Operations",{"$f":"IF(COUNTIF('Extended Diploma'!$E$29:$E$86,M8)>=1,\"\",ROW())","v":8},{"$f":"IF(ROW(M8)-ROW(M$2)+1>COUNT(N$2:N$25),\"\",INDEX(M:M,SMALL(N$2:N$25,1+ROW(M8)-ROW(M$2))))","v":"Aircraft First Line Maintenance Operations"},55,{"$f":"IF(ISBLANK(P2),\"\",P2)","v":49},49,"Aircraft Workshop Methods and Practice"]
["Aircraft Gas Turbine Engines",{"$f":"IF(COUNTIF('Extended Diploma'!$E$29:$E$86,A9)>=1,\"\",ROW())","v":9},50,"Aircraft Gas Turbine Engines",null,null,null,null,null,null,null,null,null,null,null,null,{"$f":"IF(ISBLANK(P3),\"\",P3)","v":50},50,"Aircraft Gas Turbine Engines"]
["Aircraft Propulsion Systems",{"$f":"IF(COUNTIF('Extended Diploma'!$E$29:$E$86,A10)>=1,\"\",ROW())","v":10},51,"Aircraft Propulsion Systems",null,null,null,null,null,null,null,null,null,null,null,null,51,51,"Aircraft Propulsion Systems"]
["Airframe Construction and Repair",{"$f":"IF(COUNTIF('Extended Diploma'!$E$29:$E$86,A11)>=1,\"\",ROW())","v":11},52,"Airframe Construction and Repair",null,null,null,null,null,null,null,null,null,null,null,null,52,52,"Airframe Construction and Repair"]
["Airframe Mechanical Systems",{"$f":"IF(COUNTIF('Extended Diploma'!$E$29:$E$86,A12)>=1,\"\",ROW())","v":12},53,"Airframe Mechanical Systems",null,null,null,null,null,null,null,null,null,null,null,null,53,53,"Airframe Mechanical Systems"]
["Aircraft Electrical and Instrument Systems",{"$f":"IF(COUNTIF('Extended Diploma'!$E$29:$E$86,A13)>=1,\"\",ROW())","v":13},54,"Aircraft Electrical and Instrument Systems",null,null,null,null,null,null,null,null,null,null,null,null,54,54,"Aircraft Electrical and Instrument Systems"]
["Aircraft First Line Maintenance Operations",{"$f":"IF(COUNTIF('Extended Diploma'!$E$29:$E$86,A14)>=1,\"\",ROW())","v":14},55,"Aircraft First Line Maintenance Operations",null,null,null,null,null,null,null,null,null,null,null,null,55,55,"Aircraft First Line Maintenance Operations"]

{"sheet":"ED Manu Eng Unit List","index":22,"n_rows":15,"n_cols":19,"rows_kept":15,"cut":false,"hidden":true,"merged":[]}
[]
["Computer Aided Design in Engineering",{"$f":"IF(COUNTIF('Extended Diploma'!$E$29:$E$86,A2)>=1,\"\",ROW())","v":2},10,"Computer Aided Design in Engineering","Computer Aided Design in Engineering",{"$f":"IF(COUNTIF('Extended Diploma'!$E$29:$E$86,E2)>=1,0,ROW())","v":2},{"$f":"IF(OR(AND(COUNTIF('Extended Diploma'!$E$29:$E$86,$A$2)>=1,COUNTIF('Extended Diploma'!$E$29:$E$86,$A$3)>=1),AND(COUNTIF('Extended Diploma'!$E$29:$E$86,$A$2)>=1,COUNTIF('Extended Diploma'!$E$29:$E$86,$A$4)>=1),AND(COUNTIF('Extended Diploma'!$E$29:$E$86,$A$2)>=1,COUNTIF('Extended Diploma'!$E$29:$E$86,$A$5)>=1),AND(COUNTIF('Extended Diploma'!$E$29:$E$86,$A$2)>=1,COUNTIF('Extended Diploma'!$E$29:$E$86,$A$6)>=1),AND(COUNTIF('Extended Diploma'!$E$29:$E$86,$A$3)>=1,COUNTIF('Extended Diploma'!$E$29:$E$86,$A$4)>=1),AND(COUNTIF('Extended Diploma'!$E$29:$E$86,$A$3)>=1,COUNTIF('Extended Diploma'!$E$29:$E$86,$A$5)>=1),AND(COUNTIF('Extended Diploma'!$E$29:$E$86,$A$3)>=1,COUNTIF('Extended Diploma'!$E$29:$E$86,$A$6)>=1),AND(COUNTIF('Extended Diploma'!$E$29:$E$86,$A$4)>=1,COUNTIF('Extended Diploma'!$E$29:$E$86,$A$5)>=1),AND(COUNTIF('Extended Diploma'!$E$29:$E$86,$A$4)>=1,COUNTIF('Extended Diploma'!$E$29:$E$86,$A$6)>=1),AND(COUNTIF('Extended Diploma'!$E$29:$E$86,$A$5)>=1,COUNTIF('Extended Diploma'!$E$29:$E$86,$A$6)>=1)),0,ROW())","v":2},{"$f":"IF(G2=0,\"\",SMALL(F2:G2,1))","v":2},{"$f":"IF(ROW(E2)-ROW(E$2)+1>COUNT(H$2:H$25),\"\",INDEX(E:E,SMALL(H$2:H$25,1+ROW(E2)-ROW(E$2))))","v":"Computer Aided Design in Engineering"},{"$f":"IF(ISERROR(I2),\"\",I2)","v":"Computer Aided Design in Engineering"},{"$f":"IF(J2=\"\",\"\",ROW())","v":2},{"$f":"IF(J2=\"\",\"\",VLOOKUP(J2,$A$1:$C$25,3,FALSE))","v":10},"Computer Aided Manufacturing and Planning",{"$f":"IF(COUNTIF('Extended Diploma'!$E$29:$E$86,M2)>=1,\"\",ROW())","v":2},{"$f":"IF(ROW(M2)-ROW(M$2)+1>COUNT(N$2:N$25),\"\",INDEX(M:M,SMALL(N$2:N$25,1+ROW(M2)-ROW(M$2))))","v":"Computer Aided Manufacturing and Planning"},{"$f":"IF(O2=\"\",\"\",VLOOKUP(O2,$A$1:$C$25,3,FALSE))","v":40},{"$f":"IF(ISBLANK(L2),\"\",L2)","v":10},{"$f":"_xlfn._xlws.SORT(Q2:Q15)","v":10},{"$f":"IF(R2=\"\",\"\",VLOOKUP(R2,$C$1:$D$25,2,FALSE))","v":"Computer Aided Design in Engineering"}]
["Welding Technology",{"$f":"IF(COUNTIF('Extended Diploma'!$E$29:$E$86,A3)>=1,\"\",ROW())","v":3},13,"Welding Technology","Welding Technology",{"$f":"IF(COUNTIF('Extended Diploma'!$E$29:$E$86,E3)>=1,0,ROW())","v":3},{"$f":"IF(OR(AND(COUNTIF('Extended Diploma'!$E$29:$E$86,$A$2)>=1,COUNTIF('Extended Diploma'!$E$29:$E$86,$A$3)>=1),AND(COUNTIF('Extended Diploma'!$E$29:$E$86,$A$2)>=1,COUNTIF('Extended Diploma'!$E$29:$E$86,$A$4)>=1),AND(COUNTIF('Extended Diploma'!$E$29:$E$86,$A$2)>=1,COUNTIF('Extended Diploma'!$E$29:$E$86,$A$5)>=1),AND(COUNTIF('Extended Diploma'!$E$29:$E$86,$A$2)>=1,COUNTIF('Extended Diploma'!$E$29:$E$86,$A$6)>=1),AND(COUNTIF('Extended Diploma'!$E$29:$E$86,$A$3)>=1,COUNTIF('Extended Diploma'!$E$29:$E$86,$A$4)>=1),AND(COUNTIF('Extended Diploma'!$E$29:$E$86,$A$3)>=1,COUNTIF('Extended Diploma'!$E$29:$E$86,$A$5)>=1),AND(COUNTIF('Extended Diploma'!$E$29:$E$86,$A$3)>=1,COUNTIF('Extended Diploma'!$E$29:$E$86,$A$6)>=1),AND(COUNTIF('Extended Diploma'!$E$29:$E$86,$A$4)>=1,COUNTIF('Extended Diploma'!$E$29:$E$86,$A$5)>=1),AND(COUNTIF('Extended Diploma'!$E$29:$E$86,$A$4)>=1,COUNTIF('Extended Diploma'!$E$29:$E$86,$A$6)>=1),AND(COUNTIF('Extended Diploma'!$E$29:$E$86,$A$5)>=1,COUNTIF('Extended Diploma'!$E$29:$E$86,$A$6)>=1)),0,ROW())","v":3},{"$f":"IF(G3=0,\"\",SMALL(F3:G3,1))","v":3},{"$f":"IF(ROW(E3)-ROW(E$2)+1>COUNT(H$2:H$25),\"\",INDEX(E:E,SMALL(H$2:H$25,1+ROW(E3)-ROW(E$2))))","v":"Welding Technology"},{"$f":"IF(ISERROR(I3),\"\",I3)","v":"Welding Technology"},{"$f":"IF(J3=\"\",\"\",ROW())","v":3},{"$f":"IF(J3=\"\",\"\",VLOOKUP(J3,$A$1:$C$25,3,FALSE))","v":13},"Manufacturing Secondary Machining Processes",{"$f":"IF(COUNTIF('Extended Diploma'!$E$29:$E$86,M3)>=1,\"\",ROW())","v":3},{"$f":"IF(ROW(M3)-ROW(M$2)+1>COUNT(N$2:N$25),\"\",INDEX(M:M,SMALL(N$2:N$25,1+ROW(M3)-ROW(M$2))))","v":"Manufacturing Secondary Machining Processes"},{"$f":"IF(O3=\"\",\"\",VLOOKUP(O3,$A$1:$C$25,3,FALSE))","v":41},{"$f":"IF(ISBLANK(L3),\"\",L3)","v":13},13,{"$f":"IF(R3=\"\",\"\",VLOOKUP(R3,$C$1:$D$25,2,FALSE))","v":"Welding Technology"}]
["Electronic Printed Circuit Board Design and Manufacture",{"$f":"IF(COUNTIF('Extended Diploma'!$E$29:$E$86,A4)>=1,\"\",ROW())","v":4},22,"Electronic Printed Circuit Board Design and Manufacture","Electronic Printed Circuit Board Design and Manufacture",{"$f":"IF(COUNTIF('Extended Diploma'!$E$29:$E$86,E4)>=1,0,ROW())","v":4},{"$f":"IF(OR(AND(COUNTIF('Extended Diploma'!$E$29:$E$86,$A$2)>=1,COUNTIF('Extended Diploma'!$E$29:$E$86,$A$3)>=1),AND(COUNTIF('Extended Diploma'!$E$29:$E$86,$A$2)>=1,COUNTIF('Extended Diploma'!$E$29:$E$86,$A$4)>=1),AND(COUNTIF('Extended Diploma'!$E$29:$E$86,$A$2)>=1,COUNTIF('Extended Diploma'!$E$29:$E$86,$A$5)>=1),AND(COUNTIF('Extended Diploma'!$E$29:$E$86,$A$2)>=1,COUNTIF('Extended Diploma'!$E$29:$E$86,$A$6)>=1),AND(COUNTIF('Extended Diploma'!$E$29:$E$86,$A$3)>=1,COUNTIF('Extended Diploma'!$E$29:$E$86,$A$4)>=1),AND(COUNTIF('Extended Diploma'!$E$29:$E$86,$A$3)>=1,COUNTIF('Extended Diploma'!$E$29:$E$86,$A$5)>=1),AND(COUNTIF('Extended Diploma'!$E$29:$E$86,$A$3)>=1,COUNTIF('Extended Diploma'!$E$29:$E$86,$A$6)>=1),AND(COUNTIF('Extended Diploma'!$E$29:$E$86,$A$4)>=1,COUNTIF('Extended Diploma'!$E$29:$E$86,$A$5)>=1),AND(COUNTIF('Extended Diploma'!$E$29:$E$86,$A$4)>=1,COUNTIF('Extended Diploma'!$E$29:$E$86,$A$6)>=1),AND(COUNTIF('Extended Diploma'!$E$29:$E$86,$A$5)>=1,COUNTIF('Extended Diploma'!$E$29:$E$86,$A$6)>=1)),0,ROW())","v":4},{"$f":"IF(G4=0,\"\",SMALL(F4:G4,1))","v":4},{"$f":"IF(ROW(E4)-ROW(E$2)+1>COUNT(H$2:H$25),\"\",INDEX(E:E,SMALL(H$2:H$25,1+ROW(E4)-ROW(E$2))))","v":"Electronic Printed Circuit Board Design and Manufacture"},{"$f":"IF(ISERROR(I4),\"\",I4)","v":"Electronic Printed Circuit Board Design and Manufacture"},{"$f":"IF(J4=\"\",\"\",ROW())","v":4},{"$f":"IF(J4=\"\",\"\",VLOOKUP(J4,$A$1:$C$25,3,FALSE))","v":22},"Manufacturing Primary Forming Processes",{"$f":"IF(COUNTIF('Extended Diploma'!$E$29:$E$86,M4)>=1,\"\",ROW())","v":4},{"$f":"IF(ROW(M4)-ROW(M$2)+1>COUNT(N$2:N$25),\"\",INDEX(M:M,SMALL(N$2:N$25,1+ROW(M4)-ROW(M$2))))","v":"Manufacturing Primary Forming Processes"},42,{"$f":"IF(ISBLANK(L4),\"\",L4)","v":22},22,"Electronic Printed Circuit Board Design and Manufacture"]
["Mechanical Measurement and Inspection Technology",{"$f":"IF(COUNTIF('Extended Diploma'!$E$29:$E$86,A5)>=1,\"\",ROW())","v":5},30,"Mechanical Measurement and Inspection Technology","Mechanical Measurement and Inspection Technology",{"$f":"IF(COUNTIF('Extended Diploma'!$E$29:$E$86,E5)>=1,0,ROW())","v":5},{"$f":"IF(OR(AND(COUNTIF('Extended Diploma'!$E$29:$E$86,$A$2)>=1,COUNTIF('Extended Diploma'!$E$29:$E$86,$A$3)>=1),AND(COUNTIF('Extended Diploma'!$E$29:$E$86,$A$2)>=1,COUNTIF('Extended Diploma'!$E$29:$E$86,$A$4)>=1),AND(COUNTIF('Extended Diploma'!$E$29:$E$86,$A$2)>=1,COUNTIF('Extended Diploma'!$E$29:$E$86,$A$5)>=1),AND(COUNTIF('Extended Diploma'!$E$29:$E$86,$A$2)>=1,COUNTIF('Extended Diploma'!$E$29:$E$86,$A$6)>=1),AND(COUNTIF('Extended Diploma'!$E$29:$E$86,$A$3)>=1,COUNTIF('Extended Diploma'!$E$29:$E$86,$A$4)>=1),AND(COUNTIF('Extended Diploma'!$E$29:$E$86,$A$3)>=1,COUNTIF('Extended Diploma'!$E$29:$E$86,$A$5)>=1),AND(COUNTIF('Extended Diploma'!$E$29:$E$86,$A$3)>=1,COUNTIF('Extended Diploma'!$E$29:$E$86,$A$6)>=1),AND(COUNTIF('Extended Diploma'!$E$29:$E$86,$A$4)>=1,COUNTIF('Extended Diploma'!$E$29:$E$86,$A$5)>=1),AND(COUNTIF('Extended Diploma'!$E$29:$E$86,$A$4)>=1,COUNTIF('Extended Diploma'!$E$29:$E$86,$A$6)>=1),AND(COUNTIF('Extended Diploma'!$E$29:$E$86,$A$5)>=1,COUNTIF('Extended Diploma'!$E$29:$E$86,$A$6)>=1)),0,ROW())","v":5},{"$f":"IF(G5=0,\"\",SMALL(F5:G5,1))","v":5},{"$f":"IF(ROW(E5)-ROW(E$2)+1>COUNT(H$2:H$25),\"\",INDEX(E:E,SMALL(H$2:H$25,1+ROW(E5)-ROW(E$2))))","v":"Mechanical Measurement and Inspection Technology"},{"$f":"IF(ISERROR(I5),\"\",I5)","v":"Mechanical Measurement and Inspection Technology"},{"$f":"IF(J5=\"\",\"\",ROW())","v":5},{"$f":"IF(J5=\"\",\"\",VLOOKUP(J5,$A$1:$C$25,3,FALSE))","v":30},"Manufacturing Computer Numerical Control Machining Processes",{"$f":"IF(COUNTIF('Extended Diploma'!$E$29:$E$86,M5)>=1,\"\",ROW())","v":5},{"$f":"IF(ROW(M5)-ROW(M$2)+1>COUNT(N$2:N$25),\"\",INDEX(M:M,SMALL(N$2:N$25,1+ROW(M5)-ROW(M$2))))","v":"Manufacturing Computer Numerical Control Machining Processes"},43,{"$f":"IF(ISBLANK(L5),\"\",L5)","v":30},30,"Mechanical Measurement and Inspection Technology"]
["Programmable Logic Controllers",{"$f":"IF(COUNTIF('Extended Diploma'!$E$29:$E$86,A6)>=1,\"\",ROW())","v":6},36,"Programmable Logic Controllers","Programmable Logic Controllers",{"$f":"IF(COUNTIF('Extended Diploma'!$E$29:$E$86,E6)>=1,0,ROW())","v":6},{"$f":"IF(OR(AND(COUNTIF('Extended Diploma'!$E$29:$E$86,$A$2)>=1,COUNTIF('Extended Diploma'!$E$29:$E$86,$A$3)>=1),AND(COUNTIF('Extended Diploma'!$E$29:$E$86,$A$2)>=1,COUNTIF('Extended Diploma'!$E$29:$E$86,$A$4)>=1),AND(COUNTIF('Extended Diploma'!$E$29:$E$86,$A$2)>=1,COUNTIF('Extended Diploma'!$E$29:$E$86,$A$5)>=1),AND(COUNTIF('Extended Diploma'!$E$29:$E$86,$A$2)>=1,COUNTIF('Extended Diploma'!$E$29:$E$86,$A$6)>=1),AND(COUNTIF('Extended Diploma'!$E$29:$E$86,$A$3)>=1,COUNTIF('Extended Diploma'!$E$29:$E$86,$A$4)>=1),AND(COUNTIF('Extended Diploma'!$E$29:$E$86,$A$3)>=1,COUNTIF('Extended Diploma'!$E$29:$E$86,$A$5)>=1),AND(COUNTIF('Extended Diploma'!$E$29:$E$86,$A$3)>=1,COUNTIF('Extended Diploma'!$E$29:$E$86,$A$6)>=1),AND(COUNTIF('Extended Diploma'!$E$29:$E$86,$A$4)>=1,COUNTIF('Extended Diploma'!$E$29:$E$86,$A$5)>=1),AND(COUNTIF('Extended Diploma'!$E$29:$E$86,$A$4)>=1,COUNTIF('Extended Diploma'!$E$29:$E$86,$A$6)>=1),AND(COUNTIF('Extended Diploma'!$E$29:$E$86,$A$5)>=1,COUNTIF('Extended Diploma'!$E$29:$E$86,$A$6)>=1)),0,ROW())","v":6},{"$f":"IF(G6=0,\"\",SMALL(F6:G6,1))","v":6},{"$f":"IF(ROW(E6)-ROW(E$2)+1>COUNT(H$2:H$25),\"\",INDEX(E:E,SMALL(H$2:H$25,1+ROW(E6)-ROW(E$2))))","v":"Programmable Logic Controllers"},{"$f":"IF(ISERROR(I6),\"\",I6)","v":"Programmable Logic Controllers"},{"$f":"IF(J6=\"\",\"\",ROW())","v":6},{"$f":"IF(J6=\"\",\"\",VLOOKUP(J6,$A$1:$C$25,3,FALSE))","v":36},"Fabrication Manufacturing Processes",{"$f":"IF(COUNTIF('Extended Diploma'!$E$29:$E$86,M6)>=1,\"\",ROW())","v":6},{"$f":"IF(ROW(M6)-ROW(M$2)+1>COUNT(N$2:N$25),\"\",INDEX(M:M,SMALL(N$2:N$25,1+ROW(M6)-ROW(M$2))))","v":"Fabrication Manufacturing Processes"},44,{"$f":"IF(ISBLANK(L6),\"\",L6)","v":36},36,"Programmable Logic Controllers"]
["Computer Aided Manufacturing and Planning",{"$f":"IF(COUNTIF('Extended Diploma'!$E$29:$E$86,A7)>=1,\"\",ROW())","v":7},40,"Computer Aided Manufacturing and Planning",null,null,null,null,null,null,null,null,"Additive Manufacturing Processes",{"$f":"IF(COUNTIF('Extended Diploma'!$E$29:$E$86,M7)>=1,\"\",ROW())","v":7},{"$f":"IF(ROW(M7)-ROW(M$2)+1>COUNT(N$2:N$25),\"\",INDEX(M:M,SMALL(N$2:N$25,1+ROW(M7)-ROW(M$2))))","v":"Additive Manufacturing Processes"},45,{"$f":"IF(ISBLANK(P2),\"\",P2)","v":40},40,"Computer Aided Manufacturing and Planning"]
["Manufacturing Secondary Machining Processes",{"$f":"IF(COUNTIF('Extended Diploma'!$E$29:$E$86,A8)>=1,\"\",ROW())","v":8},41,"Manufacturing Secondary Machining Processes",null,null,null,null,null,null,null,null,"Manufacturing Joining, Finishing and Assembly Processes",{"$f":"IF(COUNTIF('Extended Diploma'!$E$29:$E$86,M8)>=1,\"\",ROW())","v":8},{"$f":"IF(ROW(M8)-ROW(M$2)+1>COUNT(N$2:N$25),\"\",INDEX(M:M,SMALL(N$2:N$25,1+ROW(M8)-ROW(M$2))))","v":"Manufacturing Joining, Finishing and Assembly Processes"},46,{"$f":"IF(ISBLANK(P3),\"\",P3)","v":41},41,"Manufacturing Secondary Machining Processes"]
["Manufacturing Primary Forming Processes",{"$f":"IF(COUNTIF('Extended Diploma'!$E$29:$E$86,A9)>=1,\"\",ROW())","v":9},42,"Manufacturing Primary Forming Processes",null,null,null,null,null,null,null,null,"Composites Manufacture and Repair Processes",{"$f":"IF(COUNTIF('Extended Diploma'!$E$29:$E$86,M9)>=1,\"\",ROW())","v":9},{"$f":"IF(ROW(M9)-ROW(M$2)+1>COUNT(N$2:N$25),\"\",INDEX(M:M,SMALL(N$2:N$25,1+ROW(M9)-ROW(M$2))))","v":"Composites Manufacture and Repair Processes"},47,42,42,"Manufacturing Primary Forming Processes"]
["Manufacturing Computer Numerical Control Machining Processes",{"$f":"IF(COUNTIF('Extended Diploma'!$E$29:$E$86,A10)>=1,\"\",ROW())","v":10},43,"Manufacturing Computer Numerical Control Machining Processes",null,null,null,null,null,null,null,null,"Industrial Robotics",{"$f":"IF(COUNTIF('Extended Diploma'!$E$29:$E$86,M10)>=1,\"\",ROW())","v":10},{"$f":"IF(ROW(M10)-ROW(M$2)+1>COUNT(N$2:N$25),\"\",INDEX(M:M,SMALL(N$2:N$25,1+ROW(M10)-ROW(M$2))))","v":"Industrial Robotics"},56,43,43,"Manufacturing Computer Numerical Control Machining Processes"]
["Fabrication Manufacturing Processes",{"$f":"IF(COUNTIF('Extended Diploma'!$E$29:$E$86,A11)>=1,\"\",ROW())","v":11},44,"Fabrication Manufacturing Processes",null,null,null,null,null,null,null,null,null,null,null,null,44,44,"Fabrication Manufacturing Processes"]
["Additive Manufacturing Processes",{"$f":"IF(COUNTIF('Extended Diploma'!$E$29:$E$86,A12)>=1,\"\",ROW())","v":12},45,"Additive Manufacturing Processes",null,null,null,null,null,null,null,null,null,null,null,null,45,45,"Additive Manufacturing Processes"]
["Manufacturing Joining, Finishing and Assembly Processes",{"$f":"IF(COUNTIF('Extended Diploma'!$E$29:$E$86,A13)>=1,\"\",ROW())","v":13},46,"Manufacturing Joining, Finishing and Assembly Processes",null,null,null,null,null,null,null,null,null,null,null,null,46,46,"Manufacturing Joining, Finishing and Assembly Processes"]
["Composites Manufacture and Repair Processes",{"$f":"IF(COUNTIF('Extended Diploma'!$E$29:$E$86,A14)>=1,\"\",ROW())","v":14},47,"Composites Manufacture and Repair Processes",null,null,null,null,null,null,null,null,null,null,null,null,47,47,"Composites Manufacture and Repair Processes"]
["Industrial Robotics",{"$f":"IF(COUNTIF('Extended Diploma'!$E$29:$E$86,A15)>=1,\"\",ROW())","v":15},56,"Industrial Robotics",null,null,null,null,null,null,null,null,null,null,null,null,56,56,"Industrial Robotics"]

{"sheet":"ED Comp Eng Unit List","index":23,"n_rows":11,"n_cols":19,"rows_kept":11,"cut":false,"hidden":true,"merged":[]}
[]
["Electronic Devices and Circuits",{"$f":"IF(COUNTIF('Extended Diploma'!$E$29:$E$86,A2)>=1,\"\",ROW())","v":2},19,"Electronic Devices and Circuits","Electronic Devices and Circuits",{"$f":"IF(COUNTIF('Extended Diploma'!$E$29:$E$86,E2)>=1,\"\",ROW())","v":2},{"$f":"IF(OR(AND(COUNTIF('Extended Diploma'!$E$29:$E$86,$A$2)>=1,COUNTIF('Extended Diploma'!$E$29:$E$86,$A$9)>=1),AND(COUNTIF('Extended Diploma'!$E$29:$E$86,$A$2)>=1,COUNTIF('Extended Diploma'!$E$29:$E$86,$A$10)>=1),AND(COUNTIF('Extended Diploma'!$E$29:$E$86,$A$9)>=1,COUNTIF('Extended Diploma'!$E$29:$E$86,$A$10)>=1)),0,ROW())","v":2},{"$f":"IF(G2=0,\"\",SMALL(F2:G2,1))","v":2},{"$f":"IF(ROW(E2)-ROW(E$2)+1>COUNT(H$2:H$25),\"\",INDEX(E:E,SMALL(H$2:H$25,1+ROW(E2)-ROW(E$2))))","v":"Electronic Devices and Circuits"},{"$f":"IF(ISERROR(I2),\"\",I2)","v":"Electronic Devices and Circuits"},{"$f":"IF(J2=\"\",\"\",ROW())","v":2},{"$f":"IF(J2=\"\",\"\",VLOOKUP(J2,$A$1:$C$25,3,FALSE))","v":19},"Computer Systems Security",{"$f":"IF(COUNTIF('Extended Diploma'!$E$29:$E$86,M2)>=1,\"\",ROW())","v":2},{"$f":"IF(ROW(M2)-ROW(M$2)+1>COUNT(N$2:N$25),\"\",INDEX(M:M,SMALL(N$2:N$25,1+ROW(M2)-ROW(M$2))))","v":"Computer Systems Security"},{"$f":"IF(O2=\"\",\"\",VLOOKUP(O2,$A$1:$C$25,3,FALSE))","v":33},{"$f":"IF(ISBLANK(L2),\"\",L2)","v":19},{"$f":"_xlfn._xlws.SORT(Q2:Q11)","v":19},{"$f":"IF(R2=\"\",\"\",VLOOKUP(R2,$C$1:$D$25,2,FALSE))","v":"Electronic Devices and Circuits"}]
["Computer Systems Security",{"$f":"IF(COUNTIF('Extended Diploma'!$E$29:$E$86,A3)>=1,\"\",ROW())","v":3},33,"Computer Systems Security","Computer Aided Manufacturing and Planning",{"$f":"IF(COUNTIF('Extended Diploma'!$E$29:$E$86,E3)>=1,\"\",ROW())","v":3},{"$f":"IF(OR(AND(COUNTIF('Extended Diploma'!$E$29:$E$86,$A$2)>=1,COUNTIF('Extended Diploma'!$E$29:$E$86,$A$9)>=1),AND(COUNTIF('Extended Diploma'!$E$29:$E$86,$A$2)>=1,COUNTIF('Extended Diploma'!$E$29:$E$86,$A$10)>=1),AND(COUNTIF('Extended Diploma'!$E$29:$E$86,$A$9)>=1,COUNTIF('Extended Diploma'!$E$29:$E$86,$A$10)>=1)),0,ROW())","v":3},{"$f":"IF(G3=0,\"\",SMALL(F3:G3,1))","v":3},{"$f":"IF(ROW(E3)-ROW(E$2)+1>COUNT(H$2:H$25),\"\",INDEX(E:E,SMALL(H$2:H$25,1+ROW(E3)-ROW(E$2))))","v":"Computer Aided Manufacturing and Planning"},{"$f":"IF(ISERROR(I3),\"\",I3)","v":"Computer Aided Manufacturing and Planning"},{"$f":"IF(J3=\"\",\"\",ROW())","v":3},{"$f":"IF(J3=\"\",\"\",VLOOKUP(J3,$A$1:$C$25,3,FALSE))","v":40},"Computer Systems Support and Performance",{"$f":"IF(COUNTIF('Extended Diploma'!$E$29:$E$86,M3)>=1,\"\",ROW())","v":3},{"$f":"IF(ROW(M3)-ROW(M$2)+1>COUNT(N$2:N$25),\"\",INDEX(M:M,SMALL(N$2:N$25,1+ROW(M3)-ROW(M$2))))","v":"Computer Systems Support and Performance"},{"$f":"IF(O3=\"\",\"\",VLOOKUP(O3,$A$1:$C$25,3,FALSE))","v":34},{"$f":"IF(ISBLANK(L3),\"\",L3)","v":40},33,{"$f":"IF(R3=\"\",\"\",VLOOKUP(R3,$C$1:$D$25,2,FALSE))","v":"Computer Systems Security"}]
["Computer Systems Support and Performance",{"$f":"IF(COUNTIF('Extended Diploma'!$E$29:$E$86,A4)>=1,\"\",ROW())","v":4},34,"Computer Systems Support and Performance","Manufacturing Computer Numerical Control Machining Processes",{"$f":"IF(COUNTIF('Extended Diploma'!$E$29:$E$86,E4)>=1,\"\",ROW())","v":4},{"$f":"IF(OR(AND(COUNTIF('Extended Diploma'!$E$29:$E$86,$A$2)>=1,COUNTIF('Extended Diploma'!$E$29:$E$86,$A$9)>=1),AND(COUNTIF('Extended Diploma'!$E$29:$E$86,$A$2)>=1,COUNTIF('Extended Diploma'!$E$29:$E$86,$A$10)>=1),AND(COUNTIF('Extended Diploma'!$E$29:$E$86,$A$9)>=1,COUNTIF('Extended Diploma'!$E$29:$E$86,$A$10)>=1)),0,ROW())","v":4},{"$f":"IF(G4=0,\"\",SMALL(F4:G4,1))","v":4},{"$f":"IF(ROW(E4)-ROW(E$2)+1>COUNT(H$2:H$25),\"\",INDEX(E:E,SMALL(H$2:H$25,1+ROW(E4)-ROW(E$2))))","v":"Manufacturing Computer Numerical Control Machining Processes"},{"$f":"IF(ISERROR(I4),\"\",I4)","v":"Manufacturing Computer Numerical Control Machining Processes"},{"$f":"IF(J4=\"\",\"\",ROW())","v":4},{"$f":"IF(J4=\"\",\"\",VLOOKUP(J4,$A$1:$C$25,3,FALSE))","v":43},"Computer Programming",{"$f":"IF(COUNTIF('Extended Diploma'!$E$29:$E$86,M4)>=1,\"\",ROW())","v":4},{"$f":"IF(ROW(M4)-ROW(M$2)+1>COUNT(N$2:N$25),\"\",INDEX(M:M,SMALL(N$2:N$25,1+ROW(M4)-ROW(M$2))))","v":"Computer Programming"},35,{"$f":"IF(ISBLANK(L4),\"\",L4)","v":43},34,"Computer Systems Support and Performance"]
["Computer Programming",{"$f":"IF(COUNTIF('Extended Diploma'!$E$29:$E$86,A5)>=1,\"\",ROW())","v":5},35,"Computer Programming",null,null,null,null,null,null,null,null,"Programmable Logic Controllers",{"$f":"IF(COUNTIF('Extended Diploma'!$E$29:$E$86,M5)>=1,\"\",ROW())","v":5},{"$f":"IF(ROW(M5)-ROW(M$2)+1>COUNT(N$2:N$25),\"\",INDEX(M:M,SMALL(N$2:N$25,1+ROW(M5)-ROW(M$2))))","v":"Programmable Logic Controllers"},36,{"$f":"IF(ISBLANK(P2),\"\",P2)","v":33},35,"Computer Programming"]
["Programmable Logic Controllers",{"$f":"IF(COUNTIF('Extended Diploma'!$E$29:$E$86,A6)>=1,\"\",ROW())","v":6},36,"Programmable Logic Controllers",null,null,null,null,null,null,null,null,"Computer Networks",{"$f":"IF(COUNTIF('Extended Diploma'!$E$29:$E$86,M6)>=1,\"\",ROW())","v":6},{"$f":"IF(ROW(M6)-ROW(M$2)+1>COUNT(N$2:N$25),\"\",INDEX(M:M,SMALL(N$2:N$25,1+ROW(M6)-ROW(M$2))))","v":"Computer Networks"},37,{"$f":"IF(ISBLANK(P3),\"\",P3)","v":34},36,"Programmable Logic Controllers"]
["Computer Networks",{"$f":"IF(COUNTIF('Extended Diploma'!$E$29:$E$86,A7)>=1,\"\",ROW())","v":7},37,"Computer Networks",null,null,null,null,null,null,null,null,"Website Production to Control Devices",{"$f":"IF(COUNTIF('Extended Diploma'!$E$29:$E$86,M7)>=1,\"\",ROW())","v":7},{"$f":"IF(ROW(M7)-ROW(M$2)+1>COUNT(N$2:N$25),\"\",INDEX(M:M,SMALL(N$2:N$25,1+ROW(M7)-ROW(M$2))))","v":"Website Production to Control Devices"},38,35,37,"Computer Networks"]
["Website Production to Control Devices",{"$f":"IF(COUNTIF('Extended Diploma'!$E$29:$E$86,A8)>=1,\"\",ROW())","v":8},38,"Website Production to Control Devices",null,null,null,null,null,null,null,null,"Industrial Robotics",{"$f":"IF(COUNTIF('Extended Diploma'!$E$29:$E$86,M8)>=1,\"\",ROW())","v":8},{"$f":"IF(ROW(M8)-ROW(M$2)+1>COUNT(N$2:N$25),\"\",INDEX(M:M,SMALL(N$2:N$25,1+ROW(M8)-ROW(M$2))))","v":"Industrial Robotics"},56,36,38,"Website Production to Control Devices"]
["Computer Aided Manufacturing and Planning",{"$f":"IF(COUNTIF('Extended Diploma'!$E$29:$E$86,A9)>=1,\"\",ROW())","v":9},40,"Computer Aided Manufacturing and Planning",null,null,null,null,null,null,null,null,null,null,null,null,37,40,"Computer Aided Manufacturing and Planning"]
["Manufacturing Computer Numerical Control Machining Processes",{"$f":"IF(COUNTIF('Extended Diploma'!$E$29:$E$86,A10)>=1,\"\",ROW())","v":10},43,"Manufacturing Computer Numerical Control Machining Processes",null,null,null,null,null,null,null,null,null,null,null,null,38,43,"Manufacturing Computer Numerical Control Machining Processes"]
["Industrial Robotics",{"$f":"IF(COUNTIF('Extended Diploma'!$E$29:$E$86,A11)>=1,\"\",ROW())","v":11},56,"Industrial Robotics",null,null,null,null,null,null,null,null,null,null,null,null,56,56,"Industrial Robotics"]

{"sheet":"ED Mech Eng Unit List","index":24,"n_rows":14,"n_cols":19,"rows_kept":14,"cut":false,"hidden":true,"merged":[]}
[]
["Further Engineering Mathematics",{"$f":"IF(COUNTIF('Extended Diploma'!$E$29:$E$86,A2)>=1,\"\",ROW())","v":2},8,"Further Engineering Mathematics","Further Engineering Mathematics",{"$f":"IF(COUNTIF('Extended Diploma'!$E$29:$E$86,E2)>=1,0,ROW())","v":2},{"$f":"IF(OR(AND(COUNTIF('Extended Diploma'!$E$29:$E$86,$A$2)>=1,COUNTIF('Extended Diploma'!$E$29:$E$86,$A$3)>=1),AND(COUNTIF('Extended Diploma'!$E$29:$E$86,$A$2)>=1,COUNTIF('Extended Diploma'!$E$29:$E$86,$A$4)>=1),AND(COUNTIF('Extended Diploma'!$E$29:$E$86,$A$2)>=1,COUNTIF('Extended Diploma'!$E$29:$E$86,$A$5)>=1),AND(COUNTIF('Extended Diploma'!$E$29:$E$86,$A$2)>=1,COUNTIF('Extended Diploma'!$E$29:$E$86,$A$14)>=1),AND(COUNTIF('Extended Diploma'!$E$29:$E$86,$A$3)>=1,COUNTIF('Extended Diploma'!$E$29:$E$86,$A$4)>=1),AND(COUNTIF('Extended Diploma'!$E$29:$E$86,$A$3)>=1,COUNTIF('Extended Diploma'!$E$29:$E$86,$A$5)>=1),AND(COUNTIF('Extended Diploma'!$E$29:$E$86,$A$3)>=1,COUNTIF('Extended Diploma'!$E$29:$E$86,$A$14)>=1),AND(COUNTIF('Extended Diploma'!$E$29:$E$86,$A$4)>=1,COUNTIF('Extended Diploma'!$E$29:$E$86,$A$5)>=1),AND(COUNTIF('Extended Diploma'!$E$29:$E$86,$A$4)>=1,COUNTIF('Extended Diploma'!$E$29:$E$86,$A$14)>=1),AND(COUNTIF('Extended Diploma'!$E$29:$E$86,$A$5)>=1,COUNTIF('Extended Diploma'!$E$29:$E$86,$A$14)>=1)),0,ROW())","v":2},{"$f":"IF(G2=0,\"\",SMALL(F2:G2,1))","v":2},{"$f":"IF(ROW(E2)-ROW(E$2)+1>COUNT(H$2:H$25),\"\",INDEX(E:E,SMALL(H$2:H$25,1+ROW(E2)-ROW(E$2))))","v":"Further Engineering Mathematics"},{"$f":"IF(ISERROR(I2),\"\",I2)","v":"Further Engineering Mathematics"},{"$f":"IF(J2=\"\",\"\",ROW())","v":2},{"$f":"IF(J2=\"\",\"\",VLOOKUP(J2,$A$1:$C$25,3,FALSE))","v":8},"Maintenance of Mechanical Systems",{"$f":"IF(COUNTIF('Extended Diploma'!$E$29:$E$86,M2)>=1,\"\",ROW())","v":2},{"$f":"IF(ROW(M2)-ROW(M$2)+1>COUNT(N$2:N$25),\"\",INDEX(M:M,SMALL(N$2:N$25,1+ROW(M2)-ROW(M$2))))","v":"Maintenance of Mechanical Systems"},{"$f":"IF(O2=\"\",\"\",VLOOKUP(O2,$A$1:$C$25,3,FALSE))","v":24},{"$f":"IF(ISBLANK(L2),\"\",L2)","v":8},{"$f":"_xlfn._xlws.SORT(Q2:Q14)","v":8},{"$f":"IF(R2=\"\",\"\",VLOOKUP(R2,$C$1:$D$25,2,FALSE))","v":"Further Engineering Mathematics"}]
["Computer Aided Design in Engineering",{"$f":"IF(COUNTIF('Extended Diploma'!$E$29:$E$86,A3)>=1,\"\",ROW())","v":3},10,"Computer Aided Design in Engineering","Computer Aided Design in Engineering",{"$f":"IF(COUNTIF('Extended Diploma'!$E$29:$E$86,E3)>=1,0,ROW())","v":3},{"$f":"IF(OR(AND(COUNTIF('Extended Diploma'!$E$29:$E$86,$A$2)>=1,COUNTIF('Extended Diploma'!$E$29:$E$86,$A$3)>=1),AND(COUNTIF('Extended Diploma'!$E$29:$E$86,$A$2)>=1,COUNTIF('Extended Diploma'!$E$29:$E$86,$A$4)>=1),AND(COUNTIF('Extended Diploma'!$E$29:$E$86,$A$2)>=1,COUNTIF('Extended Diploma'!$E$29:$E$86,$A$5)>=1),AND(COUNTIF('Extended Diploma'!$E$29:$E$86,$A$2)>=1,COUNTIF('Extended Diploma'!$E$29:$E$86,$A$14)>=1),AND(COUNTIF('Extended Diploma'!$E$29:$E$86,$A$3)>=1,COUNTIF('Extended Diploma'!$E$29:$E$86,$A$4)>=1),AND(COUNTIF('Extended Diploma'!$E$29:$E$86,$A$3)>=1,COUNTIF('Extended Diploma'!$E$29:$E$86,$A$5)>=1),AND(COUNTIF('Extended Diploma'!$E$29:$E$86,$A$3)>=1,COUNTIF('Extended Diploma'!$E$29:$E$86,$A$14)>=1),AND(COUNTIF('Extended Diploma'!$E$29:$E$86,$A$4)>=1,COUNTIF('Extended Diploma'!$E$29:$E$86,$A$5)>=1),AND(COUNTIF('Extended Diploma'!$E$29:$E$86,$A$4)>=1,COUNTIF('Extended Diploma'!$E$29:$E$86,$A$14)>=1),AND(COUNTIF('Extended Diploma'!$E$29:$E$86,$A$5)>=1,COUNTIF('Extended Diploma'!$E$29:$E$86,$A$14)>=1)),0,ROW())","v":3},{"$f":"IF(G3=0,\"\",SMALL(F3:G3,1))","v":3},{"$f":"IF(ROW(E3)-ROW(E$2)+1>COUNT(H$2:H$25),\"\",INDEX(E:E,SMALL(H$2:H$25,1+ROW(E3)-ROW(E$2))))","v":"Computer Aided Design in Engineering"},{"$f":"IF(ISERROR(I3),\"\",I3)","v":"Computer Aided Design in Engineering"},{"$f":"IF(J3=\"\",\"\",ROW())","v":3},{"$f":"IF(J3=\"\",\"\",VLOOKUP(J3,$A$1:$C$25,3,FALSE))","v":10},"Mechanical Behaviour of Metallic Materials",{"$f":"IF(COUNTIF('Extended Diploma'!$E$29:$E$86,M3)>=1,\"\",ROW())","v":3},{"$f":"IF(ROW(M3)-ROW(M$2)+1>COUNT(N$2:N$25),\"\",INDEX(M:M,SMALL(N$2:N$25,1+ROW(M3)-ROW(M$2))))","v":"Mechanical Behaviour of Metallic Materials"},{"$f":"IF(O3=\"\",\"\",VLOOKUP(O3,$A$1:$C$25,3,FALSE))","v":25},{"$f":"IF(ISBLANK(L3),\"\",L3)","v":10},10,{"$f":"IF(R3=\"\",\"\",VLOOKUP(R3,$C$1:$D$25,2,FALSE))","v":"Computer Aided Design in Engineering"}]
["Engineering Maintenance and Condition Monitoring Techniques",{"$f":"IF(COUNTIF('Extended Diploma'!$E$29:$E$86,A4)>=1,\"\",ROW())","v":4},11,"Engineering Maintenance and Condition Monitoring Techniques","Engineering Maintenance and Condition Monitoring Techniques",{"$f":"IF(COUNTIF('Extended Diploma'!$E$29:$E$86,E4)>=1,0,ROW())","v":4},{"$f":"IF(OR(AND(COUNTIF('Extended Diploma'!$E$29:$E$86,$A$2)>=1,COUNTIF('Extended Diploma'!$E$29:$E$86,$A$3)>=1),AND(COUNTIF('Extended Diploma'!$E$29:$E$86,$A$2)>=1,COUNTIF('Extended Diploma'!$E$29:$E$86,$A$4)>=1),AND(COUNTIF('Extended Diploma'!$E$29:$E$86,$A$2)>=1,COUNTIF('Extended Diploma'!$E$29:$E$86,$A$5)>=1),AND(COUNTIF('Extended Diploma'!$E$29:$E$86,$A$2)>=1,COUNTIF('Extended Diploma'!$E$29:$E$86,$A$14)>=1),AND(COUNTIF('Extended Diploma'!$E$29:$E$86,$A$3)>=1,COUNTIF('Extended Diploma'!$E$29:$E$86,$A$4)>=1),AND(COUNTIF('Extended Diploma'!$E$29:$E$86,$A$3)>=1,COUNTIF('Extended Diploma'!$E$29:$E$86,$A$5)>=1),AND(COUNTIF('Extended Diploma'!$E$29:$E$86,$A$3)>=1,COUNTIF('Extended Diploma'!$E$29:$E$86,$A$14)>=1),AND(COUNTIF('Extended Diploma'!$E$29:$E$86,$A$4)>=1,COUNTIF('Extended Diploma'!$E$29:$E$86,$A$5)>=1),AND(COUNTIF('Extended Diploma'!$E$29:$E$86,$A$4)>=1,COUNTIF('Extended Diploma'!$E$29:$E$86,$A$14)>=1),AND(COUNTIF('Extended Diploma'!$E$29:$E$86,$A$5)>=1,COUNTIF('Extended Diploma'!$E$29:$E$86,$A$14)>=1)),0,ROW())","v":4},{"$f":"IF(G4=0,\"\",SMALL(F4:G4,1))","v":4},{"$f":"IF(ROW(E4)-ROW(E$2)+1>COUNT(H$2:H$25),\"\",INDEX(E:E,SMALL(H$2:H$25,1+ROW(E4)-ROW(E$2))))","v":"Engineering Maintenance and Condition Monitoring Techniques"},{"$f":"IF(ISERROR(I4),\"\",I4)","v":"Engineering Maintenance and Condition Monitoring Techniques"},{"$f":"IF(J4=\"\",\"\",ROW())","v":4},{"$f":"IF(J4=\"\",\"\",VLOOKUP(J4,$A$1:$C$25,3,FALSE))","v":11},"Mechanical Behaviour of Non-metallic Materials",{"$f":"IF(COUNTIF('Extended Diploma'!$E$29:$E$86,M4)>=1,\"\",ROW())","v":4},{"$f":"IF(ROW(M4)-ROW(M$2)+1>COUNT(N$2:N$25),\"\",INDEX(M:M,SMALL(N$2:N$25,1+ROW(M4)-ROW(M$2))))","v":"Mechanical Behaviour of Non-metallic Materials"},26,{"$f":"IF(ISBLANK(L4),\"\",L4)","v":11},11,"Engineering Maintenance and Condition Monitoring Techniques"]
["Pneumatic and Hydraulic Systems",{"$f":"IF(COUNTIF('Extended Diploma'!$E$29:$E$86,A5)>=1,\"\",ROW())","v":5},12,"Pneumatic and Hydraulic Systems","Pneumatic and Hydraulic Systems",{"$f":"IF(COUNTIF('Extended Diploma'!$E$29:$E$86,E5)>=1,0,ROW())","v":5},{"$f":"IF(OR(AND(COUNTIF('Extended Diploma'!$E$29:$E$86,$A$2)>=1,COUNTIF('Extended Diploma'!$E$29:$E$86,$A$3)>=1),AND(COUNTIF('Extended Diploma'!$E$29:$E$86,$A$2)>=1,COUNTIF('Extended Diploma'!$E$29:$E$86,$A$4)>=1),AND(COUNTIF('Extended Diploma'!$E$29:$E$86,$A$2)>=1,COUNTIF('Extended Diploma'!$E$29:$E$86,$A$5)>=1),AND(COUNTIF('Extended Diploma'!$E$29:$E$86,$A$2)>=1,COUNTIF('Extended Diploma'!$E$29:$E$86,$A$14)>=1),AND(COUNTIF('Extended Diploma'!$E$29:$E$86,$A$3)>=1,COUNTIF('Extended Diploma'!$E$29:$E$86,$A$4)>=1),AND(COUNTIF('Extended Diploma'!$E$29:$E$86,$A$3)>=1,COUNTIF('Extended Diploma'!$E$29:$E$86,$A$5)>=1),AND(COUNTIF('Extended Diploma'!$E$29:$E$86,$A$3)>=1,COUNTIF('Extended Diploma'!$E$29:$E$86,$A$14)>=1),AND(COUNTIF('Extended Diploma'!$E$29:$E$86,$A$4)>=1,COUNTIF('Extended Diploma'!$E$29:$E$86,$A$5)>=1),AND(COUNTIF('Extended Diploma'!$E$29:$E$86,$A$4)>=1,COUNTIF('Extended Diploma'!$E$29:$E$86,$A$14)>=1),AND(COUNTIF('Extended Diploma'!$E$29:$E$86,$A$5)>=1,COUNTIF('Extended Diploma'!$E$29:$E$86,$A$14)>=1)),0,ROW())","v":5},{"$f":"IF(G5=0,\"\",SMALL(F5:G5,1))","v":5},{"$f":"IF(ROW(E5)-ROW(E$2)+1>COUNT(H$2:H$25),\"\",INDEX(E:E,SMALL(H$2:H$25,1+ROW(E5)-ROW(E$2))))","v":"Pneumatic and Hydraulic Systems"},{"$f":"IF(ISERROR(I5),\"\",I5)","v":"Pneumatic and Hydraulic Systems"},{"$f":"IF(J5=\"\",\"\",ROW())","v":5},{"$f":"IF(J5=\"\",\"\",VLOOKUP(J5,$A$1:$C$25,3,FALSE))","v":12},"Static Mechanical Principles in Practice",{"$f":"IF(COUNTIF('Extended Diploma'!$E$29:$E$86,M5)>=1,\"\",ROW())","v":5},{"$f":"IF(ROW(M5)-ROW(M$2)+1>COUNT(N$2:N$25),\"\",INDEX(M:M,SMALL(N$2:N$25,1+ROW(M5)-ROW(M$2))))","v":"Static Mechanical Principles in Practice"},27,{"$f":"IF(ISBLANK(L5),\"\",L5)","v":12},12,"Pneumatic and Hydraulic Systems"]
["Maintenance of Mechanical Systems",{"$f":"IF(COUNTIF('Extended Diploma'!$E$29:$E$86,A6)>=1,\"\",ROW())","v":6},24,"Maintenance of Mechanical Systems","Programmable Logic Controllers",{"$f":"IF(COUNTIF('Extended Diploma'!$E$29:$E$86,E6)>=1,0,ROW())","v":6},{"$f":"IF(OR(AND(COUNTIF('Extended Diploma'!$E$29:$E$86,$A$2)>=1,COUNTIF('Extended Diploma'!$E$29:$E$86,$A$3)>=1),AND(COUNTIF('Extended Diploma'!$E$29:$E$86,$A$2)>=1,COUNTIF('Extended Diploma'!$E$29:$E$86,$A$4)>=1),AND(COUNTIF('Extended Diploma'!$E$29:$E$86,$A$2)>=1,COUNTIF('Extended Diploma'!$E$29:$E$86,$A$5)>=1),AND(COUNTIF('Extended Diploma'!$E$29:$E$86,$A$2)>=1,COUNTIF('Extended Diploma'!$E$29:$E$86,$A$14)>=1),AND(COUNTIF('Extended Diploma'!$E$29:$E$86,$A$3)>=1,COUNTIF('Extended Diploma'!$E$29:$E$86,$A$4)>=1),AND(COUNTIF('Extended Diploma'!$E$29:$E$86,$A$3)>=1,COUNTIF('Extended Diploma'!$E$29:$E$86,$A$5)>=1),AND(COUNTIF('Extended Diploma'!$E$29:$E$86,$A$3)>=1,COUNTIF('Extended Diploma'!$E$29:$E$86,$A$14)>=1),AND(COUNTIF('Extended Diploma'!$E$29:$E$86,$A$4)>=1,COUNTIF('Extended Diploma'!$E$29:$E$86,$A$5)>=1),AND(COUNTIF('Extended Diploma'!$E$29:$E$86,$A$4)>=1,COUNTIF('Extended Diploma'!$E$29:$E$86,$A$14)>=1),AND(COUNTIF('Extended Diploma'!$E$29:$E$86,$A$5)>=1,COUNTIF('Extended Diploma'!$E$29:$E$86,$A$14)>=1)),0,ROW())","v":6},{"$f":"IF(G6=0,\"\",SMALL(F6:G6,1))","v":6},{"$f":"IF(ROW(E6)-ROW(E$2)+1>COUNT(H$2:H$25),\"\",INDEX(E:E,SMALL(H$2:H$25,1+ROW(E6)-ROW(E$2))))","v":"Programmable Logic Controllers"},{"$f":"IF(ISERROR(I6),\"\",I6)","v":"Programmable Logic Controllers"},{"$f":"IF(J6=\"\",\"\",ROW())","v":6},{"$f":"IF(J6=\"\",\"\",VLOOKUP(J6,$A$1:$C$25,3,FALSE))","v":36},"Dynamic Mechanical Principles in Practice",{"$f":"IF(COUNTIF('Extended Diploma'!$E$29:$E$86,M6)>=1,\"\",ROW())","v":6},{"$f":"IF(ROW(M6)-ROW(M$2)+1>COUNT(N$2:N$25),\"\",INDEX(M:M,SMALL(N$2:N$25,1+ROW(M6)-ROW(M$2))))","v":"Dynamic Mechanical Principles in Practice"},28,{"$f":"IF(ISBLANK(L6),\"\",L6)","v":36},24,"Maintenance of Mechanical Systems"]
["Mechanical Behaviour of Metallic Materials",{"$f":"IF(COUNTIF('Extended Diploma'!$E$29:$E$86,A7)>=1,\"\",ROW())","v":7},25,"Mechanical Behaviour of Metallic Materials",null,null,null,null,null,null,null,null,"Principles and Applications of Fluid Mechanics",{"$f":"IF(COUNTIF('Extended Diploma'!$E$29:$E$86,M7)>=1,\"\",ROW())","v":7},{"$f":"IF(ROW(M7)-ROW(M$2)+1>COUNT(N$2:N$25),\"\",INDEX(M:M,SMALL(N$2:N$25,1+ROW(M7)-ROW(M$2))))","v":"Principles and Applications of Fluid Mechanics"},29,{"$f":"IF(ISBLANK(P2),\"\",P2)","v":24},25,"Mechanical Behaviour of Metallic Materials"]
["Mechanical Behaviour of Non-metallic Materials",{"$f":"IF(COUNTIF('Extended Diploma'!$E$29:$E$86,A8)>=1,\"\",ROW())","v":8},26,"Mechanical Behaviour of Non-metallic Materials",null,null,null,null,null,null,null,null,"Mechanical Measurement and Inspection Technology",{"$f":"IF(COUNTIF('Extended Diploma'!$E$29:$E$86,M8)>=1,\"\",ROW())","v":8},{"$f":"IF(ROW(M8)-ROW(M$2)+1>COUNT(N$2:N$25),\"\",INDEX(M:M,SMALL(N$2:N$25,1+ROW(M8)-ROW(M$2))))","v":"Mechanical Measurement and Inspection Technology"},30,{"$f":"IF(ISBLANK(P3),\"\",P3)","v":25},26,"Mechanical Behaviour of Non-metallic Materials"]
["Static Mechanical Principles in Practice",{"$f":"IF(COUNTIF('Extended Diploma'!$E$29:$E$86,A9)>=1,\"\",ROW())","v":9},27,"Static Mechanical Principles in Practice",null,null,null,null,null,null,null,null,"Thermodynamic Principles and Practice",{"$f":"IF(COUNTIF('Extended Diploma'!$E$29:$E$86,M9)>=1,\"\",ROW())","v":9},{"$f":"IF(ROW(M9)-ROW(M$2)+1>COUNT(N$2:N$25),\"\",INDEX(M:M,SMALL(N$2:N$25,1+ROW(M9)-ROW(M$2))))","v":"Thermodynamic Principles and Practice"},31,26,27,"Static Mechanical Principles in Practice"]
["Dynamic Mechanical Principles in Practice",{"$f":"IF(COUNTIF('Extended Diploma'!$E$29:$E$86,A10)>=1,\"\",ROW())","v":10},28,"Dynamic Mechanical Principles in Practice",null,null,null,null,null,null,null,null,null,null,null,null,27,28,"Dynamic Mechanical Principles in Practice"]
["Principles and Applications of Fluid Mechanics",{"$f":"IF(COUNTIF('Extended Diploma'!$E$29:$E$86,A11)>=1,\"\",ROW())","v":11},29,"Principles and Applications of Fluid Mechanics",null,null,null,null,null,null,null,null,null,null,null,null,28,29,"Principles and Applications of Fluid Mechanics"]
["Mechanical Measurement and Inspection Technology",{"$f":"IF(COUNTIF('Extended Diploma'!$E$29:$E$86,A12)>=1,\"\",ROW())","v":12},30,"Mechanical Measurement and Inspection Technology",null,null,null,null,null,null,null,null,null,null,null,null,29,30,"Mechanical Measurement and Inspection Technology"]
["Thermodynamic Principles and Practice",{"$f":"IF(COUNTIF('Extended Diploma'!$E$29:$E$86,A13)>=1,\"\",ROW())","v":13},31,"Thermodynamic Principles and Practice",null,null,null,null,null,null,null,null,null,null,null,null,30,31,"Thermodynamic Principles and Practice"]
["Programmable Logic Controllers",{"$f":"IF(COUNTIF('Extended Diploma'!$E$29:$E$86,A14)>=1,\"\",ROW())","v":14},36,"Programmable Logic Controllers",null,null,null,null,null,null,null,null,null,null,null,null,31,36,"Programmable Logic Controllers"]

{"sheet":"Extended Diploma Data Sheet","index":25,"n_rows":481,"n_cols":39,"rows_kept":481,"cut":false,"hidden":true,"merged":[]}
["Mandatory units",null,null,null,null,null,"Mandatory units B",null,null,null,null,null,null,"optional Units A",null,null,null,null,null,null,"optional units B",null,null,null,null,null,null,"optional units C",null,null,null,null,null,null,"optional units D"]
["Sector","Unit number","Unit Name","GLH","Assessment type",null,"Sector","Unit number","Unit Name","GLH","Assessment type",null,null,"Sector","Unit Number","Unit Name","GLH","Assessment type",null,null,"Sector","Unit Number","Unit Name","GLH","Assessment type",null,null,"Sector","Unit Number","Unit Name","GLH","Assessment type",null,null,"Sector","Unit Number","Unit Name","GLH","Assessment type"]
["Art and Design",1,"Visual Recording and Communication",120,"External",null,null,null,null,null,null,null,"Photographic Materials, Techniques and Processes","Art and Design",9,"Photographic Materials, Techniques and Processes",60,"Internal",null,"Studio Photography","Art and Design",17,"Studio Photography",60,"Internal",null,"Applications of Inorganic Chemistry","Applied Science",13,"Applications of Inorganic Chemistry",60,"Internal",null,"Systems Analysis and Design","Computing",22,"Systems Analysis and Design",60,"Internal"]
["Art and Design",2,"Critical and Contextual Studies in Art and Design",90,"External",null,"Animal Management",6,"Animal Health and Diseases",60,"Internal",null,"Graphic Materials, Techniques and Processes","Art and Design",10,"Graphic Materials, Techniques and Processes",60,"Internal",null,"Location Photography","Art and Design",18,"Location Photography",60,"Internal",null,"Electrical Circuits and their Application","Applied Science",15,"Electrical Circuits and their Application",60,"Internal",null,"Systems Methodology","Computing",23,"Systems Methodology",60,"Internal"]
["Art and Design",3,"The Creative Process",90,"Internal",null,"Animal Management",7,"Work Experience in the Animal Sector",60,"Internal",null,"Interactive Design Materials, Techniques and Processes","Art and Design",11,"Interactive Design Materials, Techniques and Processes",60,"Internal",null,"Digital Image Capture and Editing","Art and Design",19,"Digital Image Capture and Editing",60,"Internal",null,"Astronomy and Space Science","Applied Science",16,"Astronomy and Space Science",60,"Internal",null,"Healthy Dancer","Performing Arts",13,"Healthy Dancer",60,"Internal"]
["Art and Design",4,"Materials, Techniques and Process in Art and Design",90,"Internal",null,"Animal Management",8,"Investigative Research Project",60,"Internal",null,"Fine Art Materials, Techniques and Processes","Art and Design",12,"Fine Art Materials, Techniques and Processes",60,"Internal",null,"Non-Digital Photographic Techniques","Art and Design",20,"Non-Digital Photographic Techniques",60,"Internal",null,"Industrial Chemical Reactions","Applied Science",18,"Industrial Chemical Reactions",60,"Internal",null,"Improvisation","Performing Arts",21,"Improvisation",60,"Internal"]
["Art and Design",5,"Developing an Art and Design Portfolio",90,"Internal",null,null,null,null,null,null,null,"3D Design Materials, Techniques and Processes","Art and Design",13,"3D Design Materials, Techniques and Processes",60,"Internal",null,"Typography and Typographic Design","Art and Design",21,"Typography and Typographic Design",60,"Internal",null,"Medical Physics Applications","Applied Science",21,"Medical Physics Applications",60,"Internal",null,"Movement in Performance","Performing Arts",22,"Movement in Performance",60,"Internal"]
["Art and Design",6,"Managing a Client Brief",120,"External",null,null,null,null,null,null,null,"Textiles Materials, Techniques and Processes","Art and Design",14,"Textiles Materials, Techniques and Processes",60,"Internal",null,"Graphics for 3D","Art and Design",22,"Graphics for 3D",60,"Internal",null,"Cryogenics and Vacuum Technology","Applied Science",24,"Cryogenics and Vacuum Technology",60,"Internal",null,"Children's Theatre Performance","Performing Arts",24,"Children's Theatre Performance",60,"Internal"]
["Art and Design",7,"Developing and Realising Creative Intentions",120,"External",null,"CPLD",4,"Enquiries into Current Research in Early Years Practice",120,"External",null,"Fashion Materials, Techniques and Processes","Art and Design",15,"Fashion Materials, Techniques and Processes",60,"Internal",null,"Branding in Graphic Design","Art and Design",23,"Branding in Graphic Design",60,"Internal",null,"Computer Networking","Computing",19,"Computer Networking",60,"Internal",null,"Site Specific Performance","Performing Arts",25,"Site Specific Performance",60,"Internal"]
["Animal Management",1,"Animal Breeding and Genetics",120,"External",null,"Construction Building Services",14,"Provision of Primary Services in Construction",60,"Internal",null,"3D Design Craft Materials, Techniques and Processes","Art and Design",16,"3D Design Craft Materials, Techniques and Processes",60,"Internal",null,"Graphic Illustration","Art and Design",24,"Graphic Illustration",60,"Internal",null,"Managing and Supporting Systems","Computing",20,"Managing and Supporting Systems",60,"Internal",null,"Physical Theatre Techniques","Performing Arts",26,"Physical Theatre Techniques",60,"Internal"]
["Animal Management",2,"Animal Biology",120,"External",null,"Construction Building Services",21,"Building Services Science",60,"Internal",null,"Physiology of Human Body Systems","Applied Science",8,"Physiology of Human Body Systems",60,"Internal",null,"Conceptual Art for Games","Art and Design",25,"Conceptual Art for Games",60,"Internal",null,"Virtualisation","Computing",21,"Virtualisation",60,"Internal",null,"Variety Performance","Performing Arts",28,"Variety Performance",60,"Internal"]
["Animal Management",3,"Animal Welfare and Ethics",120,"External",null,"Construction and the Built Environment",6,"Surveying in Construction",60,"Internal",null,"Human Regulation and Reproduction","Applied Science",9,"Human Regulation and Reproduction",60,"Internal",null,"Web Design","Art and Design",26,"Web Design",60,"Internal",null,"Further Engineering Mathematics","Engineering",8,"Further Engineering Mathematics",60,"Internal",null,"Storytelling","Performing Arts",29,"Storytelling",60,"Internal"]
["Animal Management",4,"Practical Animal Husbandry",60,"Internal",null,"Construction and the Built Environment",7,"Graphical Detailing in Construction",60,"Internal",null,"Biological Molecules and Metabolic Pathways","Applied Science",10,"Biological Molecules and Metabolic Pathways",60,"Internal",null,"Animation","Art and Design",27,"Animation",60,"Internal",null,"Work Experience in the Engineering Sector","Engineering",9,"Work Experience in the Engineering Sector",60,"Internal",null,"Audio Performance","Performing Arts",30,"Audio Performance",60,"Internal"]
["Animal Management",5,"Animal Behaviour",60,"Internal",null,"Construction and the Built Environment",8,"Building Regulations and Control in Construction",60,"Internal",null,"Genetics and Genetic Engineering","Applied Science",11,"Genetics and Genetic Engineering",60,"Internal",null,"App Design","Art and Design",28,"App Design",60,"Internal",null,"Computer Aided Design in Engineering","Engineering",10,"Computer Aided Design in Engineering",60,"Internal",null,"Stand-up Comedy Technique","Performing Arts",31,"Stand-up Comedy Technique",60,"Internal"]
["Applied Science",1,"Principles and Applications of Science I",90,"External",null,"Construction and the Built Environment",9,"Management of a Construction Project",60,"Internal",null,"Diseases and Infections","Applied Science",12,"Diseases and Infections",60,"Internal",null,"Constructed Textiles","Art and Design",29,"Constructed Textiles",60,"Internal",null,"Engineering Maintenance and Condition Monitoring Techniques","Engineering",11,"Engineering Maintenance and Condition Monitoring Techniques",60,"Internal",null,"Puppetry Technique","Performing Arts",32,"Puppetry Technique",60,"Internal"]
["Applied Science",2,"Practical Scientific Procedures and Techniques",90,"Internal",null,"Construction Civil Engineering",11,"Site Engineering for Construction",60,"Internal",null,"Microbiology and Microbiological Techniques","Applied Science",17,"Microbiology and Microbiological Techniques",60,"Internal",null,"Woven Textiles","Art and Design",30,"Woven Textiles",60,"Internal",null,"Pneumatic and Hydraulic Systems","Engineering",12,"Pneumatic and Hydraulic Systems",60,"Internal",null,"Performing with Masks","Performing Arts",33,"Performing with Masks",60,"Internal"]
["Applied Science",3,"Science Investigation Skills",120,"External",null,"Construction Civil Engineering",15,"Further Mathematics for Construction",60,"Internal",null,"Biomedical Science","Applied Science",20,"Biomedical Science",60,"Internal",null,"Surface Design for Textiles","Art and Design",31,"Surface Design for Textiles",60,"Internal",null,"Welding Technology","Engineering",13,"Welding Technology",60,"Internal"]
["Applied Science",4,"Laboratory Techniques and their Application",90,"Internal",null,"Construction Civil Engineering",23,"Construction in Civil Engineering",60,"Internal",null,"Physiology of Human Body Systems","Applied Science Biomedical Science",8,"Physiology of Human Body Systems",60,"Internal",null,"Digital Applications for Textiles","Art and Design",32,"Digital Applications for Textiles",60,"Internal",null,"Computer System Principles and Practice","Engineering",32,"Computer System Principles and Practice",60,"Internal"]
["Applied Science",5,"Priciples and Applications of Science II",120,"External",null,"Engineering",5,"A Specialist Engineering Project",60,"Internal",null,"Human Regulation and Reproduction","Applied Science Biomedical Science",9,"Human Regulation and Reproduction",60,"Internal",null,"Fashion Design","Art and Design",33,"Fashion Design",60,"Internal",null,"Computer Systems Security","Engineering",33,"Computer Systems Security",60,"Internal"]
["Applied Science",6,"Investigative Project",90,"Internal",null,"Engineering",7,"Calculus to Solve Engineering Problems",60,"Internal",null,"Biological Molecules and Metabolic Pathways","Applied Science Biomedical Science",10,"Biological Molecules and Metabolic Pathways",60,"Internal",null,"Pattern Development Methods and Techniques","Art and Design",34,"Pattern Development Methods and Techniques",60,"Internal",null,"Computer Systems Support and Performance","Engineering",34,"Computer Systems Support and Performance",60,"Internal"]
["Applied Science",7,"Contemporary Issues in Science",120,"External",null,"Electrical and Electronic Engineering",5,"A Specialist Engineering Project",60,"Internal",null,"Genetics and Genetic Engineering","Applied Science Biomedical Science",11,"Genetics and Genetic Engineering",60,"Internal",null,"Fashion Promotion","Art and Design",35,"Fashion Promotion",60,"Internal",null,"Computer Programming","Engineering",35,"Computer Programming",60,"Internal"]
["Applied Science Biomedical Science",1,"Principles and Applications of Science I",90,"External",null,"Electrical and Electronic Engineering",7,"Calculus to Solve Engineering Problems",60,"Internal",null,"Diseases and Infections","Applied Science Biomedical Science",12,"Diseases and Infections",60,"Internal",null,"Manufacturing Methods for Fashion","Art and Design",36,"Manufacturing Methods for Fashion",60,"Internal",null,"Programmable Logic Controllers","Engineering",36,"Programmable Logic Controllers",60,"Internal"]
["Applied Science Biomedical Science",2,"Practical Scientific Procedures and Techniques",90,"Internal",null,"Mechanical Engineering",5,"A Specialist Engineering Project",60,"Internal",null,"Microbiology and Microbiological Techniques","Applied Science Biomedical Science",17,"Microbiology and Microbiological Techniques",60,"Internal",null,"3D Model Making","Art and Design",37,"3D Model Making",60,"Internal",null,"Computer Networks","Engineering",37,"Computer Networks",60,"Internal"]
["Applied Science Biomedical Science",3,"Science Investigation Skills",120,"External",null,"Mechanical Engineering",7,"Calculus to Solve Engineering Problems",60,"Internal",null,"Biomedical Science","Applied Science Biomedical Science",20,"Biomedical Science",60,"Internal",null,"Extending 3D Design Materials, Techniques and Processes","Art and Design",38,"Extending 3D Design Materials, Techniques and Processes",60,"Internal",null,"Website Production to Control Devices","Engineering",38,"Website Production to Control Devices",60,"Internal"]
["Applied Science Biomedical Science",4,"Laboratory Techniques and their Application",90,"Internal",null,"Computer Engineering",5,"A Specialist Engineering Project",60,"Internal",null,"Medical Physics Applications","Applied Science Biomedical Science",21,"Medical Physics Applications",60,"Internal",null,"Working to Scales","Art and Design",39,"Working to Scales",60,"Internal",null,"Modern Manufacturing Systems","Engineering",39,"Modern Manufacturing Systems",60,"Internal"]
["Applied Science Biomedical Science",5,"Priciples and Applications of Science II",120,"External",null,"Computer Engineering",7,"Calculus to Solve Engineering Problems",60,"Internal",null,"Genetics and Genetic Engineering","Applied Science Analytical and Forensic Science",11,"Genetics and Genetic Engineering",60,"Internal",null,"Contemporary Fine Art Practice","Art and Design",40,"Contemporary Fine Art Practice",60,"Internal",null,"Computer Aided Manufacturing and Planning","Engineering",40,"Computer Aided Manufacturing and Planning",60,"Internal"]
["Applied Science Biomedical Science",6,"Investigative Project",90,"Internal",null,"Computer Engineering",32,"Computer System Principles and Practice",60,"Internal",null,"Applications of Inorganic Chemistry","Applied Science Analytical and Forensic Science",13,"Applications of Inorganic Chemistry",60,"Internal",null,"Painting","Art and Design",41,"Painting",60,"Internal",null,"Manufacturing Secondary Machining Processes","Engineering",41,"Manufacturing Secondary Machining Processes",60,"Internal"]
["Applied Science Biomedical Science",7,"Contemporary Issues in Science",120,"External",null,"Manufacturing Engineering",5,"A Specialist Engineering Project",60,"Internal",null,"Applications of Organic Chemistry","Applied Science Analytical and Forensic Science",14,"Applications of Organic Chemistry",60,"Internal",null,"Printmaking","Art and Design",42,"Printmaking",60,"Internal",null,"Manufacturing Primary Forming Processes","Engineering",42,"Manufacturing Primary Forming Processes",60,"Internal"]
["Applied Science Analytical and Forensic Science",1,"Principles and Applications of Science I",90,"External",null,"Manufacturing Engineering",7,"Calculus to Solve Engineering Problems",60,"Internal",null,"Practical Chemical Analysis","Applied Science Analytical and Forensic Science",19,"Practical Chemical Analysis",60,"Internal",null,"Time-Based Techniques in Art and Design","Art and Design",43,"Time-Based Techniques in Art and Design",60,"Internal",null,"Manufacturing Computer Numerical Control Machining Processes","Engineering",43,"Manufacturing Computer Numerical Control Machining Processes",60,"Internal"]
["Applied Science Analytical and Forensic Science",2,"Practical Scientific Procedures and Techniques",90,"Internal",null,"Manufacturing Engineering",39,"Modern Manufacturing Systems",60,"Internal",null,"Materials Science","Applied Science Analytical and Forensic Science",22,"Materials Science",60,"Internal",null,"Public Art","Art and Design",44,"Public Art",60,"Internal",null,"Fabrication Manufacturing Processes","Engineering",44,"Fabrication Manufacturing Processes",60,"Internal"]
["Applied Science Analytical and Forensic Science",3,"Science Investigation Skills",120,"External",null,"Aeronautical Engineering",5,"A Specialist Engineering Project",60,"Internal",null,"Forensic Evidence, Collection and Analysis","Applied Science Analytical and Forensic Science",23,"Forensic Evidence, Collection and Analysis",60,"Internal",null,"Curating an Exhibition","Art and Design",45,"Curating an Exhibition",60,"Internal",null,"Additive Manufacturing Processes","Engineering",45,"Additive Manufacturing Processes",60,"Internal"]
["Applied Science Analytical and Forensic Science",4,"Laboratory Techniques and their Application",90,"Internal",null,"Aeronautical Engineering",7,"Calculus to Solve Engineering Problems",60,"Internal",null,"Forensic Fire Investigation","Applied Science Analytical and Forensic Science",25,"Forensic Fire Investigation",60,"Internal",null,"Business Management in the Animal Sector","Animal Management",12,"Business Management in the Animal Sector",60,"Internal",null,"Manufacturing Joining, Finishing and Assembly Processes","Engineering",46,"Manufacturing Joining, Finishing and Assembly Processes",60,"Internal"]
["Applied Science Analytical and Forensic Science",5,"Priciples and Applications of Science II",120,"External",null,"Aeronautical Engineering",48,"Aircraft Flight Principles and Practice",60,"Internal",null,"Forensic Traffic Collision Investigation","Applied Science Analytical and Forensic Science",26,"Forensic Traffic Collision Investigation",60,"Internal",null,"Animal Management in a Retail Environment","Animal Management",13,"Animal Management in a Retail Environment",60,"Internal",null,"Composites Manufacture and Repair Processes","Engineering",47,"Composites Manufacture and Repair Processes",60,"Internal"]
["Applied Science Analytical and Forensic Science",6,"Investigative Project",90,"Internal",null,"Enterprise and Entrepreneurship",1,"Enterprise and Entrepreneurs",90,"Internal",null,"Applications of Inorganic Chemistry","Applied Science Physical Science",13,"Applications of Inorganic Chemistry",60,"Internal",null,"Animals in Boarding Establishments","Animal Management",14,"Animals in Boarding Establishments",60,"Internal",null,"Industrial Robotics","Engineering",56,"Industrial Robotics",60,"Internal"]
["Applied Science Analytical and Forensic Science",7,"Contemporary Issues in Science",120,"External",null,"Enterprise and Entrepreneurship",4,"Launch and Run an Enterprise",90,"Internal",null,"Electrical Circuits and their Application","Applied Science Physical Science",15,"Electrical Circuits and their Application",60,"Internal",null,"Developing an Enterprise in the Animal Sector","Animal Management",15,"Developing an Enterprise in the Animal Sector",60,"Internal",null,"Work Experience in the Engineering Sector","Electrical and Electronic Engineering",9,"Work Experience in the Engineering Sector",60,"Internal"]
["Applied Science Physical Science",1,"Principles and Applications of Science I",90,"External",null,"Enterprise and Entrepreneurship",5,"Survival and Growth",90,"Internal",null,"Astronomy and Space Science","Applied Science Physical Science",16,"Astronomy and Space Science",60,"Internal",null,"Animal Grooming","Animal Management",16,"Animal Grooming",60,"Internal",null,"Pneumatic and Hydraulic Systems","Electrical and Electronic Engineering",12,"Pneumatic and Hydraulic Systems",60,"Internal"]
["Applied Science Physical Science",2,"Practical Scientific Procedures and Techniques",90,"Internal",null,"Equine Management",4,"Work Experience in the Equine Sector",60,"Internal",null,"Industrial Chemical Reactions","Applied Science Physical Science",18,"Industrial Chemical Reactions",60,"Internal",null,"Principles of Animal Nursing","Animal Management",17,"Principles of Animal Nursing",60,"Internal",null,"Maintenance of Mechanical Systems","Electrical and Electronic Engineering",24,"Maintenance of Mechanical Systems",60,"Internal"]
["Applied Science Physical Science",3,"Science Investigation Skills",120,"External",null,"Equine Management",7,"Preparation and Presentation for Competition Disciplines",60,"Internal",null,"Practical Chemical Analysis","Applied Science Physical Science",19,"Practical Chemical Analysis",60,"Internal",null,"Aquatic Animal Health and Husbandry","Animal Management",18,"Aquatic Animal Health and Husbandry",60,"Internal",null,"Mechanical Behaviour of Metallic Materials","Electrical and Electronic Engineering",25,"Mechanical Behaviour of Metallic Materials",60,"Internal"]
["Applied Science Physical Science",4,"Laboratory Techniques and their Application",90,"Internal",null,"Equine Management",8,"Equine Behaviour",60,"Internal",null,"Medical Physics Applications","Applied Science Physical Science",21,"Medical Physics Applications",60,"Internal",null,"Farm Livestock Husbandry","Animal Management",19,"Farm Livestock Husbandry",60,"Internal",null,"Mechanical Behaviour of Non-metallic Materials","Electrical and Electronic Engineering",26,"Mechanical Behaviour of Non-metallic Materials",60,"Internal"]
["Applied Science Physical Science",5,"Priciples and Applications of Science II",120,"External",null,"Equine Management",9,"Managing an Equine Yard",60,"Internal",null,"Materials Science","Applied Science Physical Science",22,"Materials Science",60,"Internal",null,"Human and Animal Interaction","Animal Management",20,"Human and Animal Interaction",60,"Internal",null,"Static Mechanical Principles in Practice","Electrical and Electronic Engineering",27,"Static Mechanical Principles in Practice",60,"Internal"]
["Applied Science Physical Science",6,"Investigative Project",90,"Internal",null,"Music Technology",1,"Live Sound",60,"Internal",null,"Cryogenics and Vacuum Technology","Applied Science Physical Science",24,"Cryogenics and Vacuum Technology",60,"Internal",null,"Exotic Animal Husbandry","Animal Management",21,"Exotic Animal Husbandry",60,"Internal",null,"Dynamic Mechanical Principles in Practice","Electrical and Electronic Engineering",28,"Dynamic Mechanical Principles in Practice",60,"Internal"]
["Applied Science Physical Science",7,"Contemporary Issues in Science",120,"External",null,"Music Technology",3,"Music and Sound for Media",60,"Internal",null,"Human-computer Interaction","Computing",10,"Human-computer Interaction",60,"Internal",null,"Practical Estate Planning, Construction and Maintenance","Animal Management",22,"Practical Estate Planning, Construction and Maintenance",60,"Internal",null,"Mechanical Measurement and Inspection Technology","Electrical and Electronic Engineering",30,"Mechanical Measurement and Inspection Technology",60,"Internal"]
["Business",1,"Exploring Business",90,"Internal",null,"Sport",3,"Professional Development in the Sports Industry",60,"Internal",null,"Digital Graphics and Animation","Computing",11,"Digital Graphics and Animation",60,"Internal",null,"Zoological Animal Health and Husbandry","Animal Management",23,"Zoological Animal Health and Husbandry",60,"Internal",null,"Computer Systems Security","Electrical and Electronic Engineering",33,"Computer Systems Security",60,"Internal"]
["Business",2,"Developing a Marketing Campaign",90,"External",null,"Sport",4,"Sports Leadership",60,"Internal",null,"Digital Audio","Computing",12,"Digital Audio",60,"Internal",null,"Wildlife Ecology and Conservation Management","Animal Management",24,"Wildlife Ecology and Conservation Management",60,"Internal",null,"Computer Systems Support and Performance","Electrical and Electronic Engineering",34,"Computer Systems Support and Performance",60,"Internal"]
["Business",3,"Personal and Business Finance",120,"External",null,"Sport",7,"Practical Sports Performance",60,"Internal",null,"Digital Video","Computing",13,"Digital Video",60,"Internal",null,"Applications of Organic Chemistry","Applied Science",14,"Applications of Organic Chemistry",60,"Internal",null,"Computer Programming","Electrical and Electronic Engineering",35,"Computer Programming",60,"Internal"]
["Business",4,"Managing an Event",90,"Internal",null,"Sport",8,"Coaching for Performance",60,"Internal",null,"Computer Games Development","Computing",14,"Computer Games Development",60,"Internal",null,"Practical Chemical Analysis","Applied Science",19,"Practical Chemical Analysis",60,"Internal",null,"Computer Networks","Electrical and Electronic Engineering",37,"Computer Networks",60,"Internal"]
["Business",5,"International Business",90,"Internal",null,"Sport",9,"Research Methods in Sport",60,"Internal",null,"Graphical Detailing in Construction","Construction Building Services",7,"Graphical Detailing in Construction",60,"Internal",null,"Materials Science","Applied Science",22,"Materials Science",60,"Internal",null,"Website Production to Control Devices","Electrical and Electronic Engineering",38,"Website Production to Control Devices",60,"Internal"]
["Business",6,"Principles of Management",120,"External",null,"Agriculture",4,"Work Experience in the Land-based Sectors",60,"Internal",null,"Management of a Construction Project","Construction Building Services",9,"Management of a Construction Project",60,"Internal",null,"Forensic Evidence, Collection and Analysis","Applied Science",23,"Forensic Evidence, Collection and Analysis",60,"Internal",null,"Manufacturing Secondary Machining Processes","Electrical and Electronic Engineering",41,"Manufacturing Secondary Machining Processes",60,"Internal"]
["Business",7,"Business Decision Making",120,"External",null,"Agriculture",5,"Estate Skills",60,"Internal",null,"Low Temperature Hot Water Systems in Building Services","Construction Building Services",12,"Low Temperature Hot Water Systems in Building Services",60,"Internal",null,"Forensic Fire Investigation","Applied Science",25,"Forensic Fire Investigation",60,"Internal",null,"Manufacturing Computer Numerical Control Machining Processes","Electrical and Electronic Engineering",43,"Manufacturing Computer Numerical Control Machining Processes",60,"Internal"]
["CPLD",1,"Children's Development",120,"External",null,"Agriculture",8,"Land-based Machinery Operations",60,"Internal",null,"Further Mathematics for Construction","Construction Building Services",15,"Further Mathematics for Construction",60,"Internal",null,"Forensic Traffic Collision Investigation","Applied Science",26,"Forensic Traffic Collision Investigation",60,"Internal",null,"Fabrication Manufacturing Processes","Electrical and Electronic Engineering",44,"Fabrication Manufacturing Processes",60,"Internal"]
["CPLD",2,"Development of Children’s Communication, Literacy and Numeracy Skills",120,"External",null,"Agriculture",9,"Managing Environmental Activities in Agriculture",60,"Internal",null,"Work Experience in the Construction Sector","Construction Building Services",16,"Work Experience in the Construction Sector",60,"Internal",null,"Applications of Inorganic Chemistry","Applied Science Biomedical Science",13,"Applications of Inorganic Chemistry",60,"Internal",null,"Additive Manufacturing Processes","Electrical and Electronic Engineering",45,"Additive Manufacturing Processes",60,"Internal"]
["CPLD",3,"Play and Learning",60,"Internal",null,"Horticulture",4,"Work Experience in the Land-based Sectors",60,"Internal",null,"Projects in Construction","Construction Building Services",17,"Projects in Construction",60,"Internal",null,"Applications of Organic Chemistry","Applied Science Biomedical Science",14,"Applications of Organic Chemistry",60,"Internal",null,"Work Experience in the Engineering Sector","Mechanical Engineering",9,"Work Experience in the Engineering Sector",60,"Internal"]
["CPLD",5,"Keeping Children Safe",60,"Internal",null,"Horticulture",6,"Identification, Planting and Care of Plants",60,"Internal",null,"Building Information Modelling","Construction Building Services",18,"Building Information Modelling",60,"Internal",null,"Electrical Circuits and their Application","Applied Science Biomedical Science",15,"Electrical Circuits and their Application",60,"Internal",null,"Electrical Machines","Mechanical Engineering",15,"Electrical Machines",60,"Internal"]
["CPLD",6,"Children’s Physical Development, Care and Health Needs",60,"Internal",null,"Horticulture",7,"Routine Plant Management",60,"Internal",null,"Quantity Surveying","Construction Building Services",19,"Quantity Surveying",60,"Internal",null,"Astronomy and Space Science","Applied Science Biomedical Science",16,"Astronomy and Space Science",60,"Internal",null,"Electrical Power Distribution and Transmission","Mechanical Engineering",18,"Electrical Power Distribution and Transmission",60,"Internal"]
["CPLD",7,"Children's Personal, Social and Emotional Development",60,"Internal",null,"Horticulture",8,"Plant Propagation Activities",60,"Internal",null,"Quality Control Management in Construction","Construction Building Services",20,"Quality Control Management in Construction",60,"Internal",null,"Industrial Chemical Reactions","Applied Science Biomedical Science",18,"Industrial Chemical Reactions",60,"Internal",null,"Electronic Devices and Circuits","Mechanical Engineering",19,"Electronic Devices and Circuits",60,"Internal"]
["CPLD",8,"Working with Parents and Others in Early Years",60,"Internal",null,"Horticulture",9,"Tree and Shrub Pruning and Maintenance",60,"Internal",null,"Surveying in Construction","Construction Civil Engineering",6,"Surveying in Construction",60,"Internal",null,"Practical Chemical Analysis","Applied Science Biomedical Science",19,"Practical Chemical Analysis",60,"Internal",null,"Analogue Electronic Circuits","Mechanical Engineering",20,"Analogue Electronic Circuits",60,"Internal"]
["CPLD",9,"Observation, Assessment and Planning",60,"Internal",null,"Countryside Management",4,"Work Experience in the Land-based Sectors",60,"Internal",null,"Graphical Detailing in Construction","Construction Civil Engineering",7,"Graphical Detailing in Construction",60,"Internal",null,"Materials Science","Applied Science Biomedical Science",22,"Materials Science",60,"Internal",null,"Electronic Measurement and Testing of Circuits","Mechanical Engineering",21,"Electronic Measurement and Testing of Circuits",60,"Internal"]
["CPLD",10,"Reflective Practice",60,"Internal",null,"Countryside Management",6,"Managing Environmental Habitats",60,"Internal",null,"Building Regulations and Control in Construction","Construction Civil Engineering",8,"Building Regulations and Control in Construction",60,"Internal",null,"Forensic Evidence, Collection and Analysis","Applied Science Biomedical Science",23,"Forensic Evidence, Collection and Analysis",60,"Internal",null,"Computer Systems Security","Mechanical Engineering",33,"Computer Systems Security",60,"Internal"]
["CPLD",11,"The Early Years Foundation Stage",60,"Internal",null,"Countryside Management",7,"Woodland Management",60,"Internal",null,"Management of a Construction Project","Construction Civil Engineering",9,"Management of a Construction Project",60,"Internal",null,"Cryogenics and Vacuum Technology","Applied Science Biomedical Science",24,"Cryogenics and Vacuum Technology",60,"Internal",null,"Computer Systems Support and Performance","Mechanical Engineering",34,"Computer Systems Support and Performance",60,"Internal"]
["Computing",1,"Principles of Computer Science",120,"External",null,"Countryside Management",11,"Wildlife Ecology and Conservation Management",60,"Internal",null,"Building Surveying in Construction","Construction Civil Engineering",10,"Building Surveying in Construction",60,"Internal",null,"Forensic Fire Investigation","Applied Science Biomedical Science",25,"Forensic Fire Investigation",60,"Internal",null,"Computer Programming","Mechanical Engineering",35,"Computer Programming",60,"Internal"]
["Computing",2,"Fundamentals of Computer Systems",90,"External",null,"Arboriculture",4,"Work Experience in the Land-based Sectors",60,"Internal",null,"Measurement Techniques in Construction","Construction Civil Engineering",13,"Measurement Techniques in Construction",60,"Internal",null,"Forensic Traffic Collision Investigation","Applied Science Biomedical Science",26,"Forensic Traffic Collision Investigation",60,"Internal",null,"Computer Aided Manufacturing and Planning","Mechanical Engineering",40,"Computer Aided Manufacturing and Planning",60,"Internal"]
["Computing",3,"Planning and Management of Computing Projects",120,"External",null,"Arboriculture",5,"Estate Skills",60,"Internal",null,"Work Experience in the Construction Sector","Construction Civil Engineering",16,"Work Experience in the Construction Sector",60,"Internal",null,"Physiology of Human Body Systems","Applied Science Analytical and Forensic Science",8,"Physiology of Human Body Systems",60,"Internal",null,"Manufacturing Secondary Machining Processes","Mechanical Engineering",41,"Manufacturing Secondary Machining Processes",60,"Internal"]
["Computing",4,"Software Design and Development Project",120,"External",null,"Arboriculture",7,"Tree and Shrub Pruning and Maintenance",60,"Internal",null,"Projects in Construction","Construction Civil Engineering",17,"Projects in Construction",60,"Internal",null,"Human Regulation and Reproduction","Applied Science Analytical and Forensic Science",9,"Human Regulation and Reproduction",60,"Internal",null,"Manufacturing Primary Forming Processes","Mechanical Engineering",42,"Manufacturing Primary Forming Processes",60,"Internal"]
["Computing",7,"IT Systems Security and Encryption",90,"Internal",null,"Arboriculture",8,"Tree Pests and Diseases",60,"Internal",null,"Building Information Modelling","Construction Civil Engineering",18,"Building Information Modelling",60,"Internal",null,"Biological Molecules and Metabolic Pathways","Applied Science Analytical and Forensic Science",10,"Biological Molecules and Metabolic Pathways",60,"Internal",null,"Manufacturing Computer Numerical Control Machining Processes","Mechanical Engineering",43,"Manufacturing Computer Numerical Control Machining Processes",60,"Internal"]
["Computing",8,"Business Applications of Social Media",90,"Internal",null,"Arboriculture",10,"Forestry and Arboriculture Machinery Operations",60,"Internal",null,"Quality Control Management in Construction","Construction Civil Engineering",20,"Quality Control Management in Construction",60,"Internal",null,"Diseases and Infections","Applied Science Analytical and Forensic Science",12,"Diseases and Infections",60,"Internal",null,"Fabrication Manufacturing Processes","Mechanical Engineering",44,"Fabrication Manufacturing Processes",60,"Internal"]
["Computing",9,"The Impact of Computing",90,"Internal",null,"Arboriculture",11,"Aerial Arboriculutre Skills",60,"Internal",null,"App Production","Creative Digital Media Production",9,"App Production",60,"Internal",null,"Electrical Circuits and their Application","Applied Science Analytical and Forensic Science",15,"Electrical Circuits and their Application",60,"Internal",null,"Additive Manufacturing Processes","Mechanical Engineering",45,"Additive Manufacturing Processes",60,"Internal"]
["Construction Building Services",1,"Construction Principles",120,"External",null,"Forestry",4,"Work Experience in the Land-based Sectors",60,"Internal",null,"Film Production – Fiction","Creative Digital Media Production",10,"Film Production – Fiction",60,"Internal",null,"Astronomy and Space Science","Applied Science Analytical and Forensic Science",16,"Astronomy and Space Science",60,"Internal",null,"Industrial Robotics","Mechanical Engineering",56,"Industrial Robotics",60,"Internal"]
["Construction Building Services",2,"Construction Design",120,"External",null,"Forestry",5,"Estate Skills",60,"Internal",null,"Radio Production – Fiction","Creative Digital Media Production",11,"Radio Production – Fiction",60,"Internal",null,"Microbiology and Microbiological Techniques","Applied Science Analytical and Forensic Science",17,"Microbiology and Microbiological Techniques",60,"Internal",null,"Further Engineering Mathematics","Computer Engineering",8,"Further Engineering Mathematics",60,"Internal"]
["Construction Building Services",3,"Tendering and Estimating",120,"External",null,"Forestry",7,"Tree and Shrub Pruning and Maintenance",60,"Internal",null,"Website Production","Creative Digital Media Production",12,"Website Production",60,"Internal",null,"Industrial Chemical Reactions","Applied Science Analytical and Forensic Science",18,"Industrial Chemical Reactions",60,"Internal",null,"Work Experience in the Engineering Sector","Computer Engineering",9,"Work Experience in the Engineering Sector",60,"Internal"]
["Construction Building Services",4,"Construction Technology",60,"Internal",null,"Forestry",8,"Tree Pests and Diseases",60,"Internal",null,"Digital Games Production","Creative Digital Media Production",13,"Digital Games Production",60,"Internal",null,"Biomedical Science","Applied Science Analytical and Forensic Science",20,"Biomedical Science",60,"Internal",null,"Computer Aided Design in Engineering","Computer Engineering",10,"Computer Aided Design in Engineering",60,"Internal"]
["Construction Building Services",5,"Health and Safety in Construction",60,"Internal",null,"Forestry",10,"Forestry and Arboriculture Machinery Operations",60,"Internal",null,"Digital Magazine Production","Creative Digital Media Production",14,"Digital Magazine Production",60,"Internal",null,"Medical Physics Applications","Applied Science Analytical and Forensic Science",21,"Medical Physics Applications",60,"Internal",null,"Engineering Maintenance and Condition Monitoring Techniques","Computer Engineering",11,"Engineering Maintenance and Condition Monitoring Techniques",60,"Internal"]
["Construction and the Built Environment",1,"Construction Principles",120,"External",null,"Forestry",14,"Timber Conversion and Utilisation",60,"Internal",null,"Advertising Production","Creative Digital Media Production",15,"Advertising Production",60,"Internal",null,"Cryogenics and Vacuum Technology","Applied Science Analytical and Forensic Science",24,"Cryogenics and Vacuum Technology",60,"Internal",null,"Pneumatic and Hydraulic Systems","Computer Engineering",12,"Pneumatic and Hydraulic Systems",60,"Internal"]
["Construction and the Built Environment",2,"Construction Design",120,"External",null,null,null,null,null,null,null,"Factual Production","Creative Digital Media Production",16,"Factual Production",60,"Internal",null,"Physiology of Human Body Systems","Applied Science Physical Science",8,"Physiology of Human Body Systems",60,"Internal",null,"Electrical Installation of Hardware and Cables","Computer Engineering",14,"Electrical Installation of Hardware and Cables",60,"Internal"]
["Construction and the Built Environment",3,"Tendering and Estimating",120,"External",null,null,null,null,null,null,null,"News Production","Creative Digital Media Production",17,"News Production",60,"Internal",null,"Human Regulation and Reproduction","Applied Science Physical Science",9,"Human Regulation and Reproduction",60,"Internal",null,"Electrical Machines","Computer Engineering",15,"Electrical Machines",60,"Internal"]
["Construction and the Built Environment",4,"Construction Technology",60,"Internal",null,null,null,null,null,null,null,"Film Production – Fiction","Creative Digital Media Production Film Television and Radio",10,"Film Production – Fiction",60,"Internal",null,"Biological Molecules and Metabolic Pathways","Applied Science Physical Science",10,"Biological Molecules and Metabolic Pathways",60,"Internal",null,"Three Phase Electrical Systems","Computer Engineering",16,"Three Phase Electrical Systems",60,"Internal"]
["Construction and the Built Environment",5,"Health and Safety in Construction",60,"Internal",null,null,null,null,null,null,null,"Radio Production – Fiction","Creative Digital Media Production Film Television and Radio",11,"Radio Production – Fiction",60,"Internal",null,"Genetics and Genetic Engineering","Applied Science Physical Science",11,"Genetics and Genetic Engineering",60,"Internal",null,"Electrical Power Distribution and Transmission","Computer Engineering",18,"Electrical Power Distribution and Transmission",60,"Internal"]
["Construction Civil Engineering",1,"Construction Principles",120,"External",null,null,null,null,null,null,null,"Advertising Production","Creative Digital Media Production Film Television and Radio",15,"Advertising Production",60,"Internal",null,"Diseases and Infections","Applied Science Physical Science",12,"Diseases and Infections",60,"Internal",null,"Analogue Electronic Circuits","Computer Engineering",20,"Analogue Electronic Circuits",60,"Internal"]
["Construction Civil Engineering",2,"Construction Design",120,"External",null,null,null,null,null,null,null,"Factual Production","Creative Digital Media Production Film Television and Radio",16,"Factual Production",60,"Internal",null,"Applications of Organic Chemistry","Applied Science Physical Science",14,"Applications of Organic Chemistry",60,"Internal",null,"Electronic Measurement and Testing of Circuits","Computer Engineering",21,"Electronic Measurement and Testing of Circuits",60,"Internal"]
["Construction Civil Engineering",3,"Tendering and Estimating",120,"External",null,null,null,null,null,null,null,"News Production","Creative Digital Media Production Film Television and Radio",17,"News Production",60,"Internal",null,"Microbiology and Microbiological Techniques","Applied Science Physical Science",17,"Microbiology and Microbiological Techniques",60,"Internal",null,"Electronic Printed Circuit Board Design and Manufacture","Computer Engineering",22,"Electronic Printed Circuit Board Design and Manufacture",60,"Internal"]
["Construction Civil Engineering",4,"Construction Technology",60,"Internal",null,null,null,null,null,null,null,"App Production","Creative Digital Media Production Interactive Publishing and Media",9,"App Production",60,"Internal",null,"Biomedical Science","Applied Science Physical Science",20,"Biomedical Science",60,"Internal",null,"Maintenance of Mechanical Systems","Computer Engineering",24,"Maintenance of Mechanical Systems",60,"Internal"]
["Construction Civil Engineering",5,"Health and Safety in Construction",60,"Internal",null,null,null,null,null,null,null,"Website Production","Creative Digital Media Production Interactive Publishing and Media",12,"Website Production",60,"Internal",null,"Forensic Evidence, Collection and Analysis","Applied Science Physical Science",23,"Forensic Evidence, Collection and Analysis",60,"Internal",null,"Mechanical Behaviour of Metallic Materials","Computer Engineering",25,"Mechanical Behaviour of Metallic Materials",60,"Internal"]
["Creative Digital Media Production",1,"Media Representations",90,"External",null,null,null,null,null,null,null,"Digital Magazine Production","Creative Digital Media Production Interactive Publishing and Media",14,"Digital Magazine Production",60,"Internal",null,"Forensic Fire Investigation","Applied Science Physical Science",25,"Forensic Fire Investigation",60,"Internal",null,"Static Mechanical Principles in Practice","Computer Engineering",27,"Static Mechanical Principles in Practice",60,"Internal"]
["Creative Digital Media Production",2,"Working in the Creative Media Industry",90,"Internal",null,null,null,null,null,null,null,"Advertising Production","Creative Digital Media Production Interactive Publishing and Media",15,"Advertising Production",60,"Internal",null,"Forensic Traffic Collision Investigation","Applied Science Physical Science",26,"Forensic Traffic Collision Investigation",60,"Internal",null,"Mechanical Measurement and Inspection Technology","Computer Engineering",30,"Mechanical Measurement and Inspection Technology",60,"Internal"]
["Creative Digital Media Production",3,"Digital Media Skills",120,"External",null,null,null,null,null,null,null,"App Production","Creative Digital Media Production Digital Games",9,"App Production",60,"Internal",null,"Recruitment and Selection Process","Business",8,"Recruitment and Selection Process",60,"Internal",null,"Manufacturing Secondary Machining Processes","Computer Engineering",41,"Manufacturing Secondary Machining Processes",60,"Internal"]
["Creative Digital Media Production",4,"Pre-production Portfolio",90,"Internal",null,null,null,null,null,null,null,"Film Production – Fiction","Creative Digital Media Production Digital Games",10,"Film Production – Fiction",60,"Internal",null,"Team Building in Business","Business",9,"Team Building in Business",60,"Internal",null,"Additive Manufacturing Processes","Computer Engineering",45,"Additive Manufacturing Processes",60,"Internal"]
["Creative Digital Media Production",5,"Specialist Subject Investigation",120,"External",null,null,null,null,null,null,null,"Website Production","Creative Digital Media Production Digital Games",12,"Website Production",60,"Internal",null,"Recording Financial Transactions","Business",10,"Recording Financial Transactions",60,"Internal",null,"Further Engineering Mathematics","Manufacturing Engineering",8,"Further Engineering Mathematics",60,"Internal"]
["Creative Digital Media Production",6,"Media Campaigns",90,"Internal",null,null,null,null,null,null,null,"Digital Games Production","Creative Digital Media Production Digital Games",13,"Digital Games Production",60,"Internal",null,"Final Accounts for Public Limited Companies","Business",11,"Final Accounts for Public Limited Companies",60,"Internal",null,"Work Experience in the Engineering Sector","Manufacturing Engineering",9,"Work Experience in the Engineering Sector",60,"Internal"]
["Creative Digital Media Production",8,"Responding to a Commission",120,"External",null,null,null,null,null,null,null,"Electrical Installation of Hardware and Cables","Engineering",14,"Electrical Installation of Hardware and Cables",60,"Internal",null,"Financial Statements for Specific Businesses","Business",12,"Financial Statements for Specific Businesses",60,"Internal",null,"Engineering Maintenance and Condition Monitoring Techniques","Manufacturing Engineering",11,"Engineering Maintenance and Condition Monitoring Techniques",60,"Internal"]
["Creative Digital Media Production Film Television and Radio",1,"Media Representations",90,"External",null,null,null,null,null,null,null,"Electrical Machines","Engineering",15,"Electrical Machines",60,"Internal",null,"Cost and Management Accounting","Business",13,"Cost and Management Accounting",60,"Internal",null,"Pneumatic and Hydraulic Systems","Manufacturing Engineering",12,"Pneumatic and Hydraulic Systems",60,"Internal"]
["Creative Digital Media Production Film Television and Radio",2,"Working in the Creative Media Industry",90,"Internal",null,null,null,null,null,null,null,"Three Phase Electrical Systems","Engineering",16,"Three Phase Electrical Systems",60,"Internal",null,"Investigating Customer Service","Business",14,"Investigating Customer Service",60,"Internal",null,"Electrical Installation of Hardware and Cables","Manufacturing Engineering",14,"Electrical Installation of Hardware and Cables",60,"Internal"]
["Creative Digital Media Production Film Television and Radio",3,"Digital Media Skills",120,"External",null,null,null,null,null,null,null,"Power and Energy Electronics","Engineering",17,"Power and Energy Electronics",60,"Internal",null,"Investigation Retail Business","Business",15,"Investigation Retail Business",60,"Internal",null,"Three Phase Electrical Systems","Manufacturing Engineering",16,"Three Phase Electrical Systems",60,"Internal"]
["Creative Digital Media Production Film Television and Radio",4,"Pre-production Portfolio",90,"Internal",null,null,null,null,null,null,null,"Electrical Power Distribution and Transmission","Engineering",18,"Electrical Power Distribution and Transmission",60,"Internal",null,"Visual Merchandising","Business",16,"Visual Merchandising",60,"Internal",null,"Electronic Devices and Circuits","Manufacturing Engineering",19,"Electronic Devices and Circuits",60,"Internal"]
["Creative Digital Media Production Film Television and Radio",5,"Specialist Subject Investigation",120,"External",null,null,null,null,null,null,null,"Electronic Devices and Circuits","Engineering",19,"Electronic Devices and Circuits",60,"Internal",null,"Digital Marketing","Business",17,"Digital Marketing",60,"Internal",null,"Electronic Measurement and Testing of Circuits","Manufacturing Engineering",21,"Electronic Measurement and Testing of Circuits",60,"Internal"]
["Creative Digital Media Production Film Television and Radio",6,"Media Campaigns",90,"Internal",null,null,null,null,null,null,null,"Analogue Electronic Circuits","Engineering",20,"Analogue Electronic Circuits",60,"Internal",null,"Creative Promotion","Business",18,"Creative Promotion",60,"Internal",null,"Maintenance of Mechanical Systems","Manufacturing Engineering",24,"Maintenance of Mechanical Systems",60,"Internal"]
["Creative Digital Media Production Film Television and Radio",8,"Responding to a Commission",120,"External",null,null,null,null,null,null,null,"Electronic Measurement and Testing of Circuits","Engineering",21,"Electronic Measurement and Testing of Circuits",60,"Internal",null,"Pitching for a New Business","Business",19,"Pitching for a New Business",60,"Internal",null,"Mechanical Behaviour of Metallic Materials","Manufacturing Engineering",25,"Mechanical Behaviour of Metallic Materials",60,"Internal"]
["Creative Digital Media Production Interactive Publishing and Media",1,"Media Representations",90,"External",null,null,null,null,null,null,null,"Electronic Printed Circuit Board Design and Manufacture","Engineering",22,"Electronic Printed Circuit Board Design and Manufacture",60,"Internal",null,"Investigating Corporate Social Responsibility","Business",20,"Investigating Corporate Social Responsibility",60,"Internal",null,"Mechanical Behaviour of Non-metallic Materials","Manufacturing Engineering",26,"Mechanical Behaviour of Non-metallic Materials",60,"Internal"]
["Creative Digital Media Production Interactive Publishing and Media",2,"Working in the Creative Media Industry",90,"Internal",null,null,null,null,null,null,null,"Digital and Analogue Electronic Systems","Engineering",23,"Digital and Analogue Electronic Systems",60,"Internal",null,"Training and Development","Business",21,"Training and Development",60,"Internal",null,"Static Mechanical Principles in Practice","Manufacturing Engineering",27,"Static Mechanical Principles in Practice",60,"Internal"]
["Creative Digital Media Production Interactive Publishing and Media",3,"Digital Media Skills",120,"External",null,null,null,null,null,null,null,"Energy Management","Engineering",58,"Energy Management",60,"Internal",null,"Market Research","Business",22,"Market Research",60,"Internal",null,"Dynamic Mechanical Principles in Practice","Manufacturing Engineering",28,"Dynamic Mechanical Principles in Practice",60,"Internal"]
["Creative Digital Media Production Interactive Publishing and Media",4,"Pre-production Portfolio",90,"Internal",null,null,null,null,null,null,null,"Social Enterprise","Enterprise and Entrepreneurship",7,"Social Enterprise",60,"Internal",null,"The English Legal System","Business",23,"The English Legal System",60,"Internal",null,"Principles and Applications of Fluid Mechanics","Manufacturing Engineering",29,"Principles and Applications of Fluid Mechanics",60,"Internal"]
["Creative Digital Media Production Interactive Publishing and Media",5,"Specialist Subject Investigation",120,"External",null,null,null,null,null,null,null,"Entrepreneurship and Intrapreneurship in Practice","Enterprise and Entrepreneurship",8,"Entrepreneurship and Intrapreneurship in Practice",60,"Internal",null,"Employment Law","Business",24,"Employment Law",60,"Internal",null,"Computer Systems Support and Performance","Manufacturing Engineering",34,"Computer Systems Support and Performance",60,"Internal"]
["Creative Digital Media Production Interactive Publishing and Media",6,"Media Campaigns",90,"Internal",null,null,null,null,null,null,null,"Innovation and Enterprises","Enterprise and Entrepreneurship",9,"Innovation and Enterprises",60,"Internal",null,"Aspects of Civil Liability Affecting Business","Business",25,"Aspects of Civil Liability Affecting Business",60,"Internal",null,"Computer Programming","Manufacturing Engineering",35,"Computer Programming",60,"Internal"]
["Creative Digital Media Production Interactive Publishing and Media",8,"Responding to a Commission",120,"External",null,null,null,null,null,null,null,"Recruitment and Selection Processes","Enterprise and Entrepreneurship",10,"Recruitment and Selection Processes",60,"Internal",null,"Aspects of Criminal Law Impacting on Business and Individuals","Business",26,"Aspects of Criminal Law Impacting on Business and Individuals",60,"Internal",null,"Further Engineering Mathematics","Aeronautical Engineering",8,"Further Engineering Mathematics",60,"Internal"]
["Creative Digital Media Production Digital Games",1,"Media Representations",90,"External",null,null,null,null,null,null,null,"Marketing Communications","Enterprise and Entrepreneurship",11,"Marketing Communications",60,"Internal",null,"Work Experience in Business","Business",27,"Work Experience in Business",60,"Internal",null,"Work Experience in the Engineering Sector","Aeronautical Engineering",9,"Work Experience in the Engineering Sector",60,"Internal"]
["Creative Digital Media Production Digital Games",2,"Working in the Creative Media Industry",90,"Internal",null,null,null,null,null,null,null,"Infection Prevention and Control","Health and Social Care",9,"Infection Prevention and Control",60,"Internal",null,"Children’s Development Outdoors","CPLD",12,"Children’s Development Outdoors",60,"Internal",null,"Welding Technology","Aeronautical Engineering",13,"Welding Technology",60,"Internal"]
["Creative Digital Media Production Digital Games",3,"Digital Media Skills",120,"External",null,null,null,null,null,null,null,"Psychological Perspectives","Health and Social Care",11,"Psychological Perspectives",60,"Internal",null,"Healthy Eating in Early Years","CPLD",13,"Healthy Eating in Early Years",60,"Internal",null,"Electrical Machines","Aeronautical Engineering",15,"Electrical Machines",60,"Internal"]
["Creative Digital Media Production Digital Games",4,"Pre-production Portfolio",90,"Internal",null,null,null,null,null,null,null,"Physiological Disorders and their Care","Health and Social Care",14,"Physiological Disorders and their Care",60,"Internal",null,"Montessori Approach in Early Years","CPLD",14,"Montessori Approach in Early Years",60,"Internal",null,"Three Phase Electrical Systems","Aeronautical Engineering",16,"Three Phase Electrical Systems",60,"Internal"]
["Creative Digital Media Production Digital Games",5,"Specialist Subject Investigation",120,"External",null,null,null,null,null,null,null,"Caring for Individuals with Dementia","Health and Social Care",17,"Caring for Individuals with Dementia",60,"Internal",null,"Development of English for Children with another Home Language","CPLD",15,"Development of English for Children with another Home Language",60,"Internal",null,"Electronic Measurement and Testing of Circuits","Aeronautical Engineering",21,"Electronic Measurement and Testing of Circuits",60,"Internal"]
["Creative Digital Media Production Digital Games",6,"Media Campaigns",90,"Internal",null,null,null,null,null,null,null,"Nutritional Health","Health and Social Care",19,"Nutritional Health",60,"Internal",null,"Working with Children who have Additional Needs","CPLD",16,"Working with Children who have Additional Needs",60,"Internal",null,"Mechanical Behaviour of Non-metallic Materials","Aeronautical Engineering",26,"Mechanical Behaviour of Non-metallic Materials",60,"Internal"]
["Creative Digital Media Production Digital Games",8,"Responding to a Commission",120,"External",null,null,null,null,null,null,null,"Understanding Mental Wellbeing","Health and Social Care",20,"Understanding Mental Wellbeing",60,"Internal",null,"Services for Children and their Families","CPLD",17,"Services for Children and their Families",60,"Internal",null,"Dynamic Mechanical Principles in Practice","Aeronautical Engineering",28,"Dynamic Mechanical Principles in Practice",60,"Internal"]
["Engineering",1,"Engineering Principles",120,"External",null,null,null,null,null,null,null,"Biochemistry for Health","Health and Social Care",24,"Biochemistry for Health",60,"Internal",null,"Working with Children Under 3 Years","CPLD",18,"Working with Children Under 3 Years",60,"Internal",null,"Principles and Applications of Fluid Mechanics","Aeronautical Engineering",29,"Principles and Applications of Fluid Mechanics",60,"Internal"]
["Engineering",2,"Delivery of Engineering Processes Safely as a Team",60,"Internal",null,null,null,null,null,null,null,"Infection Prevention and Control","Health and Social Care Health Studies",9,"Infection Prevention and Control",60,"Internal",null,"Digital Technologies in Early Years Practice","CPLD",19,"Digital Technologies in Early Years Practice",60,"Internal",null,"Thermodynamic Principles and Practice","Aeronautical Engineering",31,"Thermodynamic Principles and Practice",60,"Internal"]
["Engineering",3,"Engineering Product Design and Manufacture",120,"External",null,null,null,null,null,null,null,"Psychological Perspectives","Health and Social Care Health Studies",11,"Psychological Perspectives",60,"Internal",null,"Career Development in the Early Years sector","CPLD",20,"Career Development in the Early Years sector",60,"Internal",null,"Computer Programming","Aeronautical Engineering",35,"Computer Programming",60,"Internal"]
["Engineering",4,"Applied Commercial and Quality Principles in Engineering",60,"Internal",null,null,null,null,null,null,null,"Physiological Disorders and their Care","Health and Social Care Health Studies",14,"Physiological Disorders and their Care",60,"Internal",null,"Children’s Imaginative Play and Creativity","CPLD",21,"Children’s Imaginative Play and Creativity",60,"Internal",null,"Manufacturing Secondary Machining Processes","Aeronautical Engineering",41,"Manufacturing Secondary Machining Processes",60,"Internal"]
["Engineering",6,"Microcontroller Systems for Engineers",120,"External",null,null,null,null,null,null,null,"Caring for Individuals with Dementia","Health and Social Care Health Studies",17,"Caring for Individuals with Dementia",60,"Internal",null,"Website Development","Computing",15,"Website Development",60,"Internal",null,"Manufacturing Computer Numerical Control Machining Processes","Aeronautical Engineering",43,"Manufacturing Computer Numerical Control Machining Processes",60,"Internal"]
["Electrical and Electronic Engineering",1,"Engineering Principles",120,"External",null,null,null,null,null,null,null,"Nutritional Health","Health and Social Care Health Studies",19,"Nutritional Health",60,"Internal",null,"Object-oriented Programming","Computing",16,"Object-oriented Programming",60,"Internal",null,"Fabrication Manufacturing Processes","Aeronautical Engineering",44,"Fabrication Manufacturing Processes",60,"Internal"]
["Electrical and Electronic Engineering",2,"Delivery of Engineering Processes Safely as a Team",60,"Internal",null,null,null,null,null,null,null,"Understanding Mental Wellbeing","Health and Social Care Health Studies",20,"Understanding Mental Wellbeing",60,"Internal",null,"Mobile Apps Development","Computing",17,"Mobile Apps Development",60,"Internal",null,"Additive Manufacturing Processes","Aeronautical Engineering",45,"Additive Manufacturing Processes",60,"Internal"]
["Electrical and Electronic Engineering",3,"Engineering Product Design and Manufacture",120,"External",null,null,null,null,null,null,null,"Biochemistry for Health","Health and Social Care Health Studies",24,"Biochemistry for Health",60,"Internal",null,"Relational Database Development","Computing",18,"Relational Database Development",60,"Internal",null,"Composites Manufacture and Repair Processes","Aeronautical Engineering",47,"Composites Manufacture and Repair Processes",60,"Internal"]
["Electrical and Electronic Engineering",4,"Applied Commercial and Quality Principles in Engineering",60,"Internal",null,null,null,null,null,null,null,"Classical Ballet Technique","Performing Arts",8,"Classical Ballet Technique",60,"Internal",null,"Building Services Control Systems","Construction Building Services",27,"Building Services Control Systems",60,"Internal",null,"Industrial Robotics","Aeronautical Engineering",56,"Industrial Robotics",60,"Internal"]
["Electrical and Electronic Engineering",6,"Microcontroller Systems for Engineers",120,"External",null,null,null,null,null,null,null,"Tap Dance Technique","Performing Arts",9,"Tap Dance Technique",60,"Internal",null,"Heating, Ventilation and Air Conditioning Design","Construction Building Services",28,"Heating, Ventilation and Air Conditioning Design",60,"Internal",null,"Jazz Dance Technique","Performing Arts",10,"Jazz Dance Technique",60,"Internal"]
["Mechanical Engineering",1,"Engineering Principles",120,"External",null,null,null,null,null,null,null,"Street Dance Technique","Performing Arts",11,"Street Dance Technique",60,"Internal",null,"Use of Static and Dynamic Fluids in Building Services Engineering","Construction Building Services",29,"Use of Static and Dynamic Fluids in Building Services Engineering",60,"Internal",null,"Acting Styles","Performing Arts",19,"Acting Styles",60,"Internal"]
["Mechanical Engineering",2,"Delivery of Engineering Processes Safely as a Team",60,"Internal",null,null,null,null,null,null,null,"Contemporary Dance Technique","Performing Arts",12,"Contemporary Dance Technique",60,"Internal",null,"Plumbing Technology in Building Services Engineering","Construction Building Services",30,"Plumbing Technology in Building Services Engineering",60,"Internal",null,"Singing Techniques for Performers","Performing Arts",23,"Singing Techniques for Performers",60,"Internal"]
["Mechanical Engineering",3,"Engineering Product Design and Manufacture",120,"External",null,null,null,null,null,null,null,"Choreography for Live Performance","Performing Arts",14,"Choreography for Live Performance",60,"Internal",null,"Electrical Principles in Building Services Engineering","Construction Building Services",31,"Electrical Principles in Building Services Engineering",60,"Internal",null,"Musical Theatre Techniques","Performing Arts",27,"Musical Theatre Techniques",60,"Internal"]
["Mechanical Engineering",4,"Applied Commercial and Quality Principles in Engineering",60,"Internal",null,null,null,null,null,null,null,"Classical Ballet Technique","Performing Arts Dance",8,"Classical Ballet Technique",60,"Internal",null,"Electrical Installation Standards, Components and Design","Construction Building Services",32,"Electrical Installation Standards, Components and Design",60,"Internal"]
["Mechanical Engineering",6,"Microcontroller Systems for Engineers",120,"External",null,null,null,null,null,null,null,"Tap Dance Technique","Performing Arts Dance",9,"Tap Dance Technique",60,"Internal",null,"Quantity Surveying Measurement Techniques in Building Services Engineering","Construction Building Services",33,"Quantity Surveying Measurement Techniques in Building Services Engineering",60,"Internal"]
["Computer Engineering",1,"Engineering Principles",120,"External",null,null,null,null,null,null,null,"Jazz Dance Technique","Performing Arts Dance",10,"Jazz Dance Technique",60,"Internal",null,"Building Regulations and Control in Building Services Engineering","Construction Building Services",34,"Building Regulations and Control in Building Services Engineering",60,"Internal"]
["Computer Engineering",2,"Delivery of Engineering Processes Safely as a Team",60,"Internal",null,null,null,null,null,null,null,"Street Dance Technique","Performing Arts Dance",11,"Street Dance Technique",60,"Internal",null,"Building Surveying in Construction","Construction and the Built Environment",10,"Building Surveying in Construction",60,"Internal"]
["Computer Engineering",3,"Engineering Product Design and Manufacture",120,"External",null,null,null,null,null,null,null,"Contemporary Dance Technique","Performing Arts Dance",12,"Contemporary Dance Technique",60,"Internal",null,"Site Engineering for Construction","Construction and the Built Environment",11,"Site Engineering for Construction",60,"Internal"]
["Computer Engineering",4,"Applied Commercial and Quality Principles in Engineering",60,"Internal",null,null,null,null,null,null,null,"Choreography for Live Performance","Performing Arts Dance",14,"Choreography for Live Performance",60,"Internal",null,"Low Temperature Hot Water Systems in Building Services","Construction and the Built Environment",12,"Low Temperature Hot Water Systems in Building Services",60,"Internal"]
["Computer Engineering",6,"Microcontroller Systems for Engineers",120,"External",null,null,null,null,null,null,null,"Theatre Directing","Performing Arts Acting",15,"Theatre Directing",60,"Internal",null,"Measurement Techniques in Construction","Construction and the Built Environment",13,"Measurement Techniques in Construction",60,"Internal"]
["Manufacturing Engineering",1,"Engineering Principles",120,"External",null,null,null,null,null,null,null,"Writing for Performance","Performing Arts Acting",16,"Writing for Performance",60,"Internal",null,"Provision of Primary Services in Buildings","Construction and the Built Environment",14,"Provision of Primary Services in Buildings",60,"Internal"]
["Manufacturing Engineering",2,"Delivery of Engineering Processes Safely as a Team",60,"Internal",null,null,null,null,null,null,null,"Screen Acting","Performing Arts Acting",17,"Screen Acting",60,"Internal",null,"Further Mathematics for Construction","Construction and the Built Environment",15,"Further Mathematics for Construction",60,"Internal"]
["Manufacturing Engineering",3,"Engineering Product Design and Manufacture",120,"External",null,null,null,null,null,null,null,"Interpreting Classical Text for Performance","Performing Arts Acting",18,"Interpreting Classical Text for Performance",60,"Internal",null,"Work Experience in the Construction Sector","Construction and the Built Environment",16,"Work Experience in the Construction Sector",60,"Internal"]
["Manufacturing Engineering",4,"Applied Commercial and Quality Principles in Engineering",60,"Internal",null,null,null,null,null,null,null,"Acting Styles","Performing Arts Acting",19,"Acting Styles",60,"Internal",null,"Projects in Construction","Construction and the Built Environment",17,"Projects in Construction",60,"Internal"]
["Manufacturing Engineering",6,"Microcontroller Systems for Engineers",120,"External",null,null,null,null,null,null,null,"Developing the Voice for Performance","Performing Arts Acting",20,"Developing the Voice for Performance",60,"Internal",null,"Building Information Modelling","Construction and the Built Environment",18,"Building Information Modelling",60,"Internal"]
["Aeronautical Engineering",1,"Engineering Principles",120,"External",null,null,null,null,null,null,null,"Jazz Dance Technique","Performing Arts Musical Theatre",10,"Jazz Dance Technique",60,"Internal",null,"Quantity Surveying","Construction and the Built Environment",19,"Quantity Surveying",60,"Internal"]
["Aeronautical Engineering",2,"Delivery of Engineering Processes Safely as a Team",60,"Internal",null,null,null,null,null,null,null,"Acting Styles","Performing Arts Musical Theatre",19,"Acting Styles",60,"Internal",null,"Quality Control Management in Construction","Construction and the Built Environment",20,"Quality Control Management in Construction",60,"Internal"]
["Aeronautical Engineering",3,"Engineering Product Design and Manufacture",120,"External",null,null,null,null,null,null,null,"Singing Techniques for Performers","Performing Arts Musical Theatre",23,"Singing Techniques for Performers",60,"Internal",null,"Building Services Science","Construction and the Built Environment",21,"Building Services Science",60,"Internal"]
["Aeronautical Engineering",4,"Applied Commercial and Quality Principles in Engineering",60,"Internal",null,null,null,null,null,null,null,"Musical Theatre Techniques","Performing Arts Musical Theatre",27,"Musical Theatre Techniques",60,"Internal",null,"Economics and Finance in Construction","Construction and the Built Environment",22,"Economics and Finance in Construction",60,"Internal"]
["Aeronautical Engineering",6,"Microcontroller Systems for Engineers",120,"External",null,null,null,null,null,null,null,"Crop Production","Agriculture",6,"Crop Production",60,"Internal",null,"Construction in Civil Engineering","Construction and the Built Environment",23,"Construction in Civil Engineering",60,"Internal"]
["Enterprise and Entrepreneurship",2,"Developing a Marketing Campaign",90,"External",null,null,null,null,null,null,null,"Farm Livestock Husbandry","Agriculture",7,"Farm Livestock Husbandry",60,"Internal",null,"Planning Application Procedures in Construction","Construction and the Built Environment",24,"Planning Application Procedures in Construction",60,"Internal"]
["Enterprise and Entrepreneurship",3,"Business and Personal Finance",120,"External",null,null,null,null,null,null,null,"Crop Handling, Storage and Quality Assurance","Agriculture",10,"Crop Handling, Storage and Quality Assurance",60,"Internal",null,"Property Law","Construction and the Built Environment",25,"Property Law",60,"Internal"]
["Enterprise and Entrepreneurship",6,"Business Decision Making",120,"External",null,null,null,null,null,null,null,"Livestock Health and Diseases","Agriculture",11,"Livestock Health and Diseases",60,"Internal",null,"Conversion, Adaptation and Maintenance of Buildings","Construction and the Built Environment",26,"Conversion, Adaptation and Maintenance of Buildings",60,"Internal"]
["Enterprise and Entrepreneurship",12,"Principles of Management",120,"External",null,null,null,null,null,null,null,"Developing a Land-based Enterprise","Agriculture",12,"Developing a Land-based Enterprise",60,"Internal",null,"Principles and Applications of Structural Mechanics","Construction Civil Engineering",35,"Principles and Applications of Structural Mechanics",60,"Internal"]
["Enterprise and Entrepreneurship",13,"Developing an Enterprise Strategy",120,"Internal",null,null,null,null,null,null,null,"Root Crop and Field Vegetable Production","Agriculture",14,"Root Crop and Field Vegetable Production",60,"Internal",null,"Public Health Engineering","Construction Civil Engineering",36,"Public Health Engineering",60,"Internal"]
["Equine Management",1,"Equine Structure, Form and Function",120,"External",null,null,null,null,null,null,null,"Combinable Crop Production and Processing","Agriculture",15,"Combinable Crop Production and Processing",60,"Internal",null,"Specialist Civil Engineering Techniques","Construction Civil Engineering",37,"Specialist Civil Engineering Techniques",60,"Internal"]
["Equine Management",2,"Equine Diet and Nutrition",120,"External",null,null,null,null,null,null,null,"Grass and Forage Crop Production","Agriculture",16,"Grass and Forage Crop Production",60,"Internal",null,"Highway Construction and Maintenance in Civil Engineering","Construction Civil Engineering",38,"Highway Construction and Maintenance in Civil Engineering",60,"Internal"]
["Equine Management",3,"Managing Equine Disease",120,"External",null,null,null,null,null,null,null,"Poultry Production","Agriculture",17,"Poultry Production",60,"Internal",null,"Storyboarding for Digital Media","Creative Digital Media Production",18,"Storyboarding for Digital Media",60,"Internal"]
["Equine Management",5,"Horse Tack, Equipment and Rugs",60,"Internal",null,null,null,null,null,null,null,"Pig Production","Agriculture",18,"Pig Production",60,"Internal",null,"Scriptwriting","Creative Digital Media Production",19,"Scriptwriting",60,"Internal"]
["Equine Management",6,"Equine Health and Husbandry",60,"Internal",null,null,null,null,null,null,null,"Sheep Production","Agriculture",19,"Sheep Production",60,"Internal",null,"Single Camera Techniques","Creative Digital Media Production",20,"Single Camera Techniques",60,"Internal"]
["Forensic and Criminal Investigation",1,"Principles and Applications of Science I",90,"External",null,null,null,null,null,null,null,"Beef Production","Agriculture",20,"Beef Production",60,"Internal",null,"Film Editing","Creative Digital Media Production",21,"Film Editing",60,"Internal"]
["Forensic and Criminal Investigation",2,"Practical Scientific Procedures and Techniques",90,"Internal",null,null,null,null,null,null,null,"Dairy Production","Agriculture",21,"Dairy Production",60,"Internal",null,"Interviewing Techniques","Creative Digital Media Production",22,"Interviewing Techniques",60,"Internal"]
["Forensic and Criminal Investigation",3,"Science Investigation Skills",120,"External",null,null,null,null,null,null,null,"Livestock Nutrition","Agriculture",22,"Livestock Nutrition",60,"Internal",null,"Sound Editing","Creative Digital Media Production",24,"Sound Editing",60,"Internal"]
["Forensic and Criminal Investigation",4,"Forensic Investigation Procedures in Practice",90,"Internal",null,null,null,null,null,null,null,"Organic Agricultural Production","Agriculture",23,"Organic Agricultural Production",60,"Internal",null,"Sound Recording","Creative Digital Media Production",25,"Sound Recording",60,"Internal"]
["Forensic and Criminal Investigation",5,"Applications of Criminology",120,"External",null,null,null,null,null,null,null,"Land-based Workshop Practices","Agriculture",24,"Land-based Workshop Practices",60,"Internal",null,"Writing Copy","Creative Digital Media Production",26,"Writing Copy",60,"Internal"]
["Forensic and Criminal Investigation",6,"Criminal Investigation Procedures in Practice",90,"Internal",null,null,null,null,null,null,null,"Selecting and Managing Land-based Machinery","Agriculture",26,"Selecting and Managing Land-based Machinery",60,"Internal",null,"Digital Photography","Creative Digital Media Production",27,"Digital Photography",60,"Internal"]
["Forensic and Criminal Investigation",7,"Applications of Criminal and Forensic Psychology",120,"External",null,null,null,null,null,null,null,"Animal Genetics","Agriculture",27,"Animal Genetics",60,"Internal",null,"Image Manipulation Techniques","Creative Digital Media Production",28,"Image Manipulation Techniques",60,"Internal"]
["Health and Social Care",1,"Human Lifespan Development",90,"External",null,null,null,null,null,null,null,null,null,null,null,null,null,null,"2D Digital Graphics","Creative Digital Media Production",29,"2D Digital Graphics",60,"Internal"]
["Health and Social Care",2,"Working in Health and Social Care",120,"External",null,null,null,null,null,null,null,null,null,null,null,null,null,null,"Page Layout and Design for Digital Media","Creative Digital Media Production",30,"Page Layout and Design for Digital Media",60,"Internal"]
["Health and Social Care",3,"Anatomy and Physiology for Health and Social Care",120,"External",null,null,null,null,null,null,null,null,null,null,null,null,null,null,"Coding for Web-based Media","Creative Digital Media Production",31,"Coding for Web-based Media",60,"Internal"]
["Health and Social Care",4,"Enquiries into Current Research in Health and Social Care",120,"External",null,null,null,null,null,null,null,null,null,null,null,null,null,null,"Concept Art for Computer Games","Creative Digital Media Production",32,"Concept Art for Computer Games",60,"Internal"]
["Health and Social Care",5,"Meeting Individual Care and Support Needs",90,"Internal",null,null,null,null,null,null,null,null,null,null,null,null,null,null,"2D Animation","Creative Digital Media Production",33,"2D Animation",60,"Internal"]
["Health and Social Care",6,"Work Experience in Health and Social Care",60,"Internal",null,null,null,null,null,null,null,null,null,null,null,null,null,null,"Games Engine Scripting","Creative Digital Media Production",34,"Games Engine Scripting",60,"Internal"]
["Health and Social Care",7,"Principles of Safe Practice in Health and Social Care",90,"Internal",null,null,null,null,null,null,null,null,null,null,null,null,null,null,"Sound Mixing","Creative Digital Media Production",38,"Sound Mixing",60,"Internal"]
["Health and Social Care",8,"Promoting Public Health",90,"Internal",null,null,null,null,null,null,null,null,null,null,null,null,null,null,"3D Modelling","Creative Digital Media Production",40,"3D Modelling",60,"Internal"]
["Health and Social Care Health Studies",1,"Human Lifespan Development",90,"External",null,null,null,null,null,null,null,null,null,null,null,null,null,null,"3D Environments","Creative Digital Media Production",41,"3D Environments",60,"Internal"]
["Health and Social Care Health Studies",2,"Working in Health and Social Care",120,"External",null,null,null,null,null,null,null,null,null,null,null,null,null,null,"Games Testing","Creative Digital Media Production",42,"Games Testing",60,"Internal"]
["Health and Social Care Health Studies",3,"Anatomy and Physiology for Health and Social Care",120,"External",null,null,null,null,null,null,null,null,null,null,null,null,null,null,"3D Digital Animation","Creative Digital Media Production",43,"3D Digital Animation",60,"Internal"]
["Health and Social Care Health Studies",4,"Enquiries into Current Research in Health and Social Care",120,"External",null,null,null,null,null,null,null,null,null,null,null,null,null,null,"Storyboarding for Digital Media","Creative Digital Media Production Film Television and Radio",18,"Storyboarding for Digital Media",60,"Internal"]
["Health and Social Care Health Studies",5,"Meeting Individual Care and Support Needs",90,"Internal",null,null,null,null,null,null,null,null,null,null,null,null,null,null,"Scriptwriting","Creative Digital Media Production Film Television and Radio",19,"Scriptwriting",60,"Internal"]
["Health and Social Care Health Studies",6,"Work Experience in Health and Social Care",60,"Internal",null,null,null,null,null,null,null,null,null,null,null,null,null,null,"Single Camera Techniques","Creative Digital Media Production Film Television and Radio",20,"Single Camera Techniques",60,"Internal"]
["Health and Social Care Health Studies",7,"Principles of Safe Practice in Health and Social Care",90,"Internal",null,null,null,null,null,null,null,null,null,null,null,null,null,null,"Film Editing","Creative Digital Media Production Film Television and Radio",21,"Film Editing",60,"Internal"]
["Health and Social Care Health Studies",8,"Promoting Public Health",90,"Internal",null,null,null,null,null,null,null,"Sport Development","Sport and Outdoor Activities",1,"Sport Development",60,"Internal",null,"Interviewing Techniques","Creative Digital Media Production Film Television and Radio",22,"Interviewing Techniques",60,"Internal"]
["Information Technology",1,"Information Technology Systems",120,"External",null,null,null,null,null,null,null,"Self-Employment in Sport and Physical Activity","Sport and Outdoor Activities",2,"Self-Employment in Sport and Physical Activity",60,"Internal",null,"Sound Editing","Creative Digital Media Production Film Television and Radio",24,"Sound Editing",60,"Internal"]
["Information Technology",2,"Creating Systems to Manage Information",90,"External",null,null,null,null,null,null,null,"Nutrition for Physical Performance","Sport and Outdoor Activities",4,"Nutrition for Physical Performance",60,"Internal",null,"Sound Recording","Creative Digital Media Production Film Television and Radio",25,"Sound Recording",60,"Internal"]
["Information Technology",3,"Using Social Media in Business",90,"Internal",null,null,null,null,null,null,null,"Anatomy and Physiology in Sport","Sport and Outdoor Activities",5,"Anatomy and Physiology in Sport",60,"Internal",null,"Sound Mixing","Creative Digital Media Production Film Television and Radio",38,"Sound Mixing",60,"Internal"]
["Information Technology",4,"Programming",90,"Internal",null,null,null,null,null,null,null,"Sporting Injuries","Sport and Outdoor Activities",6,"Sporting Injuries",60,"Internal",null,"Interviewing Techniques","Creative Digital Media Production Interactive Publishing and Media",22,"Interviewing Techniques",60,"Internal"]
["Information Technology",9,"IT Project Management",90,"Internal",null,null,null,null,null,null,null,"Fitness Training","Sport and Outdoor Activities",9,"Fitness Training",60,"Internal",null,"Writing Copy","Creative Digital Media Production Interactive Publishing and Media",26,"Writing Copy",60,"Internal"]
["Information Technology",11,"Cyber security and Incident Management",120,"External",null,null,null,null,null,null,null,"Influence of Technology in Sport and Physical Activity","Sport and Outdoor Activities",13,"Influence of Technology in Sport and Physical Activity",60,"Internal",null,"Digital Photography","Creative Digital Media Production Interactive Publishing and Media",27,"Digital Photography",60,"Internal"]
["Information Technology",14,"IT Service Delivery",120,"External",null,null,null,null,null,null,null,"Organising Events in Sport and Physical Activities","Sport and Outdoor Activities",14,"Organising Events in Sport and Physical Activities",60,"Internal",null,"Image Manipulation Techniques","Creative Digital Media Production Interactive Publishing and Media",28,"Image Manipulation Techniques",60,"Internal"]
["Music","A1","Performing as an ensemble",150,"Internal",null,null,null,null,null,null,null,"Ethical and Current Issues in Sport","Sport and Outdoor Activities",15,"Ethical and Current Issues in Sport",60,"Internal",null,"2D Digital Graphics","Creative Digital Media Production Interactive Publishing and Media",29,"2D Digital Graphics",60,"Internal"]
["Music","A2","Creating musical material",150,"Internal",null,null,null,null,null,null,null,"Marketing Communications","Sport and Outdoor Activities",16,"Marketing Communications",60,"Internal",null,"Page Layout and Design for Digital Media","Creative Digital Media Production Interactive Publishing and Media",30,"Page Layout and Design for Digital Media",60,"Internal"]
["Music","A3","Using musical styles",150,"Internal",null,null,null,null,null,null,null,"Sport and Leisure Facility Operations","Sport and Outdoor Activities",18,"Sport and Leisure Facility Operations",60,"Internal",null,"Coding for Web-based Media","Creative Digital Media Production Interactive Publishing and Media",31,"Coding for Web-based Media",60,"Internal"]
["Music","C7","Planning a career in the industry",90,"Internal",null,null,null,null,null,null,null,"Sports Tourism","Sport and Outdoor Activities",19,"Sports Tourism",60,"Internal",null,"Concept Art for Computer Games","Creative Digital Media Production Digital Games",32,"Concept Art for Computer Games",60,"Internal"]
["Music","D8","Using development plans to refine skills",90,"Internal",null,null,null,null,null,null,null,"Expedition Experience","Sport and Outdoor Activities",27,"Expedition Experience",60,"Internal",null,"2D Animation","Creative Digital Media Production Digital Games",33,"2D Animation",60,"Internal"]
["Music","D9","Producing a personal project",90,"Internal",null,null,null,null,null,null,null,"Sporting Injuries","Sport Fitness and Personal Training",6,"Sporting Injuries",60,"Internal",null,"Games Engine Scripting","Creative Digital Media Production Digital Games",34,"Games Engine Scripting",60,"Internal"]
["Music","D10","Using material for self-promotion and networking",90,"Internal",null,null,null,null,null,null,null,"Functional Sports Massage","Sport Fitness and Personal Training",7,"Functional Sports Massage",60,"Internal",null,"3D Modelling","Creative Digital Media Production Digital Games",40,"3D Modelling",60,"Internal"]
["Music","E11","Undertaking a defined technical project role",90,"Internal",null,null,null,null,null,null,null,"Fitness Testing","Sport Fitness and Personal Training",8,"Fitness Testing",60,"Internal",null,"3D Environments","Creative Digital Media Production Digital Games",41,"3D Environments",60,"Internal"]
["Music","E12","Using creative collaboration to develop a project",90,"Internal",null,null,null,null,null,null,null,"Fitness Training","Sport Fitness and Personal Training",9,"Fitness Training",60,"Internal",null,"Games Testing","Creative Digital Media Production Digital Games",42,"Games Testing",60,"Internal"]
["Music","E13","Producing a collaborative project",90,"Internal",null,null,null,null,null,null,null,"Organising Events in Sport and Physical Activities","Sport Fitness and Personal Training",14,"Organising Events in Sport and Physical Activities",60,"Internal",null,"3D Digital Animation","Creative Digital Media Production Digital Games",43,"3D Digital Animation",60,"Internal"]
["Music (Production)","B4","Studio recording",150,"Internal",null,null,null,null,null,null,null,"Ethical and Current Issues in Sport","Sport Fitness and Personal Training",15,"Ethical and Current Issues in Sport",60,"Internal",null,"Maintenance of Mechanical Systems","Engineering",24,"Maintenance of Mechanical Systems",60,"Internal"]
["Music (Production)","B5","Creating musical material through production",150,"Internal",null,null,null,null,null,null,null,"Marketing Communications","Sport Fitness and Personal Training",16,"Marketing Communications",60,"Internal",null,"Mechanical Behaviour of Metallic Materials","Engineering",25,"Mechanical Behaviour of Metallic Materials",60,"Internal"]
["Music (Production)","B6","Music technology and live events",150,"Internal",null,null,null,null,null,null,null,"Corporate Social Responsibility in Sport","Sport Fitness and Personal Training",17,"Corporate Social Responsibility in Sport",60,"Internal",null,"Mechanical Behaviour of Non-metallic Materials","Engineering",26,"Mechanical Behaviour of Non-metallic Materials",60,"Internal"]
["Music (Production)","C7","Planning a career in the industry",90,"Internal",null,null,null,null,null,null,null,"Sport and Leisure Facility Operations","Sport Fitness and Personal Training",18,"Sport and Leisure Facility Operations",60,"Internal",null,"Static Mechanical Principles in Practice","Engineering",27,"Static Mechanical Principles in Practice",60,"Internal"]
["Music (Production)","D8","Using development plans to refine skills",90,"Internal",null,null,null,null,null,null,null,"Sports Tourism","Sport Fitness and Personal Training",19,"Sports Tourism",60,"Internal",null,"Dynamic Mechanical Principles in Practice","Engineering",28,"Dynamic Mechanical Principles in Practice",60,"Internal"]
["Music (Production)","D9","Producing a personal project",90,"Internal",null,null,null,null,null,null,null,"Developing Coaching Skills","Sporting Excellence and Performance","C1","Developing Coaching Skills",180,"Internal",null,"Principles and Applications of Fluid Mechanics","Engineering",29,"Principles and Applications of Fluid Mechanics",60,"Internal"]
["Music (Production)","D10","Using material for self-promotion and networking",90,"Internal",null,null,null,null,null,null,null,"Fitness Skills Development","Sporting Excellence and Performance","C2","Fitness Skills Development",180,"Internal",null,"Mechanical Measurement and Inspection Technology","Engineering",30,"Mechanical Measurement and Inspection Technology",60,"Internal"]
["Music (Production)","E11","Undertaking a defined technical project role",90,"Internal",null,null,null,null,null,null,null,"Sport Development","Sporting Excellence and Performance",1,"Sport Development",60,"Internal",null,"Thermodynamic Principles and Practice","Engineering",31,"Thermodynamic Principles and Practice",60,"Internal"]
["Music (Production)","E12","Using creative collaboration to develop a project",90,"Internal",null,null,null,null,null,null,null,"Functional Sports Massage","Sporting Excellence and Performance",7,"Functional Sports Massage",60,"Internal",null,"Sustainable Transport","Engineering",57,"Sustainable Transport",60,"Internal"]
["Music (Production)","E13","Producing a collaborative project",90,"Internal",null,null,null,null,null,null,null,"Rules, Regulations and Officiating in Sport","Sporting Excellence and Performance",11,"Rules, Regulations and Officiating in Sport",60,"Internal",null,"Further Engineering Mathematics","Electrical and Electronic Engineering",8,"Further Engineering Mathematics",60,"Internal"]
["Music Technology",2,"Studio Recording Techniques",60,"Internal",null,null,null,null,null,null,null,"Influence of Technology in Sport and Physical Activity","Sporting Excellence and Performance",13,"Influence of Technology in Sport and Physical Activity",60,"Internal",null,"Electrical Installation of Hardware and Cables","Electrical and Electronic Engineering",14,"Electrical Installation of Hardware and Cables",60,"Internal"]
["Music Technology",4,"Music Technology Project",120,"Internal",null,null,null,null,null,null,null,"Organising Events in Sport and Physical Activities","Sporting Excellence and Performance",14,"Organising Events in Sport and Physical Activities",60,"Internal",null,"Electrical Machines","Electrical and Electronic Engineering",15,"Electrical Machines",60,"Internal"]
["Music Technology",5,"Music Technology in Context",120,"External",null,null,null,null,null,null,null,"Ethical and Current Issues in Sport","Sporting Excellence and Performance",15,"Ethical and Current Issues in Sport",60,"Internal",null,"Three Phase Electrical Systems","Electrical and Electronic Engineering",16,"Three Phase Electrical Systems",60,"Internal"]
["Music Technology",6,"DAW Production",120,"External",null,null,null,null,null,null,null,"Marketing Communications","Sporting Excellence and Performance",16,"Marketing Communications",60,"Internal",null,"Power and Energy Electronics","Electrical and Electronic Engineering",17,"Power and Energy Electronics",60,"Internal"]
["Music Technology",7,"Music Technology Enterprise Opportunities",120,"External",null,null,null,null,null,null,null,"Corporate Social Responsibility in Sport","Sporting Excellence and Performance",17,"Corporate Social Responsibility in Sport",60,"Internal",null,"Electrical Power Distribution and Transmission","Electrical and Electronic Engineering",18,"Electrical Power Distribution and Transmission",60,"Internal"]
["Performing Arts",1,"Investigating Practitioners’ Work",90,"External",null,null,null,null,null,null,null,"Sport and Leisure Facility Operations","Sporting Excellence and Performance",18,"Sport and Leisure Facility Operations",60,"Internal",null,"Electronic Devices and Circuits","Electrical and Electronic Engineering",19,"Electronic Devices and Circuits",60,"Internal"]
["Performing Arts",2,"Developing Skills and Techniques for Live Performance",90,"Internal",null,null,null,null,null,null,null,"Sports Tourism","Sporting Excellence and Performance",19,"Sports Tourism",60,"Internal",null,"Analogue Electronic Circuits","Electrical and Electronic Engineering",20,"Analogue Electronic Circuits",60,"Internal"]
["Performing Arts",3,"Group Performance Workshop",120,"External",null,null,null,null,null,null,null,"School Sport Delivery","Sporting Excellence and Performance",20,"School Sport Delivery",60,"Internal",null,"Electronic Measurement and Testing of Circuits","Electrical and Electronic Engineering",21,"Electronic Measurement and Testing of Circuits",60,"Internal"]
["Performing Arts",4,"Performing Arts in the Community",90,"Internal",null,null,null,null,null,null,null,"Sports Law and Legislation","Sporting Excellence and Performance",22,"Sports Law and Legislation",60,"Internal",null,"Electronic Printed Circuit Board Design and Manufacture","Electrical and Electronic Engineering",22,"Electronic Printed Circuit Board Design and Manufacture",60,"Internal"]
["Performing Arts",5,"Individual Performance Commission",120,"External",null,null,null,null,null,null,null,"Sports Psychology","Sports Coaching and Development",3,"Sports Psychology",60,"Internal",null,"Digital and Analogue Electronic Systems","Electrical and Electronic Engineering",23,"Digital and Analogue Electronic Systems",60,"Internal"]
["Performing Arts",6,"Final Live Performance to an Audience",90,"Internal",null,null,null,null,null,null,null,"Nutrition for Physical Performance","Sports Coaching and Development",4,"Nutrition for Physical Performance",60,"Internal",null,"Programmable Logic Controllers","Electrical and Electronic Engineering",36,"Programmable Logic Controllers",60,"Internal"]
["Performing Arts",7,"Employment Opportunities in the Performing Arts",120,"External",null,null,null,null,null,null,null,"Anatomy and Physiology in Sport","Sports Coaching and Development",5,"Anatomy and Physiology in Sport",60,"Internal",null,"Industrial Robotics","Electrical and Electronic Engineering",56,"Industrial Robotics",60,"Internal"]
["Performing Arts Dance",1,"Investigating Practitioners’ Work",90,"External",null,null,null,null,null,null,null,"Sporting Injuries","Sports Coaching and Development",6,"Sporting Injuries",60,"Internal",null,"Further Engineering Mathematics","Mechanical Engineering",8,"Further Engineering Mathematics",60,"Internal"]
["Performing Arts Dance",2,"Developing Skills and Techniques for Live Performance",90,"Internal",null,null,null,null,null,null,null,"Functional Sports Massage","Sports Coaching and Development",7,"Functional Sports Massage",60,"Internal",null,"Computer Aided Design in Engineering","Mechanical Engineering",10,"Computer Aided Design in Engineering",60,"Internal"]
["Performing Arts Dance",3,"Group Performance Workshop",120,"External",null,null,null,null,null,null,null,"Fitness Testing","Sports Coaching and Development",8,"Fitness Testing",60,"Internal",null,"Engineering Maintenance and Condition Monitoring Techniques","Mechanical Engineering",11,"Engineering Maintenance and Condition Monitoring Techniques",60,"Internal"]
["Performing Arts Dance",4,"Performing Arts in the Community",90,"Internal",null,null,null,null,null,null,null,"Fitness Training","Sports Coaching and Development",9,"Fitness Training",60,"Internal",null,"Pneumatic and Hydraulic Systems","Mechanical Engineering",12,"Pneumatic and Hydraulic Systems",60,"Internal"]
["Performing Arts Dance",5,"Individual Performance Commission",120,"External",null,null,null,null,null,null,null,"Technical and Tactical Skills in Sport","Sports Coaching and Development",10,"Technical and Tactical Skills in Sport",60,"Internal",null,"Maintenance of Mechanical Systems","Mechanical Engineering",24,"Maintenance of Mechanical Systems",60,"Internal"]
["Performing Arts Dance",6,"Final Live Performance to an Audience",90,"Internal",null,null,null,null,null,null,null,"Rules, Regulations and Officiating in Sport","Sports Coaching and Development",11,"Rules, Regulations and Officiating in Sport",60,"Internal",null,"Mechanical Behaviour of Metallic Materials","Mechanical Engineering",25,"Mechanical Behaviour of Metallic Materials",60,"Internal"]
["Performing Arts Dance",7,"Employment Opportunities in the Performing Arts",120,"External",null,null,null,null,null,null,null,"Practical Sports Application","Sports Coaching and Development",12,"Practical Sports Application",60,"Internal",null,"Mechanical Behaviour of Non-metallic Materials","Mechanical Engineering",26,"Mechanical Behaviour of Non-metallic Materials",60,"Internal"]
["Performing Arts Acting",1,"Investigating Practitioners’ Work",90,"External",null,null,null,null,null,null,null,"Influence of Technology in Sport and Physical Activity","Sports Coaching and Development",13,"Influence of Technology in Sport and Physical Activity",60,"Internal",null,"Static Mechanical Principles in Practice","Mechanical Engineering",27,"Static Mechanical Principles in Practice",60,"Internal"]
["Performing Arts Acting",2,"Developing Skills and Techniques for Live Performance",90,"Internal",null,null,null,null,null,null,null,"Organising Events in Sport and Physical Activities","Sports Coaching and Development",14,"Organising Events in Sport and Physical Activities",60,"Internal",null,"Dynamic Mechanical Principles in Practice","Mechanical Engineering",28,"Dynamic Mechanical Principles in Practice",60,"Internal"]
["Performing Arts Acting",3,"Group Performance Workshop",120,"External",null,null,null,null,null,null,null,"Ethical and Current Issues in Sport","Sports Coaching and Development",15,"Ethical and Current Issues in Sport",60,"Internal",null,"Principles and Applications of Fluid Mechanics","Mechanical Engineering",29,"Principles and Applications of Fluid Mechanics",60,"Internal"]
["Performing Arts Acting",4,"Performing Arts in the Community",90,"Internal",null,null,null,null,null,null,null,"Marketing Communications","Sports Coaching and Development",16,"Marketing Communications",60,"Internal",null,"Mechanical Measurement and Inspection Technology","Mechanical Engineering",30,"Mechanical Measurement and Inspection Technology",60,"Internal"]
["Performing Arts Acting",5,"Individual Performance Commission",120,"External",null,null,null,null,null,null,null,"Corporate Social Responsibility in Sport","Sports Coaching and Development",17,"Corporate Social Responsibility in Sport",60,"Internal",null,"Thermodynamic Principles and Practice","Mechanical Engineering",31,"Thermodynamic Principles and Practice",60,"Internal"]
["Performing Arts Acting",6,"Final Live Performance to an Audience",90,"Internal",null,null,null,null,null,null,null,"Sport and Leisure Facility Operations","Sports Coaching and Development",18,"Sport and Leisure Facility Operations",60,"Internal",null,"Programmable Logic Controllers","Mechanical Engineering",36,"Programmable Logic Controllers",60,"Internal"]
["Performing Arts Acting",7,"Employment Opportunities in the Performing Arts",120,"External",null,null,null,null,null,null,null,"Sports Tourism","Sports Coaching and Development",19,"Sports Tourism",60,"Internal",null,"Electronic Devices and Circuits","Computer Engineering",19,"Electronic Devices and Circuits",60,"Internal"]
["Performing Arts Musical Theatre",1,"Investigating Practitioners’ Work",90,"External",null,null,null,null,null,null,null,"School Sport Delivery","Sports Coaching and Development",20,"School Sport Delivery",60,"Internal",null,"Computer Systems Security","Computer Engineering",33,"Computer Systems Security",60,"Internal"]
["Performing Arts Musical Theatre",2,"Developing Skills and Techniques for Live Performance",90,"Internal",null,null,null,null,null,null,null,"Specialist Tourism","Travel and Tourism",6,"Specialist Tourism",60,"Internal",null,"Computer Systems Support and Performance","Computer Engineering",34,"Computer Systems Support and Performance",60,"Internal"]
["Performing Arts Musical Theatre",3,"Group Performance Workshop",120,"External",null,null,null,null,null,null,null,"Sustainable Tourism","Travel and Tourism",7,"Sustainable Tourism",60,"Internal",null,"Computer Programming","Computer Engineering",35,"Computer Programming",60,"Internal"]
["Performing Arts Musical Theatre",4,"Performing Arts in the Community",90,"Internal",null,null,null,null,null,null,null,"The Airport Experience","Travel and Tourism",8,"The Airport Experience",60,"Internal",null,"Programmable Logic Controllers","Computer Engineering",36,"Programmable Logic Controllers",60,"Internal"]
["Performing Arts Musical Theatre",5,"Individual Performance Commission",120,"External",null,null,null,null,null,null,null,"Visitor Attractions","Travel and Tourism",9,"Visitor Attractions",60,"Internal",null,"Computer Networks","Computer Engineering",37,"Computer Networks",60,"Internal"]
["Performing Arts Musical Theatre",6,"Final Live Performance to an Audience",90,"Internal",null,null,null,null,null,null,null,"Passenger Transport","Travel and Tourism",10,"Passenger Transport",60,"Internal",null,"Website Production to Control Devices","Computer Engineering",38,"Website Production to Control Devices",60,"Internal"]
["Performing Arts Musical Theatre",7,"Employment Opportunities in the Performing Arts",120,"External",null,null,null,null,null,null,null,"Events, Conferences and Exhibitions","Travel and Tourism",11,"Events, Conferences and Exhibitions",60,"Internal",null,"Computer Aided Manufacturing and Planning","Computer Engineering",40,"Computer Aided Manufacturing and Planning",60,"Internal"]
["Sport",1,"Anatomy and Physiology",120,"External",null,null,null,null,null,null,null,"Working Overseas","Travel and Tourism",12,"Working Overseas",60,"Internal",null,"Manufacturing Computer Numerical Control Machining Processes","Computer Engineering",43,"Manufacturing Computer Numerical Control Machining Processes",60,"Internal"]
["Sport",2,"Fitness Training and Programming for Health, Sport and Well-being",120,"External",null,null,null,null,null,null,null,"Work Experience in Travel and Tourism","Travel and Tourism",13,"Work Experience in Travel and Tourism",60,"Internal",null,"Industrial Robotics","Computer Engineering",56,"Industrial Robotics",60,"Internal"]
["Sport",19,"Development and Provision of Sport and Physical Activity",120,"External",null,null,null,null,null,null,null,"The Cruise Industry","Travel and Tourism",14,"The Cruise Industry",60,"Internal",null,"Computer Aided Design in Engineering","Manufacturing Engineering",10,"Computer Aided Design in Engineering",60,"Internal"]
["Sport",22,"Investigating Business in the Sport and Active Leisure Industry",90,"External",null,null,null,null,null,null,null,"Recruitment and selection in Travel and Tourism","Travel and Tourism",15,"Recruitment and selection in Travel and Tourism",60,"Internal",null,"Welding Technology","Manufacturing Engineering",13,"Welding Technology",60,"Internal"]
["Sport",23,"Skill Acquisition in Sport",90,"Internal",null,null,null,null,null,null,null,"Custodial Care","Uniformed Protective Services",8,"Custodial Care",60,"Internal",null,"Electronic Printed Circuit Board Design and Manufacture","Manufacturing Engineering",22,"Electronic Printed Circuit Board Design and Manufacture",60,"Internal"]
["Sport and Exercise Science",1,"Sport and Exercise Physiology",120,"External",null,null,null,null,null,null,null,"Sociological Perspectives","Uniformed Protective Services",9,"Sociological Perspectives",60,"Internal",null,"Mechanical Measurement and Inspection Technology","Manufacturing Engineering",30,"Mechanical Measurement and Inspection Technology",60,"Internal"]
["Sport and Exercise Science",2,"Functional Anatomy",90,"External",null,null,null,null,null,null,null,"Skills for Outdoor Activities and the Uniformed Protective Services","Uniformed Protective Services",10,"Skills for Outdoor Activities and the Uniformed Protective Services",60,"Internal",null,"Programmable Logic Controllers","Manufacturing Engineering",36,"Programmable Logic Controllers",60,"Internal"]
["Sport and Exercise Science",3,"Applied Sport and Exercise Psychology",120,"External",null,null,null,null,null,null,null,"Expedition Skills","Uniformed Protective Services",11,"Expedition Skills",60,"Internal",null,"Computer Aided Manufacturing and Planning","Manufacturing Engineering",40,"Computer Aided Manufacturing and Planning",60,"Internal"]
["Sport and Exercise Science",4,"Field and Laboratory-based Fitness Testing",90,"Internal",null,null,null,null,null,null,null,"Developing Personal Fitness Programmes","Uniformed Protective Services",12,"Developing Personal Fitness Programmes",60,"Internal",null,"Manufacturing Secondary Machining Processes","Manufacturing Engineering",41,"Manufacturing Secondary Machining Processes",60,"Internal"]
["Sport and Exercise Science",5,"Applied Research Methods in Sport and Exercise Science",90,"Internal",null,null,null,null,null,null,null,"Introduction to Criminology","Uniformed Protective Services",13,"Introduction to Criminology",60,"Internal",null,"Manufacturing Primary Forming Processes","Manufacturing Engineering",42,"Manufacturing Primary Forming Processes",60,"Internal"]
["Sport and Exercise Science",6,"Coaching for Performance and Fitness",90,"Internal",null,null,null,null,null,null,null,"Principles of Managing Security Threats","Uniformed Protective Services",14,"Principles of Managing Security Threats",60,"Internal",null,"Manufacturing Computer Numerical Control Machining Processes","Manufacturing Engineering",43,"Manufacturing Computer Numerical Control Machining Processes",60,"Internal"]
["Sport and Exercise Science",13,"Nutrition for Sport and Exercise\nPerformance",120,"External",null,null,null,null,null,null,null,"Police Powers and the Law","Uniformed Protective Services",15,"Police Powers and the Law",60,"Internal",null,"Fabrication Manufacturing Processes","Manufacturing Engineering",44,"Fabrication Manufacturing Processes",60,"Internal"]
["Agriculture",1,"Professional Working Responsibilities",120,"External",null,null,null,null,null,null,null,"Research Skills in the Uniformed Protective Services","Uniformed Protective Services",16,"Research Skills in the Uniformed Protective Services",60,"Internal",null,"Additive Manufacturing Processes","Manufacturing Engineering",45,"Additive Manufacturing Processes",60,"Internal"]
["Agriculture",2,"Plant and Soil Science",120,"External",null,null,null,null,null,null,null,"Understanding the Third Sector","Uniformed Protective Services",17,"Understanding the Third Sector",60,"Internal",null,"Manufacturing Joining, Finishing and Assembly Processes","Manufacturing Engineering",46,"Manufacturing Joining, Finishing and Assembly Processes",60,"Internal"]
["Agriculture",3,"Contemporary Issues in the Land-based Sectors",120,"External",null,null,null,null,null,null,null,"Criminal Investigation Procedures and Practice","Uniformed Protective Services",18,"Criminal Investigation Procedures and Practice",60,"Internal",null,"Composites Manufacture and Repair Processes","Manufacturing Engineering",47,"Composites Manufacture and Repair Processes",60,"Internal"]
["Agriculture",13,"Managing Activities for Agricultural Enterprises",60,"Internal",null,null,null,null,null,null,null,"Professional Development in the Uniformed Protective Services","Uniformed Protective Services",19,"Professional Development in the Uniformed Protective Services",60,"Internal",null,"Industrial Robotics","Manufacturing Engineering",56,"Industrial Robotics",60,"Internal"]
["Agriculture",25,"Agricultural Business Improvements",60,"Internal",null,null,null,null,null,null,null,"Technological Systems to Support Service Delivery","Uniformed Protective Services",20,"Technological Systems to Support Service Delivery",60,"Internal",null,"Computer Aided Design in Engineering","Aeronautical Engineering",10,"Computer Aided Design in Engineering",60,"Internal"]
["Horticulture",1,"Professional Working Responsibilities",120,"External",null,null,null,null,null,null,null,"Identification, Planting and Care of Trees","Countryside Management",8,"Identification, Planting and Care of Trees",60,"Internal",null,"Engineering Maintenance and Condition Monitoring Techniques","Aeronautical Engineering",11,"Engineering Maintenance and Condition Monitoring Techniques",60,"Internal"]
["Horticulture",2,"Plant and Soil Science",120,"External",null,null,null,null,null,null,null,"Developing a Land-based Enterprise","Countryside Management",9,"Developing a Land-based Enterprise",60,"Internal",null,"Pneumatic and Hydraulic Systems","Aeronautical Engineering",12,"Pneumatic and Hydraulic Systems",60,"Internal"]
["Horticulture",3,"Contemporary Issues in the Land-based Sectors",120,"External",null,null,null,null,null,null,null,"Land-based Machinery Operations","Countryside Management",10,"Land-based Machinery Operations",60,"Internal",null,"Electronic Devices and Circuits","Aeronautical Engineering",19,"Electronic Devices and Circuits",60,"Internal"]
["Horticulture",16,"Participating in Horticultural Tasks at Events",60,"Internal",null,null,null,null,null,null,null,"Controlling Countryside Pests and Predators","Countryside Management",12,"Controlling Countryside Pests and Predators",60,"Internal",null,"Mechanical Behaviour of Metallic Materials","Aeronautical Engineering",25,"Mechanical Behaviour of Metallic Materials",60,"Internal"]
["Horticulture",17,"Resource and Operations Planning for Event-based Horticultural Activities",60,"Internal",null,null,null,null,null,null,null,"Gamekeeping","Countryside Management",13,"Gamekeeping",60,"Internal",null,"Programmable Logic Controllers","Aeronautical Engineering",36,"Programmable Logic Controllers",60,"Internal"]
["Performing Arts Practice","A1","Exploring Performance Styles",150,"Internal",null,null,null,null,null,null,null,"Managing a Shoot","Countryside Management",15,"Managing a Shoot",60,"Internal",null,"Aircraft Workshop Methods and Practice","Aeronautical Engineering",49,"Aircraft Workshop Methods and Practice",60,"Internal"]
["Performing Arts Practice","A2","Creating Performance Material",150,"Internal",null,null,null,null,null,null,null,"Water Quality Management","Countryside Management",16,"Water Quality Management",60,"Internal",null,"Aircraft Gas Turbine Engines","Aeronautical Engineering",50,"Aircraft Gas Turbine Engines",60,"Internal"]
["Performing Arts Practice","A3","Performing for an Audience",150,"Internal",null,null,null,null,null,null,null,"Management of Deer in the UK","Countryside Management",17,"Management of Deer in the UK",60,"Internal",null,"Aircraft Propulsion Systems","Aeronautical Engineering",51,"Aircraft Propulsion Systems",60,"Internal"]
["Performing Arts Practice","F16","Planning a Career in the Industry",90,"Internal",null,null,null,null,null,null,null,"Tree Felling and Chainsaw Safety","Countryside Management",18,"Tree Felling and Chainsaw Safety",60,"Internal",null,"Airframe Construction and Repair","Aeronautical Engineering",52,"Airframe Construction and Repair",60,"Internal"]
["Performing Arts Practice","G17","Using Development Plans to Refine Skills",90,"Internal",null,null,null,null,null,null,null,"Coastal Habitats Management","Countryside Management",19,"Coastal Habitats Management",60,"Internal",null,"Airframe Mechanical Systems","Aeronautical Engineering",53,"Airframe Mechanical Systems",60,"Internal"]
["Performing Arts Practice","G18","Producing a Personal Project",90,"Internal",null,null,null,null,null,null,null,"Working Dogs","Countryside Management",20,"Working Dogs",60,"Internal",null,"Aircraft Electrical and Instrument Systems","Aeronautical Engineering",54,"Aircraft Electrical and Instrument Systems",60,"Internal"]
["Performing Arts Practice","G19","Using Material for Self-promotion and Networking",90,"Internal",null,null,null,null,null,null,null,"Controlling Firearm Safety in the Land-based Sectors","Countryside Management",21,"Controlling Firearm Safety in the Land-based Sectors",60,"Internal",null,"Aircraft First Line Maintenance Operations","Aeronautical Engineering",55,"Aircraft First Line Maintenance Operations",60,"Internal"]
["Performing Arts Practice","H20","Undertaking a Defined Creative or Administrative Role",90,"Internal",null,null,null,null,null,null,null,"Freshwater and Wetland Management","Countryside Management",22,"Freshwater and Wetland Management",60,"Internal",null,"Equine Business Management","Equine Management",10,"Equine Business Management",60,"Internal"]
["Performing Arts Practice","H21","Using Creative Collaboration to Develop a Project",90,"Internal",null,null,null,null,null,null,null,"Applied Ecological Management","Countryside Management",23,"Applied Ecological Management",60,"Internal",null,"Horse Fitness","Equine Management",11,"Horse Fitness",60,"Internal"]
["Performing Arts Practice","H22","Producing a Collaborative Project",90,"Internal",null,null,null,null,null,null,null,"Ecological Concepts","Countryside Management",24,"Ecological Concepts",60,"Internal",null,"Schooling Horses on the Flat","Equine Management",12,"Schooling Horses on the Flat",60,"Internal"]
["Performing Arts Practice (Acting)","B4","Exploring Performance Styles",150,"Internal",null,null,null,null,null,null,null,"Physical and Biological Environmental Processes","Countryside Management",25,"Physical and Biological Environmental Processes",60,"Internal",null,"Managing an Equine Event","Equine Management",13,"Managing an Equine Event",60,"Internal"]
["Performing Arts Practice (Acting)","B5","Creating Performance Material",150,"Internal",null,null,null,null,null,null,null,"Surveying, Inspecting and Measuring Trees","Arboriculture",12,"Surveying, Inspecting and Measuring Trees",60,"Internal",null,"Theory of Training Horses","Equine Management",14,"Theory of Training Horses",60,"Internal"]
["Performing Arts Practice (Acting)","B6","Performing as an Actor for an Audience",150,"Internal",null,null,null,null,null,null,null,"Timber Conversion and Utilisation","Arboriculture",14,"Timber Conversion and Utilisation",60,"Internal",null,"Riding Horses in the Open","Equine Management",15,"Riding Horses in the Open",60,"Internal"]
["Performing Arts Practice (Acting)","F16","Planning a Career in the Industry",90,"Internal",null,null,null,null,null,null,null,"Woodland Management","Arboriculture",15,"Woodland Management",60,"Internal",null,"Ground Poles and Gridwork for Horses","Equine Management",16,"Ground Poles and Gridwork for Horses",60,"Internal"]
["Performing Arts Practice (Acting)","G17","Using Development Plans to Refine Skills",90,"Internal",null,null,null,null,null,null,null,"Wildlife Ecology and Conservation Management","Arboriculture",18,"Wildlife Ecology and Conservation Management",60,"Internal",null,"Showjumping and Cross-country Courses","Equine Management",17,"Showjumping and Cross-country Courses",60,"Internal"]
["Performing Arts Practice (Acting)","G18","Producing a Personal Project",90,"Internal",null,null,null,null,null,null,null,"Developing a Land-based Enterprise","Arboriculture",19,"Developing a Land-based Enterprise",60,"Internal",null,"Estates Skills and Grassland Management","Equine Management",18,"Estates Skills and Grassland Management",60,"Internal"]
["Performing Arts Practice (Acting)","G19","Using Material for Self-promotion and Networking",90,"Internal",null,null,null,null,null,null,null,"Woodland Management","Forestry",15,"Woodland Management",60,"Internal",null,"Working Horses from the Ground","Equine Management",19,"Working Horses from the Ground",60,"Internal"]
["Performing Arts Practice (Acting)","H20","Undertaking a Defined Creative or Administrative Role",90,"Internal",null,null,null,null,null,null,null,"Forest Recreation","Forestry",17,"Forest Recreation",60,"Internal",null,"Introduction to Equestrian Coaching","Equine Management",20,"Introduction to Equestrian Coaching",60,"Internal"]
["Performing Arts Practice (Acting)","H21","Using Creative Collaboration to Develop a Project",90,"Internal",null,null,null,null,null,null,null,"Wildlife Ecology and Conservation Management","Forestry",18,"Wildlife Ecology and Conservation Management",60,"Internal",null,"Equine Stud Management","Equine Management",21,"Equine Stud Management",60,"Internal"]
["Performing Arts Practice (Acting)","H22","Producing a Collaborative Project",90,"Internal",null,null,null,null,null,null,null,"Developing a Land-based Enterprise","Forestry",19,"Developing a Land-based Enterprise",60,"Internal",null,"Managing Equine Injuries and Rehabilitation","Equine Management",22,"Managing Equine Injuries and Rehabilitation",60,"Internal"]
["Performing Arts Practice (Dance)","C7","Exploring Performance Styles",150,"Internal",null,null,null,null,null,null,null,"Customer Immersion Experiences","Marketing",8,"Customer Immersion Experiences",60,"Internal",null,"Investigative Research Project","Equine Management",23,"Investigative Research Project",60,"Internal"]
["Performing Arts Practice (Dance)","C8","Creating Performance Material",150,"Internal",null,null,null,null,null,null,null,"Activating a Brand","Marketing",9,"Activating a Brand",60,"Internal",null,"Practical Skills in Animal Science","Equine Management",24,"Practical Skills in Animal Science",60,"Internal"]
["Performing Arts Practice (Dance)","C9","Performing as a Dancer as Part of an Ensemble",150,"Internal",null,null,null,null,null,null,null,"Work Experience in Marketing","Marketing",10,"Work Experience in Marketing",60,"Internal",null,"Animal Metabolism","Equine Management",25,"Animal Metabolism",60,"Internal"]
["Performing Arts Practice (Dance)","F16","Planning a Career in the Industry",90,"Internal",null,null,null,null,null,null,null,"Influencer Marketing","Marketing",11,"Influencer Marketing",60,"Internal",null,"Equine Function at the Cellular Level","Equine Management",26,"Equine Function at the Cellular Level",60,"Internal"]
["Performing Arts Practice (Dance)","G17","Using Development Plans to Refine Skills",90,"Internal",null,null,null,null,null,null,null,"Market Research for a Start-up Business","Marketing",12,"Market Research for a Start-up Business",60,"Internal",null,"Physiology of Human Body Systems","Forensic and Criminal Investigation",8,"Physiology of Human Body Systems",60,"Internal"]
["Performing Arts Practice (Dance)","G18","Producing a Personal Project",90,"Internal",null,null,null,null,null,null,null,"Corporate Social Responsibility","Marketing",13,"Corporate Social Responsibility",60,"Internal",null,"Environmental Forensics","Forensic and Criminal Investigation",9,"Environmental Forensics",60,"Internal"]
["Performing Arts Practice (Dance)","G19","Using Material for Self-promotion and Networking",90,"Internal",null,null,null,null,null,null,null,null,null,null,null,null,null,null,"Forensic Fire Investigation","Forensic and Criminal Investigation",10,"Forensic Fire Investigation",60,"Internal"]
["Performing Arts Practice (Dance)","H20","Undertaking a Defined Creative or Administrative Role",90,"Internal",null,null,null,null,null,null,null,null,null,null,null,null,null,null,"Forensic Traffic Collision Investigation","Forensic and Criminal Investigation",11,"Forensic Traffic Collision Investigation",60,"Internal"]
["Performing Arts Practice (Dance)","H21","Using Creative Collaboration to Develop a Project",90,"Internal",null,null,null,null,null,null,null,null,null,null,null,null,null,null,"Forensic Photography","Forensic and Criminal Investigation",12,"Forensic Photography",60,"Internal"]
["Performing Arts Practice (Dance)","H22","Producing a Collaborative Project",90,"Internal",null,null,null,null,null,null,null,null,null,null,null,null,null,null,"Forensic Genetics","Forensic and Criminal Investigation",13,"Forensic Genetics",60,"Internal"]
["Performing Arts Practice (Musical Theatre)","D10","Exploring Performance Styles",150,"Internal",null,null,null,null,null,null,null,null,null,null,null,null,null,null,"Forensic Anthropology and Archaeology","Forensic and Criminal Investigation",14,"Forensic Anthropology and Archaeology",60,"Internal"]
["Performing Arts Practice (Musical Theatre)","D11","Creating Performance Material",150,"Internal",null,null,null,null,null,null,null,null,null,null,null,null,null,null,"Practical Chemical Analysis","Forensic and Criminal Investigation",15,"Practical Chemical Analysis",60,"Internal"]
["Performing Arts Practice (Musical Theatre)","D12","Performing Musical Theatre for an Audience",150,"Internal",null,null,null,null,null,null,null,null,null,null,null,null,null,null,"Microbiology and Microbiological Techniques","Forensic and Criminal Investigation",16,"Microbiology and Microbiological Techniques",60,"Internal"]
["Performing Arts Practice (Musical Theatre)","F16","Planning a Career in the Industry",90,"Internal",null,null,null,null,null,null,null,null,null,null,null,null,null,null,"Sociological Perspectives","Health and Social Care",10,"Sociological Perspectives",60,"Internal"]
["Performing Arts Practice (Musical Theatre)","G17","Using Development Plans to Refine Skills",90,"Internal",null,null,null,null,null,null,null,null,null,null,null,null,null,null,"Supporting Individuals with Additional Needs","Health and Social Care",12,"Supporting Individuals with Additional Needs",60,"Internal"]
["Performing Arts Practice (Musical Theatre)","G18","Producing a Personal Project",90,"Internal",null,null,null,null,null,null,null,null,null,null,null,null,null,null,"Policy in Health and Social Care","Health and Social Care",16,"Policy in Health and Social Care",60,"Internal"]
["Performing Arts Practice (Musical Theatre)","G19","Using Material for Self-promotion and Networking",90,"Internal",null,null,null,null,null,null,null,null,null,null,null,null,null,null,"Assessing Children’s Development Support Needs","Health and Social Care",18,"Assessing Children’s Development Support Needs",60,"Internal"]
["Performing Arts Practice (Musical Theatre)","H20","Undertaking a Defined Creative or Administrative Role",90,"Internal",null,null,null,null,null,null,null,null,null,null,null,null,null,null,"Scientific Techniques for Health Science","Health and Social Care Health Studies",13,"Scientific Techniques for Health Science",60,"Internal"]
["Performing Arts Practice (Musical Theatre)","H21","Using Creative Collaboration to Develop a Project",90,"Internal",null,null,null,null,null,null,null,null,null,null,null,null,null,null,"Microbiology for Health Science","Health and Social Care Health Studies",15,"Microbiology for Health Science",60,"Internal"]
["Performing Arts Practice (Musical Theatre)","H22","Producing a Collaborative Project",90,"Internal",null,null,null,null,null,null,null,null,null,null,null,null,null,null,"Medical Physics Applications in the Health Sector","Health and Social Care Health Studies",21,"Medical Physics Applications in the Health Sector",60,"Internal"]
["Performing Arts Practice (Circus)","E13","Exploring Performance Styles",150,"Internal",null,null,null,null,null,null,null,null,null,null,null,null,null,null,"Genetics","Health and Social Care Health Studies",22,"Genetics",60,"Internal"]
["Performing Arts Practice (Circus)","E14","Creating Performance Material",150,"Internal",null,null,null,null,null,null,null,null,null,null,null,null,null,null,"Biomedical Science","Health and Social Care Health Studies",23,"Biomedical Science",60,"Internal"]
["Performing Arts Practice (Circus)","E15","Performing for an Audience",150,"Internal",null,null,null,null,null,null,null,null,null,null,null,null,null,null,"Complementary Therapies for Health and Social Care","Health and Social Care Health Studies",25,"Complementary Therapies for Health and Social Care",60,"Internal"]
["Performing Arts Practice (Circus)","F16","Planning a Career in the Industry",90,"Internal",null,null,null,null,null,null,null,null,null,null,null,null,null,null,"Health Psychology","Health and Social Care Health Studies",26,"Health Psychology",60,"Internal"]
["Performing Arts Practice (Circus)","G17","Using Development Plans to Refine Skills",90,"Internal",null,null,null,null,null,null,null,null,null,null,null,null,null,null,"Data Modelling","Information Technology",5,"Data Modelling",60,"Internal"]
["Performing Arts Practice (Circus)","G18","Producing a Personal Project",90,"Internal",null,null,null,null,null,null,null,null,null,null,null,null,null,null,"Website Development","Information Technology",6,"Website Development",60,"Internal"]
["Performing Arts Practice (Circus)","G19","Using Material for Self-promotion and Networking",90,"Internal",null,null,null,null,null,null,null,null,null,null,null,null,null,null,"Mobile Apps Development","Information Technology",7,"Mobile Apps Development",60,"Internal"]
["Performing Arts Practice (Circus)","H20","Undertaking a Defined Creative or Administrative Role",90,"Internal",null,null,null,null,null,null,null,null,null,null,null,null,null,null,"Computer Games Development","Information Technology",8,"Computer Games Development",60,"Internal"]
["Performing Arts Practice (Circus)","H21","Using Creative Collaboration to Develop a Project",90,"Internal",null,null,null,null,null,null,null,null,null,null,null,null,null,null,"Big Data and Business Analytics","Information Technology",10,"Big Data and Business Analytics",60,"Internal"]
["Performing Arts Practice (Circus)","H22","Producing a Collaborative Project",90,"Internal",null,null,null,null,null,null,null,null,null,null,null,null,null,null,"IT Technical Support and Management","Information Technology",12,"IT Technical Support and Management",60,"Internal"]
["Production Arts Practice","A1","Developing Production Skill and Techniques",150,"Internal",null,null,null,null,null,null,null,null,null,null,null,null,null,null,"Software Testing","Information Technology",13,"Software Testing",60,"Internal"]
["Production Arts Practice","A2","Responding to production requirements and purpose",150,"Internal",null,null,null,null,null,null,null,null,null,null,null,null,null,null,"Customising and Integrating Applications","Information Technology",15,"Customising and Integrating Applications",60,"Internal"]
["Production Arts Practice","A3","Contributing to a production",150,"Internal",null,null,null,null,null,null,null,null,null,null,null,null,null,null,"Cloud Storage and Collaboration Tools","Information Technology",16,"Cloud Storage and Collaboration Tools",60,"Internal"]
["Production Arts Practice","F16","Planning a Career in the Industry",90,"Internal",null,null,null,null,null,null,null,null,null,null,null,null,null,null,"Digital 2D and 3D Graphics","Information Technology",17,"Digital 2D and 3D Graphics",60,"Internal"]
["Production Arts Practice","G17","Using Development Plans to Refine Skills",90,"Internal",null,null,null,null,null,null,null,null,null,null,null,null,null,null,"Digital Animation and Effects","Information Technology",18,"Digital Animation and Effects",60,"Internal"]
["Production Arts Practice","G18","Producing a Personal Project",90,"Internal",null,null,null,null,null,null,null,null,null,null,null,null,null,null,"The Internet of Things","Information Technology",19,"The Internet of Things",60,"Internal"]
["Production Arts Practice","G19","Using Material for Self-promotion and Networking",90,"Internal",null,null,null,null,null,null,null,null,null,null,null,null,null,null,"Enterprise in IT","Information Technology",20,"Enterprise in IT",60,"Internal"]
["Production Arts Practice","H20","Undertaking a Defined Administrative Project Role",90,"Internal",null,null,null,null,null,null,null,null,null,null,null,null,null,null,"Business Process Modelling Tools","Information Technology",21,"Business Process Modelling Tools",60,"Internal"]
["Production Arts Practice","H21","Using Creative Collaboration to Develop a Project",90,"Internal",null,null,null,null,null,null,null,null,null,null,null,null,null,null,"Arranging Music","Music",8,"Arranging Music",60,"Internal"]
["Production Arts Practice","H22","Producing a Collaborative Project",90,"Internal",null,null,null,null,null,null,null,null,null,null,null,null,null,null,"Composing Music","Music",9,"Composing Music",60,"Internal"]
["Production Arts Practice (Design)","B4","Developing Production Skill and Techniques",150,"Internal",null,null,null,null,null,null,null,null,null,null,null,null,null,null,"Music and Sound for the Moving Image","Music",10,"Music and Sound for the Moving Image",60,"Internal"]
["Production Arts Practice (Design)","B5","Responding to production requirements and purpose",150,"Internal",null,null,null,null,null,null,null,null,null,null,null,null,null,null,"Contemporary Songwriting Techniques","Music",11,"Contemporary Songwriting Techniques",60,"Internal"]
["Production Arts Practice (Design)","B6","Contributing to a production",150,"Internal",null,null,null,null,null,null,null,null,null,null,null,null,null,null,"Music Promotion","Music",12,"Music Promotion",60,"Internal"]
["Production Arts Practice (Design)","F16","Planning a Career in the Industry",90,"Internal",null,null,null,null,null,null,null,null,null,null,null,null,null,null,"Live Music Events","Music",13,"Live Music Events",60,"Internal"]
["Production Arts Practice (Design)","G17","Using Development Plans to Refine Skills",90,"Internal",null,null,null,null,null,null,null,null,null,null,null,null,null,null,"Music Investigation","Music",14,"Music Investigation",60,"Internal"]
["Production Arts Practice (Design)","G18","Producing a Personal Project",90,"Internal",null,null,null,null,null,null,null,null,null,null,null,null,null,null,"Contemporary Art Music in Practice","Music",15,"Contemporary Art Music in Practice",60,"Internal"]
["Production Arts Practice (Design)","G19","Using Material for Self-promotion and Networking",90,"Internal",null,null,null,null,null,null,null,null,null,null,null,null,null,null,"Music Performance Session Styles","Music",16,"Music Performance Session Styles",60,"Internal"]
["Production Arts Practice (Design)","H20","Undertaking a Defined Administrative Project Role",90,"Internal",null,null,null,null,null,null,null,null,null,null,null,null,null,null,"Vocal Development","Music",17,"Vocal Development",60,"Internal"]
["Production Arts Practice (Design)","H21","Using Creative Collaboration to Develop a Project",90,"Internal",null,null,null,null,null,null,null,null,null,null,null,null,null,null,"Solo Performance","Music",18,"Solo Performance",60,"Internal"]
["Production Arts Practice (Design)","H22","Producing a Collaborative Project",90,"Internal",null,null,null,null,null,null,null,null,null,null,null,null,null,null,"Improvising Music","Music",19,"Improvising Music",60,"Internal"]
["Production Arts Practice (Technical)","C7","Developing Production Skill and Techniques",150,"Internal",null,null,null,null,null,null,null,null,null,null,null,null,null,null,"Music Software Skills","Music",20,"Music Software Skills",60,"Internal"]
["Production Arts Practice (Technical)","C8","Responding to production requirements and purpose",150,"Internal",null,null,null,null,null,null,null,null,null,null,null,null,null,null,"Creative Synthesis and Sampling","Music Technology",8,"Creative Synthesis and Sampling",60,"Internal"]
["Production Arts Practice (Technical)","C9","Contributing to a production",150,"Internal",null,null,null,null,null,null,null,null,null,null,null,null,null,null,"Composing Music","Music Technology",9,"Composing Music",60,"Internal"]
["Production Arts Practice (Technical)","F16","Planning a Career in the Industry",90,"Internal",null,null,null,null,null,null,null,null,null,null,null,null,null,null,"Remixing and Reworking","Music Technology",10,"Remixing and Reworking",60,"Internal"]
["Production Arts Practice (Technical)","G17","Using Development Plans to Refine Skills",90,"Internal",null,null,null,null,null,null,null,null,null,null,null,null,null,null,"DJ Performance Techniques","Music Technology",11,"DJ Performance Techniques",60,"Internal"]
["Production Arts Practice (Technical)","G18","Producing a Personal Project",90,"Internal",null,null,null,null,null,null,null,null,null,null,null,null,null,null,"Music Technology in Performance","Music Technology",12,"Music Technology in Performance",60,"Internal"]
["Production Arts Practice (Technical)","G19","Using Material for Self-promotion and Networking",90,"Internal",null,null,null,null,null,null,null,null,null,null,null,null,null,null,"Mixing and Mastering Techniques","Music Technology",13,"Mixing and Mastering Techniques",60,"Internal"]
["Production Arts Practice (Technical)","H20","Undertaking a Defined Administrative Project Role",90,"Internal",null,null,null,null,null,null,null,null,null,null,null,null,null,null,"Studio Design and Acoustics","Music Technology",14,"Studio Design and Acoustics",60,"Internal"]
["Production Arts Practice (Technical)","H21","Using Creative Collaboration to Develop a Project",90,"Internal",null,null,null,null,null,null,null,null,null,null,null,null,null,null,"Music Investigation","Music Technology",15,"Music Investigation",60,"Internal"]
["Production Arts Practice (Technical)","H22","Producing a Collaborative Project",90,"Internal",null,null,null,null,null,null,null,null,null,null,null,null,null,null,"Commercial Music Production","Music Technology",16,"Commercial Music Production",60,"Internal"]
["Production Arts Practice (Management)","D10","Developing Production Skill and Techniques",150,"Internal",null,null,null,null,null,null,null,null,null,null,null,null,null,null,"Music Technology and Musicianship","Music Technology",17,"Music Technology and Musicianship",60,"Internal"]
["Production Arts Practice (Management)","D11","Responding to production requirements and purpose",150,"Internal",null,null,null,null,null,null,null,null,null,null,null,null,null,null,"Working and Developing as a Production Team","Music Technology",18,"Working and Developing as a Production Team",60,"Internal"]
["Production Arts Practice (Management)","D12","Contributing to a production",150,"Internal",null,null,null,null,null,null,null,null,null,null,null,null,null,null,"Designing a Music Technology Product","Music Technology",19,"Designing a Music Technology Product",60,"Internal"]
["Production Arts Practice (Management)","F16","Planning a Career in the Industry",90,"Internal",null,null,null,null,null,null,null,null,null,null,null,null,null,null,"Theatre Directing","Performing Arts",15,"Theatre Directing",60,"Internal"]
["Production Arts Practice (Management)","G17","Using Development Plans to Refine Skills",90,"Internal",null,null,null,null,null,null,null,null,null,null,null,null,null,null,"Writing for Performance","Performing Arts",16,"Writing for Performance",60,"Internal"]
["Production Arts Practice (Management)","G18","Producing a Personal Project",90,"Internal",null,null,null,null,null,null,null,null,null,null,null,null,null,null,"Screen Acting","Performing Arts",17,"Screen Acting",60,"Internal"]
["Production Arts Practice (Management)","G19","Using Material for Self-promotion and Networking",90,"Internal",null,null,null,null,null,null,null,null,null,null,null,null,null,null,"Interpreting Classical Text for Performance","Performing Arts",18,"Interpreting Classical Text for Performance",60,"Internal"]
["Production Arts Practice (Management)","H20","Undertaking a Defined Administrative Project Role",90,"Internal",null,null,null,null,null,null,null,null,null,null,null,null,null,null,"Developing the Voice for Performance","Performing Arts",20,"Developing the Voice for Performance",60,"Internal"]
["Production Arts Practice (Management)","H21","Using Creative Collaboration to Develop a Project",90,"Internal",null,null,null,null,null,null,null,null,null,null,null,null,null,null,"Healthy Dancer","Performing Arts Dance",13,"Healthy Dancer",60,"Internal"]
["Production Arts Practice (Management)","H22","Producing a Collaborative Project",90,"Internal",null,null,null,null,null,null,null,null,null,null,null,null,null,null,"Improvisation","Performing Arts Dance",21,"Improvisation",60,"Internal"]
["Production Arts Practice (Make Up)","E13","Developing Production Skill and Techniques",150,"Internal",null,null,null,null,null,null,null,null,null,null,null,null,null,null,"Movement in Performance","Performing Arts Dance",22,"Movement in Performance",60,"Internal"]
["Production Arts Practice (Make Up)","E14","Responding to production requirements and purpose",150,"Internal",null,null,null,null,null,null,null,null,null,null,null,null,null,null,"Singing Techniques for Performers","Performing Arts Dance",23,"Singing Techniques for Performers",60,"Internal"]
["Production Arts Practice (Make Up)","E15","Contributing to a production",150,"Internal",null,null,null,null,null,null,null,null,null,null,null,null,null,null,"Site Specific Performance","Performing Arts Dance",25,"Site Specific Performance",60,"Internal"]
["Production Arts Practice (Make Up)","F16","Planning a Career in the Industry",90,"Internal",null,null,null,null,null,null,null,null,null,null,null,null,null,null,"Physical Theatre Techniques","Performing Arts Dance",26,"Physical Theatre Techniques",60,"Internal"]
["Production Arts Practice (Make Up)","G17","Using Development Plans to Refine Skills",90,"Internal",null,null,null,null,null,null,null,null,null,null,null,null,null,null,"Musical Theatre Techniques","Performing Arts Dance",27,"Musical Theatre Techniques",60,"Internal"]
["Production Arts Practice (Make Up)","G18","Producing a Personal Project",90,"Internal",null,null,null,null,null,null,null,null,null,null,null,null,null,null,"Variety Performance","Performing Arts Dance",28,"Variety Performance",60,"Internal"]
["Production Arts Practice (Make Up)","G19","Using Material for Self-promotion and Networking",90,"Internal",null,null,null,null,null,null,null,null,null,null,null,null,null,null,"Improvisation","Performing Arts Acting",21,"Improvisation",60,"Internal"]
["Production Arts Practice (Make Up)","H20","Undertaking a Defined Administrative Project Role",90,"Internal",null,null,null,null,null,null,null,null,null,null,null,null,null,null,"Movement in Performance","Performing Arts Acting",22,"Movement in Performance",60,"Internal"]
["Production Arts Practice (Make Up)","H21","Using Creative Collaboration to Develop a Project",90,"Internal",null,null,null,null,null,null,null,null,null,null,null,null,null,null,"Singing Techniques for Performers","Performing Arts Acting",23,"Singing Techniques for Performers",60,"Internal"]
["Production Arts Practice (Make Up)","H22","Producing a Collaborative Project",90,"Internal",null,null,null,null,null,null,null,null,null,null,null,null,null,null,"Children's Theatre Performance","Performing Arts Acting",24,"Children's Theatre Performance",60,"Internal"]
["Esports",1,"Introduction to Esports",60,"Internal",null,null,null,null,null,null,null,null,null,null,null,null,null,null,"Site Specific Performance","Performing Arts Acting",25,"Site Specific Performance",60,"Internal"]
["Esports",2,"Esports Skills, Strategies and Analysis",120,"Internal",null,null,null,null,null,null,null,null,null,null,null,null,null,null,"Physical Theatre Techniques","Performing Arts Acting",26,"Physical Theatre Techniques",60,"Internal"]
["Esports",3,"Enterprise and Entrepreneurship in the Esports Industry",90,"Internal",null,null,null,null,null,null,null,null,null,null,null,null,null,null,"Variety Performance","Performing Arts Acting",28,"Variety Performance",60,"Internal"]
["Esports",4,"Health, Wellbeing and Fitness for Esports Players",90,"Internal",null,null,null,null,null,null,null,null,null,null,null,null,null,null,"Storytelling","Performing Arts Acting",29,"Storytelling",60,"Internal"]
["Esports",5,"Esports Events",120,"Internal",null,null,null,null,null,null,null,null,null,null,null,null,null,null,"Audio Performance","Performing Arts Acting",30,"Audio Performance",60,"Internal"]
["Sport and Outdoor Activities","A","Careers in the Sport and Active Leisure Industry",90,"Internal",null,null,null,null,null,null,null,null,null,null,null,null,null,null,"Puppetry Technique","Performing Arts Acting",32,"Puppetry Technique",60,"Internal"]
["Sport and Outdoor Activities","B","Health, Wellbeing and Sport",90,"Internal",null,null,null,null,null,null,null,null,null,null,null,null,null,null,"Performing with Masks","Performing Arts Acting",33,"Performing with Masks",60,"Internal"]
["Sport and Outdoor Activities","C4","Personal Skills Development in Outdoor Activities",180,"Internal",null,null,null,null,null,null,null,null,null,null,null,null,null,null,"Classical Ballet Technique","Performing Arts Musical Theatre",8,"Classical Ballet Technique",60,"Internal"]
["Sport and Outdoor Activities","D4","Applied Leadership and Instructing in Outdoor Activity",180,"Internal",null,null,null,null,null,null,null,null,null,null,null,null,null,null,"Tap Dance Technique","Performing Arts Musical Theatre",9,"Tap Dance Technique",60,"Internal"]
["Sport and Outdoor Activities","E","Research Project in Sport",120,"Internal",null,null,null,null,null,null,null,null,null,null,null,null,null,null,"Street Dance Technique","Performing Arts Musical Theatre",11,"Street Dance Technique",60,"Internal"]
["Sport and Outdoor Activities",24,"Health and Safety Factors in Outdoor Learning",60,"Internal",null,null,null,null,null,null,null,null,null,null,null,null,null,null,"Contemporary Dance Technique","Performing Arts Musical Theatre",12,"Contemporary Dance Technique",60,"Internal"]
["Sport and Outdoor Activities",25,"Outdoor Activity Provision",60,"Internal",null,null,null,null,null,null,null,null,null,null,null,null,null,null,"Healthy Dancer","Performing Arts Musical Theatre",13,"Healthy Dancer",60,"Internal"]
["Sport and Outdoor Activities",26,"Impacts and Sustainability of Outdoor Activities",60,"Internal",null,null,null,null,null,null,null,null,null,null,null,null,null,null,"Developing the Voice for Performance","Performing Arts Musical Theatre",20,"Developing the Voice for Performance",60,"Internal"]
["Sport Fitness and Personal Training","A","Careers in the Sport and Active Leisure Industry",90,"Internal",null,null,null,null,null,null,null,null,null,null,null,null,null,null,"Movement in Performance","Performing Arts Musical Theatre",22,"Movement in Performance",60,"Internal"]
["Sport Fitness and Personal Training","B","Health, Wellbeing and Sport",90,"Internal",null,null,null,null,null,null,null,null,null,null,null,null,null,null,"Physical Theatre Techniques","Performing Arts Musical Theatre",26,"Physical Theatre Techniques",60,"Internal"]
["Sport Fitness and Personal Training","C2","Fitness Skills Development",180,"Internal",null,null,null,null,null,null,null,null,null,null,null,null,null,null,"Application of Fitness Testing","Sport",5,"Application of Fitness Testing",60,"Internal"]
["Sport Fitness and Personal Training","D2","Personal Trainer Skills Development",180,"Internal",null,null,null,null,null,null,null,null,null,null,null,null,null,null,"Sports Psychology","Sport",6,"Sports Psychology",60,"Internal"]
["Sport Fitness and Personal Training","E","Research Project in Sport",120,"Internal",null,null,null,null,null,null,null,null,null,null,null,null,null,null,"Sports Event Organisation","Sport",10,"Sports Event Organisation",60,"Internal"]
["Sport Fitness and Personal Training",2,"Self-employment in Sport and Physical Activity",60,"Internal",null,null,null,null,null,null,null,null,null,null,null,null,null,null,"Research Project in Sport","Sport",11,"Research Project in Sport",60,"Internal"]
["Sport Fitness and Personal Training",4,"Nutrition for Physical Performance",60,"Internal",null,null,null,null,null,null,null,null,null,null,null,null,null,null,"Sports Injury Management","Sport",17,"Sports Injury Management",60,"Internal"]
["Sport Fitness and Personal Training",21,"Business and Technology in Personal Training",60,"Internal",null,null,null,null,null,null,null,null,null,null,null,null,null,null,"Work Experience in Active Leisure","Sport",18,"Work Experience in Active Leisure",60,"Internal"]
["Sporting Excellence and Performance","A","Careers in the Sport and Active Leisure Industry",90,"Internal",null,null,null,null,null,null,null,null,null,null,null,null,null,null,"Leisure Management","Sport",20,"Leisure Management",60,"Internal"]
["Sporting Excellence and Performance","B","Health, Wellbeing and Sport",90,"Internal",null,null,null,null,null,null,null,null,null,null,null,null,null,null,"Leisure Centre Operations","Sport",21,"Leisure Centre Operations",60,"Internal"]
["Sporting Excellence and Performance","C3","Professional Sports Performer",180,"Internal",null,null,null,null,null,null,null,null,null,null,null,null,null,null,"Sports Performance Analysis","Sport",24,"Sports Performance Analysis",60,"Internal"]
["Sporting Excellence and Performance","D3","Applied Anatomy and Physiology for Professional Performance",180,"Internal",null,null,null,null,null,null,null,null,null,null,null,null,null,null,"Rules, Regulations and Officiating in Sport","Sport",25,"Rules, Regulations and Officiating in Sport",60,"Internal"]
["Sporting Excellence and Performance","E","Research Project in Sport",120,"Internal",null,null,null,null,null,null,null,null,null,null,null,null,null,null,"Technical and Tactical Demands of Sport","Sport",26,"Technical and Tactical Demands of Sport",60,"Internal"]
["Sporting Excellence and Performance",4,"Nutrition for Physical Performance",60,"Internal",null,null,null,null,null,null,null,null,null,null,null,null,null,null,"Principles and Practices for Outdoor and Adventurous Activities","Sport",27,"Principles and Practices for Outdoor and Adventurous Activities",60,"Internal"]
["Sporting Excellence and Performance",23,"Psychology for Professional Sports Performance",60,"Internal",null,null,null,null,null,null,null,null,null,null,null,null,null,null,"Environmental Sustainability for Outdoor and Adventurous Activities","Sport",28,"Environmental Sustainability for Outdoor and Adventurous Activities",60,"Internal"]
["Sports Coaching and Development","A","Careers in the Sport and Active Leisure Industry",90,"Internal",null,null,null,null,null,null,null,null,null,null,null,null,null,null,"Biomechanics in Sport and Exercise Science","Sport and Exercise Science",7,"Biomechanics in Sport and Exercise Science",60,"Internal"]
["Sports Coaching and Development","B","Health, Wellbeing and Sport",90,"Internal",null,null,null,null,null,null,null,null,null,null,null,null,null,null,"Specialised Fitness Training","Sport and Exercise Science",8,"Specialised Fitness Training",60,"Internal"]
["Sports Coaching and Development","C1","Developing Coaching Skills",180,"Internal",null,null,null,null,null,null,null,null,null,null,null,null,null,null,"Research Project in Sport and Exercise Science","Sport and Exercise Science",9,"Research Project in Sport and Exercise Science",60,"Internal"]
["Sports Coaching and Development","D1","Applied Coaching Skills",180,"Internal",null,null,null,null,null,null,null,null,null,null,null,null,null,null,"Physical Activity for Individual and Group-based Exercise","Sport and Exercise Science",10,"Physical Activity for Individual and Group-based Exercise",60,"Internal"]
["Sports Coaching and Development","E","Research Project in Sport",120,"Internal",null,null,null,null,null,null,null,null,null,null,null,null,null,null,"Sports Massage","Sport and Exercise Science",11,"Sports Massage",60,"Internal"]
["Sports Coaching and Development",1,"Sport Development",60,"Internal",null,null,null,null,null,null,null,null,null,null,null,null,null,null,"Sociocultural Issues in Sport and Exercise","Sport and Exercise Science",12,"Sociocultural Issues in Sport and Exercise",60,"Internal"]
["Sports Coaching and Development",2,"Self-employment in Sport and Physical Activity",60,"Internal",null,null,null,null,null,null,null,null,null,null,null,null,null,null,"Technology in Sport and Exercise Science","Sport and Exercise Science",14,"Technology in Sport and Exercise Science",60,"Internal"]
["Art and Design Practice","A","Exploring and Developing Art and Design Skills",540,"Internal",null,null,null,null,null,null,null,null,null,null,null,null,null,null,"Sports Injury and Assessment","Sport and Exercise Science",15,"Sports Injury and Assessment",60,"Internal"]
["Art and Design Practice","A1","Skills Development",405,"Internal",null,null,null,null,null,null,null,null,null,null,null,null,null,null,"The Airport Experience","Travel and Tourism",8,"The Airport Experience",60,"Internal"]
["Art and Design Practice","A1.1","Explore and develop investigation skills for informing ideas",81,"Internal",null,null,null,null,null,null,null,null,null,null,null,null,null,null,"Recruitment and Selection in Travel and Tourism","Travel and Tourism",9,"Recruitment and Selection in Travel and Tourism",60,"Internal"]
["Art and Design Practice","A1.2","Explore and develop problem solving skills",81,"Internal",null,null,null,null,null,null,null,null,null,null,null,null,null,null,"Marketing in Travel and Tourism","Travel and Tourism",10,"Marketing in Travel and Tourism",60,"Internal"]
["Art and Design Practice","A1.3","Explore and develop creative technical skills",81,"Internal",null,null,null,null,null,null,null,null,null,null,null,null,null,null,"Specialist Tourism","Travel and Tourism",11,"Specialist Tourism",60,"Internal"]
["Art and Design Practice","A1.4","Explore and develop professional skills and behaviours",81,"Internal",null,null,null,null,null,null,null,null,null,null,null,null,null,null,"Sustainable Tourism","Travel and Tourism",12,"Sustainable Tourism",60,"Internal"]
["Art and Design Practice","A1.5","Explore and develop communication skills",81,"Internal",null,null,null,null,null,null,null,null,null,null,null,null,null,null,"The Cruise Industry","Travel and Tourism",13,"The Cruise Industry",60,"Internal"]
["Art and Design Practice","A2","Creative Project",135,"Internal",null,null,null,null,null,null,null,null,null,null,null,null,null,null,"Customised Travel","Travel and Tourism",14,"Customised Travel",60,"Internal"]
["Art and Design Practice","A2.1","Inform ideas in response to a creative brief",27,"Internal",null,null,null,null,null,null,null,null,null,null,null,null,null,null,"Visitor Attractions","Travel and Tourism",15,"Visitor Attractions",60,"Internal"]
["Art and Design Practice","A2.2","Apply problem solving skills in response to a creative brief",27,"Internal",null,null,null,null,null,null,null,null,null,null,null,null,null,null,"Working Overseas","Travel and Tourism",16,"Working Overseas",60,"Internal"]
["Art and Design Practice","A2.3","Apply technical skills in response to a creative brief",27,"Internal",null,null,null,null,null,null,null,null,null,null,null,null,null,null,"Passenger Transport","Travel and Tourism",17,"Passenger Transport",60,"Internal"]
["Art and Design Practice","A2.4","Demonstrate professional skills and behaviours in response to a creative brief",27,"Internal",null,null,null,null,null,null,null,null,null,null,null,null,null,null,"Events, Conferences and Exhibitions","Travel and Tourism",18,"Events, Conferences and Exhibitions",60,"Internal"]
["Art and Design Practice","A2.5","Apply communication skills in response to a creative brief",27,"Internal",null,null,null,null,null,null,null,null,null,null,null,null,null,null,"Work Experience in Travel and Tourism","Travel and Tourism",19,"Work Experience in Travel and Tourism",60,"Internal"]
["Art and Design Practice","B","Advancing Creative Practice",540,"Internal",null,null,null,null,null,null,null,null,null,null,null,null,null,null,"Practical Skills in Animal Science","Animal Management",9,"Practical Skills in Animal Science",60,"Internal"]
["Art and Design Practice","B1","Personal Progression",135,"Internal",null,null,null,null,null,null,null,null,null,null,null,null,null,null,"Animal Metabolism","Animal Management",10,"Animal Metabolism",60,"Internal"]
["Art and Design Practice","B1.1","Inform ideas for progression into a creative career",27,"Internal",null,null,null,null,null,null,null,null,null,null,null,null,null,null,"Advanced Animal Nutrition","Animal Management",11,"Advanced Animal Nutrition",60,"Internal"]
["Art and Design Practice","B1.2","Apply problem solving practice to develop a strategy for career progression",27,"Internal",null,null,null,null,null,null,null,null,null,null,null,null,null,null,"Estate Skills","Horticulture",5,"Estate Skills",60,"Internal"]
["Art and Design Practice","B1.3","Create materials for career progression using technical practice",27,"Internal",null,null,null,null,null,null,null,null,null,null,null,null,null,null,"Land-based Machinery Operations","Horticulture",10,"Land-based Machinery Operations",60,"Internal"]
["Art and Design Practice","B1.4","Demonstrate professional practice and behaviours in relation to career progression aspirations",27,"Internal",null,null,null,null,null,null,null,null,null,null,null,null,null,null,"Nursery Stock Production","Horticulture",11,"Nursery Stock Production",60,"Internal"]
["Art and Design Practice","B1.5","Apply communication skills to support progression into a creative career",27,"Internal",null,null,null,null,null,null,null,null,null,null,null,null,null,null,"Maintenance of Sports and Amenity Turf","Horticulture",12,"Maintenance of Sports and Amenity Turf",60,"Internal"]
["Art and Design Practice","B2","Creative Industry Response",405,"Internal",null,null,null,null,null,null,null,null,null,null,null,null,null,null,"Pests and Disease in Plants","Horticulture",13,"Pests and Disease in Plants",60,"Internal"]
["Art and Design Practice","B2.1","Inform ideas for a response to a creative industry brief",81,"Internal",null,null,null,null,null,null,null,null,null,null,null,null,null,null,"Identification, Planting and Care of Trees","Horticulture",14,"Identification, Planting and Care of Trees",60,"Internal"]
["Art and Design Practice","B2.2","Apply problem solving practice to develop solutions in response to a creative industry brief",81,"Internal",null,null,null,null,null,null,null,null,null,null,null,null,null,null,"Developing a Land-based Enterprise","Horticulture",15,"Developing a Land-based Enterprise",60,"Internal"]
["Art and Design Practice","B2.3","Apply technical practice in response to a creative industry brief",81,"Internal",null,null,null,null,null,null,null,null,null,null,null,null,null,null,"Maintaining the Health and Quality of Turf in Parks and Gardens","Horticulture",18,"Maintaining the Health and Quality of Turf in Parks and Gardens",60,"Internal"]
["Art and Design Practice","B2.4","Demonstrate professional practice and behaviours in response to a creative industry brief",81,"Internal",null,null,null,null,null,null,null,null,null,null,null,null,null,null,"Outdoor Horticultural Crop Production","Horticulture",20,"Outdoor Horticultural Crop Production",60,"Internal"]
["Art and Design Practice","B2.5","Apply communication skills in response to a creative industry brief",81,"Internal",null,null,null,null,null,null,null,null,null,null,null,null,null,null,"Zoological Horticulture","Horticulture",21,"Zoological Horticulture",60,"Internal"]
["Creative Media Practice","A","Exploring and Developing Creative Media Skills",540,"Internal",null,null,null,null,null,null,null,null,null,null,null,null,null,null,"Wildlife Ecology and Conservation Management","Horticulture",22,"Wildlife Ecology and Conservation Management",60,"Internal"]
["Creative Media Practice","A1","Skills Development",405,"Internal",null,null,null,null,null,null,null,null,null,null,null,null,null,null,"History of Landscape and Garden Design","Horticulture",23,"History of Landscape and Garden Design",60,"Internal"]
["Creative Media Practice","A1.1","Explore and develop investigation skills for informing ideas",81,"Internal",null,null,null,null,null,null,null,null,null,null,null,null,null,null,"Landscape and Garden Design","Horticulture",24,"Landscape and Garden Design",60,"Internal"]
["Creative Media Practice","A1.2","Explore and develop problem solving skills",81,"Internal",null,null,null,null,null,null,null,null,null,null,null,null,null,null,"Constructing Decorative Landscape Features","Horticulture",25,"Constructing Decorative Landscape Features",60,"Internal"]
["Creative Media Practice","A1.3","Explore and develop creative technical skills",81,"Internal",null,null,null,null,null,null,null,null,null,null,null,null,null,null,"Linear and Level Surveying","Horticulture",26,"Linear and Level Surveying",60,"Internal"]
["Creative Media Practice","A1.4","Explore and develop professional skills and behaviours",81,"Internal",null,null,null,null,null,null,null,null,null,null,null,null,null,null,"Computer-aided Design in Horticulture","Horticulture",27,"Computer-aided Design in Horticulture",60,"Internal"]
["Creative Media Practice","A1.5","Explore and develop communication skills",81,"Internal",null,null,null,null,null,null,null,null,null,null,null,null,null,null,"Branding","Business",28,"Branding",60,"Internal"]
["Creative Media Practice","A2","Creative Project",135,"Internal",null,null,null,null,null,null,null,null,null,null,null,null,null,null,"Relationship Marketing","Business",29,"Relationship Marketing",60,"Internal"]
["Creative Media Practice","A2.1","Inform ideas in response to a creative brief",27,"Internal",null,null,null,null,null,null,null,null,null,null,null,null,null,null,"Legal Principles and Professional Ethics in Financial Services","Business",30,"Legal Principles and Professional Ethics in Financial Services",60,"Internal"]
["Creative Media Practice","A2.2","Apply problem solving skills in response to a creative brief",27,"Internal",null,null,null,null,null,null,null,null,null,null,null,null,null,null,"Effective Management of Personal Debt","Business",31,"Effective Management of Personal Debt",60,"Internal"]
["Creative Media Practice","A2.3","Apply technical skills in response to a creative brief",27,"Internal",null,null,null,null,null,null,null,null,null,null,null,null,null,null,"Buying for Business","Business",32,"Buying for Business",60,"Internal"]
["Creative Media Practice","A2.4","Demonstrate professional skills and behaviours in response to a creative brief",27,"Internal",null,null,null,null,null,null,null,null,null,null,null,null,null,null,"Supply Chain Operations","Business",33,"Supply Chain Operations",60,"Internal"]
["Creative Media Practice","A2.5","Apply communication skills in response to a creative brief",27,"Internal",null,null,null,null,null,null,null,null,null,null,null,null,null,null,"Investment Opportunities and Financial Planning","Business",34,"Investment Opportunities and Financial Planning",60,"Internal"]
["Creative Media Practice","B","Advancing Creative Practice",540,"Internal",null,null,null,null,null,null,null,null,null,null,null,null,null,null,"Insurance Principles and Policies","Business",35,"Insurance Principles and Policies",60,"Internal"]
["Creative Media Practice","B1","Personal Progression",135,"Internal",null,null,null,null,null,null,null,null,null,null,null,null,null,null,"Exercise for Specific Groups","Sport",29,"Exercise for Specific Groups",60,"Internal"]
["Creative Media Practice","B1.1","Inform ideas for progression into a creative career",27,"Internal",null,null,null,null,null,null,null,null,null,null,null,null,null,null,"Exercise, Health and Lifestyle","Sport",30,"Exercise, Health and Lifestyle",60,"Internal"]
["Creative Media Practice","B1.2","Apply problem solving practice to develop a strategy for career progression",27,"Internal",null,null,null,null,null,null,null,null,null,null,null,null,null,null,"Current Issues in Sport","Sport",31,"Current Issues in Sport",60,"Internal"]
["Creative Media Practice","B1.3","Create materials for career progression using technical practice",27,"Internal",null,null,null,null,null,null,null,null,null,null,null,null,null,null,"Sports Massage","Sport",32,"Sports Massage",60,"Internal"]
["Creative Media Practice","B1.4","Demonstrate professional practice and behaviours in relation to career progression aspirations",27,"Internal",null,null,null,null,null,null,null,null,null,null,null,null,null,null,"Live-streamed Broadcasting","Esports",6,"Live-streamed Broadcasting",60,"Internal"]
["Creative Media Practice","B1.5","Apply communication skills to support progression into a creative career",27,"Internal",null,null,null,null,null,null,null,null,null,null,null,null,null,null,"Producing an Esports Brand","Esports",7,"Producing an Esports Brand",60,"Internal"]
["Creative Media Practice","B2","Creative Industry Response",405,"Internal",null,null,null,null,null,null,null,null,null,null,null,null,null,null,"Video Production","Esports",8,"Video Production",60,"Internal"]
["Creative Media Practice","B2.1","Inform ideas for a response to a creative industry brief",81,"Internal",null,null,null,null,null,null,null,null,null,null,null,null,null,null,"Games Design","Esports",9,"Games Design",60,"Internal"]
["Creative Media Practice","B2.2","Apply problem solving practice to develop solutions in response to a creative industry brief",81,"Internal",null,null,null,null,null,null,null,null,null,null,null,null,null,null,"Business Applications of Esports in Social Media","Esports",10,"Business Applications of Esports in Social Media",60,"Internal"]
["Creative Media Practice","B2.3","Apply technical practice in response to a creative industry brief",81,"Internal",null,null,null,null,null,null,null,null,null,null,null,null,null,null,"Shoutcasting","Esports",11,"Shoutcasting",60,"Internal"]
["Creative Media Practice","B2.4","Demonstrate professional practice and behaviours in response to a creative industry brief",81,"Internal",null,null,null,null,null,null,null,null,null,null,null,null,null,null,"Esports Coaching","Esports",12,"Esports Coaching",60,"Internal"]
["Creative Media Practice","B2.5","Apply communication skills in response to a creative industry brief",81,"Internal",null,null,null,null,null,null,null,null,null,null,null,null,null,null,"Psychology for Esports Performance","Esports",13,"Psychology for Esports Performance",60,"Internal"]
["Travel and Tourism",1,"The World of Travel and Tourism",90,"External",null,null,null,null,null,null,null,null,null,null,null,null,null,null,"Nutrition for Esports Performance","Esports",14,"Nutrition for Esports Performance",60,"Internal"]
["Travel and Tourism",2,"Global Destinations",120,"External",null,null,null,null,null,null,null,null,null,null,null,null,null,null,"Ethical and Current Issues in Esports","Esports",15,"Ethical and Current Issues in Esports",60,"Internal"]
["Travel and Tourism",3,"Principles of Marketing in Travel and Tourism",90,"Internal",null,null,null,null,null,null,null,null,null,null,null,null,null,null,"Corporate Social Responsibility in Sport","Esports",16,"Corporate Social Responsibility in Sport",60,"Internal"]
["Travel and Tourism",4,"Managing the Customer Experience in Travel and Tourism",90,"Internal",null,null,null,null,null,null,null,null,null,null,null,null,null,null,"Sports and Esports Law and Legislation","Esports",17,"Sports and Esports Law and Legislation",60,"Internal"]
["Travel and Tourism",5,"Travel and Tourism Enterprises",90,"Internal",null,null,null,null,null,null,null,null,null,null,null,null,null,null,"Launching Your Esports Enterprise","Esports",18,"Launching Your Esports Enterprise",60,"Internal"]
["Travel and Tourism",16,"Researching Current Travel Trends and Key Issues in Travel and Tourism",120,"Internal",null,null,null,null,null,null,null,null,null,null,null,null,null,null,"Customer Immersion Experiences","Esports",19,"Customer Immersion Experiences",60,"Internal"]
["Travel and Tourism",17,"Managing Accommodation Services",90,"Internal",null,null,null,null,null,null,null,null,null,null,null,null,null,null,"Computer Networking","Esports",20,"Computer Networking",60,"Internal"]
["Travel and Tourism",18,"The UK as a Tourist Destination",90,"Internal"]
["Uniformed Protective Services",1,"Citizenship and Diversity",120,"Internal"]
["Uniformed Protective Services",2,"Behaviour and Discipline in the Uniformed Protective Services",120,"External"]
["Uniformed Protective Services",3,"Global Affairs, the Media and the Uniformed Protective Services",60,"Internal"]
["Uniformed Protective Services",4,"Physical Preparation, Health and Wellbeing",90,"Internal"]
["Uniformed Protective Services",5,"Teamwork, Leadership and Communication in the Uniformed Protective Services",120,"Internal"]
["Uniformed Protective Services",6,"Government and the Protective Services",90,"External"]
["Uniformed Protective Services",7,"Planning for and Responding to Emergency Incidents",120,"Internal"]
["Countryside Management",1,"Professional Working Responsibilities",120,"External"]
["Countryside Management",2,"Plant and Soil Science",120,"External"]
["Countryside Management",3,"Contemporary Issues in the Land-based Sectors",120,"External"]
["Countryside Management",5,"Countryside Estate Skills Activities",60,"Internal"]
["Countryside Management",14,"Countryside Recreation",60,"Internal"]
["Countryside Management",26,"Managing Countryside Visitor Activities",60,"Internal"]
["Arboriculture",1,"Professional Working Responsibilities",120,"External"]
["Arboriculture",2,"Plant and Soil Science",120,"External"]
["Arboriculture",3,"Contemporary Issues in the Land-based Sectors",120,"External"]
["Arboriculture",6,"Identification, Planting and Care of Trees",60,"Internal"]
["Arboriculture",9,"Tree-felling Activities",60,"Internal"]
["Arboriculture",13,"Trees in Urban Environments",60,"Internal"]
["Forestry",1,"Professional Working Responsibilities",120,"External"]
["Forestry",2,"Plant and Soil Science",120,"External"]
["Forestry",3,"Contemporary Issues in the Land-based Sectors",120,"External"]
["Forestry",6,"Identification, Planting and Care of Trees",60,"Internal"]
["Forestry",9,"Tree-felling Activities",60,"Internal"]
["Forestry",16,"Forestry and Silviculture",60,"Internal"]
["Marketing",1,"Careers in Marketing",60,"Internal"]
["Marketing",2,"Marketing Principles",120,"External"]
["Marketing",3,"Customer Communications",180,"Internal"]
["Marketing",4,"Applying Digital Marketing",180,"Internal"]
["Marketing",5,"Branding Products and Services",60,"Internal"]
["Marketing",6,"Generating Customer Loyalty",60,"Internal"]
["Marketing",7,"Marketing an Event",120,"Internal"]

{"sheet":"F Diploma 540 Dropdown","index":26,"n_rows":22,"n_cols":55,"rows_kept":22,"cut":false,"hidden":true,"merged":[]}
["Agriculture Group A",null,null,null,"Animal Management Group A",null,null,null,"Construction and the Built Environment Group A",null,null,null,"Countryside Management Group A",null,null,null,"Engineering Group A",null,null,null,"Equine Management Group A",null,null,null,"Horticulture Group A",null,null,null,"Music Technology Group A",null,null,null,"Sport Group A",null,null,null,"Esport Group A",null,null,null,"Sport and Outdoor Activities Group A",null,null,null,"Sport and Fitness Group A",null,null,null,"Sports Coaching Group A",null,null,null,"Forestry and Arboriculture Group A"]
["Estate Skills",{"$f":"IF(COUNTIF('Foundation Diploma 540'!$E$29:$E$70,A2)>=1,\"\",ROW())","v":2},{"$f":"IF(ROW(A2)-ROW(A$2)+1>COUNT(B$2:B$17),\"\",INDEX(A:A,SMALL(B$2:B$17,1+ROW(A2)-ROW(A$2))))","v":"Estate Skills"},null,"Business Management in the Animal Sector",{"$f":"IF(COUNTIF('Foundation Diploma 540'!$E$29:$E$70,E2)>=1,\"\",ROW())","v":2},{"$f":"IF(ROW(E2)-ROW(E$2)+1>COUNT(F$2:F$17),\"\",INDEX(E:E,SMALL(F$2:F$17,1+ROW(E2)-ROW(E$2))))","v":"Business Management in the Animal Sector"},null,"Surveying in Construction",{"$f":"IF(COUNTIF('Foundation Diploma 540'!$E$29:$E$70,I2)>=1,\"\",ROW())","v":2},{"$f":"IF(ROW(I2)-ROW(I$2)+1>COUNT(J$2:J$17),\"\",INDEX(I:I,SMALL(J$2:J$17,1+ROW(I2)-ROW(I$2))))","v":"Surveying in Construction"},null,"Woodland Management",{"$f":"IF(COUNTIF('Foundation Diploma 540'!$E$29:$E$70,M2)>=1,\"\",ROW())","v":2},{"$f":"IF(ROW(M2)-ROW(M$2)+1>COUNT(N$2:N$17),\"\",INDEX(M:M,SMALL(N$2:N$17,1+ROW(M2)-ROW(M$2))))","v":"Woodland Management"},null,"Calculus to Solve Engineering Problems",{"$f":"IF(COUNTIF('Foundation Diploma 540'!$E$29:$E$70,Q2)>=1,\"\",ROW())","v":2},{"$f":"IF(ROW(Q2)-ROW(Q$2)+1>COUNT(R$2:R$40),\"\",INDEX(Q:Q,SMALL(R$2:R$40,1+ROW(Q2)-ROW(Q$2))))","v":"Calculus to Solve Engineering Problems"},null,"Equine Behaviour",{"$f":"IF(COUNTIF('Foundation Diploma 540'!$E$29:$E$70,U2)>=1,\"\",ROW())","v":2},{"$f":"IF(ROW(U2)-ROW(U$2)+1>COUNT(V$2:V$40),\"\",INDEX(U:U,SMALL(V$2:V$40,1+ROW(U2)-ROW(U$2))))","v":"Equine Behaviour"},null,"Estate Skills",{"$f":"IF(COUNTIF('Foundation Diploma 540'!$E$29:$E$70,Y2)>=1,\"\",ROW())","v":2},{"$f":"IF(ROW(Y2)-ROW(Y$2)+1>COUNT(Z$2:Z$40),\"\",INDEX(Y:Y,SMALL(Z$2:Z$40,1+ROW(Y2)-ROW(Y$2))))","v":"Estate Skills"},null,"Creative Synthesis and Sampling",{"$f":"IF(COUNTIF('Foundation Diploma 540'!$E$29:$E$70,AC2)>=1,\"\",ROW())","v":2},{"$f":"IF(ROW(AC2)-ROW(AC$2)+1>COUNT(AD$2:AD$40),\"\",INDEX(AC:AC,SMALL(AD$2:AD$40,1+ROW(AC2)-ROW(AC$2))))","v":"Creative Synthesis and Sampling"},null,"Application of Fitness Testing",{"$f":"IF(COUNTIF('Foundation Diploma 540'!$E$29:$E$70,AG2)>=1,\"\",ROW())","v":2},{"$f":"IF(ROW(AG2)-ROW(AG$2)+1>COUNT(AH$2:AH$40),\"\",INDEX(AG:AG,SMALL(AH$2:AH$40,1+ROW(AG2)-ROW(AG$2))))","v":"Application of Fitness Testing"},null,"Live-streamed Broadcasting",{"$f":"IF(COUNTIF('Foundation Diploma 540'!$E$29:$E$70,AK2)>=1,\"\",ROW())","v":2},{"$f":"IF(ROW(AK2)-ROW(AK$2)+1>COUNT(AL$2:AL$40),\"\",INDEX(AK:AK,SMALL(AL$2:AL$40,1+ROW(AK2)-ROW(AK$2))))","v":"Live-streamed Broadcasting"},null,"Sport Development",{"$f":"IF(COUNTIF('Foundation Diploma 540'!$E$29:$E$70,AO2)>=1,\"\",ROW())","v":2},{"$f":"IF(ROW(AO2)-ROW(AO$2)+1>COUNT(AP$2:AP$40),\"\",INDEX(AO:AO,SMALL(AP$2:AP$40,1+ROW(AO2)-ROW(AO$2))))","v":"Sport Development"},null,"Nutrition for Physical Performance",{"$f":"IF(COUNTIF('Foundation Diploma 540'!$E$29:$E$70,AS2)>=1,\"\",ROW())","v":2},{"$f":"IF(ROW(AS2)-ROW(AS$2)+1>COUNT(AT$2:AT$40),\"\",INDEX(AS:AS,SMALL(AT$2:AT$40,1+ROW(AS2)-ROW(AS$2))))","v":"Nutrition for Physical Performance"},null,"Anatomy and Physiology in Sport",{"$f":"IF(COUNTIF('Foundation Diploma 540'!$E$29:$E$70,AW2)>=1,\"\",ROW())","v":2},{"$f":"IF(ROW(AW2)-ROW(AW$2)+1>COUNT(AX$2:AX$40),\"\",INDEX(AW:AW,SMALL(AX$2:AX$40,1+ROW(AW2)-ROW(AW$2))))","v":"Anatomy and Physiology in Sport"},null,"Estate Skills",{"$f":"IF(COUNTIF('Foundation Diploma 540'!$E$29:$E$70,BA2)>=1,\"\",ROW())","v":2},{"$f":"IF(ROW(BA2)-ROW(BA$2)+1>COUNT(BB$2:BB$40),\"\",INDEX(BA:BA,SMALL(BB$2:BB$40,1+ROW(BA2)-ROW(BA$2))))","v":"Estate Skills"}]
["Crop Production",{"$f":"IF(COUNTIF('Foundation Diploma 540'!$E$29:$E$70,A3)>=1,\"\",ROW())","v":3},"Crop Production",null,"Animal Management in a Retail Environment",{"$f":"IF(COUNTIF('Foundation Diploma 540'!$E$29:$E$70,E3)>=1,\"\",ROW())","v":3},{"$f":"IF(ROW(E3)-ROW(E$2)+1>COUNT(F$2:F$17),\"\",INDEX(E:E,SMALL(F$2:F$17,1+ROW(E3)-ROW(E$2))))","v":"Animal Management in a Retail Environment"},null,"Graphical Detailing in Construction",{"$f":"IF(COUNTIF('Foundation Diploma 540'!$E$29:$E$70,I3)>=1,\"\",ROW())","v":3},{"$f":"IF(ROW(I3)-ROW(I$2)+1>COUNT(J$2:J$17),\"\",INDEX(I:I,SMALL(J$2:J$17,1+ROW(I3)-ROW(I$2))))","v":"Graphical Detailing in Construction"},null,"Identification, Planting and Care of Trees",{"$f":"IF(COUNTIF('Foundation Diploma 540'!$E$29:$E$70,M3)>=1,\"\",ROW())","v":3},{"$f":"IF(ROW(M3)-ROW(M$2)+1>COUNT(N$2:N$17),\"\",INDEX(M:M,SMALL(N$2:N$17,1+ROW(M3)-ROW(M$2))))","v":"Identification, Planting and Care of Trees"},null,"Work Experience in the Engineering Sector",{"$f":"IF(COUNTIF('Foundation Diploma 540'!$E$29:$E$70,Q3)>=1,\"\",ROW())","v":3},{"$f":"IF(ROW(Q3)-ROW(Q$2)+1>COUNT(R$2:R$40),\"\",INDEX(Q:Q,SMALL(R$2:R$40,1+ROW(Q3)-ROW(Q$2))))","v":"Work Experience in the Engineering Sector"},null,"Equine Business Management",{"$f":"IF(COUNTIF('Foundation Diploma 540'!$E$29:$E$70,U3)>=1,\"\",ROW())","v":3},{"$f":"IF(ROW(U3)-ROW(U$2)+1>COUNT(V$2:V$40),\"\",INDEX(U:U,SMALL(V$2:V$40,1+ROW(U3)-ROW(U$2))))","v":"Equine Business Management"},null,"Plant Propagation Activities",{"$f":"IF(COUNTIF('Foundation Diploma 540'!$E$29:$E$70,Y3)>=1,\"\",ROW())","v":3},{"$f":"IF(ROW(Y3)-ROW(Y$2)+1>COUNT(Z$2:Z$40),\"\",INDEX(Y:Y,SMALL(Z$2:Z$40,1+ROW(Y3)-ROW(Y$2))))","v":"Plant Propagation Activities"},null,"Remixing and Reworking",{"$f":"IF(COUNTIF('Foundation Diploma 540'!$E$29:$E$70,AC3)>=1,\"\",ROW())","v":3},{"$f":"IF(ROW(AC3)-ROW(AC$2)+1>COUNT(AD$2:AD$40),\"\",INDEX(AC:AC,SMALL(AD$2:AD$40,1+ROW(AC3)-ROW(AC$2))))","v":"Remixing and Reworking"},null,"Sports Psychology",{"$f":"IF(COUNTIF('Foundation Diploma 540'!$E$29:$E$70,AG3)>=1,\"\",ROW())","v":3},{"$f":"IF(ROW(AG3)-ROW(AG$2)+1>COUNT(AH$2:AH$40),\"\",INDEX(AG:AG,SMALL(AH$2:AH$40,1+ROW(AG3)-ROW(AG$2))))","v":"Sports Psychology"},null,"Producing an Esports Brand",{"$f":"IF(COUNTIF('Foundation Diploma 540'!$E$29:$E$70,AK3)>=1,\"\",ROW())","v":3},{"$f":"IF(ROW(AK3)-ROW(AK$2)+1>COUNT(AL$2:AL$40),\"\",INDEX(AK:AK,SMALL(AL$2:AL$40,1+ROW(AK3)-ROW(AK$2))))","v":"Producing an Esports Brand"},null,"Nutrition for Physical Performance",{"$f":"IF(COUNTIF('Foundation Diploma 540'!$E$29:$E$70,AO3)>=1,\"\",ROW())","v":3},{"$f":"IF(ROW(AO3)-ROW(AO$2)+1>COUNT(AP$2:AP$40),\"\",INDEX(AO:AO,SMALL(AP$2:AP$40,1+ROW(AO3)-ROW(AO$2))))","v":"Nutrition for Physical Performance"},null,"Fitness Testing",{"$f":"IF(COUNTIF('Foundation Diploma 540'!$E$29:$E$70,AS3)>=1,\"\",ROW())","v":3},{"$f":"IF(ROW(AS3)-ROW(AS$2)+1>COUNT(AT$2:AT$40),\"\",INDEX(AS:AS,SMALL(AT$2:AT$40,1+ROW(AS3)-ROW(AS$2))))","v":"Fitness Testing"},null,"Rules, Regulations and Officiating in Sport",{"$f":"IF(COUNTIF('Foundation Diploma 540'!$E$29:$E$70,AW3)>=1,\"\",ROW())","v":3},{"$f":"IF(ROW(AW3)-ROW(AW$2)+1>COUNT(AX$2:AX$40),\"\",INDEX(AW:AW,SMALL(AX$2:AX$40,1+ROW(AW3)-ROW(AW$2))))","v":"Rules, Regulations and Officiating in Sport"},null,"Tree Pests and Diseases",{"$f":"IF(COUNTIF('Foundation Diploma 540'!$E$29:$E$70,BA3)>=1,\"\",ROW())","v":3},{"$f":"IF(ROW(BA3)-ROW(BA$2)+1>COUNT(BB$2:BB$40),\"\",INDEX(BA:BA,SMALL(BB$2:BB$40,1+ROW(BA3)-ROW(BA$2))))","v":"Tree Pests and Diseases"}]
["Farm Livestock Husbandry",{"$f":"IF(COUNTIF('Foundation Diploma 540'!$E$29:$E$70,A4)>=1,\"\",ROW())","v":4},"Farm Livestock Husbandry",null,"Animals in Boarding Establishments",{"$f":"IF(COUNTIF('Foundation Diploma 540'!$E$29:$E$70,E4)>=1,\"\",ROW())","v":4},"Animals in Boarding Establishments",null,"Building Regulations and Control in Construction",{"$f":"IF(COUNTIF('Foundation Diploma 540'!$E$29:$E$70,I4)>=1,\"\",ROW())","v":4},"Building Regulations and Control in Construction",null,"Developing a Land-based Enterprise",{"$f":"IF(COUNTIF('Foundation Diploma 540'!$E$29:$E$70,M4)>=1,\"\",ROW())","v":4},"Developing a Land-based Enterprise",null,"Computer Aided Design in Engineering",{"$f":"IF(COUNTIF('Foundation Diploma 540'!$E$29:$E$70,Q4)>=1,\"\",ROW())","v":4},"Computer Aided Design in Engineering",null,"Riding Horses in the Open",{"$f":"IF(COUNTIF('Foundation Diploma 540'!$E$29:$E$70,U4)>=1,\"\",ROW())","v":4},{"$f":"IF(ROW(U4)-ROW(U$2)+1>COUNT(V$2:V$40),\"\",INDEX(U:U,SMALL(V$2:V$40,1+ROW(U4)-ROW(U$2))))","v":"Riding Horses in the Open"},null,"Tree and Shrub Pruning and Maintenance",{"$f":"IF(COUNTIF('Foundation Diploma 540'!$E$29:$E$70,Y4)>=1,\"\",ROW())","v":4},"Tree and Shrub Pruning and Maintenance",null,"Mixing and Mastering Techniques",{"$f":"IF(COUNTIF('Foundation Diploma 540'!$E$29:$E$70,AC4)>=1,\"\",ROW())","v":4},"Mixing and Mastering Techniques",null,"Practical Sports Performance",{"$f":"IF(COUNTIF('Foundation Diploma 540'!$E$29:$E$70,AG4)>=1,\"\",ROW())","v":4},"Practical Sports Performance",null,"Video Production",{"$f":"IF(COUNTIF('Foundation Diploma 540'!$E$29:$E$70,AK4)>=1,\"\",ROW())","v":4},"Video Production",null,"Impacts and Sustainability of Outdoor Activities",{"$f":"IF(COUNTIF('Foundation Diploma 540'!$E$29:$E$70,AO4)>=1,\"\",ROW())","v":4},{"$f":"IF(ROW(AO4)-ROW(AO$2)+1>COUNT(AP$2:AP$40),\"\",INDEX(AO:AO,SMALL(AP$2:AP$40,1+ROW(AO4)-ROW(AO$2))))","v":"Impacts and Sustainability of Outdoor Activities"},null,"Fitness Training",{"$f":"IF(COUNTIF('Foundation Diploma 540'!$E$29:$E$70,AS4)>=1,\"\",ROW())","v":4},{"$f":"IF(ROW(AS4)-ROW(AS$2)+1>COUNT(AT$2:AT$40),\"\",INDEX(AS:AS,SMALL(AT$2:AT$40,1+ROW(AS4)-ROW(AS$2))))","v":"Fitness Training"},null,"Practical Sports Application",{"$f":"IF(COUNTIF('Foundation Diploma 540'!$E$29:$E$70,AW4)>=1,\"\",ROW())","v":4},{"$f":"IF(ROW(AW4)-ROW(AW$2)+1>COUNT(AX$2:AX$40),\"\",INDEX(AW:AW,SMALL(AX$2:AX$40,1+ROW(AW4)-ROW(AW$2))))","v":"Practical Sports Application"}]
["Crop Handling, Storage and Quality Assurance",{"$f":"IF(COUNTIF('Foundation Diploma 540'!$E$29:$E$70,A5)>=1,\"\",ROW())","v":5},"Crop Handling, Storage and Quality Assurance",null,"Developing an Enterprise in the Animal Sector",{"$f":"IF(COUNTIF('Foundation Diploma 540'!$E$29:$E$70,E5)>=1,\"\",ROW())","v":5},"Developing an Enterprise in the Animal Sector",null,"Management of a Construction Project",{"$f":"IF(COUNTIF('Foundation Diploma 540'!$E$29:$E$70,I5)>=1,\"\",ROW())","v":5},"Management of a Construction Project",null,"Land-based Machinery Operations",{"$f":"IF(COUNTIF('Foundation Diploma 540'!$E$29:$E$70,M5)>=1,\"\",ROW())","v":5},"Land-based Machinery Operations",null,"Engineering Maintenance and Condition Monitoring Techniques",{"$f":"IF(COUNTIF('Foundation Diploma 540'!$E$29:$E$70,Q5)>=1,\"\",ROW())","v":5},"Engineering Maintenance and Condition Monitoring Techniques",null,"Estates Skills and Grassland Management",{"$f":"IF(COUNTIF('Foundation Diploma 540'!$E$29:$E$70,U5)>=1,\"\",ROW())","v":5},{"$f":"IF(ROW(U5)-ROW(U$2)+1>COUNT(V$2:V$40),\"\",INDEX(U:U,SMALL(V$2:V$40,1+ROW(U5)-ROW(U$2))))","v":"Estates Skills and Grassland Management"},null,"Land-based Machinery Operations",{"$f":"IF(COUNTIF('Foundation Diploma 540'!$E$29:$E$70,Y5)>=1,\"\",ROW())","v":5},"Land-based Machinery Operations",null,"Music Investigation",{"$f":"IF(COUNTIF('Foundation Diploma 540'!$E$29:$E$70,AC5)>=1,\"\",ROW())","v":5},"Music Investigation",null,"Coaching for Performance",{"$f":"IF(COUNTIF('Foundation Diploma 540'!$E$29:$E$70,AG5)>=1,\"\",ROW())","v":5},"Coaching for Performance",null,"Games Design",{"$f":"IF(COUNTIF('Foundation Diploma 540'!$E$29:$E$70,AK5)>=1,\"\",ROW())","v":5},"Games Design",null,"Expedition Experience",{"$f":"IF(COUNTIF('Foundation Diploma 540'!$E$29:$E$70,AO5)>=1,\"\",ROW())","v":5},{"$f":"IF(ROW(AO5)-ROW(AO$2)+1>COUNT(AP$2:AP$40),\"\",INDEX(AO:AO,SMALL(AP$2:AP$40,1+ROW(AO5)-ROW(AO$2))))","v":"Expedition Experience"},null,"Organising Events in Sport and Physical Activities",{"$f":"IF(COUNTIF('Foundation Diploma 540'!$E$29:$E$70,AS5)>=1,\"\",ROW())","v":5},{"$f":"IF(ROW(AS5)-ROW(AS$2)+1>COUNT(AT$2:AT$40),\"\",INDEX(AS:AS,SMALL(AT$2:AT$40,1+ROW(AS5)-ROW(AS$2))))","v":"Organising Events in Sport and Physical Activities"},null,"Organising Events in Sport and Physical Activities",{"$f":"IF(COUNTIF('Foundation Diploma 540'!$E$29:$E$70,AW5)>=1,\"\",ROW())","v":5},{"$f":"IF(ROW(AW5)-ROW(AW$2)+1>COUNT(AX$2:AX$40),\"\",INDEX(AW:AW,SMALL(AX$2:AX$40,1+ROW(AW5)-ROW(AW$2))))","v":"Organising Events in Sport and Physical Activities"}]
["Livestock Health and Diseases",{"$f":"IF(COUNTIF('Foundation Diploma 540'!$E$29:$E$70,A6)>=1,\"\",ROW())","v":6},"Livestock Health and Diseases",null,"Animal Grooming",{"$f":"IF(COUNTIF('Foundation Diploma 540'!$E$29:$E$70,E6)>=1,\"\",ROW())","v":6},"Animal Grooming",null,"Building Surveying in Construction",{"$f":"IF(COUNTIF('Foundation Diploma 540'!$E$29:$E$70,I6)>=1,\"\",ROW())","v":6},"Building Surveying in Construction",null,"Wildlife Ecology and Conservation Management",{"$f":"IF(COUNTIF('Foundation Diploma 540'!$E$29:$E$70,M6)>=1,\"\",ROW())","v":6},"Wildlife Ecology and Conservation Management",null,"Pneumatic and Hydraulic Systems",{"$f":"IF(COUNTIF('Foundation Diploma 540'!$E$29:$E$70,Q6)>=1,\"\",ROW())","v":6},"Pneumatic and Hydraulic Systems",null,"Introduction to Equestrian Coaching",{"$f":"IF(COUNTIF('Foundation Diploma 540'!$E$29:$E$70,U6)>=1,\"\",ROW())","v":6},{"$f":"IF(ROW(U6)-ROW(U$2)+1>COUNT(V$2:V$40),\"\",INDEX(U:U,SMALL(V$2:V$40,1+ROW(U6)-ROW(U$2))))","v":"Introduction to Equestrian Coaching"},null,"Nursery Stock Production",{"$f":"IF(COUNTIF('Foundation Diploma 540'!$E$29:$E$70,Y6)>=1,\"\",ROW())","v":6},"Nursery Stock Production",null,"Commercial Music Production",{"$f":"IF(COUNTIF('Foundation Diploma 540'!$E$29:$E$70,AC6)>=1,\"\",ROW())","v":6},"Commercial Music Production",null,"Research Methods in Sport",{"$f":"IF(COUNTIF('Foundation Diploma 540'!$E$29:$E$70,AG6)>=1,\"\",ROW())","v":6},"Research Methods in Sport",null,"Business Applications of Esports in Social Media",{"$f":"IF(COUNTIF('Foundation Diploma 540'!$E$29:$E$70,AK6)>=1,\"\",ROW())","v":6},"Business Applications of Esports in Social Media",null,null,null,null,null,"Business and Technology in Personal Training",{"$f":"IF(COUNTIF('Foundation Diploma 540'!$E$29:$E$70,AS6)>=1,\"\",ROW())","v":6},{"$f":"IF(ROW(AS6)-ROW(AS$2)+1>COUNT(AT$2:AT$40),\"\",INDEX(AS:AS,SMALL(AT$2:AT$40,1+ROW(AS6)-ROW(AS$2))))","v":"Business and Technology in Personal Training"}]
["Developing a Land-based Enterprise",{"$f":"IF(COUNTIF('Foundation Diploma 540'!$E$29:$E$70,A7)>=1,\"\",ROW())","v":7},"Developing a Land-based Enterprise",null,"Principles of Animal Nursing",{"$f":"IF(COUNTIF('Foundation Diploma 540'!$E$29:$E$70,E7)>=1,\"\",ROW())","v":7},"Principles of Animal Nursing",null,"Site Engineering for Construction",{"$f":"IF(COUNTIF('Foundation Diploma 540'!$E$29:$E$70,I7)>=1,\"\",ROW())","v":7},"Site Engineering for Construction",null,"Controlling Countryside Pests and Predators",{"$f":"IF(COUNTIF('Foundation Diploma 540'!$E$29:$E$70,M7)>=1,\"\",ROW())","v":7},"Controlling Countryside Pests and Predators",null,"Welding Technology",{"$f":"IF(COUNTIF('Foundation Diploma 540'!$E$29:$E$70,Q7)>=1,\"\",ROW())","v":7},"Welding Technology",null,null,null,null,null,"Maintenance of Sports and Amenity Turf",{"$f":"IF(COUNTIF('Foundation Diploma 540'!$E$29:$E$70,Y7)>=1,\"\",ROW())","v":7},"Maintenance of Sports and Amenity Turf",null,"Music Technology and Musicianship",{"$f":"IF(COUNTIF('Foundation Diploma 540'!$E$29:$E$70,AC7)>=1,\"\",ROW())","v":7},"Music Technology and Musicianship",null,"Sports Event Organisation",{"$f":"IF(COUNTIF('Foundation Diploma 540'!$E$29:$E$70,AG7)>=1,\"\",ROW())","v":7},"Sports Event Organisation",null,"Shoutcasting",{"$f":"IF(COUNTIF('Foundation Diploma 540'!$E$29:$E$70,AK7)>=1,\"\",ROW())","v":7},"Shoutcasting"]
[null,null,null,null,"Aquatic Animal Health and Husbandry",{"$f":"IF(COUNTIF('Foundation Diploma 540'!$E$29:$E$70,E8)>=1,\"\",ROW())","v":8},"Aquatic Animal Health and Husbandry",null,"Measurement Techniques in Construction",{"$f":"IF(COUNTIF('Foundation Diploma 540'!$E$29:$E$70,I8)>=1,\"\",ROW())","v":8},"Measurement Techniques in Construction",null,"Gamekeeping",{"$f":"IF(COUNTIF('Foundation Diploma 540'!$E$29:$E$70,M8)>=1,\"\",ROW())","v":8},"Gamekeeping",null,"Electrical Machines",{"$f":"IF(COUNTIF('Foundation Diploma 540'!$E$29:$E$70,Q8)>=1,\"\",ROW())","v":8},"Electrical Machines",null,null,null,null,null,"Plant Pests and Disease",{"$f":"IF(COUNTIF('Foundation Diploma 540'!$E$29:$E$70,Y8)>=1,\"\",ROW())","v":8},"Plant Pests and Disease",null,"Working and Developing as a Production Team",{"$f":"IF(COUNTIF('Foundation Diploma 540'!$E$29:$E$70,AC8)>=1,\"\",ROW())","v":8},"Working and Developing as a Production Team",null,"Research Project in Sport",{"$f":"IF(COUNTIF('Foundation Diploma 540'!$E$29:$E$70,AG8)>=1,\"\",ROW())","v":8},"Research Project in Sport",null,"Esports Coaching",{"$f":"IF(COUNTIF('Foundation Diploma 540'!$E$29:$E$70,AK8)>=1,\"\",ROW())","v":8},"Esports Coaching"]
[null,null,null,null,"Fram Livestock Husbandry",{"$f":"IF(COUNTIF('Foundation Diploma 540'!$E$29:$E$70,E9)>=1,\"\",ROW())","v":9},"Fram Livestock Husbandry",null,"Provision of Primary Services in Buildings",{"$f":"IF(COUNTIF('Foundation Diploma 540'!$E$29:$E$70,I9)>=1,\"\",ROW())","v":9},"Provision of Primary Services in Buildings",null,null,null,null,null,"Electronic Devices and Circuits",{"$f":"IF(COUNTIF('Foundation Diploma 540'!$E$29:$E$70,Q9)>=1,\"\",ROW())","v":9},"Electronic Devices and Circuits",null,null,null,null,null,"Identification, Planting and Care of Trees",{"$f":"IF(COUNTIF('Foundation Diploma 540'!$E$29:$E$70,Y9)>=1,\"\",ROW())","v":9},"Identification, Planting and Care of Trees",null,null,null,null,null,null,null,null,null,"Psychology for Esports Performance",{"$f":"IF(COUNTIF('Foundation Diploma 540'!$E$29:$E$70,AK9)>=1,\"\",ROW())","v":9},"Psychology for Esports Performance"]
[null,null,null,null,"Human and Animal Interaction",{"$f":"IF(COUNTIF('Foundation Diploma 540'!$E$29:$E$70,E10)>=1,\"\",ROW())","v":10},"Human and Animal Interaction",null,"Quantity Surveying",{"$f":"IF(COUNTIF('Foundation Diploma 540'!$E$29:$E$70,I10)>=1,\"\",ROW())","v":10},"Quantity Surveying",null,null,null,null,null,"Electronic Measurement and Testing of Circuits",{"$f":"IF(COUNTIF('Foundation Diploma 540'!$E$29:$E$70,Q10)>=1,\"\",ROW())","v":10},"Electronic Measurement and Testing of Circuits",null,null,null,null,null,"Developing a Land-based Enterprise",{"$f":"IF(COUNTIF('Foundation Diploma 540'!$E$29:$E$70,Y10)>=1,\"\",ROW())","v":10},"Developing a Land-based Enterprise",null,null,null,null,null,null,null,null,null,"Nutrition for Esports Performance",{"$f":"IF(COUNTIF('Foundation Diploma 540'!$E$29:$E$70,AK10)>=1,\"\",ROW())","v":10},"Nutrition for Esports Performance"]
[null,null,null,null,"Exotic Animal Husbandry",{"$f":"IF(COUNTIF('Foundation Diploma 540'!$E$29:$E$70,E11)>=1,\"\",ROW())","v":11},"Exotic Animal Husbandry",null,null,null,null,null,null,null,null,null,"Electronic Printed Circuit Board Design and Manufacture",{"$f":"IF(COUNTIF('Foundation Diploma 540'!$E$29:$E$70,Q11)>=1,\"\",ROW())","v":11},"Electronic Printed Circuit Board Design and Manufacture",null,null,null,null,null,null,null,null,null,null,null,null,null,null,null,null,null,"Ethical and Current Issues in Esports",{"$f":"IF(COUNTIF('Foundation Diploma 540'!$E$29:$E$70,AK11)>=1,\"\",ROW())","v":11},"Ethical and Current Issues in Esports"]
[null,null,null,null,"Practical Estate Planning, Construction and Maintenance",{"$f":"IF(COUNTIF('Foundation Diploma 540'!$E$29:$E$70,E12)>=1,\"\",ROW())","v":12},"Practical Estate Planning, Construction and Maintenance",null,null,null,null,null,null,null,null,null,"Maintenance of Mechanical Systems",{"$f":"IF(COUNTIF('Foundation Diploma 540'!$E$29:$E$70,Q12)>=1,\"\",ROW())","v":12},"Maintenance of Mechanical Systems",null,null,null,null,null,null,null,null,null,null,null,null,null,null,null,null,null,"Corporate Social Responsibility in Sport",{"$f":"IF(COUNTIF('Foundation Diploma 540'!$E$29:$E$70,AK12)>=1,\"\",ROW())","v":12},"Corporate Social Responsibility in Sport"]
[null,null,null,null,"Zoological Animal Health and Husbandry",{"$f":"IF(COUNTIF('Foundation Diploma 540'!$E$29:$E$70,E13)>=1,\"\",ROW())","v":13},"Zoological Animal Health and Husbandry",null,null,null,null,null,null,null,null,null,"Mechanical Behaviour of Metallic Materials",{"$f":"IF(COUNTIF('Foundation Diploma 540'!$E$29:$E$70,Q13)>=1,\"\",ROW())","v":13},"Mechanical Behaviour of Metallic Materials",null,null,null,null,null,null,null,null,null,null,null,null,null,null,null,null,null,"Sports and Esports Law and Legislation",{"$f":"IF(COUNTIF('Foundation Diploma 540'!$E$29:$E$70,AK13)>=1,\"\",ROW())","v":13},"Sports and Esports Law and Legislation"]
[null,null,null,null,"Wildlife Ecology and Conservation Management",{"$f":"IF(COUNTIF('Foundation Diploma 540'!$E$29:$E$70,E14)>=1,\"\",ROW())","v":14},"Wildlife Ecology and Conservation Management",null,null,null,null,null,null,null,null,null,"Static Mechanical Principles in Practice",{"$f":"IF(COUNTIF('Foundation Diploma 540'!$E$29:$E$70,Q14)>=1,\"\",ROW())","v":14},"Static Mechanical Principles in Practice",null,null,null,null,null,null,null,null,null,null,null,null,null,null,null,null,null,"Launching Your Esports Enterprise",{"$f":"IF(COUNTIF('Foundation Diploma 540'!$E$29:$E$70,AK14)>=1,\"\",ROW())","v":14},"Launching Your Esports Enterprise"]
[null,null,null,null,null,null,null,null,null,null,null,null,null,null,null,null,"Mechanical Measurement and Inspection Technology",{"$f":"IF(COUNTIF('Foundation Diploma 540'!$E$29:$E$70,Q15)>=1,\"\",ROW())","v":15},"Mechanical Measurement and Inspection Technology"]
[null,null,null,null,null,null,null,null,null,null,null,null,null,null,null,null,"Computer Programming",{"$f":"IF(COUNTIF('Foundation Diploma 540'!$E$29:$E$70,Q16)>=1,\"\",ROW())","v":16},"Computer Programming"]
[null,null,null,null,null,null,null,null,null,null,null,null,null,null,null,null,"Programmable Logic Controllers",{"$f":"IF(COUNTIF('Foundation Diploma 540'!$E$29:$E$70,Q17)>=1,\"\",ROW())","v":17},"Programmable Logic Controllers"]
[null,null,null,null,null,null,null,null,null,null,null,null,null,null,null,null,"Manufacturing Secondary Machining Processes",{"$f":"IF(COUNTIF('Foundation Diploma 540'!$E$29:$E$70,Q18)>=1,\"\",ROW())","v":18},"Manufacturing Secondary Machining Processes"]
[null,null,null,null,null,null,null,null,null,null,null,null,null,null,null,null,"Manufacturing Computer Numerical Control Machining Processes",{"$f":"IF(COUNTIF('Foundation Diploma 540'!$E$29:$E$70,Q19)>=1,\"\",ROW())","v":19},"Manufacturing Computer Numerical Control Machining Processes"]
[null,null,null,null,null,null,null,null,null,null,null,null,null,null,null,null,"Fabrication Manufacturing Processes",{"$f":"IF(COUNTIF('Foundation Diploma 540'!$E$29:$E$70,Q20)>=1,\"\",ROW())","v":20},"Fabrication Manufacturing Processes"]
[null,null,null,null,null,null,null,null,null,null,null,null,null,null,null,null,"Additive Manufacturing Processes",{"$f":"IF(COUNTIF('Foundation Diploma 540'!$E$29:$E$70,Q21)>=1,\"\",ROW())","v":21},"Additive Manufacturing Processes"]
[null,null,null,null,null,null,null,null,null,null,null,null,null,null,null,null,"Sustainable Transport",{"$f":"IF(COUNTIF('Foundation Diploma 540'!$E$29:$E$70,Q22)>=1,\"\",ROW())","v":22},{"$f":"IF(ROW(Q22)-ROW(Q$2)+1>COUNT(R$2:R$40),\"\",INDEX(Q:Q,SMALL(R$2:R$40,1+ROW(Q22)-ROW(Q$2))))","v":"Sustainable Transport"}]

{"sheet":"Sectors","index":27,"n_rows":60,"n_cols":8,"rows_kept":60,"cut":false,"hidden":true,"merged":[]}
["Applied Human Biology","Agriculture","Applied Science","Agriculture","Agriculture","Agriculture","Art and Design Practice","Art and Design Practice"]
["Applied Law","Animal Management","Art and Design","Animal Management","Animal Management","Animal Management","Creative Media Practice","Creative Media Practice"]
["Applied Psychology","Applied Human Biology","Business","CPLD","Applied Science","Applied Science"]
["Applied Science","Applied Law","Computing","Construction and the Built Environment","Art and Design","Applied Science Biomedical Science"]
["Art and Design","Applied Psychology","Creative Digital Media Production","Countryside Management","Art and Design Fashion Design and Production","Applied Science Analytical and Forensic Science"]
["Business","Applied Science","Enterprise and Entrepreneurship","Engineering","Art and Design Graphics","Applied Science Physical Science"]
["Computing","Art and Design","Forensic Investigation","Equine Management","Art and Design Photography","Arboriculture"]
["Engineering","Business","Health and Social Care","Esports","Art and Design 3D Design and Crafts","Art and Design"]
["Enterprise and Entrepreneurship","CPLD","Information Technology","Forestry and Arboriculture","Business","Business"]
["Health and Social Care","Computing","Performing Arts","Horticulture","CPLD","CPLD"]
["Information Technology","Construction and the Built Environment","Sport and Exercise Science","Music","Computer Science","Computing"]
["Music Performance","Countryside Management","Travel and Tourism","Music (Production)","Computing for Creative Industries","Construction Building Services"]
["Music Technology","Creative Digital Media Production","Uniformed Protective Services","Music Technology","Computer Systems and Network Support","Construction and the Built Environment"]
["Performing Arts","Digital Content Production",null,"Performing Arts Practice","Business Information Systems","Construction Civil Engineering"]
["Sport","Digital Film and Video Production",null,"Performing Arts Practice (Acting)","Computing","Countryside Management"]
["Travel and Tourism","Digital Games Production",null,"Performing Arts Practice (Dance)","Construction and the Built Environment","Creative Digital Media Production"]
["Uniformed Protective Services","Engineering",null,"Performing Arts Practice (Musical Theatre)","Construction Building Services Engineering","Creative Digital Media Production Digital Games"]
[null,"Enterprise and Entrepreneurship",null,"Performing Arts Practice (Circus)","Construction Civil Engineering","Creative Digital Media Production Film Television and Radio"]
[null,"Equine Management",null,"Production Arts Practice","Countryside Management","Creative Digital Media Production Interactive Publishing and Media"]
[null,"Esports",null,"Production Arts Practice (Design)","Creative Digital Media Production Film and Television Production","Engineering"]
[null,"Health and Social Care",null,"Production Arts Practice (Technical)","Creative Digital Media Production Film and Television Visual Effects","Electrical and Electronic Engineering"]
[null,"Horticulture",null,"Production Arts Practice (Management)","Creative Digital Media Production Sound Production","Mechanical Engineering"]
[null,"Information Technology",null,"Production Arts Practice (Make Up)","Creative Digital Media Production Digital Publishing","Computer Engineering"]
[null,"Marketing",null,"Sport","Creative Digital Media Production Digital Games Design and Development","Manufacturing Engineering"]
[null,"Music Performance",null,"Sport and Outdoor Activities","Engineering","Aeronautical Engineering"]
[null,"Music Technology Sound Engineering",null,"Sport and Fitness","Electrical and Electronic Engineering","Enterprise and Entrepreneurship"]
[null,"Music Technology Digital Music Production",null,"Sports Coaching and Development","Mechanical Engineering","Equine Management"]
[null,"Performance Acting",null,null,"Computer Engineering","Esports"]
[null,"Performance Dance",null,null,"Manufacturing Engineering","Forensic and Criminal Investigation"]
[null,"Performance Musical Theatre",null,null,"Aeronautical Engineering","Forestry"]
[null,"Performing Arts",null,null,"Enterprise and Entrepreneurship","Health and Social Care"]
[null,"Sport",null,null,"Equine Management Yard Management","Health and Social Care Health Studies"]
[null,"Sport and Exercise Science",null,null,"Equine Management Equitation","Horticulture"]
[null,"Sport and Fitness",null,null,"Esports","Information Technology"]
[null,"Sporting Excellence and Performance",null,null,"Forensic and Criminal Investigation","Marketing"]
[null,"Sports Coaching",null,null,"Health and Social Care","Music"]
[null,"Travel and Tourism",null,null,"Horticulture","Music (Production)"]
[null,"Uniformed Protective Services",null,null,"Information Technology","Music Technology"]
[null,null,null,null,"Marketing","Performing Arts"]
[null,null,null,null,"Music Technology","Performing Arts Dance"]
[null,null,null,null,"Performing Arts","Performing Arts Acting"]
[null,null,null,null,"Sport","Performing Arts Musical Theatre"]
[null,null,null,null,"Sport Fitness Services","Performing Arts Practice"]
[null,null,null,null,"Sport and Exercise Science","Performing Arts Practice (Acting)"]
[null,null,null,null,"Sport and Outdoor Activities","Performing Arts Practice (Dance)"]
[null,null,null,null,"Sport Fitness and Personal Training","Performing Arts Practice (Musical Theatre)"]
[null,null,null,null,"Sporting Excellence and Performance","Performing Arts Practice (Circus)"]
[null,null,null,null,"Sports Coaching and Development","Production Arts Practice"]
[null,null,null,null,"Travel and Tourism","Production Arts Practice (Design)"]
[null,null,null,null,"Uniformed Protective Services","Production Arts Practice (Technical)"]
[null,null,null,null,null,"Production Arts Practice (Management)"]
[null,null,null,null,null,"Production Arts Practice (Make Up)"]
[null,null,null,null,null,"Sport"]
[null,null,null,null,null,"Sport and Exercise Science"]
[null,null,null,null,null,"Sport and Outdoor Activities"]
[null,null,null,null,null,"Sport Fitness and Personal Training"]
[null,null,null,null,null,"Sporting Excellence and Performance"]
[null,null,null,null,null,"Sports Coaching and Development"]
[null,null,null,null,null,"Travel and Tourism"]
[null,null,null,null,null,"Uniformed Protective Services"]

{"sheet":"Lookup","index":28,"n_rows":33,"n_cols":14,"rows_kept":33,"cut":false,"hidden":true,"merged":[]}
["GLH",null,null,"U","U","U","U","U",0,0,null,"No",0,"U"]
[90,"GLHninety",null,"Pass","Pass","Pass","Pass","Pass",1,1,null,"U",1,"U"]
[120,"GLHonetwenty",null,"Merit","Merit","Merit","Merit","Merit",2,2,null,"N",2,"N"]
[150,"GLHonefifty",null,"Distinction","Distinction","Distinction","Distinction","Distinction",3,3,null,"Pass",3,"Pass"]
[180,"GLHoneeighty",null,null,null,null,null,null,4,4,null,"Merit",4,"Merit"]
[81,"GLHeightyone",null,"U","U",null,null,null,5,5,null,"Distinction",5,"Distinction"]
[27,"GLHtwentyseven",null,"Pass","Pass",null,null,null,6,6]
[null,null,null,"Merit","Merit",null,null,null,7,7]
[null,null,null,"Distinction","Distinction",null,null,null,8,8]
[null,null,null,null,null,null,null,null,9,9]
[null,null,null,null,null,null,null,null,10,10]
[null,null,null,null,null,null,null,null,11,11]
[null,null,null,null,null,null,null,null,12,12]
[null,null,null,null,null,null,null,null,13,13]
[null,null,null,null,null,null,null,null,14,14]
[null,null,null,null,null,null,null,null,15,15]
[null,null,null,null,null,null,null,null,16,16]
[null,null,null,null,null,null,null,null,17,17]
[null,null,null,null,null,null,null,null,18,18]
[null,null,null,null,null,null,null,null,19,19]
[null,null,null,null,null,null,null,null,20,20]
[null,null,null,null,null,null,null,null,21,21]
[null,null,null,null,null,null,null,null,22,22]
[null,null,null,null,null,null,null,null,23,23]
[null,null,null,null,null,null,null,null,24,24]
[null,null,null,null,null,null,null,null,null,25]
[null,null,null,null,null,null,null,null,null,26]
[null,null,null,null,null,null,null,null,null,27]
[null,null,null,null,null,null,null,null,null,28]
[null,null,null,null,null,null,null,null,null,29]
[null,null,null,null,null,null,null,null,null,30]
[null,null,null,null,null,null,null,null,null,31]
[null,null,null,null,null,null,null,null,null,32]

{"sheet":"Sheet1","index":29,"n_rows":9,"n_cols":2,"rows_kept":9,"cut":false,"hidden":true,"merged":[]}
["v2","N grade added"]
["v3","Added 510 Business units"]
["v4","Added Perf Arts Practice FD & ED"]
["v5","Added Prod Arts Practice FD & ED need to add in detail on U grade on ED page"]
["v6","Added Esports"]
["v7","Added Sports and Outdoor Activities plus 180 GLH internal calculations"]
["v8","Added Sport Fitness and Personal Training"]
["v9","Added all Sports quals"]
["v10","Added Art and Media Practice"]